{"text_format":"3","workbook":"xlsx","n_sheets":33,"sheets":["Input","Threats","Breakdown Graph","Output","Doctrine","OPM & DHS","MOSAIC","Knowledge","Skill","Attitude and Ability","Data","Data - OPM","Data - DHS CC","Data - MOSAIC","Data - FSD","Data - Exam Questions","Data - DHSFEMA","Data - IRD","Data - ISD","CC","Training Partners","Knowledge Verbs","Skill Verbs","AA Verbs","Core Capabilities Definitions","Doctrine Documents","Exam Questions","Exam Question Breakdown","Exam Question Assumptions","Delivery Mode Defs","CalRefs","Lexicon","About the Tool"],"not_rendered":{"charts":3,"images":8,"defined_names":118,"comments":3},"read":"whole","date_system":"1900"}

{"sheet":"Input","index":0,"n_rows":192,"n_cols":42,"rows_kept":192,"merged":[[1,8,1,10],[2,1,3,4],[3,7,3,10],[5,1,7,4],[5,6,5,9],[9,1,9,4],[9,6,10,11],[11,1,11,4],[11,9,11,10],[13,1,13,4],[13,7,13,10],[13,11,13,13],[14,1,14,4],[14,7,14,10],[14,11,14,13],[15,1,15,4],[16,1,16,4],[16,7,20,10],[16,11,16,13],[17,1,17,4],[17,11,17,13],[18,11,18,13],[19,1,19,4],[19,11,19,13],[20,11,20,13]]}
[{"$nulls":4},"For inquiries about this product, write to:","FEMA-NTES@FEMA.DHS.GOV"]
[null,"Course Title:",{"$nulls":6},"Mapping Tool Version Date: ",null,null,"2019-02-28"]
[]
[{"$nulls":7},"Date of Course Creation / Revision:"]
[null,"Course Description:"]
[{"$nulls":6},"Time Calculator",{"$nulls":4},"Contact Hours Sum Check:"]
[{"$nulls":6},"Hours","Minutes","# of ELOs","Time / ELO",null,{"$f":"SUM(F23:F192)","v":{"v":0,"d":"0.00"}}]
[{"$nulls":9},{"$f":"IF(ISERROR((G8+((H8*0.1)/6))/I8),\"\",(G8+((H8*0.1)/6))/I8)","v":""}]
[null,"Primary Threat Addressed in Course:"]
[{"$nulls":6},"Course Output Information"]
[null,"Target Audience: "]
[{"$nulls":9},"Course Level:",null,{"$f":"IFERROR(IF($B$12=\"Executive / Elected Official\",\"Executive\",(VLOOKUP(Data!$V$2,CalRefs!$A$3:$D$5,3))),\"\")","v":""}]
[null,"Training Partner:"]
[{"$nulls":7},"Primary DHS Mission Area for this Course:",{"$nulls":3},{"$f":"Pri_MissionArea","v":"Does Not Map"}]
[null,"Course Number:",{"$nulls":5},"Primary Core Capability for this Course:",{"$nulls":3},{"$f":"IF(MultiPrimary>1,\"There are multiple primary core capabailities, please review data\",Pri_CC)","v":"Does Not Map"}]
[]
[null,"Delivery Mode:",{"$nulls":5},"Secondary Core Capabilities for this Course:",{"$nulls":3},{"$f":"IFERROR((INDEX(Data!$A$2:$B$34,SMALL(IF(Data!$A$2:$A$34=1,ROW(Data!$A$2:$A$34)),ROW(Data!1:1))-1,2)),\"\")","v":""}]
[{"$nulls":5},{"$f":"IF(OR(B18=\"R\",B18=\"S\",B18=\"E\",B18=\"B\",B18=\"L\"),\"R\",IF(OR(B18=\"I\",B18=\"G\"),\"N\",IF(B18=\"T\",\"T\",IF(OR(B18=\"K\",B18=\"V\",B18=\"IS\"),\"D\",IF(B18=\"C\",\"C\",IF(B18=\"Q\",\"B\",\"\"))))))","v":""},{"$nulls":5},{"$f":"IFERROR((INDEX(Data!$A$2:$B$34,SMALL(IF(Data!$A$2:$A$34=1,ROW(Data!$A$2:$A$34)),ROW(Data!2:2))-1,2)),\"\")","v":""}]
[null,"Contact Hours:",{"$nulls":9},{"$f":"IFERROR((INDEX(Data!$A$2:$B$34,SMALL(IF(Data!$A$2:$A$34=1,ROW(Data!$A$2:$A$34)),ROW(Data!3:3))-1,2)),\"\")","v":""}]
[{"$nulls":11},{"$f":"IFERROR((INDEX(Data!$A$2:$B$34,SMALL(IF(Data!$A$2:$A$34=1,ROW(Data!$A$2:$A$34)),ROW(Data!4:4))-1,2)),\"\")","v":""}]
[{"$nulls":11},{"$f":"IFERROR((INDEX(Data!$A$2:$B$34,SMALL(IF(Data!$A$2:$A$34=1,ROW(Data!$A$2:$A$34)),ROW(Data!5:5))-1,2)),\"\")","v":""}]
["ELO #","Module #","Module ELO\n#","ELO Action Verb","Enabling Learning Objectives (ELO)","Time  (hours) 6 min = 0.1 hr","Knowledge \n(0 - 6 scale)","Skill\n (0 - 7 scale) ","Attitudes\n(0 -  5 scale)","KSA Total\n (0 - 18)","ELO Complexity","Core Capability","Mission Area (Hidden)","Misson Area","K0","K1","K2","K3","K4","K5","K6","K Score","S0","S1","S2","S3","S4","S5","S6","S7","S Score","AA0","AA1","AA2","AA3","AA4","AA5","AA Score","K_Total","S_Total","A_Total","KSA_SUM"]
[1,0,1,{"$f":"IFERROR(LEFT(E23, FIND(\" \", E23)-1), \"\")","v":""},{"$nulls":5},{"$f":"IF(ELO_Time[[#This Row],[Time  (hours) 6 min = 0.1 hr]]=\"\",\"\",SUM(G23:I23))","v":""},{"$f":"IF(ELO_Time[[#This Row],[Time  (hours) 6 min = 0.1 hr]]=\"\",\"\",ELO_Time[[#This Row],[Time  (hours) 6 min = 0.1 hr]]*ELO_Time[[#This Row],[KSA Total\n (0 - 18)]])","v":""},null,{"$f":"IFERROR(IF(CoreCapInput=\"None\",\"None\",VLOOKUP(CoreCapInput,CC!$A$2:$D$49,4)),\"\")","v":""},null,0,{"$f":"IF(SUMPRODUCT(--ISNUMBER(SEARCH(K_A,$D23)))>0,1,\"\")","v":""},{"$f":"IF(SUMPRODUCT(--ISNUMBER(SEARCH(K_B,$D23)))>0,2,\"\")","v":""},{"$f":"IF(SUMPRODUCT(--ISNUMBER(SEARCH(K_C,$D23)))>0,3,\"\")","v":""},{"$f":"IF(SUMPRODUCT(--ISNUMBER(SEARCH(K_D,$D23)))>0,4,\"\")","v":""},{"$f":"IF(SUMPRODUCT(--ISNUMBER(SEARCH(K_E,$D23)))>0,5,\"\")","v":""},{"$f":"IF(SUMPRODUCT(--ISNUMBER(SEARCH(K_F,$D23)))>0,6,\"\")","v":""},{"$f":"IFERROR(INDEX(KSR,MATCH(1,(($P23=K1Out)*($Q23=K2Out)*($R23=K3Out)*($S23=K4Out)*($T23=K5Out)*($U23=K6Out)),0)),0)","v":0},0,{"$f":"IF(SUMPRODUCT(--ISNUMBER(SEARCH(S_A,$D23)))>0,1,\"\")","v":""},{"$f":"IF(SUMPRODUCT(--ISNUMBER(SEARCH(S_B,$D23)))>0, 2,\"\")","v":""},{"$f":"IF(SUMPRODUCT(--ISNUMBER(SEARCH(S_C,$D23)))>0,3,\"\")","v":""},{"$f":"IF(SUMPRODUCT(--ISNUMBER(SEARCH(S_D,$D23)))>0,4,\"\")","v":""},{"$f":"IF(SUMPRODUCT(--ISNUMBER(SEARCH(S_E,$D23)))>0,5,\"\")","v":""},{"$f":"IF(SUMPRODUCT(--ISNUMBER(SEARCH(S_F,$D23)))>0,6,\"\")","v":""},{"$f":"IF(SUMPRODUCT(--ISNUMBER(SEARCH(S_G,$D23)))>0,7,\"\")","v":""},{"$f":"IFERROR(INDEX(SSR,MATCH(1,(($X23=S1Out)*($Y23=S2Out)*($Z23=S3Out)*($AA23=S4Out)*($AB23=S5Out)*($AC23=S6Out)*($AD23=S7Out)),0)),0)","v":0},0,{"$f":"IF(SUMPRODUCT(--ISNUMBER(SEARCH(AA_A,$D23)))>0,1,\"\")","v":""},{"$f":"IF(SUMPRODUCT(--ISNUMBER(SEARCH(AA_B,$D23)))>0,2,\"\")","v":""},{"$f":"IF(SUMPRODUCT(--ISNUMBER(SEARCH(AA_C,$D23)))>0,3,\"\")","v":""},{"$f":"IF(SUMPRODUCT(--ISNUMBER(SEARCH(AA_D,$D23)))>0,4,\"\")","v":""},{"$f":"IF(SUMPRODUCT(--ISNUMBER(SEARCH(AA_E,$D23)))>0,5,\"\")","v":""},{"$f":"IFERROR(INDEX(AASR,MATCH(1,(($AG23=AA1Out)*($AH23=AA2Out)*($AI23=AA3Out)*($AJ23=AA4Out)*($AK23=AA5Out)),0)),0)","v":0},{"$f":"(IF(ISNUMBER(O23) = FALSE, 0, O23) + IF(ISNUMBER(P23) = FALSE, 0, P23)+ IF(ISNUMBER(Q23) = FALSE, 0, Q23) + IF(ISNUMBER(R23) = FALSE, 0, R23) + IF(ISNUMBER(S23) = FALSE, 0, S23) + IF(ISNUMBER(T23) = FALSE, 0, T23)) + IF(ISNUMBER(U23) = FALSE, 0, U23)","v":0},{"$f":"(IF(ISNUMBER(W23) = FALSE, 0, W23) + IF(ISNUMBER(X23) = FALSE, 0, X23)+ IF(ISNUMBER(Y23) = FALSE, 0, Y23) + IF(ISNUMBER(Z23) = FALSE, 0, Z23) + IF(ISNUMBER(AA23) = FALSE, 0, AA23) + IF(ISNUMBER(AB23) = FALSE, 0, AB23)) + IF(ISNUMBER(AC23) = FALSE, 0, AC23) + IF(ISNUMBER(AD23) = FALSE, 0, AD23)","v":0},{"$f":"(IF(ISNUMBER(AF23) = FALSE, 0, AF23) + IF(ISNUMBER(AG23) = FALSE, 0, AG23)+ IF(ISNUMBER(AH23) = FALSE, 0, AH23) + IF(ISNUMBER(AI23) = FALSE, 0, AI23) + IF(ISNUMBER(AJ23) = FALSE, 0, AJ23)+ IF(ISNUMBER(AK23) = FALSE, 0,AK23))","v":0},{"$f":"IF(E23 = \"\", \"BLANK\",IF((AM23+AN23+AO23) = 0, \"A\", AM23 + AN23 + AO23))","v":"BLANK"}]
[2,null,{"$f":"IF(B24=\"\",\"\",IF(B24=B23,C23+1,1))","v":""},{"$f":"IFERROR(LEFT(E24, FIND(\" \", E24)-1), \"\")","v":""},{"$nulls":5},{"$f":"IF(ELO_Time[[#This Row],[Time  (hours) 6 min = 0.1 hr]]=\"\",\"\",SUM(G24:I24))","v":""},{"$f":"IF(ELO_Time[[#This Row],[Time  (hours) 6 min = 0.1 hr]]=\"\",\"\",ELO_Time[[#This Row],[Time  (hours) 6 min = 0.1 hr]]*ELO_Time[[#This Row],[KSA Total\n (0 - 18)]])","v":""},null,{"$f":"IFERROR(IF(CoreCapInput=\"None\",\"None\",VLOOKUP(CoreCapInput,CC!$A$2:$D$49,4)),\"\")","v":""},null,0,"","","","","","",{"$f":"IFERROR(INDEX(KSR,MATCH(1,(($P24=K1Out)*($Q24=K2Out)*($R24=K3Out)*($S24=K4Out)*($T24=K5Out)*($U24=K6Out)),0)),0)","v":0},0,"","","","","","","",{"$f":"IFERROR(INDEX(SSR,MATCH(1,(($X24=S1Out)*($Y24=S2Out)*($Z24=S3Out)*($AA24=S4Out)*($AB24=S5Out)*($AC24=S6Out)*($AD24=S7Out)),0)),0)","v":0},0,"","","","","",{"$f":"IFERROR(INDEX(AASR,MATCH(1,(($AG24=AA1Out)*($AH24=AA2Out)*($AI24=AA3Out)*($AJ24=AA4Out)*($AK24=AA5Out)),0)),0)","v":0},0,0,0,"BLANK"]
[3,null,"","",{"$nulls":5},{"$f":"IF(ELO_Time[[#This Row],[Time  (hours) 6 min = 0.1 hr]]=\"\",\"\",SUM(G25:I25))","v":""},{"$f":"IF(ELO_Time[[#This Row],[Time  (hours) 6 min = 0.1 hr]]=\"\",\"\",ELO_Time[[#This Row],[Time  (hours) 6 min = 0.1 hr]]*ELO_Time[[#This Row],[KSA Total\n (0 - 18)]])","v":""},null,{"$f":"IFERROR(IF(CoreCapInput=\"None\",\"None\",VLOOKUP(CoreCapInput,CC!$A$2:$D$49,4)),\"\")","v":""},null,0,"","","","","","",{"$f":"IFERROR(INDEX(KSR,MATCH(1,(($P25=K1Out)*($Q25=K2Out)*($R25=K3Out)*($S25=K4Out)*($T25=K5Out)*($U25=K6Out)),0)),0)","v":0},0,"","","","","","","",{"$f":"IFERROR(INDEX(SSR,MATCH(1,(($X25=S1Out)*($Y25=S2Out)*($Z25=S3Out)*($AA25=S4Out)*($AB25=S5Out)*($AC25=S6Out)*($AD25=S7Out)),0)),0)","v":0},0,"","","","","",{"$f":"IFERROR(INDEX(AASR,MATCH(1,(($AG25=AA1Out)*($AH25=AA2Out)*($AI25=AA3Out)*($AJ25=AA4Out)*($AK25=AA5Out)),0)),0)","v":0},0,0,0,"BLANK"]
[4,null,"","",{"$nulls":5},{"$f":"IF(ELO_Time[[#This Row],[Time  (hours) 6 min = 0.1 hr]]=\"\",\"\",SUM(G26:I26))","v":""},{"$f":"IF(ELO_Time[[#This Row],[Time  (hours) 6 min = 0.1 hr]]=\"\",\"\",ELO_Time[[#This Row],[Time  (hours) 6 min = 0.1 hr]]*ELO_Time[[#This Row],[KSA Total\n (0 - 18)]])","v":""},null,{"$f":"IFERROR(IF(CoreCapInput=\"None\",\"None\",VLOOKUP(CoreCapInput,CC!$A$2:$D$49,4)),\"\")","v":""},null,0,"","","","","","",{"$f":"IFERROR(INDEX(KSR,MATCH(1,(($P26=K1Out)*($Q26=K2Out)*($R26=K3Out)*($S26=K4Out)*($T26=K5Out)*($U26=K6Out)),0)),0)","v":0},0,"","","","","","","",{"$f":"IFERROR(INDEX(SSR,MATCH(1,(($X26=S1Out)*($Y26=S2Out)*($Z26=S3Out)*($AA26=S4Out)*($AB26=S5Out)*($AC26=S6Out)*($AD26=S7Out)),0)),0)","v":0},0,"","","","","",{"$f":"IFERROR(INDEX(AASR,MATCH(1,(($AG26=AA1Out)*($AH26=AA2Out)*($AI26=AA3Out)*($AJ26=AA4Out)*($AK26=AA5Out)),0)),0)","v":0},0,0,0,"BLANK"]
[5,null,"","",{"$nulls":5},{"$f":"IF(ELO_Time[[#This Row],[Time  (hours) 6 min = 0.1 hr]]=\"\",\"\",SUM(G27:I27))","v":""},{"$f":"IF(ELO_Time[[#This Row],[Time  (hours) 6 min = 0.1 hr]]=\"\",\"\",ELO_Time[[#This Row],[Time  (hours) 6 min = 0.1 hr]]*ELO_Time[[#This Row],[KSA Total\n (0 - 18)]])","v":""},null,{"$f":"IFERROR(IF(CoreCapInput=\"None\",\"None\",VLOOKUP(CoreCapInput,CC!$A$2:$D$49,4)),\"\")","v":""},null,0,"","","","","","",{"$f":"IFERROR(INDEX(KSR,MATCH(1,(($P27=K1Out)*($Q27=K2Out)*($R27=K3Out)*($S27=K4Out)*($T27=K5Out)*($U27=K6Out)),0)),0)","v":0},0,"","","","","","","",{"$f":"IFERROR(INDEX(SSR,MATCH(1,(($X27=S1Out)*($Y27=S2Out)*($Z27=S3Out)*($AA27=S4Out)*($AB27=S5Out)*($AC27=S6Out)*($AD27=S7Out)),0)),0)","v":0},0,"","","","","",{"$f":"IFERROR(INDEX(AASR,MATCH(1,(($AG27=AA1Out)*($AH27=AA2Out)*($AI27=AA3Out)*($AJ27=AA4Out)*($AK27=AA5Out)),0)),0)","v":0},0,0,0,"BLANK"]
[6,null,"","",{"$nulls":5},{"$f":"IF(ELO_Time[[#This Row],[Time  (hours) 6 min = 0.1 hr]]=\"\",\"\",SUM(G28:I28))","v":""},{"$f":"IF(ELO_Time[[#This Row],[Time  (hours) 6 min = 0.1 hr]]=\"\",\"\",ELO_Time[[#This Row],[Time  (hours) 6 min = 0.1 hr]]*ELO_Time[[#This Row],[KSA Total\n (0 - 18)]])","v":""},null,{"$f":"IFERROR(IF(CoreCapInput=\"None\",\"None\",VLOOKUP(CoreCapInput,CC!$A$2:$D$49,4)),\"\")","v":""},null,0,"","","","","","",{"$f":"IFERROR(INDEX(KSR,MATCH(1,(($P28=K1Out)*($Q28=K2Out)*($R28=K3Out)*($S28=K4Out)*($T28=K5Out)*($U28=K6Out)),0)),0)","v":0},0,"","","","","","","",{"$f":"IFERROR(INDEX(SSR,MATCH(1,(($X28=S1Out)*($Y28=S2Out)*($Z28=S3Out)*($AA28=S4Out)*($AB28=S5Out)*($AC28=S6Out)*($AD28=S7Out)),0)),0)","v":0},0,"","","","","",{"$f":"IFERROR(INDEX(AASR,MATCH(1,(($AG28=AA1Out)*($AH28=AA2Out)*($AI28=AA3Out)*($AJ28=AA4Out)*($AK28=AA5Out)),0)),0)","v":0},0,0,0,"BLANK"]
[7,null,"","",{"$nulls":5},{"$f":"IF(ELO_Time[[#This Row],[Time  (hours) 6 min = 0.1 hr]]=\"\",\"\",SUM(G29:I29))","v":""},{"$f":"IF(ELO_Time[[#This Row],[Time  (hours) 6 min = 0.1 hr]]=\"\",\"\",ELO_Time[[#This Row],[Time  (hours) 6 min = 0.1 hr]]*ELO_Time[[#This Row],[KSA Total\n (0 - 18)]])","v":""},null,{"$f":"IFERROR(IF(CoreCapInput=\"None\",\"None\",VLOOKUP(CoreCapInput,CC!$A$2:$D$49,4)),\"\")","v":""},null,0,"","","","","","",{"$f":"IFERROR(INDEX(KSR,MATCH(1,(($P29=K1Out)*($Q29=K2Out)*($R29=K3Out)*($S29=K4Out)*($T29=K5Out)*($U29=K6Out)),0)),0)","v":0},0,"","","","","","","",{"$f":"IFERROR(INDEX(SSR,MATCH(1,(($X29=S1Out)*($Y29=S2Out)*($Z29=S3Out)*($AA29=S4Out)*($AB29=S5Out)*($AC29=S6Out)*($AD29=S7Out)),0)),0)","v":0},0,"","","","","",{"$f":"IFERROR(INDEX(AASR,MATCH(1,(($AG29=AA1Out)*($AH29=AA2Out)*($AI29=AA3Out)*($AJ29=AA4Out)*($AK29=AA5Out)),0)),0)","v":0},0,0,0,"BLANK"]
[8,null,"","",{"$nulls":5},{"$f":"IF(ELO_Time[[#This Row],[Time  (hours) 6 min = 0.1 hr]]=\"\",\"\",SUM(G30:I30))","v":""},{"$f":"IF(ELO_Time[[#This Row],[Time  (hours) 6 min = 0.1 hr]]=\"\",\"\",ELO_Time[[#This Row],[Time  (hours) 6 min = 0.1 hr]]*ELO_Time[[#This Row],[KSA Total\n (0 - 18)]])","v":""},null,{"$f":"IFERROR(IF(CoreCapInput=\"None\",\"None\",VLOOKUP(CoreCapInput,CC!$A$2:$D$49,4)),\"\")","v":""},null,0,"","","","","","",{"$f":"IFERROR(INDEX(KSR,MATCH(1,(($P30=K1Out)*($Q30=K2Out)*($R30=K3Out)*($S30=K4Out)*($T30=K5Out)*($U30=K6Out)),0)),0)","v":0},0,"","","","","","","",{"$f":"IFERROR(INDEX(SSR,MATCH(1,(($X30=S1Out)*($Y30=S2Out)*($Z30=S3Out)*($AA30=S4Out)*($AB30=S5Out)*($AC30=S6Out)*($AD30=S7Out)),0)),0)","v":0},0,"","","","","",{"$f":"IFERROR(INDEX(AASR,MATCH(1,(($AG30=AA1Out)*($AH30=AA2Out)*($AI30=AA3Out)*($AJ30=AA4Out)*($AK30=AA5Out)),0)),0)","v":0},0,0,0,"BLANK"]
[9,null,"","",{"$nulls":5},{"$f":"IF(ELO_Time[[#This Row],[Time  (hours) 6 min = 0.1 hr]]=\"\",\"\",SUM(G31:I31))","v":""},{"$f":"IF(ELO_Time[[#This Row],[Time  (hours) 6 min = 0.1 hr]]=\"\",\"\",ELO_Time[[#This Row],[Time  (hours) 6 min = 0.1 hr]]*ELO_Time[[#This Row],[KSA Total\n (0 - 18)]])","v":""},null,{"$f":"IFERROR(IF(CoreCapInput=\"None\",\"None\",VLOOKUP(CoreCapInput,CC!$A$2:$D$49,4)),\"\")","v":""},null,0,"","","","","","",{"$f":"IFERROR(INDEX(KSR,MATCH(1,(($P31=K1Out)*($Q31=K2Out)*($R31=K3Out)*($S31=K4Out)*($T31=K5Out)*($U31=K6Out)),0)),0)","v":0},0,"","","","","","","",{"$f":"IFERROR(INDEX(SSR,MATCH(1,(($X31=S1Out)*($Y31=S2Out)*($Z31=S3Out)*($AA31=S4Out)*($AB31=S5Out)*($AC31=S6Out)*($AD31=S7Out)),0)),0)","v":0},0,"","","","","",{"$f":"IFERROR(INDEX(AASR,MATCH(1,(($AG31=AA1Out)*($AH31=AA2Out)*($AI31=AA3Out)*($AJ31=AA4Out)*($AK31=AA5Out)),0)),0)","v":0},0,0,0,"BLANK"]
[10,null,"","",{"$nulls":5},{"$f":"IF(ELO_Time[[#This Row],[Time  (hours) 6 min = 0.1 hr]]=\"\",\"\",SUM(G32:I32))","v":""},{"$f":"IF(ELO_Time[[#This Row],[Time  (hours) 6 min = 0.1 hr]]=\"\",\"\",ELO_Time[[#This Row],[Time  (hours) 6 min = 0.1 hr]]*ELO_Time[[#This Row],[KSA Total\n (0 - 18)]])","v":""},null,{"$f":"IFERROR(IF(CoreCapInput=\"None\",\"None\",VLOOKUP(CoreCapInput,CC!$A$2:$D$49,4)),\"\")","v":""},null,0,"","","","","","",{"$f":"IFERROR(INDEX(KSR,MATCH(1,(($P32=K1Out)*($Q32=K2Out)*($R32=K3Out)*($S32=K4Out)*($T32=K5Out)*($U32=K6Out)),0)),0)","v":0},0,"","","","","","","",{"$f":"IFERROR(INDEX(SSR,MATCH(1,(($X32=S1Out)*($Y32=S2Out)*($Z32=S3Out)*($AA32=S4Out)*($AB32=S5Out)*($AC32=S6Out)*($AD32=S7Out)),0)),0)","v":0},0,"","","","","",{"$f":"IFERROR(INDEX(AASR,MATCH(1,(($AG32=AA1Out)*($AH32=AA2Out)*($AI32=AA3Out)*($AJ32=AA4Out)*($AK32=AA5Out)),0)),0)","v":0},0,0,0,"BLANK"]
[11,null,"","",{"$nulls":5},{"$f":"IF(ELO_Time[[#This Row],[Time  (hours) 6 min = 0.1 hr]]=\"\",\"\",SUM(G33:I33))","v":""},{"$f":"IF(ELO_Time[[#This Row],[Time  (hours) 6 min = 0.1 hr]]=\"\",\"\",ELO_Time[[#This Row],[Time  (hours) 6 min = 0.1 hr]]*ELO_Time[[#This Row],[KSA Total\n (0 - 18)]])","v":""},null,{"$f":"IFERROR(IF(CoreCapInput=\"None\",\"None\",VLOOKUP(CoreCapInput,CC!$A$2:$D$49,4)),\"\")","v":""},null,0,"","","","","","",{"$f":"IFERROR(INDEX(KSR,MATCH(1,(($P33=K1Out)*($Q33=K2Out)*($R33=K3Out)*($S33=K4Out)*($T33=K5Out)*($U33=K6Out)),0)),0)","v":0},0,"","","","","","","",{"$f":"IFERROR(INDEX(SSR,MATCH(1,(($X33=S1Out)*($Y33=S2Out)*($Z33=S3Out)*($AA33=S4Out)*($AB33=S5Out)*($AC33=S6Out)*($AD33=S7Out)),0)),0)","v":0},0,"","","","","",{"$f":"IFERROR(INDEX(AASR,MATCH(1,(($AG33=AA1Out)*($AH33=AA2Out)*($AI33=AA3Out)*($AJ33=AA4Out)*($AK33=AA5Out)),0)),0)","v":0},0,0,0,"BLANK"]
[12,null,"","",{"$nulls":5},{"$f":"IF(ELO_Time[[#This Row],[Time  (hours) 6 min = 0.1 hr]]=\"\",\"\",SUM(G34:I34))","v":""},{"$f":"IF(ELO_Time[[#This Row],[Time  (hours) 6 min = 0.1 hr]]=\"\",\"\",ELO_Time[[#This Row],[Time  (hours) 6 min = 0.1 hr]]*ELO_Time[[#This Row],[KSA Total\n (0 - 18)]])","v":""},null,{"$f":"IFERROR(IF(CoreCapInput=\"None\",\"None\",VLOOKUP(CoreCapInput,CC!$A$2:$D$49,4)),\"\")","v":""},null,0,"","","","","","",{"$f":"IFERROR(INDEX(KSR,MATCH(1,(($P34=K1Out)*($Q34=K2Out)*($R34=K3Out)*($S34=K4Out)*($T34=K5Out)*($U34=K6Out)),0)),0)","v":0},0,"","","","","","","",{"$f":"IFERROR(INDEX(SSR,MATCH(1,(($X34=S1Out)*($Y34=S2Out)*($Z34=S3Out)*($AA34=S4Out)*($AB34=S5Out)*($AC34=S6Out)*($AD34=S7Out)),0)),0)","v":0},0,"","","","","",{"$f":"IFERROR(INDEX(AASR,MATCH(1,(($AG34=AA1Out)*($AH34=AA2Out)*($AI34=AA3Out)*($AJ34=AA4Out)*($AK34=AA5Out)),0)),0)","v":0},0,0,0,"BLANK"]
[13,null,"","",{"$nulls":5},{"$f":"IF(ELO_Time[[#This Row],[Time  (hours) 6 min = 0.1 hr]]=\"\",\"\",SUM(G35:I35))","v":""},{"$f":"IF(ELO_Time[[#This Row],[Time  (hours) 6 min = 0.1 hr]]=\"\",\"\",ELO_Time[[#This Row],[Time  (hours) 6 min = 0.1 hr]]*ELO_Time[[#This Row],[KSA Total\n (0 - 18)]])","v":""},null,{"$f":"IFERROR(IF(CoreCapInput=\"None\",\"None\",VLOOKUP(CoreCapInput,CC!$A$2:$D$49,4)),\"\")","v":""},null,0,"","","","","","",{"$f":"IFERROR(INDEX(KSR,MATCH(1,(($P35=K1Out)*($Q35=K2Out)*($R35=K3Out)*($S35=K4Out)*($T35=K5Out)*($U35=K6Out)),0)),0)","v":0},0,"","","","","","","",{"$f":"IFERROR(INDEX(SSR,MATCH(1,(($X35=S1Out)*($Y35=S2Out)*($Z35=S3Out)*($AA35=S4Out)*($AB35=S5Out)*($AC35=S6Out)*($AD35=S7Out)),0)),0)","v":0},0,"","","","","",{"$f":"IFERROR(INDEX(AASR,MATCH(1,(($AG35=AA1Out)*($AH35=AA2Out)*($AI35=AA3Out)*($AJ35=AA4Out)*($AK35=AA5Out)),0)),0)","v":0},0,0,0,"BLANK"]
[14,null,"","",{"$nulls":5},{"$f":"IF(ELO_Time[[#This Row],[Time  (hours) 6 min = 0.1 hr]]=\"\",\"\",SUM(G36:I36))","v":""},{"$f":"IF(ELO_Time[[#This Row],[Time  (hours) 6 min = 0.1 hr]]=\"\",\"\",ELO_Time[[#This Row],[Time  (hours) 6 min = 0.1 hr]]*ELO_Time[[#This Row],[KSA Total\n (0 - 18)]])","v":""},null,{"$f":"IFERROR(IF(CoreCapInput=\"None\",\"None\",VLOOKUP(CoreCapInput,CC!$A$2:$D$49,4)),\"\")","v":""},null,0,"","","","","","",{"$f":"IFERROR(INDEX(KSR,MATCH(1,(($P36=K1Out)*($Q36=K2Out)*($R36=K3Out)*($S36=K4Out)*($T36=K5Out)*($U36=K6Out)),0)),0)","v":0},0,"","","","","","","",{"$f":"IFERROR(INDEX(SSR,MATCH(1,(($X36=S1Out)*($Y36=S2Out)*($Z36=S3Out)*($AA36=S4Out)*($AB36=S5Out)*($AC36=S6Out)*($AD36=S7Out)),0)),0)","v":0},0,"","","","","",{"$f":"IFERROR(INDEX(AASR,MATCH(1,(($AG36=AA1Out)*($AH36=AA2Out)*($AI36=AA3Out)*($AJ36=AA4Out)*($AK36=AA5Out)),0)),0)","v":0},0,0,0,"BLANK"]
[15,null,"","",{"$nulls":5},{"$f":"IF(ELO_Time[[#This Row],[Time  (hours) 6 min = 0.1 hr]]=\"\",\"\",SUM(G37:I37))","v":""},{"$f":"IF(ELO_Time[[#This Row],[Time  (hours) 6 min = 0.1 hr]]=\"\",\"\",ELO_Time[[#This Row],[Time  (hours) 6 min = 0.1 hr]]*ELO_Time[[#This Row],[KSA Total\n (0 - 18)]])","v":""},null,{"$f":"IFERROR(IF(CoreCapInput=\"None\",\"None\",VLOOKUP(CoreCapInput,CC!$A$2:$D$49,4)),\"\")","v":""},null,0,"","","","","","",{"$f":"IFERROR(INDEX(KSR,MATCH(1,(($P37=K1Out)*($Q37=K2Out)*($R37=K3Out)*($S37=K4Out)*($T37=K5Out)*($U37=K6Out)),0)),0)","v":0},0,"","","","","","","",{"$f":"IFERROR(INDEX(SSR,MATCH(1,(($X37=S1Out)*($Y37=S2Out)*($Z37=S3Out)*($AA37=S4Out)*($AB37=S5Out)*($AC37=S6Out)*($AD37=S7Out)),0)),0)","v":0},0,"","","","","",{"$f":"IFERROR(INDEX(AASR,MATCH(1,(($AG37=AA1Out)*($AH37=AA2Out)*($AI37=AA3Out)*($AJ37=AA4Out)*($AK37=AA5Out)),0)),0)","v":0},0,0,0,"BLANK"]
[16,null,"","",{"$nulls":5},{"$f":"IF(ELO_Time[[#This Row],[Time  (hours) 6 min = 0.1 hr]]=\"\",\"\",SUM(G38:I38))","v":""},{"$f":"IF(ELO_Time[[#This Row],[Time  (hours) 6 min = 0.1 hr]]=\"\",\"\",ELO_Time[[#This Row],[Time  (hours) 6 min = 0.1 hr]]*ELO_Time[[#This Row],[KSA Total\n (0 - 18)]])","v":""},null,{"$f":"IFERROR(IF(CoreCapInput=\"None\",\"None\",VLOOKUP(CoreCapInput,CC!$A$2:$D$49,4)),\"\")","v":""},null,0,"","","","","","",{"$f":"IFERROR(INDEX(KSR,MATCH(1,(($P38=K1Out)*($Q38=K2Out)*($R38=K3Out)*($S38=K4Out)*($T38=K5Out)*($U38=K6Out)),0)),0)","v":0},0,"","","","","","","",{"$f":"IFERROR(INDEX(SSR,MATCH(1,(($X38=S1Out)*($Y38=S2Out)*($Z38=S3Out)*($AA38=S4Out)*($AB38=S5Out)*($AC38=S6Out)*($AD38=S7Out)),0)),0)","v":0},0,"","","","","",{"$f":"IFERROR(INDEX(AASR,MATCH(1,(($AG38=AA1Out)*($AH38=AA2Out)*($AI38=AA3Out)*($AJ38=AA4Out)*($AK38=AA5Out)),0)),0)","v":0},0,0,0,"BLANK"]
[17,null,"","",{"$nulls":5},{"$f":"IF(ELO_Time[[#This Row],[Time  (hours) 6 min = 0.1 hr]]=\"\",\"\",SUM(G39:I39))","v":""},{"$f":"IF(ELO_Time[[#This Row],[Time  (hours) 6 min = 0.1 hr]]=\"\",\"\",ELO_Time[[#This Row],[Time  (hours) 6 min = 0.1 hr]]*ELO_Time[[#This Row],[KSA Total\n (0 - 18)]])","v":""},null,{"$f":"IFERROR(IF(CoreCapInput=\"None\",\"None\",VLOOKUP(CoreCapInput,CC!$A$2:$D$49,4)),\"\")","v":""},null,0,"","","","","","",{"$f":"IFERROR(INDEX(KSR,MATCH(1,(($P39=K1Out)*($Q39=K2Out)*($R39=K3Out)*($S39=K4Out)*($T39=K5Out)*($U39=K6Out)),0)),0)","v":0},0,"","","","","","","",{"$f":"IFERROR(INDEX(SSR,MATCH(1,(($X39=S1Out)*($Y39=S2Out)*($Z39=S3Out)*($AA39=S4Out)*($AB39=S5Out)*($AC39=S6Out)*($AD39=S7Out)),0)),0)","v":0},0,"","","","","",{"$f":"IFERROR(INDEX(AASR,MATCH(1,(($AG39=AA1Out)*($AH39=AA2Out)*($AI39=AA3Out)*($AJ39=AA4Out)*($AK39=AA5Out)),0)),0)","v":0},0,0,0,"BLANK"]
[18,null,"","",{"$nulls":5},{"$f":"IF(ELO_Time[[#This Row],[Time  (hours) 6 min = 0.1 hr]]=\"\",\"\",SUM(G40:I40))","v":""},{"$f":"IF(ELO_Time[[#This Row],[Time  (hours) 6 min = 0.1 hr]]=\"\",\"\",ELO_Time[[#This Row],[Time  (hours) 6 min = 0.1 hr]]*ELO_Time[[#This Row],[KSA Total\n (0 - 18)]])","v":""},null,{"$f":"IFERROR(IF(CoreCapInput=\"None\",\"None\",VLOOKUP(CoreCapInput,CC!$A$2:$D$49,4)),\"\")","v":""},null,0,"","","","","","",{"$f":"IFERROR(INDEX(KSR,MATCH(1,(($P40=K1Out)*($Q40=K2Out)*($R40=K3Out)*($S40=K4Out)*($T40=K5Out)*($U40=K6Out)),0)),0)","v":0},0,"","","","","","","",{"$f":"IFERROR(INDEX(SSR,MATCH(1,(($X40=S1Out)*($Y40=S2Out)*($Z40=S3Out)*($AA40=S4Out)*($AB40=S5Out)*($AC40=S6Out)*($AD40=S7Out)),0)),0)","v":0},0,"","","","","",{"$f":"IFERROR(INDEX(AASR,MATCH(1,(($AG40=AA1Out)*($AH40=AA2Out)*($AI40=AA3Out)*($AJ40=AA4Out)*($AK40=AA5Out)),0)),0)","v":0},0,0,0,"BLANK"]
[19,null,"","",{"$nulls":5},{"$f":"IF(ELO_Time[[#This Row],[Time  (hours) 6 min = 0.1 hr]]=\"\",\"\",SUM(G41:I41))","v":""},{"$f":"IF(ELO_Time[[#This Row],[Time  (hours) 6 min = 0.1 hr]]=\"\",\"\",ELO_Time[[#This Row],[Time  (hours) 6 min = 0.1 hr]]*ELO_Time[[#This Row],[KSA Total\n (0 - 18)]])","v":""},null,{"$f":"IFERROR(IF(CoreCapInput=\"None\",\"None\",VLOOKUP(CoreCapInput,CC!$A$2:$D$49,4)),\"\")","v":""},null,0,"","","","","","",{"$f":"IFERROR(INDEX(KSR,MATCH(1,(($P41=K1Out)*($Q41=K2Out)*($R41=K3Out)*($S41=K4Out)*($T41=K5Out)*($U41=K6Out)),0)),0)","v":0},0,"","","","","","","",{"$f":"IFERROR(INDEX(SSR,MATCH(1,(($X41=S1Out)*($Y41=S2Out)*($Z41=S3Out)*($AA41=S4Out)*($AB41=S5Out)*($AC41=S6Out)*($AD41=S7Out)),0)),0)","v":0},0,"","","","","",{"$f":"IFERROR(INDEX(AASR,MATCH(1,(($AG41=AA1Out)*($AH41=AA2Out)*($AI41=AA3Out)*($AJ41=AA4Out)*($AK41=AA5Out)),0)),0)","v":0},0,0,0,"BLANK"]
[20,null,"","",{"$nulls":5},{"$f":"IF(ELO_Time[[#This Row],[Time  (hours) 6 min = 0.1 hr]]=\"\",\"\",SUM(G42:I42))","v":""},{"$f":"IF(ELO_Time[[#This Row],[Time  (hours) 6 min = 0.1 hr]]=\"\",\"\",ELO_Time[[#This Row],[Time  (hours) 6 min = 0.1 hr]]*ELO_Time[[#This Row],[KSA Total\n (0 - 18)]])","v":""},null,{"$f":"IFERROR(IF(CoreCapInput=\"None\",\"None\",VLOOKUP(CoreCapInput,CC!$A$2:$D$49,4)),\"\")","v":""},null,0,"","","","","","",{"$f":"IFERROR(INDEX(KSR,MATCH(1,(($P42=K1Out)*($Q42=K2Out)*($R42=K3Out)*($S42=K4Out)*($T42=K5Out)*($U42=K6Out)),0)),0)","v":0},0,"","","","","","","",{"$f":"IFERROR(INDEX(SSR,MATCH(1,(($X42=S1Out)*($Y42=S2Out)*($Z42=S3Out)*($AA42=S4Out)*($AB42=S5Out)*($AC42=S6Out)*($AD42=S7Out)),0)),0)","v":0},0,"","","","","",{"$f":"IFERROR(INDEX(AASR,MATCH(1,(($AG42=AA1Out)*($AH42=AA2Out)*($AI42=AA3Out)*($AJ42=AA4Out)*($AK42=AA5Out)),0)),0)","v":0},0,0,0,"BLANK"]
[21,null,"","",{"$nulls":5},{"$f":"IF(ELO_Time[[#This Row],[Time  (hours) 6 min = 0.1 hr]]=\"\",\"\",SUM(G43:I43))","v":""},{"$f":"IF(ELO_Time[[#This Row],[Time  (hours) 6 min = 0.1 hr]]=\"\",\"\",ELO_Time[[#This Row],[Time  (hours) 6 min = 0.1 hr]]*ELO_Time[[#This Row],[KSA Total\n (0 - 18)]])","v":""},null,{"$f":"IFERROR(IF(CoreCapInput=\"None\",\"None\",VLOOKUP(CoreCapInput,CC!$A$2:$D$49,4)),\"\")","v":""},null,0,"","","","","","",{"$f":"IFERROR(INDEX(KSR,MATCH(1,(($P43=K1Out)*($Q43=K2Out)*($R43=K3Out)*($S43=K4Out)*($T43=K5Out)*($U43=K6Out)),0)),0)","v":0},0,"","","","","","","",{"$f":"IFERROR(INDEX(SSR,MATCH(1,(($X43=S1Out)*($Y43=S2Out)*($Z43=S3Out)*($AA43=S4Out)*($AB43=S5Out)*($AC43=S6Out)*($AD43=S7Out)),0)),0)","v":0},0,"","","","","",{"$f":"IFERROR(INDEX(AASR,MATCH(1,(($AG43=AA1Out)*($AH43=AA2Out)*($AI43=AA3Out)*($AJ43=AA4Out)*($AK43=AA5Out)),0)),0)","v":0},0,0,0,"BLANK"]
[22,null,"","",{"$nulls":5},{"$f":"IF(ELO_Time[[#This Row],[Time  (hours) 6 min = 0.1 hr]]=\"\",\"\",SUM(G44:I44))","v":""},{"$f":"IF(ELO_Time[[#This Row],[Time  (hours) 6 min = 0.1 hr]]=\"\",\"\",ELO_Time[[#This Row],[Time  (hours) 6 min = 0.1 hr]]*ELO_Time[[#This Row],[KSA Total\n (0 - 18)]])","v":""},null,{"$f":"IFERROR(IF(CoreCapInput=\"None\",\"None\",VLOOKUP(CoreCapInput,CC!$A$2:$D$49,4)),\"\")","v":""},null,0,"","","","","","",{"$f":"IFERROR(INDEX(KSR,MATCH(1,(($P44=K1Out)*($Q44=K2Out)*($R44=K3Out)*($S44=K4Out)*($T44=K5Out)*($U44=K6Out)),0)),0)","v":0},0,"","","","","","","",{"$f":"IFERROR(INDEX(SSR,MATCH(1,(($X44=S1Out)*($Y44=S2Out)*($Z44=S3Out)*($AA44=S4Out)*($AB44=S5Out)*($AC44=S6Out)*($AD44=S7Out)),0)),0)","v":0},0,"","","","","",{"$f":"IFERROR(INDEX(AASR,MATCH(1,(($AG44=AA1Out)*($AH44=AA2Out)*($AI44=AA3Out)*($AJ44=AA4Out)*($AK44=AA5Out)),0)),0)","v":0},0,0,0,"BLANK"]
[23,null,"","",{"$nulls":5},{"$f":"IF(ELO_Time[[#This Row],[Time  (hours) 6 min = 0.1 hr]]=\"\",\"\",SUM(G45:I45))","v":""},{"$f":"IF(ELO_Time[[#This Row],[Time  (hours) 6 min = 0.1 hr]]=\"\",\"\",ELO_Time[[#This Row],[Time  (hours) 6 min = 0.1 hr]]*ELO_Time[[#This Row],[KSA Total\n (0 - 18)]])","v":""},null,{"$f":"IFERROR(IF(CoreCapInput=\"None\",\"None\",VLOOKUP(CoreCapInput,CC!$A$2:$D$49,4)),\"\")","v":""},null,0,"","","","","","",{"$f":"IFERROR(INDEX(KSR,MATCH(1,(($P45=K1Out)*($Q45=K2Out)*($R45=K3Out)*($S45=K4Out)*($T45=K5Out)*($U45=K6Out)),0)),0)","v":0},0,"","","","","","","",{"$f":"IFERROR(INDEX(SSR,MATCH(1,(($X45=S1Out)*($Y45=S2Out)*($Z45=S3Out)*($AA45=S4Out)*($AB45=S5Out)*($AC45=S6Out)*($AD45=S7Out)),0)),0)","v":0},0,"","","","","",{"$f":"IFERROR(INDEX(AASR,MATCH(1,(($AG45=AA1Out)*($AH45=AA2Out)*($AI45=AA3Out)*($AJ45=AA4Out)*($AK45=AA5Out)),0)),0)","v":0},0,0,0,"BLANK"]
[24,null,"","",{"$nulls":5},{"$f":"IF(ELO_Time[[#This Row],[Time  (hours) 6 min = 0.1 hr]]=\"\",\"\",SUM(G46:I46))","v":""},{"$f":"IF(ELO_Time[[#This Row],[Time  (hours) 6 min = 0.1 hr]]=\"\",\"\",ELO_Time[[#This Row],[Time  (hours) 6 min = 0.1 hr]]*ELO_Time[[#This Row],[KSA Total\n (0 - 18)]])","v":""},null,{"$f":"IFERROR(IF(CoreCapInput=\"None\",\"None\",VLOOKUP(CoreCapInput,CC!$A$2:$D$49,4)),\"\")","v":""},null,0,"","","","","","",{"$f":"IFERROR(INDEX(KSR,MATCH(1,(($P46=K1Out)*($Q46=K2Out)*($R46=K3Out)*($S46=K4Out)*($T46=K5Out)*($U46=K6Out)),0)),0)","v":0},0,"","","","","","","",{"$f":"IFERROR(INDEX(SSR,MATCH(1,(($X46=S1Out)*($Y46=S2Out)*($Z46=S3Out)*($AA46=S4Out)*($AB46=S5Out)*($AC46=S6Out)*($AD46=S7Out)),0)),0)","v":0},0,"","","","","",{"$f":"IFERROR(INDEX(AASR,MATCH(1,(($AG46=AA1Out)*($AH46=AA2Out)*($AI46=AA3Out)*($AJ46=AA4Out)*($AK46=AA5Out)),0)),0)","v":0},0,0,0,"BLANK"]
[25,null,"","",{"$nulls":5},{"$f":"IF(ELO_Time[[#This Row],[Time  (hours) 6 min = 0.1 hr]]=\"\",\"\",SUM(G47:I47))","v":""},{"$f":"IF(ELO_Time[[#This Row],[Time  (hours) 6 min = 0.1 hr]]=\"\",\"\",ELO_Time[[#This Row],[Time  (hours) 6 min = 0.1 hr]]*ELO_Time[[#This Row],[KSA Total\n (0 - 18)]])","v":""},null,{"$f":"IFERROR(IF(CoreCapInput=\"None\",\"None\",VLOOKUP(CoreCapInput,CC!$A$2:$D$49,4)),\"\")","v":""},null,0,"","","","","","",{"$f":"IFERROR(INDEX(KSR,MATCH(1,(($P47=K1Out)*($Q47=K2Out)*($R47=K3Out)*($S47=K4Out)*($T47=K5Out)*($U47=K6Out)),0)),0)","v":0},0,"","","","","","","",{"$f":"IFERROR(INDEX(SSR,MATCH(1,(($X47=S1Out)*($Y47=S2Out)*($Z47=S3Out)*($AA47=S4Out)*($AB47=S5Out)*($AC47=S6Out)*($AD47=S7Out)),0)),0)","v":0},0,"","","","","",{"$f":"IFERROR(INDEX(AASR,MATCH(1,(($AG47=AA1Out)*($AH47=AA2Out)*($AI47=AA3Out)*($AJ47=AA4Out)*($AK47=AA5Out)),0)),0)","v":0},0,0,0,"BLANK"]
[26,null,"","",{"$nulls":5},{"$f":"IF(ELO_Time[[#This Row],[Time  (hours) 6 min = 0.1 hr]]=\"\",\"\",SUM(G48:I48))","v":""},{"$f":"IF(ELO_Time[[#This Row],[Time  (hours) 6 min = 0.1 hr]]=\"\",\"\",ELO_Time[[#This Row],[Time  (hours) 6 min = 0.1 hr]]*ELO_Time[[#This Row],[KSA Total\n (0 - 18)]])","v":""},null,{"$f":"IFERROR(IF(CoreCapInput=\"None\",\"None\",VLOOKUP(CoreCapInput,CC!$A$2:$D$49,4)),\"\")","v":""},null,0,"","","","","","",{"$f":"IFERROR(INDEX(KSR,MATCH(1,(($P48=K1Out)*($Q48=K2Out)*($R48=K3Out)*($S48=K4Out)*($T48=K5Out)*($U48=K6Out)),0)),0)","v":0},0,"","","","","","","",{"$f":"IFERROR(INDEX(SSR,MATCH(1,(($X48=S1Out)*($Y48=S2Out)*($Z48=S3Out)*($AA48=S4Out)*($AB48=S5Out)*($AC48=S6Out)*($AD48=S7Out)),0)),0)","v":0},0,"","","","","",{"$f":"IFERROR(INDEX(AASR,MATCH(1,(($AG48=AA1Out)*($AH48=AA2Out)*($AI48=AA3Out)*($AJ48=AA4Out)*($AK48=AA5Out)),0)),0)","v":0},0,0,0,"BLANK"]
[27,null,"","",{"$nulls":5},{"$f":"IF(ELO_Time[[#This Row],[Time  (hours) 6 min = 0.1 hr]]=\"\",\"\",SUM(G49:I49))","v":""},{"$f":"IF(ELO_Time[[#This Row],[Time  (hours) 6 min = 0.1 hr]]=\"\",\"\",ELO_Time[[#This Row],[Time  (hours) 6 min = 0.1 hr]]*ELO_Time[[#This Row],[KSA Total\n (0 - 18)]])","v":""},null,{"$f":"IFERROR(IF(CoreCapInput=\"None\",\"None\",VLOOKUP(CoreCapInput,CC!$A$2:$D$49,4)),\"\")","v":""},null,0,"","","","","","",{"$f":"IFERROR(INDEX(KSR,MATCH(1,(($P49=K1Out)*($Q49=K2Out)*($R49=K3Out)*($S49=K4Out)*($T49=K5Out)*($U49=K6Out)),0)),0)","v":0},0,"","","","","","","",{"$f":"IFERROR(INDEX(SSR,MATCH(1,(($X49=S1Out)*($Y49=S2Out)*($Z49=S3Out)*($AA49=S4Out)*($AB49=S5Out)*($AC49=S6Out)*($AD49=S7Out)),0)),0)","v":0},0,"","","","","",{"$f":"IFERROR(INDEX(AASR,MATCH(1,(($AG49=AA1Out)*($AH49=AA2Out)*($AI49=AA3Out)*($AJ49=AA4Out)*($AK49=AA5Out)),0)),0)","v":0},0,0,0,"BLANK"]
[28,null,"","",{"$nulls":5},{"$f":"IF(ELO_Time[[#This Row],[Time  (hours) 6 min = 0.1 hr]]=\"\",\"\",SUM(G50:I50))","v":""},{"$f":"IF(ELO_Time[[#This Row],[Time  (hours) 6 min = 0.1 hr]]=\"\",\"\",ELO_Time[[#This Row],[Time  (hours) 6 min = 0.1 hr]]*ELO_Time[[#This Row],[KSA Total\n (0 - 18)]])","v":""},null,{"$f":"IFERROR(IF(CoreCapInput=\"None\",\"None\",VLOOKUP(CoreCapInput,CC!$A$2:$D$49,4)),\"\")","v":""},null,0,"","","","","","",{"$f":"IFERROR(INDEX(KSR,MATCH(1,(($P50=K1Out)*($Q50=K2Out)*($R50=K3Out)*($S50=K4Out)*($T50=K5Out)*($U50=K6Out)),0)),0)","v":0},0,"","","","","","","",{"$f":"IFERROR(INDEX(SSR,MATCH(1,(($X50=S1Out)*($Y50=S2Out)*($Z50=S3Out)*($AA50=S4Out)*($AB50=S5Out)*($AC50=S6Out)*($AD50=S7Out)),0)),0)","v":0},0,"","","","","",{"$f":"IFERROR(INDEX(AASR,MATCH(1,(($AG50=AA1Out)*($AH50=AA2Out)*($AI50=AA3Out)*($AJ50=AA4Out)*($AK50=AA5Out)),0)),0)","v":0},0,0,0,"BLANK"]
[29,null,"","",{"$nulls":5},{"$f":"IF(ELO_Time[[#This Row],[Time  (hours) 6 min = 0.1 hr]]=\"\",\"\",SUM(G51:I51))","v":""},{"$f":"IF(ELO_Time[[#This Row],[Time  (hours) 6 min = 0.1 hr]]=\"\",\"\",ELO_Time[[#This Row],[Time  (hours) 6 min = 0.1 hr]]*ELO_Time[[#This Row],[KSA Total\n (0 - 18)]])","v":""},null,{"$f":"IFERROR(IF(CoreCapInput=\"None\",\"None\",VLOOKUP(CoreCapInput,CC!$A$2:$D$49,4)),\"\")","v":""},null,0,"","","","","","",{"$f":"IFERROR(INDEX(KSR,MATCH(1,(($P51=K1Out)*($Q51=K2Out)*($R51=K3Out)*($S51=K4Out)*($T51=K5Out)*($U51=K6Out)),0)),0)","v":0},0,"","","","","","","",{"$f":"IFERROR(INDEX(SSR,MATCH(1,(($X51=S1Out)*($Y51=S2Out)*($Z51=S3Out)*($AA51=S4Out)*($AB51=S5Out)*($AC51=S6Out)*($AD51=S7Out)),0)),0)","v":0},0,"","","","","",{"$f":"IFERROR(INDEX(AASR,MATCH(1,(($AG51=AA1Out)*($AH51=AA2Out)*($AI51=AA3Out)*($AJ51=AA4Out)*($AK51=AA5Out)),0)),0)","v":0},{"$f":"(IF(ISNUMBER(O51) = FALSE, 0, O51) + IF(ISNUMBER(P51) = FALSE, 0, P51)+ IF(ISNUMBER(Q51) = FALSE, 0, Q51) + IF(ISNUMBER(R51) = FALSE, 0, R51) + IF(ISNUMBER(S51) = FALSE, 0, S51) + IF(ISNUMBER(T51) = FALSE, 0, T51)) + IF(ISNUMBER(U51) = FALSE, 0, U51)","v":0},{"$f":"(IF(ISNUMBER(W51) = FALSE, 0, W51) + IF(ISNUMBER(X51) = FALSE, 0, X51)+ IF(ISNUMBER(Y51) = FALSE, 0, Y51) + IF(ISNUMBER(Z51) = FALSE, 0, Z51) + IF(ISNUMBER(AA51) = FALSE, 0, AA51) + IF(ISNUMBER(AB51) = FALSE, 0, AB51)) + IF(ISNUMBER(AC51) = FALSE, 0, AC51) + IF(ISNUMBER(AD51) = FALSE, 0, AD51)","v":0},{"$f":"(IF(ISNUMBER(AF51) = FALSE, 0, AF51) + IF(ISNUMBER(AG51) = FALSE, 0, AG51)+ IF(ISNUMBER(AH51) = FALSE, 0, AH51) + IF(ISNUMBER(AI51) = FALSE, 0, AI51) + IF(ISNUMBER(AJ51) = FALSE, 0, AJ51)+ IF(ISNUMBER(AK51) = FALSE, 0,AK51))","v":0},"BLANK"]
[30,null,"","",{"$nulls":5},{"$f":"IF(ELO_Time[[#This Row],[Time  (hours) 6 min = 0.1 hr]]=\"\",\"\",SUM(G52:I52))","v":""},{"$f":"IF(ELO_Time[[#This Row],[Time  (hours) 6 min = 0.1 hr]]=\"\",\"\",ELO_Time[[#This Row],[Time  (hours) 6 min = 0.1 hr]]*ELO_Time[[#This Row],[KSA Total\n (0 - 18)]])","v":""},null,{"$f":"IFERROR(IF(CoreCapInput=\"None\",\"None\",VLOOKUP(CoreCapInput,CC!$A$2:$D$49,4)),\"\")","v":""},null,0,"","","","","","",{"$f":"IFERROR(INDEX(KSR,MATCH(1,(($P52=K1Out)*($Q52=K2Out)*($R52=K3Out)*($S52=K4Out)*($T52=K5Out)*($U52=K6Out)),0)),0)","v":0},0,"","","","","","","",{"$f":"IFERROR(INDEX(SSR,MATCH(1,(($X52=S1Out)*($Y52=S2Out)*($Z52=S3Out)*($AA52=S4Out)*($AB52=S5Out)*($AC52=S6Out)*($AD52=S7Out)),0)),0)","v":0},0,"","","","","",{"$f":"IFERROR(INDEX(AASR,MATCH(1,(($AG52=AA1Out)*($AH52=AA2Out)*($AI52=AA3Out)*($AJ52=AA4Out)*($AK52=AA5Out)),0)),0)","v":0},0,0,0,"BLANK"]
[31,null,"","",{"$nulls":5},{"$f":"IF(ELO_Time[[#This Row],[Time  (hours) 6 min = 0.1 hr]]=\"\",\"\",SUM(G53:I53))","v":""},{"$f":"IF(ELO_Time[[#This Row],[Time  (hours) 6 min = 0.1 hr]]=\"\",\"\",ELO_Time[[#This Row],[Time  (hours) 6 min = 0.1 hr]]*ELO_Time[[#This Row],[KSA Total\n (0 - 18)]])","v":""},null,{"$f":"IFERROR(IF(CoreCapInput=\"None\",\"None\",VLOOKUP(CoreCapInput,CC!$A$2:$D$49,4)),\"\")","v":""},null,0,"","","","","","",{"$f":"IFERROR(INDEX(KSR,MATCH(1,(($P53=K1Out)*($Q53=K2Out)*($R53=K3Out)*($S53=K4Out)*($T53=K5Out)*($U53=K6Out)),0)),0)","v":0},0,"","","","","","","",{"$f":"IFERROR(INDEX(SSR,MATCH(1,(($X53=S1Out)*($Y53=S2Out)*($Z53=S3Out)*($AA53=S4Out)*($AB53=S5Out)*($AC53=S6Out)*($AD53=S7Out)),0)),0)","v":0},0,"","","","","",{"$f":"IFERROR(INDEX(AASR,MATCH(1,(($AG53=AA1Out)*($AH53=AA2Out)*($AI53=AA3Out)*($AJ53=AA4Out)*($AK53=AA5Out)),0)),0)","v":0},0,0,0,"BLANK"]
[32,null,"","",{"$nulls":5},{"$f":"IF(ELO_Time[[#This Row],[Time  (hours) 6 min = 0.1 hr]]=\"\",\"\",SUM(G54:I54))","v":""},{"$f":"IF(ELO_Time[[#This Row],[Time  (hours) 6 min = 0.1 hr]]=\"\",\"\",ELO_Time[[#This Row],[Time  (hours) 6 min = 0.1 hr]]*ELO_Time[[#This Row],[KSA Total\n (0 - 18)]])","v":""},null,{"$f":"IFERROR(IF(CoreCapInput=\"None\",\"None\",VLOOKUP(CoreCapInput,CC!$A$2:$D$49,4)),\"\")","v":""},null,0,"","","","","","",{"$f":"IFERROR(INDEX(KSR,MATCH(1,(($P54=K1Out)*($Q54=K2Out)*($R54=K3Out)*($S54=K4Out)*($T54=K5Out)*($U54=K6Out)),0)),0)","v":0},0,"","","","","","","",{"$f":"IFERROR(INDEX(SSR,MATCH(1,(($X54=S1Out)*($Y54=S2Out)*($Z54=S3Out)*($AA54=S4Out)*($AB54=S5Out)*($AC54=S6Out)*($AD54=S7Out)),0)),0)","v":0},0,"","","","","",{"$f":"IFERROR(INDEX(AASR,MATCH(1,(($AG54=AA1Out)*($AH54=AA2Out)*($AI54=AA3Out)*($AJ54=AA4Out)*($AK54=AA5Out)),0)),0)","v":0},0,0,0,"BLANK"]
[33,null,"","",{"$nulls":5},{"$f":"IF(ELO_Time[[#This Row],[Time  (hours) 6 min = 0.1 hr]]=\"\",\"\",SUM(G55:I55))","v":""},{"$f":"IF(ELO_Time[[#This Row],[Time  (hours) 6 min = 0.1 hr]]=\"\",\"\",ELO_Time[[#This Row],[Time  (hours) 6 min = 0.1 hr]]*ELO_Time[[#This Row],[KSA Total\n (0 - 18)]])","v":""},null,{"$f":"IFERROR(IF(CoreCapInput=\"None\",\"None\",VLOOKUP(CoreCapInput,CC!$A$2:$D$49,4)),\"\")","v":""},null,0,{"$f":"IF(SUMPRODUCT(--ISNUMBER(SEARCH(K_A,$D55)))>0,1,\"\")","v":""},{"$f":"IF(SUMPRODUCT(--ISNUMBER(SEARCH(K_B,$D55)))>0,2,\"\")","v":""},{"$f":"IF(SUMPRODUCT(--ISNUMBER(SEARCH(K_C,$D55)))>0,3,\"\")","v":""},{"$f":"IF(SUMPRODUCT(--ISNUMBER(SEARCH(K_D,$D55)))>0,4,\"\")","v":""},{"$f":"IF(SUMPRODUCT(--ISNUMBER(SEARCH(K_E,$D55)))>0,5,\"\")","v":""},{"$f":"IF(SUMPRODUCT(--ISNUMBER(SEARCH(K_F,$D55)))>0,6,\"\")","v":""},{"$f":"IFERROR(INDEX(KSR,MATCH(1,(($P55=K1Out)*($Q55=K2Out)*($R55=K3Out)*($S55=K4Out)*($T55=K5Out)*($U55=K6Out)),0)),0)","v":0},0,{"$f":"IF(SUMPRODUCT(--ISNUMBER(SEARCH(S_A,$D55)))>0,1,\"\")","v":""},{"$f":"IF(SUMPRODUCT(--ISNUMBER(SEARCH(S_B,$D55)))>0, 2,\"\")","v":""},{"$f":"IF(SUMPRODUCT(--ISNUMBER(SEARCH(S_C,$D55)))>0,3,\"\")","v":""},{"$f":"IF(SUMPRODUCT(--ISNUMBER(SEARCH(S_D,$D55)))>0,4,\"\")","v":""},{"$f":"IF(SUMPRODUCT(--ISNUMBER(SEARCH(S_E,$D55)))>0,5,\"\")","v":""},{"$f":"IF(SUMPRODUCT(--ISNUMBER(SEARCH(S_F,$D55)))>0,6,\"\")","v":""},{"$f":"IF(SUMPRODUCT(--ISNUMBER(SEARCH(S_G,$D55)))>0,7,\"\")","v":""},{"$f":"IFERROR(INDEX(SSR,MATCH(1,(($X55=S1Out)*($Y55=S2Out)*($Z55=S3Out)*($AA55=S4Out)*($AB55=S5Out)*($AC55=S6Out)*($AD55=S7Out)),0)),0)","v":0},0,{"$f":"IF(SUMPRODUCT(--ISNUMBER(SEARCH(AA_A,$D55)))>0,1,\"\")","v":""},{"$f":"IF(SUMPRODUCT(--ISNUMBER(SEARCH(AA_B,$D55)))>0,2,\"\")","v":""},{"$f":"IF(SUMPRODUCT(--ISNUMBER(SEARCH(AA_C,$D55)))>0,3,\"\")","v":""},{"$f":"IF(SUMPRODUCT(--ISNUMBER(SEARCH(AA_D,$D55)))>0,4,\"\")","v":""},{"$f":"IF(SUMPRODUCT(--ISNUMBER(SEARCH(AA_E,$D55)))>0,5,\"\")","v":""},{"$f":"IFERROR(INDEX(AASR,MATCH(1,(($AG55=AA1Out)*($AH55=AA2Out)*($AI55=AA3Out)*($AJ55=AA4Out)*($AK55=AA5Out)),0)),0)","v":0},0,0,0,{"$f":"IF(E55 = \"\", \"BLANK\",IF((AM55+AN55+AO55) = 0, \"A\", AM55 + AN55 + AO55))","v":"BLANK"}]
[34,null,{"$f":"IF(B56=\"\",\"\",IF(B56=B55,C55+1,1))","v":""},"",{"$nulls":5},{"$f":"IF(ELO_Time[[#This Row],[Time  (hours) 6 min = 0.1 hr]]=\"\",\"\",SUM(G56:I56))","v":""},{"$f":"IF(ELO_Time[[#This Row],[Time  (hours) 6 min = 0.1 hr]]=\"\",\"\",ELO_Time[[#This Row],[Time  (hours) 6 min = 0.1 hr]]*ELO_Time[[#This Row],[KSA Total\n (0 - 18)]])","v":""},null,{"$f":"IFERROR(IF(CoreCapInput=\"None\",\"None\",VLOOKUP(CoreCapInput,CC!$A$2:$D$49,4)),\"\")","v":""},null,0,"","","","","","",{"$f":"IFERROR(INDEX(KSR,MATCH(1,(($P56=K1Out)*($Q56=K2Out)*($R56=K3Out)*($S56=K4Out)*($T56=K5Out)*($U56=K6Out)),0)),0)","v":0},0,"","","","","","","",{"$f":"IFERROR(INDEX(SSR,MATCH(1,(($X56=S1Out)*($Y56=S2Out)*($Z56=S3Out)*($AA56=S4Out)*($AB56=S5Out)*($AC56=S6Out)*($AD56=S7Out)),0)),0)","v":0},0,"","","","","",{"$f":"IFERROR(INDEX(AASR,MATCH(1,(($AG56=AA1Out)*($AH56=AA2Out)*($AI56=AA3Out)*($AJ56=AA4Out)*($AK56=AA5Out)),0)),0)","v":0},0,0,0,"BLANK"]
[35,null,"","",{"$nulls":5},{"$f":"IF(ELO_Time[[#This Row],[Time  (hours) 6 min = 0.1 hr]]=\"\",\"\",SUM(G57:I57))","v":""},{"$f":"IF(ELO_Time[[#This Row],[Time  (hours) 6 min = 0.1 hr]]=\"\",\"\",ELO_Time[[#This Row],[Time  (hours) 6 min = 0.1 hr]]*ELO_Time[[#This Row],[KSA Total\n (0 - 18)]])","v":""},null,{"$f":"IFERROR(IF(CoreCapInput=\"None\",\"None\",VLOOKUP(CoreCapInput,CC!$A$2:$D$49,4)),\"\")","v":""},null,0,"","","","","","",{"$f":"IFERROR(INDEX(KSR,MATCH(1,(($P57=K1Out)*($Q57=K2Out)*($R57=K3Out)*($S57=K4Out)*($T57=K5Out)*($U57=K6Out)),0)),0)","v":0},0,"","","","","","","",{"$f":"IFERROR(INDEX(SSR,MATCH(1,(($X57=S1Out)*($Y57=S2Out)*($Z57=S3Out)*($AA57=S4Out)*($AB57=S5Out)*($AC57=S6Out)*($AD57=S7Out)),0)),0)","v":0},0,"","","","","",{"$f":"IFERROR(INDEX(AASR,MATCH(1,(($AG57=AA1Out)*($AH57=AA2Out)*($AI57=AA3Out)*($AJ57=AA4Out)*($AK57=AA5Out)),0)),0)","v":0},0,0,0,"BLANK"]
[36,null,"","",{"$nulls":5},{"$f":"IF(ELO_Time[[#This Row],[Time  (hours) 6 min = 0.1 hr]]=\"\",\"\",SUM(G58:I58))","v":""},{"$f":"IF(ELO_Time[[#This Row],[Time  (hours) 6 min = 0.1 hr]]=\"\",\"\",ELO_Time[[#This Row],[Time  (hours) 6 min = 0.1 hr]]*ELO_Time[[#This Row],[KSA Total\n (0 - 18)]])","v":""},null,{"$f":"IFERROR(IF(CoreCapInput=\"None\",\"None\",VLOOKUP(CoreCapInput,CC!$A$2:$D$49,4)),\"\")","v":""},null,0,"","","","","","",{"$f":"IFERROR(INDEX(KSR,MATCH(1,(($P58=K1Out)*($Q58=K2Out)*($R58=K3Out)*($S58=K4Out)*($T58=K5Out)*($U58=K6Out)),0)),0)","v":0},0,"","","","","","","",{"$f":"IFERROR(INDEX(SSR,MATCH(1,(($X58=S1Out)*($Y58=S2Out)*($Z58=S3Out)*($AA58=S4Out)*($AB58=S5Out)*($AC58=S6Out)*($AD58=S7Out)),0)),0)","v":0},0,"","","","","",{"$f":"IFERROR(INDEX(AASR,MATCH(1,(($AG58=AA1Out)*($AH58=AA2Out)*($AI58=AA3Out)*($AJ58=AA4Out)*($AK58=AA5Out)),0)),0)","v":0},0,0,0,"BLANK"]
[37,null,"","",{"$nulls":5},{"$f":"IF(ELO_Time[[#This Row],[Time  (hours) 6 min = 0.1 hr]]=\"\",\"\",SUM(G59:I59))","v":""},{"$f":"IF(ELO_Time[[#This Row],[Time  (hours) 6 min = 0.1 hr]]=\"\",\"\",ELO_Time[[#This Row],[Time  (hours) 6 min = 0.1 hr]]*ELO_Time[[#This Row],[KSA Total\n (0 - 18)]])","v":""},null,{"$f":"IFERROR(IF(CoreCapInput=\"None\",\"None\",VLOOKUP(CoreCapInput,CC!$A$2:$D$49,4)),\"\")","v":""},null,0,"","","","","","",{"$f":"IFERROR(INDEX(KSR,MATCH(1,(($P59=K1Out)*($Q59=K2Out)*($R59=K3Out)*($S59=K4Out)*($T59=K5Out)*($U59=K6Out)),0)),0)","v":0},0,"","","","","","","",{"$f":"IFERROR(INDEX(SSR,MATCH(1,(($X59=S1Out)*($Y59=S2Out)*($Z59=S3Out)*($AA59=S4Out)*($AB59=S5Out)*($AC59=S6Out)*($AD59=S7Out)),0)),0)","v":0},0,"","","","","",{"$f":"IFERROR(INDEX(AASR,MATCH(1,(($AG59=AA1Out)*($AH59=AA2Out)*($AI59=AA3Out)*($AJ59=AA4Out)*($AK59=AA5Out)),0)),0)","v":0},0,0,0,"BLANK"]
[38,null,"","",{"$nulls":5},{"$f":"IF(ELO_Time[[#This Row],[Time  (hours) 6 min = 0.1 hr]]=\"\",\"\",SUM(G60:I60))","v":""},{"$f":"IF(ELO_Time[[#This Row],[Time  (hours) 6 min = 0.1 hr]]=\"\",\"\",ELO_Time[[#This Row],[Time  (hours) 6 min = 0.1 hr]]*ELO_Time[[#This Row],[KSA Total\n (0 - 18)]])","v":""},null,{"$f":"IFERROR(IF(CoreCapInput=\"None\",\"None\",VLOOKUP(CoreCapInput,CC!$A$2:$D$49,4)),\"\")","v":""},null,0,"","","","","","",{"$f":"IFERROR(INDEX(KSR,MATCH(1,(($P60=K1Out)*($Q60=K2Out)*($R60=K3Out)*($S60=K4Out)*($T60=K5Out)*($U60=K6Out)),0)),0)","v":0},0,"","","","","","","",{"$f":"IFERROR(INDEX(SSR,MATCH(1,(($X60=S1Out)*($Y60=S2Out)*($Z60=S3Out)*($AA60=S4Out)*($AB60=S5Out)*($AC60=S6Out)*($AD60=S7Out)),0)),0)","v":0},0,"","","","","",{"$f":"IFERROR(INDEX(AASR,MATCH(1,(($AG60=AA1Out)*($AH60=AA2Out)*($AI60=AA3Out)*($AJ60=AA4Out)*($AK60=AA5Out)),0)),0)","v":0},0,0,0,"BLANK"]
[39,null,"","",{"$nulls":5},{"$f":"IF(ELO_Time[[#This Row],[Time  (hours) 6 min = 0.1 hr]]=\"\",\"\",SUM(G61:I61))","v":""},{"$f":"IF(ELO_Time[[#This Row],[Time  (hours) 6 min = 0.1 hr]]=\"\",\"\",ELO_Time[[#This Row],[Time  (hours) 6 min = 0.1 hr]]*ELO_Time[[#This Row],[KSA Total\n (0 - 18)]])","v":""},null,{"$f":"IFERROR(IF(CoreCapInput=\"None\",\"None\",VLOOKUP(CoreCapInput,CC!$A$2:$D$49,4)),\"\")","v":""},null,0,"","","","","","",{"$f":"IFERROR(INDEX(KSR,MATCH(1,(($P61=K1Out)*($Q61=K2Out)*($R61=K3Out)*($S61=K4Out)*($T61=K5Out)*($U61=K6Out)),0)),0)","v":0},0,"","","","","","","",{"$f":"IFERROR(INDEX(SSR,MATCH(1,(($X61=S1Out)*($Y61=S2Out)*($Z61=S3Out)*($AA61=S4Out)*($AB61=S5Out)*($AC61=S6Out)*($AD61=S7Out)),0)),0)","v":0},0,"","","","","",{"$f":"IFERROR(INDEX(AASR,MATCH(1,(($AG61=AA1Out)*($AH61=AA2Out)*($AI61=AA3Out)*($AJ61=AA4Out)*($AK61=AA5Out)),0)),0)","v":0},0,0,0,"BLANK"]
[40,null,"","",{"$nulls":5},{"$f":"IF(ELO_Time[[#This Row],[Time  (hours) 6 min = 0.1 hr]]=\"\",\"\",SUM(G62:I62))","v":""},{"$f":"IF(ELO_Time[[#This Row],[Time  (hours) 6 min = 0.1 hr]]=\"\",\"\",ELO_Time[[#This Row],[Time  (hours) 6 min = 0.1 hr]]*ELO_Time[[#This Row],[KSA Total\n (0 - 18)]])","v":""},null,{"$f":"IFERROR(IF(CoreCapInput=\"None\",\"None\",VLOOKUP(CoreCapInput,CC!$A$2:$D$49,4)),\"\")","v":""},null,0,"","","","","","",{"$f":"IFERROR(INDEX(KSR,MATCH(1,(($P62=K1Out)*($Q62=K2Out)*($R62=K3Out)*($S62=K4Out)*($T62=K5Out)*($U62=K6Out)),0)),0)","v":0},0,"","","","","","","",{"$f":"IFERROR(INDEX(SSR,MATCH(1,(($X62=S1Out)*($Y62=S2Out)*($Z62=S3Out)*($AA62=S4Out)*($AB62=S5Out)*($AC62=S6Out)*($AD62=S7Out)),0)),0)","v":0},0,"","","","","",{"$f":"IFERROR(INDEX(AASR,MATCH(1,(($AG62=AA1Out)*($AH62=AA2Out)*($AI62=AA3Out)*($AJ62=AA4Out)*($AK62=AA5Out)),0)),0)","v":0},0,0,0,"BLANK"]
[41,null,"","",{"$nulls":5},{"$f":"IF(ELO_Time[[#This Row],[Time  (hours) 6 min = 0.1 hr]]=\"\",\"\",SUM(G63:I63))","v":""},{"$f":"IF(ELO_Time[[#This Row],[Time  (hours) 6 min = 0.1 hr]]=\"\",\"\",ELO_Time[[#This Row],[Time  (hours) 6 min = 0.1 hr]]*ELO_Time[[#This Row],[KSA Total\n (0 - 18)]])","v":""},null,{"$f":"IFERROR(IF(CoreCapInput=\"None\",\"None\",VLOOKUP(CoreCapInput,CC!$A$2:$D$49,4)),\"\")","v":""},null,0,"","","","","","",{"$f":"IFERROR(INDEX(KSR,MATCH(1,(($P63=K1Out)*($Q63=K2Out)*($R63=K3Out)*($S63=K4Out)*($T63=K5Out)*($U63=K6Out)),0)),0)","v":0},0,"","","","","","","",{"$f":"IFERROR(INDEX(SSR,MATCH(1,(($X63=S1Out)*($Y63=S2Out)*($Z63=S3Out)*($AA63=S4Out)*($AB63=S5Out)*($AC63=S6Out)*($AD63=S7Out)),0)),0)","v":0},0,"","","","","",{"$f":"IFERROR(INDEX(AASR,MATCH(1,(($AG63=AA1Out)*($AH63=AA2Out)*($AI63=AA3Out)*($AJ63=AA4Out)*($AK63=AA5Out)),0)),0)","v":0},0,0,0,"BLANK"]
[42,null,"","",{"$nulls":5},{"$f":"IF(ELO_Time[[#This Row],[Time  (hours) 6 min = 0.1 hr]]=\"\",\"\",SUM(G64:I64))","v":""},{"$f":"IF(ELO_Time[[#This Row],[Time  (hours) 6 min = 0.1 hr]]=\"\",\"\",ELO_Time[[#This Row],[Time  (hours) 6 min = 0.1 hr]]*ELO_Time[[#This Row],[KSA Total\n (0 - 18)]])","v":""},null,{"$f":"IFERROR(IF(CoreCapInput=\"None\",\"None\",VLOOKUP(CoreCapInput,CC!$A$2:$D$49,4)),\"\")","v":""},null,0,"","","","","","",{"$f":"IFERROR(INDEX(KSR,MATCH(1,(($P64=K1Out)*($Q64=K2Out)*($R64=K3Out)*($S64=K4Out)*($T64=K5Out)*($U64=K6Out)),0)),0)","v":0},0,"","","","","","","",{"$f":"IFERROR(INDEX(SSR,MATCH(1,(($X64=S1Out)*($Y64=S2Out)*($Z64=S3Out)*($AA64=S4Out)*($AB64=S5Out)*($AC64=S6Out)*($AD64=S7Out)),0)),0)","v":0},0,"","","","","",{"$f":"IFERROR(INDEX(AASR,MATCH(1,(($AG64=AA1Out)*($AH64=AA2Out)*($AI64=AA3Out)*($AJ64=AA4Out)*($AK64=AA5Out)),0)),0)","v":0},0,0,0,"BLANK"]
[43,null,"","",{"$nulls":5},{"$f":"IF(ELO_Time[[#This Row],[Time  (hours) 6 min = 0.1 hr]]=\"\",\"\",SUM(G65:I65))","v":""},{"$f":"IF(ELO_Time[[#This Row],[Time  (hours) 6 min = 0.1 hr]]=\"\",\"\",ELO_Time[[#This Row],[Time  (hours) 6 min = 0.1 hr]]*ELO_Time[[#This Row],[KSA Total\n (0 - 18)]])","v":""},null,{"$f":"IFERROR(IF(CoreCapInput=\"None\",\"None\",VLOOKUP(CoreCapInput,CC!$A$2:$D$49,4)),\"\")","v":""},null,0,"","","","","","",{"$f":"IFERROR(INDEX(KSR,MATCH(1,(($P65=K1Out)*($Q65=K2Out)*($R65=K3Out)*($S65=K4Out)*($T65=K5Out)*($U65=K6Out)),0)),0)","v":0},0,"","","","","","","",{"$f":"IFERROR(INDEX(SSR,MATCH(1,(($X65=S1Out)*($Y65=S2Out)*($Z65=S3Out)*($AA65=S4Out)*($AB65=S5Out)*($AC65=S6Out)*($AD65=S7Out)),0)),0)","v":0},0,"","","","","",{"$f":"IFERROR(INDEX(AASR,MATCH(1,(($AG65=AA1Out)*($AH65=AA2Out)*($AI65=AA3Out)*($AJ65=AA4Out)*($AK65=AA5Out)),0)),0)","v":0},0,0,0,"BLANK"]
[44,null,"","",{"$nulls":5},{"$f":"IF(ELO_Time[[#This Row],[Time  (hours) 6 min = 0.1 hr]]=\"\",\"\",SUM(G66:I66))","v":""},{"$f":"IF(ELO_Time[[#This Row],[Time  (hours) 6 min = 0.1 hr]]=\"\",\"\",ELO_Time[[#This Row],[Time  (hours) 6 min = 0.1 hr]]*ELO_Time[[#This Row],[KSA Total\n (0 - 18)]])","v":""},null,{"$f":"IFERROR(IF(CoreCapInput=\"None\",\"None\",VLOOKUP(CoreCapInput,CC!$A$2:$D$49,4)),\"\")","v":""},null,0,"","","","","","",{"$f":"IFERROR(INDEX(KSR,MATCH(1,(($P66=K1Out)*($Q66=K2Out)*($R66=K3Out)*($S66=K4Out)*($T66=K5Out)*($U66=K6Out)),0)),0)","v":0},0,"","","","","","","",{"$f":"IFERROR(INDEX(SSR,MATCH(1,(($X66=S1Out)*($Y66=S2Out)*($Z66=S3Out)*($AA66=S4Out)*($AB66=S5Out)*($AC66=S6Out)*($AD66=S7Out)),0)),0)","v":0},0,"","","","","",{"$f":"IFERROR(INDEX(AASR,MATCH(1,(($AG66=AA1Out)*($AH66=AA2Out)*($AI66=AA3Out)*($AJ66=AA4Out)*($AK66=AA5Out)),0)),0)","v":0},0,0,0,"BLANK"]
[45,null,"","",{"$nulls":5},{"$f":"IF(ELO_Time[[#This Row],[Time  (hours) 6 min = 0.1 hr]]=\"\",\"\",SUM(G67:I67))","v":""},{"$f":"IF(ELO_Time[[#This Row],[Time  (hours) 6 min = 0.1 hr]]=\"\",\"\",ELO_Time[[#This Row],[Time  (hours) 6 min = 0.1 hr]]*ELO_Time[[#This Row],[KSA Total\n (0 - 18)]])","v":""},null,{"$f":"IFERROR(IF(CoreCapInput=\"None\",\"None\",VLOOKUP(CoreCapInput,CC!$A$2:$D$49,4)),\"\")","v":""},null,0,"","","","","","",{"$f":"IFERROR(INDEX(KSR,MATCH(1,(($P67=K1Out)*($Q67=K2Out)*($R67=K3Out)*($S67=K4Out)*($T67=K5Out)*($U67=K6Out)),0)),0)","v":0},0,"","","","","","","",{"$f":"IFERROR(INDEX(SSR,MATCH(1,(($X67=S1Out)*($Y67=S2Out)*($Z67=S3Out)*($AA67=S4Out)*($AB67=S5Out)*($AC67=S6Out)*($AD67=S7Out)),0)),0)","v":0},0,"","","","","",{"$f":"IFERROR(INDEX(AASR,MATCH(1,(($AG67=AA1Out)*($AH67=AA2Out)*($AI67=AA3Out)*($AJ67=AA4Out)*($AK67=AA5Out)),0)),0)","v":0},0,0,0,"BLANK"]
[46,null,"","",{"$nulls":5},{"$f":"IF(ELO_Time[[#This Row],[Time  (hours) 6 min = 0.1 hr]]=\"\",\"\",SUM(G68:I68))","v":""},{"$f":"IF(ELO_Time[[#This Row],[Time  (hours) 6 min = 0.1 hr]]=\"\",\"\",ELO_Time[[#This Row],[Time  (hours) 6 min = 0.1 hr]]*ELO_Time[[#This Row],[KSA Total\n (0 - 18)]])","v":""},null,{"$f":"IFERROR(IF(CoreCapInput=\"None\",\"None\",VLOOKUP(CoreCapInput,CC!$A$2:$D$49,4)),\"\")","v":""},null,0,"","","","","","",{"$f":"IFERROR(INDEX(KSR,MATCH(1,(($P68=K1Out)*($Q68=K2Out)*($R68=K3Out)*($S68=K4Out)*($T68=K5Out)*($U68=K6Out)),0)),0)","v":0},0,"","","","","","","",{"$f":"IFERROR(INDEX(SSR,MATCH(1,(($X68=S1Out)*($Y68=S2Out)*($Z68=S3Out)*($AA68=S4Out)*($AB68=S5Out)*($AC68=S6Out)*($AD68=S7Out)),0)),0)","v":0},0,"","","","","",{"$f":"IFERROR(INDEX(AASR,MATCH(1,(($AG68=AA1Out)*($AH68=AA2Out)*($AI68=AA3Out)*($AJ68=AA4Out)*($AK68=AA5Out)),0)),0)","v":0},0,0,0,"BLANK"]
[47,null,"","",{"$nulls":5},{"$f":"IF(ELO_Time[[#This Row],[Time  (hours) 6 min = 0.1 hr]]=\"\",\"\",SUM(G69:I69))","v":""},{"$f":"IF(ELO_Time[[#This Row],[Time  (hours) 6 min = 0.1 hr]]=\"\",\"\",ELO_Time[[#This Row],[Time  (hours) 6 min = 0.1 hr]]*ELO_Time[[#This Row],[KSA Total\n (0 - 18)]])","v":""},null,{"$f":"IFERROR(IF(CoreCapInput=\"None\",\"None\",VLOOKUP(CoreCapInput,CC!$A$2:$D$49,4)),\"\")","v":""},null,0,"","","","","","",{"$f":"IFERROR(INDEX(KSR,MATCH(1,(($P69=K1Out)*($Q69=K2Out)*($R69=K3Out)*($S69=K4Out)*($T69=K5Out)*($U69=K6Out)),0)),0)","v":0},0,"","","","","","","",{"$f":"IFERROR(INDEX(SSR,MATCH(1,(($X69=S1Out)*($Y69=S2Out)*($Z69=S3Out)*($AA69=S4Out)*($AB69=S5Out)*($AC69=S6Out)*($AD69=S7Out)),0)),0)","v":0},0,"","","","","",{"$f":"IFERROR(INDEX(AASR,MATCH(1,(($AG69=AA1Out)*($AH69=AA2Out)*($AI69=AA3Out)*($AJ69=AA4Out)*($AK69=AA5Out)),0)),0)","v":0},0,0,0,"BLANK"]
[48,null,"","",{"$nulls":5},{"$f":"IF(ELO_Time[[#This Row],[Time  (hours) 6 min = 0.1 hr]]=\"\",\"\",SUM(G70:I70))","v":""},{"$f":"IF(ELO_Time[[#This Row],[Time  (hours) 6 min = 0.1 hr]]=\"\",\"\",ELO_Time[[#This Row],[Time  (hours) 6 min = 0.1 hr]]*ELO_Time[[#This Row],[KSA Total\n (0 - 18)]])","v":""},null,{"$f":"IFERROR(IF(CoreCapInput=\"None\",\"None\",VLOOKUP(CoreCapInput,CC!$A$2:$D$49,4)),\"\")","v":""},null,0,"","","","","","",{"$f":"IFERROR(INDEX(KSR,MATCH(1,(($P70=K1Out)*($Q70=K2Out)*($R70=K3Out)*($S70=K4Out)*($T70=K5Out)*($U70=K6Out)),0)),0)","v":0},0,"","","","","","","",{"$f":"IFERROR(INDEX(SSR,MATCH(1,(($X70=S1Out)*($Y70=S2Out)*($Z70=S3Out)*($AA70=S4Out)*($AB70=S5Out)*($AC70=S6Out)*($AD70=S7Out)),0)),0)","v":0},0,"","","","","",{"$f":"IFERROR(INDEX(AASR,MATCH(1,(($AG70=AA1Out)*($AH70=AA2Out)*($AI70=AA3Out)*($AJ70=AA4Out)*($AK70=AA5Out)),0)),0)","v":0},0,0,0,"BLANK"]
[49,null,"","",{"$nulls":5},{"$f":"IF(ELO_Time[[#This Row],[Time  (hours) 6 min = 0.1 hr]]=\"\",\"\",SUM(G71:I71))","v":""},{"$f":"IF(ELO_Time[[#This Row],[Time  (hours) 6 min = 0.1 hr]]=\"\",\"\",ELO_Time[[#This Row],[Time  (hours) 6 min = 0.1 hr]]*ELO_Time[[#This Row],[KSA Total\n (0 - 18)]])","v":""},null,{"$f":"IFERROR(IF(CoreCapInput=\"None\",\"None\",VLOOKUP(CoreCapInput,CC!$A$2:$D$49,4)),\"\")","v":""},null,0,"","","","","","",{"$f":"IFERROR(INDEX(KSR,MATCH(1,(($P71=K1Out)*($Q71=K2Out)*($R71=K3Out)*($S71=K4Out)*($T71=K5Out)*($U71=K6Out)),0)),0)","v":0},0,"","","","","","","",{"$f":"IFERROR(INDEX(SSR,MATCH(1,(($X71=S1Out)*($Y71=S2Out)*($Z71=S3Out)*($AA71=S4Out)*($AB71=S5Out)*($AC71=S6Out)*($AD71=S7Out)),0)),0)","v":0},0,"","","","","",{"$f":"IFERROR(INDEX(AASR,MATCH(1,(($AG71=AA1Out)*($AH71=AA2Out)*($AI71=AA3Out)*($AJ71=AA4Out)*($AK71=AA5Out)),0)),0)","v":0},0,0,0,"BLANK"]
[50,null,"","",{"$nulls":5},{"$f":"IF(ELO_Time[[#This Row],[Time  (hours) 6 min = 0.1 hr]]=\"\",\"\",SUM(G72:I72))","v":""},{"$f":"IF(ELO_Time[[#This Row],[Time  (hours) 6 min = 0.1 hr]]=\"\",\"\",ELO_Time[[#This Row],[Time  (hours) 6 min = 0.1 hr]]*ELO_Time[[#This Row],[KSA Total\n (0 - 18)]])","v":""},null,{"$f":"IFERROR(IF(CoreCapInput=\"None\",\"None\",VLOOKUP(CoreCapInput,CC!$A$2:$D$49,4)),\"\")","v":""},null,0,"","","","","","",{"$f":"IFERROR(INDEX(KSR,MATCH(1,(($P72=K1Out)*($Q72=K2Out)*($R72=K3Out)*($S72=K4Out)*($T72=K5Out)*($U72=K6Out)),0)),0)","v":0},0,"","","","","","","",{"$f":"IFERROR(INDEX(SSR,MATCH(1,(($X72=S1Out)*($Y72=S2Out)*($Z72=S3Out)*($AA72=S4Out)*($AB72=S5Out)*($AC72=S6Out)*($AD72=S7Out)),0)),0)","v":0},0,"","","","","",{"$f":"IFERROR(INDEX(AASR,MATCH(1,(($AG72=AA1Out)*($AH72=AA2Out)*($AI72=AA3Out)*($AJ72=AA4Out)*($AK72=AA5Out)),0)),0)","v":0},0,0,0,"BLANK"]
[51,null,"","",{"$nulls":5},{"$f":"IF(ELO_Time[[#This Row],[Time  (hours) 6 min = 0.1 hr]]=\"\",\"\",SUM(G73:I73))","v":""},{"$f":"IF(ELO_Time[[#This Row],[Time  (hours) 6 min = 0.1 hr]]=\"\",\"\",ELO_Time[[#This Row],[Time  (hours) 6 min = 0.1 hr]]*ELO_Time[[#This Row],[KSA Total\n (0 - 18)]])","v":""},null,{"$f":"IFERROR(IF(CoreCapInput=\"None\",\"None\",VLOOKUP(CoreCapInput,CC!$A$2:$D$49,4)),\"\")","v":""},null,0,"","","","","","",{"$f":"IFERROR(INDEX(KSR,MATCH(1,(($P73=K1Out)*($Q73=K2Out)*($R73=K3Out)*($S73=K4Out)*($T73=K5Out)*($U73=K6Out)),0)),0)","v":0},0,"","","","","","","",{"$f":"IFERROR(INDEX(SSR,MATCH(1,(($X73=S1Out)*($Y73=S2Out)*($Z73=S3Out)*($AA73=S4Out)*($AB73=S5Out)*($AC73=S6Out)*($AD73=S7Out)),0)),0)","v":0},0,"","","","","",{"$f":"IFERROR(INDEX(AASR,MATCH(1,(($AG73=AA1Out)*($AH73=AA2Out)*($AI73=AA3Out)*($AJ73=AA4Out)*($AK73=AA5Out)),0)),0)","v":0},0,0,0,"BLANK"]
[52,null,"","",{"$nulls":5},{"$f":"IF(ELO_Time[[#This Row],[Time  (hours) 6 min = 0.1 hr]]=\"\",\"\",SUM(G74:I74))","v":""},{"$f":"IF(ELO_Time[[#This Row],[Time  (hours) 6 min = 0.1 hr]]=\"\",\"\",ELO_Time[[#This Row],[Time  (hours) 6 min = 0.1 hr]]*ELO_Time[[#This Row],[KSA Total\n (0 - 18)]])","v":""},null,{"$f":"IFERROR(IF(CoreCapInput=\"None\",\"None\",VLOOKUP(CoreCapInput,CC!$A$2:$D$49,4)),\"\")","v":""},null,0,"","","","","","",{"$f":"IFERROR(INDEX(KSR,MATCH(1,(($P74=K1Out)*($Q74=K2Out)*($R74=K3Out)*($S74=K4Out)*($T74=K5Out)*($U74=K6Out)),0)),0)","v":0},0,"","","","","","","",{"$f":"IFERROR(INDEX(SSR,MATCH(1,(($X74=S1Out)*($Y74=S2Out)*($Z74=S3Out)*($AA74=S4Out)*($AB74=S5Out)*($AC74=S6Out)*($AD74=S7Out)),0)),0)","v":0},0,"","","","","",{"$f":"IFERROR(INDEX(AASR,MATCH(1,(($AG74=AA1Out)*($AH74=AA2Out)*($AI74=AA3Out)*($AJ74=AA4Out)*($AK74=AA5Out)),0)),0)","v":0},0,0,0,"BLANK"]
[53,null,"","",{"$nulls":5},{"$f":"IF(ELO_Time[[#This Row],[Time  (hours) 6 min = 0.1 hr]]=\"\",\"\",SUM(G75:I75))","v":""},{"$f":"IF(ELO_Time[[#This Row],[Time  (hours) 6 min = 0.1 hr]]=\"\",\"\",ELO_Time[[#This Row],[Time  (hours) 6 min = 0.1 hr]]*ELO_Time[[#This Row],[KSA Total\n (0 - 18)]])","v":""},null,{"$f":"IFERROR(IF(CoreCapInput=\"None\",\"None\",VLOOKUP(CoreCapInput,CC!$A$2:$D$49,4)),\"\")","v":""},null,0,"","","","","","",{"$f":"IFERROR(INDEX(KSR,MATCH(1,(($P75=K1Out)*($Q75=K2Out)*($R75=K3Out)*($S75=K4Out)*($T75=K5Out)*($U75=K6Out)),0)),0)","v":0},0,"","","","","","","",{"$f":"IFERROR(INDEX(SSR,MATCH(1,(($X75=S1Out)*($Y75=S2Out)*($Z75=S3Out)*($AA75=S4Out)*($AB75=S5Out)*($AC75=S6Out)*($AD75=S7Out)),0)),0)","v":0},0,"","","","","",{"$f":"IFERROR(INDEX(AASR,MATCH(1,(($AG75=AA1Out)*($AH75=AA2Out)*($AI75=AA3Out)*($AJ75=AA4Out)*($AK75=AA5Out)),0)),0)","v":0},0,0,0,"BLANK"]
[54,null,"","",{"$nulls":5},{"$f":"IF(ELO_Time[[#This Row],[Time  (hours) 6 min = 0.1 hr]]=\"\",\"\",SUM(G76:I76))","v":""},{"$f":"IF(ELO_Time[[#This Row],[Time  (hours) 6 min = 0.1 hr]]=\"\",\"\",ELO_Time[[#This Row],[Time  (hours) 6 min = 0.1 hr]]*ELO_Time[[#This Row],[KSA Total\n (0 - 18)]])","v":""},null,{"$f":"IFERROR(IF(CoreCapInput=\"None\",\"None\",VLOOKUP(CoreCapInput,CC!$A$2:$D$49,4)),\"\")","v":""},null,0,"","","","","","",{"$f":"IFERROR(INDEX(KSR,MATCH(1,(($P76=K1Out)*($Q76=K2Out)*($R76=K3Out)*($S76=K4Out)*($T76=K5Out)*($U76=K6Out)),0)),0)","v":0},0,"","","","","","","",{"$f":"IFERROR(INDEX(SSR,MATCH(1,(($X76=S1Out)*($Y76=S2Out)*($Z76=S3Out)*($AA76=S4Out)*($AB76=S5Out)*($AC76=S6Out)*($AD76=S7Out)),0)),0)","v":0},0,"","","","","",{"$f":"IFERROR(INDEX(AASR,MATCH(1,(($AG76=AA1Out)*($AH76=AA2Out)*($AI76=AA3Out)*($AJ76=AA4Out)*($AK76=AA5Out)),0)),0)","v":0},0,0,0,"BLANK"]
[55,null,"","",{"$nulls":5},{"$f":"IF(ELO_Time[[#This Row],[Time  (hours) 6 min = 0.1 hr]]=\"\",\"\",SUM(G77:I77))","v":""},{"$f":"IF(ELO_Time[[#This Row],[Time  (hours) 6 min = 0.1 hr]]=\"\",\"\",ELO_Time[[#This Row],[Time  (hours) 6 min = 0.1 hr]]*ELO_Time[[#This Row],[KSA Total\n (0 - 18)]])","v":""},null,{"$f":"IFERROR(IF(CoreCapInput=\"None\",\"None\",VLOOKUP(CoreCapInput,CC!$A$2:$D$49,4)),\"\")","v":""},null,0,"","","","","","",{"$f":"IFERROR(INDEX(KSR,MATCH(1,(($P77=K1Out)*($Q77=K2Out)*($R77=K3Out)*($S77=K4Out)*($T77=K5Out)*($U77=K6Out)),0)),0)","v":0},0,"","","","","","","",{"$f":"IFERROR(INDEX(SSR,MATCH(1,(($X77=S1Out)*($Y77=S2Out)*($Z77=S3Out)*($AA77=S4Out)*($AB77=S5Out)*($AC77=S6Out)*($AD77=S7Out)),0)),0)","v":0},0,"","","","","",{"$f":"IFERROR(INDEX(AASR,MATCH(1,(($AG77=AA1Out)*($AH77=AA2Out)*($AI77=AA3Out)*($AJ77=AA4Out)*($AK77=AA5Out)),0)),0)","v":0},0,0,0,"BLANK"]
[56,null,"","",{"$nulls":5},{"$f":"IF(ELO_Time[[#This Row],[Time  (hours) 6 min = 0.1 hr]]=\"\",\"\",SUM(G78:I78))","v":""},{"$f":"IF(ELO_Time[[#This Row],[Time  (hours) 6 min = 0.1 hr]]=\"\",\"\",ELO_Time[[#This Row],[Time  (hours) 6 min = 0.1 hr]]*ELO_Time[[#This Row],[KSA Total\n (0 - 18)]])","v":""},null,{"$f":"IFERROR(IF(CoreCapInput=\"None\",\"None\",VLOOKUP(CoreCapInput,CC!$A$2:$D$49,4)),\"\")","v":""},null,0,"","","","","","",{"$f":"IFERROR(INDEX(KSR,MATCH(1,(($P78=K1Out)*($Q78=K2Out)*($R78=K3Out)*($S78=K4Out)*($T78=K5Out)*($U78=K6Out)),0)),0)","v":0},0,"","","","","","","",{"$f":"IFERROR(INDEX(SSR,MATCH(1,(($X78=S1Out)*($Y78=S2Out)*($Z78=S3Out)*($AA78=S4Out)*($AB78=S5Out)*($AC78=S6Out)*($AD78=S7Out)),0)),0)","v":0},0,"","","","","",{"$f":"IFERROR(INDEX(AASR,MATCH(1,(($AG78=AA1Out)*($AH78=AA2Out)*($AI78=AA3Out)*($AJ78=AA4Out)*($AK78=AA5Out)),0)),0)","v":0},0,0,0,"BLANK"]
[57,null,"","",{"$nulls":5},{"$f":"IF(ELO_Time[[#This Row],[Time  (hours) 6 min = 0.1 hr]]=\"\",\"\",SUM(G79:I79))","v":""},{"$f":"IF(ELO_Time[[#This Row],[Time  (hours) 6 min = 0.1 hr]]=\"\",\"\",ELO_Time[[#This Row],[Time  (hours) 6 min = 0.1 hr]]*ELO_Time[[#This Row],[KSA Total\n (0 - 18)]])","v":""},null,{"$f":"IFERROR(IF(CoreCapInput=\"None\",\"None\",VLOOKUP(CoreCapInput,CC!$A$2:$D$49,4)),\"\")","v":""},null,0,"","","","","","",{"$f":"IFERROR(INDEX(KSR,MATCH(1,(($P79=K1Out)*($Q79=K2Out)*($R79=K3Out)*($S79=K4Out)*($T79=K5Out)*($U79=K6Out)),0)),0)","v":0},0,"","","","","","","",{"$f":"IFERROR(INDEX(SSR,MATCH(1,(($X79=S1Out)*($Y79=S2Out)*($Z79=S3Out)*($AA79=S4Out)*($AB79=S5Out)*($AC79=S6Out)*($AD79=S7Out)),0)),0)","v":0},0,"","","","","",{"$f":"IFERROR(INDEX(AASR,MATCH(1,(($AG79=AA1Out)*($AH79=AA2Out)*($AI79=AA3Out)*($AJ79=AA4Out)*($AK79=AA5Out)),0)),0)","v":0},0,0,0,"BLANK"]
[58,null,"","",{"$nulls":5},{"$f":"IF(ELO_Time[[#This Row],[Time  (hours) 6 min = 0.1 hr]]=\"\",\"\",SUM(G80:I80))","v":""},{"$f":"IF(ELO_Time[[#This Row],[Time  (hours) 6 min = 0.1 hr]]=\"\",\"\",ELO_Time[[#This Row],[Time  (hours) 6 min = 0.1 hr]]*ELO_Time[[#This Row],[KSA Total\n (0 - 18)]])","v":""},null,{"$f":"IFERROR(IF(CoreCapInput=\"None\",\"None\",VLOOKUP(CoreCapInput,CC!$A$2:$D$49,4)),\"\")","v":""},null,0,"","","","","","",{"$f":"IFERROR(INDEX(KSR,MATCH(1,(($P80=K1Out)*($Q80=K2Out)*($R80=K3Out)*($S80=K4Out)*($T80=K5Out)*($U80=K6Out)),0)),0)","v":0},0,"","","","","","","",{"$f":"IFERROR(INDEX(SSR,MATCH(1,(($X80=S1Out)*($Y80=S2Out)*($Z80=S3Out)*($AA80=S4Out)*($AB80=S5Out)*($AC80=S6Out)*($AD80=S7Out)),0)),0)","v":0},0,"","","","","",{"$f":"IFERROR(INDEX(AASR,MATCH(1,(($AG80=AA1Out)*($AH80=AA2Out)*($AI80=AA3Out)*($AJ80=AA4Out)*($AK80=AA5Out)),0)),0)","v":0},0,0,0,"BLANK"]
[59,null,"","",{"$nulls":5},{"$f":"IF(ELO_Time[[#This Row],[Time  (hours) 6 min = 0.1 hr]]=\"\",\"\",SUM(G81:I81))","v":""},{"$f":"IF(ELO_Time[[#This Row],[Time  (hours) 6 min = 0.1 hr]]=\"\",\"\",ELO_Time[[#This Row],[Time  (hours) 6 min = 0.1 hr]]*ELO_Time[[#This Row],[KSA Total\n (0 - 18)]])","v":""},null,{"$f":"IFERROR(IF(CoreCapInput=\"None\",\"None\",VLOOKUP(CoreCapInput,CC!$A$2:$D$49,4)),\"\")","v":""},null,0,"","","","","","",{"$f":"IFERROR(INDEX(KSR,MATCH(1,(($P81=K1Out)*($Q81=K2Out)*($R81=K3Out)*($S81=K4Out)*($T81=K5Out)*($U81=K6Out)),0)),0)","v":0},0,"","","","","","","",{"$f":"IFERROR(INDEX(SSR,MATCH(1,(($X81=S1Out)*($Y81=S2Out)*($Z81=S3Out)*($AA81=S4Out)*($AB81=S5Out)*($AC81=S6Out)*($AD81=S7Out)),0)),0)","v":0},0,"","","","","",{"$f":"IFERROR(INDEX(AASR,MATCH(1,(($AG81=AA1Out)*($AH81=AA2Out)*($AI81=AA3Out)*($AJ81=AA4Out)*($AK81=AA5Out)),0)),0)","v":0},0,0,0,"BLANK"]
[60,null,"","",{"$nulls":5},{"$f":"IF(ELO_Time[[#This Row],[Time  (hours) 6 min = 0.1 hr]]=\"\",\"\",SUM(G82:I82))","v":""},{"$f":"IF(ELO_Time[[#This Row],[Time  (hours) 6 min = 0.1 hr]]=\"\",\"\",ELO_Time[[#This Row],[Time  (hours) 6 min = 0.1 hr]]*ELO_Time[[#This Row],[KSA Total\n (0 - 18)]])","v":""},null,{"$f":"IFERROR(IF(CoreCapInput=\"None\",\"None\",VLOOKUP(CoreCapInput,CC!$A$2:$D$49,4)),\"\")","v":""},null,0,"","","","","","",{"$f":"IFERROR(INDEX(KSR,MATCH(1,(($P82=K1Out)*($Q82=K2Out)*($R82=K3Out)*($S82=K4Out)*($T82=K5Out)*($U82=K6Out)),0)),0)","v":0},0,"","","","","","","",{"$f":"IFERROR(INDEX(SSR,MATCH(1,(($X82=S1Out)*($Y82=S2Out)*($Z82=S3Out)*($AA82=S4Out)*($AB82=S5Out)*($AC82=S6Out)*($AD82=S7Out)),0)),0)","v":0},0,"","","","","",{"$f":"IFERROR(INDEX(AASR,MATCH(1,(($AG82=AA1Out)*($AH82=AA2Out)*($AI82=AA3Out)*($AJ82=AA4Out)*($AK82=AA5Out)),0)),0)","v":0},0,0,0,"BLANK"]
[61,null,"","",{"$nulls":5},{"$f":"IF(ELO_Time[[#This Row],[Time  (hours) 6 min = 0.1 hr]]=\"\",\"\",SUM(G83:I83))","v":""},{"$f":"IF(ELO_Time[[#This Row],[Time  (hours) 6 min = 0.1 hr]]=\"\",\"\",ELO_Time[[#This Row],[Time  (hours) 6 min = 0.1 hr]]*ELO_Time[[#This Row],[KSA Total\n (0 - 18)]])","v":""},null,{"$f":"IFERROR(IF(CoreCapInput=\"None\",\"None\",VLOOKUP(CoreCapInput,CC!$A$2:$D$49,4)),\"\")","v":""},null,0,"","","","","","",{"$f":"IFERROR(INDEX(KSR,MATCH(1,(($P83=K1Out)*($Q83=K2Out)*($R83=K3Out)*($S83=K4Out)*($T83=K5Out)*($U83=K6Out)),0)),0)","v":0},0,"","","","","","","",{"$f":"IFERROR(INDEX(SSR,MATCH(1,(($X83=S1Out)*($Y83=S2Out)*($Z83=S3Out)*($AA83=S4Out)*($AB83=S5Out)*($AC83=S6Out)*($AD83=S7Out)),0)),0)","v":0},0,"","","","","",{"$f":"IFERROR(INDEX(AASR,MATCH(1,(($AG83=AA1Out)*($AH83=AA2Out)*($AI83=AA3Out)*($AJ83=AA4Out)*($AK83=AA5Out)),0)),0)","v":0},{"$f":"(IF(ISNUMBER(O83) = FALSE, 0, O83) + IF(ISNUMBER(P83) = FALSE, 0, P83)+ IF(ISNUMBER(Q83) = FALSE, 0, Q83) + IF(ISNUMBER(R83) = FALSE, 0, R83) + IF(ISNUMBER(S83) = FALSE, 0, S83) + IF(ISNUMBER(T83) = FALSE, 0, T83)) + IF(ISNUMBER(U83) = FALSE, 0, U83)","v":0},{"$f":"(IF(ISNUMBER(W83) = FALSE, 0, W83) + IF(ISNUMBER(X83) = FALSE, 0, X83)+ IF(ISNUMBER(Y83) = FALSE, 0, Y83) + IF(ISNUMBER(Z83) = FALSE, 0, Z83) + IF(ISNUMBER(AA83) = FALSE, 0, AA83) + IF(ISNUMBER(AB83) = FALSE, 0, AB83)) + IF(ISNUMBER(AC83) = FALSE, 0, AC83) + IF(ISNUMBER(AD83) = FALSE, 0, AD83)","v":0},{"$f":"(IF(ISNUMBER(AF83) = FALSE, 0, AF83) + IF(ISNUMBER(AG83) = FALSE, 0, AG83)+ IF(ISNUMBER(AH83) = FALSE, 0, AH83) + IF(ISNUMBER(AI83) = FALSE, 0, AI83) + IF(ISNUMBER(AJ83) = FALSE, 0, AJ83)+ IF(ISNUMBER(AK83) = FALSE, 0,AK83))","v":0},"BLANK"]
[62,null,"","",{"$nulls":5},{"$f":"IF(ELO_Time[[#This Row],[Time  (hours) 6 min = 0.1 hr]]=\"\",\"\",SUM(G84:I84))","v":""},{"$f":"IF(ELO_Time[[#This Row],[Time  (hours) 6 min = 0.1 hr]]=\"\",\"\",ELO_Time[[#This Row],[Time  (hours) 6 min = 0.1 hr]]*ELO_Time[[#This Row],[KSA Total\n (0 - 18)]])","v":""},null,{"$f":"IFERROR(IF(CoreCapInput=\"None\",\"None\",VLOOKUP(CoreCapInput,CC!$A$2:$D$49,4)),\"\")","v":""},null,0,"","","","","","",{"$f":"IFERROR(INDEX(KSR,MATCH(1,(($P84=K1Out)*($Q84=K2Out)*($R84=K3Out)*($S84=K4Out)*($T84=K5Out)*($U84=K6Out)),0)),0)","v":0},0,"","","","","","","",{"$f":"IFERROR(INDEX(SSR,MATCH(1,(($X84=S1Out)*($Y84=S2Out)*($Z84=S3Out)*($AA84=S4Out)*($AB84=S5Out)*($AC84=S6Out)*($AD84=S7Out)),0)),0)","v":0},0,"","","","","",{"$f":"IFERROR(INDEX(AASR,MATCH(1,(($AG84=AA1Out)*($AH84=AA2Out)*($AI84=AA3Out)*($AJ84=AA4Out)*($AK84=AA5Out)),0)),0)","v":0},0,0,0,"BLANK"]
[63,null,"","",{"$nulls":5},{"$f":"IF(ELO_Time[[#This Row],[Time  (hours) 6 min = 0.1 hr]]=\"\",\"\",SUM(G85:I85))","v":""},{"$f":"IF(ELO_Time[[#This Row],[Time  (hours) 6 min = 0.1 hr]]=\"\",\"\",ELO_Time[[#This Row],[Time  (hours) 6 min = 0.1 hr]]*ELO_Time[[#This Row],[KSA Total\n (0 - 18)]])","v":""},null,{"$f":"IFERROR(IF(CoreCapInput=\"None\",\"None\",VLOOKUP(CoreCapInput,CC!$A$2:$D$49,4)),\"\")","v":""},null,0,"","","","","","",{"$f":"IFERROR(INDEX(KSR,MATCH(1,(($P85=K1Out)*($Q85=K2Out)*($R85=K3Out)*($S85=K4Out)*($T85=K5Out)*($U85=K6Out)),0)),0)","v":0},0,"","","","","","","",{"$f":"IFERROR(INDEX(SSR,MATCH(1,(($X85=S1Out)*($Y85=S2Out)*($Z85=S3Out)*($AA85=S4Out)*($AB85=S5Out)*($AC85=S6Out)*($AD85=S7Out)),0)),0)","v":0},0,"","","","","",{"$f":"IFERROR(INDEX(AASR,MATCH(1,(($AG85=AA1Out)*($AH85=AA2Out)*($AI85=AA3Out)*($AJ85=AA4Out)*($AK85=AA5Out)),0)),0)","v":0},0,0,0,"BLANK"]
[64,null,"","",{"$nulls":5},{"$f":"IF(ELO_Time[[#This Row],[Time  (hours) 6 min = 0.1 hr]]=\"\",\"\",SUM(G86:I86))","v":""},{"$f":"IF(ELO_Time[[#This Row],[Time  (hours) 6 min = 0.1 hr]]=\"\",\"\",ELO_Time[[#This Row],[Time  (hours) 6 min = 0.1 hr]]*ELO_Time[[#This Row],[KSA Total\n (0 - 18)]])","v":""},null,{"$f":"IFERROR(IF(CoreCapInput=\"None\",\"None\",VLOOKUP(CoreCapInput,CC!$A$2:$D$49,4)),\"\")","v":""},null,0,"","","","","","",{"$f":"IFERROR(INDEX(KSR,MATCH(1,(($P86=K1Out)*($Q86=K2Out)*($R86=K3Out)*($S86=K4Out)*($T86=K5Out)*($U86=K6Out)),0)),0)","v":0},0,"","","","","","","",{"$f":"IFERROR(INDEX(SSR,MATCH(1,(($X86=S1Out)*($Y86=S2Out)*($Z86=S3Out)*($AA86=S4Out)*($AB86=S5Out)*($AC86=S6Out)*($AD86=S7Out)),0)),0)","v":0},0,"","","","","",{"$f":"IFERROR(INDEX(AASR,MATCH(1,(($AG86=AA1Out)*($AH86=AA2Out)*($AI86=AA3Out)*($AJ86=AA4Out)*($AK86=AA5Out)),0)),0)","v":0},0,0,0,"BLANK"]
[65,null,"","",{"$nulls":5},{"$f":"IF(ELO_Time[[#This Row],[Time  (hours) 6 min = 0.1 hr]]=\"\",\"\",SUM(G87:I87))","v":""},{"$f":"IF(ELO_Time[[#This Row],[Time  (hours) 6 min = 0.1 hr]]=\"\",\"\",ELO_Time[[#This Row],[Time  (hours) 6 min = 0.1 hr]]*ELO_Time[[#This Row],[KSA Total\n (0 - 18)]])","v":""},null,{"$f":"IFERROR(IF(CoreCapInput=\"None\",\"None\",VLOOKUP(CoreCapInput,CC!$A$2:$D$49,4)),\"\")","v":""},null,0,{"$f":"IF(SUMPRODUCT(--ISNUMBER(SEARCH(K_A,$D87)))>0,1,\"\")","v":""},{"$f":"IF(SUMPRODUCT(--ISNUMBER(SEARCH(K_B,$D87)))>0,2,\"\")","v":""},{"$f":"IF(SUMPRODUCT(--ISNUMBER(SEARCH(K_C,$D87)))>0,3,\"\")","v":""},{"$f":"IF(SUMPRODUCT(--ISNUMBER(SEARCH(K_D,$D87)))>0,4,\"\")","v":""},{"$f":"IF(SUMPRODUCT(--ISNUMBER(SEARCH(K_E,$D87)))>0,5,\"\")","v":""},{"$f":"IF(SUMPRODUCT(--ISNUMBER(SEARCH(K_F,$D87)))>0,6,\"\")","v":""},{"$f":"IFERROR(INDEX(KSR,MATCH(1,(($P87=K1Out)*($Q87=K2Out)*($R87=K3Out)*($S87=K4Out)*($T87=K5Out)*($U87=K6Out)),0)),0)","v":0},0,{"$f":"IF(SUMPRODUCT(--ISNUMBER(SEARCH(S_A,$D87)))>0,1,\"\")","v":""},{"$f":"IF(SUMPRODUCT(--ISNUMBER(SEARCH(S_B,$D87)))>0, 2,\"\")","v":""},{"$f":"IF(SUMPRODUCT(--ISNUMBER(SEARCH(S_C,$D87)))>0,3,\"\")","v":""},{"$f":"IF(SUMPRODUCT(--ISNUMBER(SEARCH(S_D,$D87)))>0,4,\"\")","v":""},{"$f":"IF(SUMPRODUCT(--ISNUMBER(SEARCH(S_E,$D87)))>0,5,\"\")","v":""},{"$f":"IF(SUMPRODUCT(--ISNUMBER(SEARCH(S_F,$D87)))>0,6,\"\")","v":""},{"$f":"IF(SUMPRODUCT(--ISNUMBER(SEARCH(S_G,$D87)))>0,7,\"\")","v":""},{"$f":"IFERROR(INDEX(SSR,MATCH(1,(($X87=S1Out)*($Y87=S2Out)*($Z87=S3Out)*($AA87=S4Out)*($AB87=S5Out)*($AC87=S6Out)*($AD87=S7Out)),0)),0)","v":0},0,{"$f":"IF(SUMPRODUCT(--ISNUMBER(SEARCH(AA_A,$D87)))>0,1,\"\")","v":""},{"$f":"IF(SUMPRODUCT(--ISNUMBER(SEARCH(AA_B,$D87)))>0,2,\"\")","v":""},{"$f":"IF(SUMPRODUCT(--ISNUMBER(SEARCH(AA_C,$D87)))>0,3,\"\")","v":""},{"$f":"IF(SUMPRODUCT(--ISNUMBER(SEARCH(AA_D,$D87)))>0,4,\"\")","v":""},{"$f":"IF(SUMPRODUCT(--ISNUMBER(SEARCH(AA_E,$D87)))>0,5,\"\")","v":""},{"$f":"IFERROR(INDEX(AASR,MATCH(1,(($AG87=AA1Out)*($AH87=AA2Out)*($AI87=AA3Out)*($AJ87=AA4Out)*($AK87=AA5Out)),0)),0)","v":0},0,0,0,{"$f":"IF(E87 = \"\", \"BLANK\",IF((AM87+AN87+AO87) = 0, \"A\", AM87 + AN87 + AO87))","v":"BLANK"}]
[66,null,{"$f":"IF(B88=\"\",\"\",IF(B88=B87,C87+1,1))","v":""},{"$f":"IFERROR(LEFT(E88, FIND(\" \", E88)-1), \"\")","v":""},{"$nulls":5},{"$f":"IF(ELO_Time[[#This Row],[Time  (hours) 6 min = 0.1 hr]]=\"\",\"\",SUM(G88:I88))","v":""},{"$f":"IF(ELO_Time[[#This Row],[Time  (hours) 6 min = 0.1 hr]]=\"\",\"\",ELO_Time[[#This Row],[Time  (hours) 6 min = 0.1 hr]]*ELO_Time[[#This Row],[KSA Total\n (0 - 18)]])","v":""},null,{"$f":"IFERROR(IF(CoreCapInput=\"None\",\"None\",VLOOKUP(CoreCapInput,CC!$A$2:$D$49,4)),\"\")","v":""},null,0,"","","","","","",{"$f":"IFERROR(INDEX(KSR,MATCH(1,(($P88=K1Out)*($Q88=K2Out)*($R88=K3Out)*($S88=K4Out)*($T88=K5Out)*($U88=K6Out)),0)),0)","v":0},0,"","","","","","","",{"$f":"IFERROR(INDEX(SSR,MATCH(1,(($X88=S1Out)*($Y88=S2Out)*($Z88=S3Out)*($AA88=S4Out)*($AB88=S5Out)*($AC88=S6Out)*($AD88=S7Out)),0)),0)","v":0},0,"","","","","",{"$f":"IFERROR(INDEX(AASR,MATCH(1,(($AG88=AA1Out)*($AH88=AA2Out)*($AI88=AA3Out)*($AJ88=AA4Out)*($AK88=AA5Out)),0)),0)","v":0},0,0,0,"BLANK"]
[67,null,"","",{"$nulls":5},{"$f":"IF(ELO_Time[[#This Row],[Time  (hours) 6 min = 0.1 hr]]=\"\",\"\",SUM(G89:I89))","v":""},{"$f":"IF(ELO_Time[[#This Row],[Time  (hours) 6 min = 0.1 hr]]=\"\",\"\",ELO_Time[[#This Row],[Time  (hours) 6 min = 0.1 hr]]*ELO_Time[[#This Row],[KSA Total\n (0 - 18)]])","v":""},null,{"$f":"IFERROR(IF(CoreCapInput=\"None\",\"None\",VLOOKUP(CoreCapInput,CC!$A$2:$D$49,4)),\"\")","v":""},null,0,"","","","","","",{"$f":"IFERROR(INDEX(KSR,MATCH(1,(($P89=K1Out)*($Q89=K2Out)*($R89=K3Out)*($S89=K4Out)*($T89=K5Out)*($U89=K6Out)),0)),0)","v":0},0,"","","","","","","",{"$f":"IFERROR(INDEX(SSR,MATCH(1,(($X89=S1Out)*($Y89=S2Out)*($Z89=S3Out)*($AA89=S4Out)*($AB89=S5Out)*($AC89=S6Out)*($AD89=S7Out)),0)),0)","v":0},0,"","","","","",{"$f":"IFERROR(INDEX(AASR,MATCH(1,(($AG89=AA1Out)*($AH89=AA2Out)*($AI89=AA3Out)*($AJ89=AA4Out)*($AK89=AA5Out)),0)),0)","v":0},0,0,0,"BLANK"]
[68,null,"","",{"$nulls":5},{"$f":"IF(ELO_Time[[#This Row],[Time  (hours) 6 min = 0.1 hr]]=\"\",\"\",SUM(G90:I90))","v":""},{"$f":"IF(ELO_Time[[#This Row],[Time  (hours) 6 min = 0.1 hr]]=\"\",\"\",ELO_Time[[#This Row],[Time  (hours) 6 min = 0.1 hr]]*ELO_Time[[#This Row],[KSA Total\n (0 - 18)]])","v":""},null,{"$f":"IFERROR(IF(CoreCapInput=\"None\",\"None\",VLOOKUP(CoreCapInput,CC!$A$2:$D$49,4)),\"\")","v":""},null,0,"","","","","","",{"$f":"IFERROR(INDEX(KSR,MATCH(1,(($P90=K1Out)*($Q90=K2Out)*($R90=K3Out)*($S90=K4Out)*($T90=K5Out)*($U90=K6Out)),0)),0)","v":0},0,"","","","","","","",{"$f":"IFERROR(INDEX(SSR,MATCH(1,(($X90=S1Out)*($Y90=S2Out)*($Z90=S3Out)*($AA90=S4Out)*($AB90=S5Out)*($AC90=S6Out)*($AD90=S7Out)),0)),0)","v":0},0,"","","","","",{"$f":"IFERROR(INDEX(AASR,MATCH(1,(($AG90=AA1Out)*($AH90=AA2Out)*($AI90=AA3Out)*($AJ90=AA4Out)*($AK90=AA5Out)),0)),0)","v":0},0,0,0,"BLANK"]
[69,null,"","",{"$nulls":5},{"$f":"IF(ELO_Time[[#This Row],[Time  (hours) 6 min = 0.1 hr]]=\"\",\"\",SUM(G91:I91))","v":""},{"$f":"IF(ELO_Time[[#This Row],[Time  (hours) 6 min = 0.1 hr]]=\"\",\"\",ELO_Time[[#This Row],[Time  (hours) 6 min = 0.1 hr]]*ELO_Time[[#This Row],[KSA Total\n (0 - 18)]])","v":""},null,{"$f":"IFERROR(IF(CoreCapInput=\"None\",\"None\",VLOOKUP(CoreCapInput,CC!$A$2:$D$49,4)),\"\")","v":""},null,0,"","","","","","",{"$f":"IFERROR(INDEX(KSR,MATCH(1,(($P91=K1Out)*($Q91=K2Out)*($R91=K3Out)*($S91=K4Out)*($T91=K5Out)*($U91=K6Out)),0)),0)","v":0},0,"","","","","","","",{"$f":"IFERROR(INDEX(SSR,MATCH(1,(($X91=S1Out)*($Y91=S2Out)*($Z91=S3Out)*($AA91=S4Out)*($AB91=S5Out)*($AC91=S6Out)*($AD91=S7Out)),0)),0)","v":0},0,"","","","","",{"$f":"IFERROR(INDEX(AASR,MATCH(1,(($AG91=AA1Out)*($AH91=AA2Out)*($AI91=AA3Out)*($AJ91=AA4Out)*($AK91=AA5Out)),0)),0)","v":0},0,0,0,"BLANK"]
[70,null,"","",{"$nulls":5},{"$f":"IF(ELO_Time[[#This Row],[Time  (hours) 6 min = 0.1 hr]]=\"\",\"\",SUM(G92:I92))","v":""},{"$f":"IF(ELO_Time[[#This Row],[Time  (hours) 6 min = 0.1 hr]]=\"\",\"\",ELO_Time[[#This Row],[Time  (hours) 6 min = 0.1 hr]]*ELO_Time[[#This Row],[KSA Total\n (0 - 18)]])","v":""},null,{"$f":"IFERROR(IF(CoreCapInput=\"None\",\"None\",VLOOKUP(CoreCapInput,CC!$A$2:$D$49,4)),\"\")","v":""},null,0,"","","","","","",{"$f":"IFERROR(INDEX(KSR,MATCH(1,(($P92=K1Out)*($Q92=K2Out)*($R92=K3Out)*($S92=K4Out)*($T92=K5Out)*($U92=K6Out)),0)),0)","v":0},0,"","","","","","","",{"$f":"IFERROR(INDEX(SSR,MATCH(1,(($X92=S1Out)*($Y92=S2Out)*($Z92=S3Out)*($AA92=S4Out)*($AB92=S5Out)*($AC92=S6Out)*($AD92=S7Out)),0)),0)","v":0},0,"","","","","",{"$f":"IFERROR(INDEX(AASR,MATCH(1,(($AG92=AA1Out)*($AH92=AA2Out)*($AI92=AA3Out)*($AJ92=AA4Out)*($AK92=AA5Out)),0)),0)","v":0},0,0,0,"BLANK"]
[71,null,"","",{"$nulls":5},{"$f":"IF(ELO_Time[[#This Row],[Time  (hours) 6 min = 0.1 hr]]=\"\",\"\",SUM(G93:I93))","v":""},{"$f":"IF(ELO_Time[[#This Row],[Time  (hours) 6 min = 0.1 hr]]=\"\",\"\",ELO_Time[[#This Row],[Time  (hours) 6 min = 0.1 hr]]*ELO_Time[[#This Row],[KSA Total\n (0 - 18)]])","v":""},null,{"$f":"IFERROR(IF(CoreCapInput=\"None\",\"None\",VLOOKUP(CoreCapInput,CC!$A$2:$D$49,4)),\"\")","v":""},null,0,"","","","","","",{"$f":"IFERROR(INDEX(KSR,MATCH(1,(($P93=K1Out)*($Q93=K2Out)*($R93=K3Out)*($S93=K4Out)*($T93=K5Out)*($U93=K6Out)),0)),0)","v":0},0,"","","","","","","",{"$f":"IFERROR(INDEX(SSR,MATCH(1,(($X93=S1Out)*($Y93=S2Out)*($Z93=S3Out)*($AA93=S4Out)*($AB93=S5Out)*($AC93=S6Out)*($AD93=S7Out)),0)),0)","v":0},0,"","","","","",{"$f":"IFERROR(INDEX(AASR,MATCH(1,(($AG93=AA1Out)*($AH93=AA2Out)*($AI93=AA3Out)*($AJ93=AA4Out)*($AK93=AA5Out)),0)),0)","v":0},0,0,0,"BLANK"]
[72,null,"","",{"$nulls":5},{"$f":"IF(ELO_Time[[#This Row],[Time  (hours) 6 min = 0.1 hr]]=\"\",\"\",SUM(G94:I94))","v":""},{"$f":"IF(ELO_Time[[#This Row],[Time  (hours) 6 min = 0.1 hr]]=\"\",\"\",ELO_Time[[#This Row],[Time  (hours) 6 min = 0.1 hr]]*ELO_Time[[#This Row],[KSA Total\n (0 - 18)]])","v":""},null,{"$f":"IFERROR(IF(CoreCapInput=\"None\",\"None\",VLOOKUP(CoreCapInput,CC!$A$2:$D$49,4)),\"\")","v":""},null,0,"","","","","","",{"$f":"IFERROR(INDEX(KSR,MATCH(1,(($P94=K1Out)*($Q94=K2Out)*($R94=K3Out)*($S94=K4Out)*($T94=K5Out)*($U94=K6Out)),0)),0)","v":0},0,"","","","","","","",{"$f":"IFERROR(INDEX(SSR,MATCH(1,(($X94=S1Out)*($Y94=S2Out)*($Z94=S3Out)*($AA94=S4Out)*($AB94=S5Out)*($AC94=S6Out)*($AD94=S7Out)),0)),0)","v":0},0,"","","","","",{"$f":"IFERROR(INDEX(AASR,MATCH(1,(($AG94=AA1Out)*($AH94=AA2Out)*($AI94=AA3Out)*($AJ94=AA4Out)*($AK94=AA5Out)),0)),0)","v":0},0,0,0,"BLANK"]
[73,null,"","",{"$nulls":5},{"$f":"IF(ELO_Time[[#This Row],[Time  (hours) 6 min = 0.1 hr]]=\"\",\"\",SUM(G95:I95))","v":""},{"$f":"IF(ELO_Time[[#This Row],[Time  (hours) 6 min = 0.1 hr]]=\"\",\"\",ELO_Time[[#This Row],[Time  (hours) 6 min = 0.1 hr]]*ELO_Time[[#This Row],[KSA Total\n (0 - 18)]])","v":""},null,{"$f":"IFERROR(IF(CoreCapInput=\"None\",\"None\",VLOOKUP(CoreCapInput,CC!$A$2:$D$49,4)),\"\")","v":""},null,0,"","","","","","",{"$f":"IFERROR(INDEX(KSR,MATCH(1,(($P95=K1Out)*($Q95=K2Out)*($R95=K3Out)*($S95=K4Out)*($T95=K5Out)*($U95=K6Out)),0)),0)","v":0},0,"","","","","","","",{"$f":"IFERROR(INDEX(SSR,MATCH(1,(($X95=S1Out)*($Y95=S2Out)*($Z95=S3Out)*($AA95=S4Out)*($AB95=S5Out)*($AC95=S6Out)*($AD95=S7Out)),0)),0)","v":0},0,"","","","","",{"$f":"IFERROR(INDEX(AASR,MATCH(1,(($AG95=AA1Out)*($AH95=AA2Out)*($AI95=AA3Out)*($AJ95=AA4Out)*($AK95=AA5Out)),0)),0)","v":0},0,0,0,"BLANK"]
[74,null,"","",{"$nulls":5},{"$f":"IF(ELO_Time[[#This Row],[Time  (hours) 6 min = 0.1 hr]]=\"\",\"\",SUM(G96:I96))","v":""},{"$f":"IF(ELO_Time[[#This Row],[Time  (hours) 6 min = 0.1 hr]]=\"\",\"\",ELO_Time[[#This Row],[Time  (hours) 6 min = 0.1 hr]]*ELO_Time[[#This Row],[KSA Total\n (0 - 18)]])","v":""},null,{"$f":"IFERROR(IF(CoreCapInput=\"None\",\"None\",VLOOKUP(CoreCapInput,CC!$A$2:$D$49,4)),\"\")","v":""},null,0,"","","","","","",{"$f":"IFERROR(INDEX(KSR,MATCH(1,(($P96=K1Out)*($Q96=K2Out)*($R96=K3Out)*($S96=K4Out)*($T96=K5Out)*($U96=K6Out)),0)),0)","v":0},0,"","","","","","","",{"$f":"IFERROR(INDEX(SSR,MATCH(1,(($X96=S1Out)*($Y96=S2Out)*($Z96=S3Out)*($AA96=S4Out)*($AB96=S5Out)*($AC96=S6Out)*($AD96=S7Out)),0)),0)","v":0},0,"","","","","",{"$f":"IFERROR(INDEX(AASR,MATCH(1,(($AG96=AA1Out)*($AH96=AA2Out)*($AI96=AA3Out)*($AJ96=AA4Out)*($AK96=AA5Out)),0)),0)","v":0},0,0,0,"BLANK"]
[75,null,"","",{"$nulls":5},{"$f":"IF(ELO_Time[[#This Row],[Time  (hours) 6 min = 0.1 hr]]=\"\",\"\",SUM(G97:I97))","v":""},{"$f":"IF(ELO_Time[[#This Row],[Time  (hours) 6 min = 0.1 hr]]=\"\",\"\",ELO_Time[[#This Row],[Time  (hours) 6 min = 0.1 hr]]*ELO_Time[[#This Row],[KSA Total\n (0 - 18)]])","v":""},null,{"$f":"IFERROR(IF(CoreCapInput=\"None\",\"None\",VLOOKUP(CoreCapInput,CC!$A$2:$D$49,4)),\"\")","v":""},null,0,"","","","","","",{"$f":"IFERROR(INDEX(KSR,MATCH(1,(($P97=K1Out)*($Q97=K2Out)*($R97=K3Out)*($S97=K4Out)*($T97=K5Out)*($U97=K6Out)),0)),0)","v":0},0,"","","","","","","",{"$f":"IFERROR(INDEX(SSR,MATCH(1,(($X97=S1Out)*($Y97=S2Out)*($Z97=S3Out)*($AA97=S4Out)*($AB97=S5Out)*($AC97=S6Out)*($AD97=S7Out)),0)),0)","v":0},0,"","","","","",{"$f":"IFERROR(INDEX(AASR,MATCH(1,(($AG97=AA1Out)*($AH97=AA2Out)*($AI97=AA3Out)*($AJ97=AA4Out)*($AK97=AA5Out)),0)),0)","v":0},0,0,0,"BLANK"]
[76,null,"","",{"$nulls":5},{"$f":"IF(ELO_Time[[#This Row],[Time  (hours) 6 min = 0.1 hr]]=\"\",\"\",SUM(G98:I98))","v":""},{"$f":"IF(ELO_Time[[#This Row],[Time  (hours) 6 min = 0.1 hr]]=\"\",\"\",ELO_Time[[#This Row],[Time  (hours) 6 min = 0.1 hr]]*ELO_Time[[#This Row],[KSA Total\n (0 - 18)]])","v":""},null,{"$f":"IFERROR(IF(CoreCapInput=\"None\",\"None\",VLOOKUP(CoreCapInput,CC!$A$2:$D$49,4)),\"\")","v":""},null,0,"","","","","","",{"$f":"IFERROR(INDEX(KSR,MATCH(1,(($P98=K1Out)*($Q98=K2Out)*($R98=K3Out)*($S98=K4Out)*($T98=K5Out)*($U98=K6Out)),0)),0)","v":0},0,"","","","","","","",{"$f":"IFERROR(INDEX(SSR,MATCH(1,(($X98=S1Out)*($Y98=S2Out)*($Z98=S3Out)*($AA98=S4Out)*($AB98=S5Out)*($AC98=S6Out)*($AD98=S7Out)),0)),0)","v":0},0,"","","","","",{"$f":"IFERROR(INDEX(AASR,MATCH(1,(($AG98=AA1Out)*($AH98=AA2Out)*($AI98=AA3Out)*($AJ98=AA4Out)*($AK98=AA5Out)),0)),0)","v":0},0,0,0,"BLANK"]
[77,null,"","",{"$nulls":5},{"$f":"IF(ELO_Time[[#This Row],[Time  (hours) 6 min = 0.1 hr]]=\"\",\"\",SUM(G99:I99))","v":""},{"$f":"IF(ELO_Time[[#This Row],[Time  (hours) 6 min = 0.1 hr]]=\"\",\"\",ELO_Time[[#This Row],[Time  (hours) 6 min = 0.1 hr]]*ELO_Time[[#This Row],[KSA Total\n (0 - 18)]])","v":""},null,{"$f":"IFERROR(IF(CoreCapInput=\"None\",\"None\",VLOOKUP(CoreCapInput,CC!$A$2:$D$49,4)),\"\")","v":""},null,0,"","","","","","",{"$f":"IFERROR(INDEX(KSR,MATCH(1,(($P99=K1Out)*($Q99=K2Out)*($R99=K3Out)*($S99=K4Out)*($T99=K5Out)*($U99=K6Out)),0)),0)","v":0},0,"","","","","","","",{"$f":"IFERROR(INDEX(SSR,MATCH(1,(($X99=S1Out)*($Y99=S2Out)*($Z99=S3Out)*($AA99=S4Out)*($AB99=S5Out)*($AC99=S6Out)*($AD99=S7Out)),0)),0)","v":0},0,"","","","","",{"$f":"IFERROR(INDEX(AASR,MATCH(1,(($AG99=AA1Out)*($AH99=AA2Out)*($AI99=AA3Out)*($AJ99=AA4Out)*($AK99=AA5Out)),0)),0)","v":0},0,0,0,"BLANK"]
[78,null,"","",{"$nulls":5},{"$f":"IF(ELO_Time[[#This Row],[Time  (hours) 6 min = 0.1 hr]]=\"\",\"\",SUM(G100:I100))","v":""},{"$f":"IF(ELO_Time[[#This Row],[Time  (hours) 6 min = 0.1 hr]]=\"\",\"\",ELO_Time[[#This Row],[Time  (hours) 6 min = 0.1 hr]]*ELO_Time[[#This Row],[KSA Total\n (0 - 18)]])","v":""},null,{"$f":"IFERROR(IF(CoreCapInput=\"None\",\"None\",VLOOKUP(CoreCapInput,CC!$A$2:$D$49,4)),\"\")","v":""},null,0,"","","","","","",{"$f":"IFERROR(INDEX(KSR,MATCH(1,(($P100=K1Out)*($Q100=K2Out)*($R100=K3Out)*($S100=K4Out)*($T100=K5Out)*($U100=K6Out)),0)),0)","v":0},0,"","","","","","","",{"$f":"IFERROR(INDEX(SSR,MATCH(1,(($X100=S1Out)*($Y100=S2Out)*($Z100=S3Out)*($AA100=S4Out)*($AB100=S5Out)*($AC100=S6Out)*($AD100=S7Out)),0)),0)","v":0},0,"","","","","",{"$f":"IFERROR(INDEX(AASR,MATCH(1,(($AG100=AA1Out)*($AH100=AA2Out)*($AI100=AA3Out)*($AJ100=AA4Out)*($AK100=AA5Out)),0)),0)","v":0},0,0,0,"BLANK"]
[79,null,"","",{"$nulls":5},{"$f":"IF(ELO_Time[[#This Row],[Time  (hours) 6 min = 0.1 hr]]=\"\",\"\",SUM(G101:I101))","v":""},{"$f":"IF(ELO_Time[[#This Row],[Time  (hours) 6 min = 0.1 hr]]=\"\",\"\",ELO_Time[[#This Row],[Time  (hours) 6 min = 0.1 hr]]*ELO_Time[[#This Row],[KSA Total\n (0 - 18)]])","v":""},null,{"$f":"IFERROR(IF(CoreCapInput=\"None\",\"None\",VLOOKUP(CoreCapInput,CC!$A$2:$D$49,4)),\"\")","v":""},null,0,"","","","","","",{"$f":"IFERROR(INDEX(KSR,MATCH(1,(($P101=K1Out)*($Q101=K2Out)*($R101=K3Out)*($S101=K4Out)*($T101=K5Out)*($U101=K6Out)),0)),0)","v":0},0,"","","","","","","",{"$f":"IFERROR(INDEX(SSR,MATCH(1,(($X101=S1Out)*($Y101=S2Out)*($Z101=S3Out)*($AA101=S4Out)*($AB101=S5Out)*($AC101=S6Out)*($AD101=S7Out)),0)),0)","v":0},0,"","","","","",{"$f":"IFERROR(INDEX(AASR,MATCH(1,(($AG101=AA1Out)*($AH101=AA2Out)*($AI101=AA3Out)*($AJ101=AA4Out)*($AK101=AA5Out)),0)),0)","v":0},0,0,0,"BLANK"]
[80,null,"","",{"$nulls":5},{"$f":"IF(ELO_Time[[#This Row],[Time  (hours) 6 min = 0.1 hr]]=\"\",\"\",SUM(G102:I102))","v":""},{"$f":"IF(ELO_Time[[#This Row],[Time  (hours) 6 min = 0.1 hr]]=\"\",\"\",ELO_Time[[#This Row],[Time  (hours) 6 min = 0.1 hr]]*ELO_Time[[#This Row],[KSA Total\n (0 - 18)]])","v":""},null,{"$f":"IFERROR(IF(CoreCapInput=\"None\",\"None\",VLOOKUP(CoreCapInput,CC!$A$2:$D$49,4)),\"\")","v":""},null,0,"","","","","","",{"$f":"IFERROR(INDEX(KSR,MATCH(1,(($P102=K1Out)*($Q102=K2Out)*($R102=K3Out)*($S102=K4Out)*($T102=K5Out)*($U102=K6Out)),0)),0)","v":0},0,"","","","","","","",{"$f":"IFERROR(INDEX(SSR,MATCH(1,(($X102=S1Out)*($Y102=S2Out)*($Z102=S3Out)*($AA102=S4Out)*($AB102=S5Out)*($AC102=S6Out)*($AD102=S7Out)),0)),0)","v":0},0,"","","","","",{"$f":"IFERROR(INDEX(AASR,MATCH(1,(($AG102=AA1Out)*($AH102=AA2Out)*($AI102=AA3Out)*($AJ102=AA4Out)*($AK102=AA5Out)),0)),0)","v":0},0,0,0,"BLANK"]
[81,null,"","",{"$nulls":5},{"$f":"IF(ELO_Time[[#This Row],[Time  (hours) 6 min = 0.1 hr]]=\"\",\"\",SUM(G103:I103))","v":""},{"$f":"IF(ELO_Time[[#This Row],[Time  (hours) 6 min = 0.1 hr]]=\"\",\"\",ELO_Time[[#This Row],[Time  (hours) 6 min = 0.1 hr]]*ELO_Time[[#This Row],[KSA Total\n (0 - 18)]])","v":""},null,{"$f":"IFERROR(IF(CoreCapInput=\"None\",\"None\",VLOOKUP(CoreCapInput,CC!$A$2:$D$49,4)),\"\")","v":""},null,0,"","","","","","",{"$f":"IFERROR(INDEX(KSR,MATCH(1,(($P103=K1Out)*($Q103=K2Out)*($R103=K3Out)*($S103=K4Out)*($T103=K5Out)*($U103=K6Out)),0)),0)","v":0},0,"","","","","","","",{"$f":"IFERROR(INDEX(SSR,MATCH(1,(($X103=S1Out)*($Y103=S2Out)*($Z103=S3Out)*($AA103=S4Out)*($AB103=S5Out)*($AC103=S6Out)*($AD103=S7Out)),0)),0)","v":0},0,"","","","","",{"$f":"IFERROR(INDEX(AASR,MATCH(1,(($AG103=AA1Out)*($AH103=AA2Out)*($AI103=AA3Out)*($AJ103=AA4Out)*($AK103=AA5Out)),0)),0)","v":0},0,0,0,"BLANK"]
[82,null,"","",{"$nulls":5},{"$f":"IF(ELO_Time[[#This Row],[Time  (hours) 6 min = 0.1 hr]]=\"\",\"\",SUM(G104:I104))","v":""},{"$f":"IF(ELO_Time[[#This Row],[Time  (hours) 6 min = 0.1 hr]]=\"\",\"\",ELO_Time[[#This Row],[Time  (hours) 6 min = 0.1 hr]]*ELO_Time[[#This Row],[KSA Total\n (0 - 18)]])","v":""},null,{"$f":"IFERROR(IF(CoreCapInput=\"None\",\"None\",VLOOKUP(CoreCapInput,CC!$A$2:$D$49,4)),\"\")","v":""},null,0,"","","","","","",{"$f":"IFERROR(INDEX(KSR,MATCH(1,(($P104=K1Out)*($Q104=K2Out)*($R104=K3Out)*($S104=K4Out)*($T104=K5Out)*($U104=K6Out)),0)),0)","v":0},0,"","","","","","","",{"$f":"IFERROR(INDEX(SSR,MATCH(1,(($X104=S1Out)*($Y104=S2Out)*($Z104=S3Out)*($AA104=S4Out)*($AB104=S5Out)*($AC104=S6Out)*($AD104=S7Out)),0)),0)","v":0},0,"","","","","",{"$f":"IFERROR(INDEX(AASR,MATCH(1,(($AG104=AA1Out)*($AH104=AA2Out)*($AI104=AA3Out)*($AJ104=AA4Out)*($AK104=AA5Out)),0)),0)","v":0},0,0,0,"BLANK"]
[83,null,"","",{"$nulls":5},{"$f":"IF(ELO_Time[[#This Row],[Time  (hours) 6 min = 0.1 hr]]=\"\",\"\",SUM(G105:I105))","v":""},{"$f":"IF(ELO_Time[[#This Row],[Time  (hours) 6 min = 0.1 hr]]=\"\",\"\",ELO_Time[[#This Row],[Time  (hours) 6 min = 0.1 hr]]*ELO_Time[[#This Row],[KSA Total\n (0 - 18)]])","v":""},null,{"$f":"IFERROR(IF(CoreCapInput=\"None\",\"None\",VLOOKUP(CoreCapInput,CC!$A$2:$D$49,4)),\"\")","v":""},null,0,"","","","","","",{"$f":"IFERROR(INDEX(KSR,MATCH(1,(($P105=K1Out)*($Q105=K2Out)*($R105=K3Out)*($S105=K4Out)*($T105=K5Out)*($U105=K6Out)),0)),0)","v":0},0,"","","","","","","",{"$f":"IFERROR(INDEX(SSR,MATCH(1,(($X105=S1Out)*($Y105=S2Out)*($Z105=S3Out)*($AA105=S4Out)*($AB105=S5Out)*($AC105=S6Out)*($AD105=S7Out)),0)),0)","v":0},0,"","","","","",{"$f":"IFERROR(INDEX(AASR,MATCH(1,(($AG105=AA1Out)*($AH105=AA2Out)*($AI105=AA3Out)*($AJ105=AA4Out)*($AK105=AA5Out)),0)),0)","v":0},0,0,0,"BLANK"]
[84,null,"","",{"$nulls":5},{"$f":"IF(ELO_Time[[#This Row],[Time  (hours) 6 min = 0.1 hr]]=\"\",\"\",SUM(G106:I106))","v":""},{"$f":"IF(ELO_Time[[#This Row],[Time  (hours) 6 min = 0.1 hr]]=\"\",\"\",ELO_Time[[#This Row],[Time  (hours) 6 min = 0.1 hr]]*ELO_Time[[#This Row],[KSA Total\n (0 - 18)]])","v":""},null,{"$f":"IFERROR(IF(CoreCapInput=\"None\",\"None\",VLOOKUP(CoreCapInput,CC!$A$2:$D$49,4)),\"\")","v":""},null,0,"","","","","","",{"$f":"IFERROR(INDEX(KSR,MATCH(1,(($P106=K1Out)*($Q106=K2Out)*($R106=K3Out)*($S106=K4Out)*($T106=K5Out)*($U106=K6Out)),0)),0)","v":0},0,"","","","","","","",{"$f":"IFERROR(INDEX(SSR,MATCH(1,(($X106=S1Out)*($Y106=S2Out)*($Z106=S3Out)*($AA106=S4Out)*($AB106=S5Out)*($AC106=S6Out)*($AD106=S7Out)),0)),0)","v":0},0,"","","","","",{"$f":"IFERROR(INDEX(AASR,MATCH(1,(($AG106=AA1Out)*($AH106=AA2Out)*($AI106=AA3Out)*($AJ106=AA4Out)*($AK106=AA5Out)),0)),0)","v":0},0,0,0,"BLANK"]
[85,null,"","",{"$nulls":5},{"$f":"IF(ELO_Time[[#This Row],[Time  (hours) 6 min = 0.1 hr]]=\"\",\"\",SUM(G107:I107))","v":""},{"$f":"IF(ELO_Time[[#This Row],[Time  (hours) 6 min = 0.1 hr]]=\"\",\"\",ELO_Time[[#This Row],[Time  (hours) 6 min = 0.1 hr]]*ELO_Time[[#This Row],[KSA Total\n (0 - 18)]])","v":""},null,{"$f":"IFERROR(IF(CoreCapInput=\"None\",\"None\",VLOOKUP(CoreCapInput,CC!$A$2:$D$49,4)),\"\")","v":""},null,0,"","","","","","",{"$f":"IFERROR(INDEX(KSR,MATCH(1,(($P107=K1Out)*($Q107=K2Out)*($R107=K3Out)*($S107=K4Out)*($T107=K5Out)*($U107=K6Out)),0)),0)","v":0},0,"","","","","","","",{"$f":"IFERROR(INDEX(SSR,MATCH(1,(($X107=S1Out)*($Y107=S2Out)*($Z107=S3Out)*($AA107=S4Out)*($AB107=S5Out)*($AC107=S6Out)*($AD107=S7Out)),0)),0)","v":0},0,"","","","","",{"$f":"IFERROR(INDEX(AASR,MATCH(1,(($AG107=AA1Out)*($AH107=AA2Out)*($AI107=AA3Out)*($AJ107=AA4Out)*($AK107=AA5Out)),0)),0)","v":0},0,0,0,"BLANK"]
[86,null,"","",{"$nulls":5},{"$f":"IF(ELO_Time[[#This Row],[Time  (hours) 6 min = 0.1 hr]]=\"\",\"\",SUM(G108:I108))","v":""},{"$f":"IF(ELO_Time[[#This Row],[Time  (hours) 6 min = 0.1 hr]]=\"\",\"\",ELO_Time[[#This Row],[Time  (hours) 6 min = 0.1 hr]]*ELO_Time[[#This Row],[KSA Total\n (0 - 18)]])","v":""},null,{"$f":"IFERROR(IF(CoreCapInput=\"None\",\"None\",VLOOKUP(CoreCapInput,CC!$A$2:$D$49,4)),\"\")","v":""},null,0,"","","","","","",{"$f":"IFERROR(INDEX(KSR,MATCH(1,(($P108=K1Out)*($Q108=K2Out)*($R108=K3Out)*($S108=K4Out)*($T108=K5Out)*($U108=K6Out)),0)),0)","v":0},0,"","","","","","","",{"$f":"IFERROR(INDEX(SSR,MATCH(1,(($X108=S1Out)*($Y108=S2Out)*($Z108=S3Out)*($AA108=S4Out)*($AB108=S5Out)*($AC108=S6Out)*($AD108=S7Out)),0)),0)","v":0},0,"","","","","",{"$f":"IFERROR(INDEX(AASR,MATCH(1,(($AG108=AA1Out)*($AH108=AA2Out)*($AI108=AA3Out)*($AJ108=AA4Out)*($AK108=AA5Out)),0)),0)","v":0},0,0,0,"BLANK"]
[87,null,"","",{"$nulls":5},{"$f":"IF(ELO_Time[[#This Row],[Time  (hours) 6 min = 0.1 hr]]=\"\",\"\",SUM(G109:I109))","v":""},{"$f":"IF(ELO_Time[[#This Row],[Time  (hours) 6 min = 0.1 hr]]=\"\",\"\",ELO_Time[[#This Row],[Time  (hours) 6 min = 0.1 hr]]*ELO_Time[[#This Row],[KSA Total\n (0 - 18)]])","v":""},null,{"$f":"IFERROR(IF(CoreCapInput=\"None\",\"None\",VLOOKUP(CoreCapInput,CC!$A$2:$D$49,4)),\"\")","v":""},null,0,"","","","","","",{"$f":"IFERROR(INDEX(KSR,MATCH(1,(($P109=K1Out)*($Q109=K2Out)*($R109=K3Out)*($S109=K4Out)*($T109=K5Out)*($U109=K6Out)),0)),0)","v":0},0,"","","","","","","",{"$f":"IFERROR(INDEX(SSR,MATCH(1,(($X109=S1Out)*($Y109=S2Out)*($Z109=S3Out)*($AA109=S4Out)*($AB109=S5Out)*($AC109=S6Out)*($AD109=S7Out)),0)),0)","v":0},0,"","","","","",{"$f":"IFERROR(INDEX(AASR,MATCH(1,(($AG109=AA1Out)*($AH109=AA2Out)*($AI109=AA3Out)*($AJ109=AA4Out)*($AK109=AA5Out)),0)),0)","v":0},0,0,0,"BLANK"]
[88,null,"","",{"$nulls":5},{"$f":"IF(ELO_Time[[#This Row],[Time  (hours) 6 min = 0.1 hr]]=\"\",\"\",SUM(G110:I110))","v":""},{"$f":"IF(ELO_Time[[#This Row],[Time  (hours) 6 min = 0.1 hr]]=\"\",\"\",ELO_Time[[#This Row],[Time  (hours) 6 min = 0.1 hr]]*ELO_Time[[#This Row],[KSA Total\n (0 - 18)]])","v":""},null,{"$f":"IFERROR(IF(CoreCapInput=\"None\",\"None\",VLOOKUP(CoreCapInput,CC!$A$2:$D$49,4)),\"\")","v":""},null,0,"","","","","","",{"$f":"IFERROR(INDEX(KSR,MATCH(1,(($P110=K1Out)*($Q110=K2Out)*($R110=K3Out)*($S110=K4Out)*($T110=K5Out)*($U110=K6Out)),0)),0)","v":0},0,"","","","","","","",{"$f":"IFERROR(INDEX(SSR,MATCH(1,(($X110=S1Out)*($Y110=S2Out)*($Z110=S3Out)*($AA110=S4Out)*($AB110=S5Out)*($AC110=S6Out)*($AD110=S7Out)),0)),0)","v":0},0,"","","","","",{"$f":"IFERROR(INDEX(AASR,MATCH(1,(($AG110=AA1Out)*($AH110=AA2Out)*($AI110=AA3Out)*($AJ110=AA4Out)*($AK110=AA5Out)),0)),0)","v":0},0,0,0,"BLANK"]
[89,null,"","",{"$nulls":5},{"$f":"IF(ELO_Time[[#This Row],[Time  (hours) 6 min = 0.1 hr]]=\"\",\"\",SUM(G111:I111))","v":""},{"$f":"IF(ELO_Time[[#This Row],[Time  (hours) 6 min = 0.1 hr]]=\"\",\"\",ELO_Time[[#This Row],[Time  (hours) 6 min = 0.1 hr]]*ELO_Time[[#This Row],[KSA Total\n (0 - 18)]])","v":""},null,{"$f":"IFERROR(IF(CoreCapInput=\"None\",\"None\",VLOOKUP(CoreCapInput,CC!$A$2:$D$49,4)),\"\")","v":""},null,0,"","","","","","",{"$f":"IFERROR(INDEX(KSR,MATCH(1,(($P111=K1Out)*($Q111=K2Out)*($R111=K3Out)*($S111=K4Out)*($T111=K5Out)*($U111=K6Out)),0)),0)","v":0},0,"","","","","","","",{"$f":"IFERROR(INDEX(SSR,MATCH(1,(($X111=S1Out)*($Y111=S2Out)*($Z111=S3Out)*($AA111=S4Out)*($AB111=S5Out)*($AC111=S6Out)*($AD111=S7Out)),0)),0)","v":0},0,"","","","","",{"$f":"IFERROR(INDEX(AASR,MATCH(1,(($AG111=AA1Out)*($AH111=AA2Out)*($AI111=AA3Out)*($AJ111=AA4Out)*($AK111=AA5Out)),0)),0)","v":0},0,0,0,"BLANK"]
[90,null,"","",{"$nulls":5},{"$f":"IF(ELO_Time[[#This Row],[Time  (hours) 6 min = 0.1 hr]]=\"\",\"\",SUM(G112:I112))","v":""},{"$f":"IF(ELO_Time[[#This Row],[Time  (hours) 6 min = 0.1 hr]]=\"\",\"\",ELO_Time[[#This Row],[Time  (hours) 6 min = 0.1 hr]]*ELO_Time[[#This Row],[KSA Total\n (0 - 18)]])","v":""},null,{"$f":"IFERROR(IF(CoreCapInput=\"None\",\"None\",VLOOKUP(CoreCapInput,CC!$A$2:$D$49,4)),\"\")","v":""},null,0,"","","","","","",{"$f":"IFERROR(INDEX(KSR,MATCH(1,(($P112=K1Out)*($Q112=K2Out)*($R112=K3Out)*($S112=K4Out)*($T112=K5Out)*($U112=K6Out)),0)),0)","v":0},0,"","","","","","","",{"$f":"IFERROR(INDEX(SSR,MATCH(1,(($X112=S1Out)*($Y112=S2Out)*($Z112=S3Out)*($AA112=S4Out)*($AB112=S5Out)*($AC112=S6Out)*($AD112=S7Out)),0)),0)","v":0},0,"","","","","",{"$f":"IFERROR(INDEX(AASR,MATCH(1,(($AG112=AA1Out)*($AH112=AA2Out)*($AI112=AA3Out)*($AJ112=AA4Out)*($AK112=AA5Out)),0)),0)","v":0},0,0,0,"BLANK"]
[91,null,"","",{"$nulls":5},{"$f":"IF(ELO_Time[[#This Row],[Time  (hours) 6 min = 0.1 hr]]=\"\",\"\",SUM(G113:I113))","v":""},{"$f":"IF(ELO_Time[[#This Row],[Time  (hours) 6 min = 0.1 hr]]=\"\",\"\",ELO_Time[[#This Row],[Time  (hours) 6 min = 0.1 hr]]*ELO_Time[[#This Row],[KSA Total\n (0 - 18)]])","v":""},null,{"$f":"IFERROR(IF(CoreCapInput=\"None\",\"None\",VLOOKUP(CoreCapInput,CC!$A$2:$D$49,4)),\"\")","v":""},null,0,"","","","","","",{"$f":"IFERROR(INDEX(KSR,MATCH(1,(($P113=K1Out)*($Q113=K2Out)*($R113=K3Out)*($S113=K4Out)*($T113=K5Out)*($U113=K6Out)),0)),0)","v":0},0,"","","","","","","",{"$f":"IFERROR(INDEX(SSR,MATCH(1,(($X113=S1Out)*($Y113=S2Out)*($Z113=S3Out)*($AA113=S4Out)*($AB113=S5Out)*($AC113=S6Out)*($AD113=S7Out)),0)),0)","v":0},0,"","","","","",{"$f":"IFERROR(INDEX(AASR,MATCH(1,(($AG113=AA1Out)*($AH113=AA2Out)*($AI113=AA3Out)*($AJ113=AA4Out)*($AK113=AA5Out)),0)),0)","v":0},0,0,0,"BLANK"]
[92,null,"","",{"$nulls":5},{"$f":"IF(ELO_Time[[#This Row],[Time  (hours) 6 min = 0.1 hr]]=\"\",\"\",SUM(G114:I114))","v":""},{"$f":"IF(ELO_Time[[#This Row],[Time  (hours) 6 min = 0.1 hr]]=\"\",\"\",ELO_Time[[#This Row],[Time  (hours) 6 min = 0.1 hr]]*ELO_Time[[#This Row],[KSA Total\n (0 - 18)]])","v":""},null,{"$f":"IFERROR(IF(CoreCapInput=\"None\",\"None\",VLOOKUP(CoreCapInput,CC!$A$2:$D$49,4)),\"\")","v":""},null,0,"","","","","","",{"$f":"IFERROR(INDEX(KSR,MATCH(1,(($P114=K1Out)*($Q114=K2Out)*($R114=K3Out)*($S114=K4Out)*($T114=K5Out)*($U114=K6Out)),0)),0)","v":0},0,"","","","","","","",{"$f":"IFERROR(INDEX(SSR,MATCH(1,(($X114=S1Out)*($Y114=S2Out)*($Z114=S3Out)*($AA114=S4Out)*($AB114=S5Out)*($AC114=S6Out)*($AD114=S7Out)),0)),0)","v":0},0,"","","","","",{"$f":"IFERROR(INDEX(AASR,MATCH(1,(($AG114=AA1Out)*($AH114=AA2Out)*($AI114=AA3Out)*($AJ114=AA4Out)*($AK114=AA5Out)),0)),0)","v":0},0,0,0,"BLANK"]
[93,null,"","",{"$nulls":5},{"$f":"IF(ELO_Time[[#This Row],[Time  (hours) 6 min = 0.1 hr]]=\"\",\"\",SUM(G115:I115))","v":""},{"$f":"IF(ELO_Time[[#This Row],[Time  (hours) 6 min = 0.1 hr]]=\"\",\"\",ELO_Time[[#This Row],[Time  (hours) 6 min = 0.1 hr]]*ELO_Time[[#This Row],[KSA Total\n (0 - 18)]])","v":""},null,{"$f":"IFERROR(IF(CoreCapInput=\"None\",\"None\",VLOOKUP(CoreCapInput,CC!$A$2:$D$49,4)),\"\")","v":""},null,0,"","","","","","",{"$f":"IFERROR(INDEX(KSR,MATCH(1,(($P115=K1Out)*($Q115=K2Out)*($R115=K3Out)*($S115=K4Out)*($T115=K5Out)*($U115=K6Out)),0)),0)","v":0},0,"","","","","","","",{"$f":"IFERROR(INDEX(SSR,MATCH(1,(($X115=S1Out)*($Y115=S2Out)*($Z115=S3Out)*($AA115=S4Out)*($AB115=S5Out)*($AC115=S6Out)*($AD115=S7Out)),0)),0)","v":0},0,"","","","","",{"$f":"IFERROR(INDEX(AASR,MATCH(1,(($AG115=AA1Out)*($AH115=AA2Out)*($AI115=AA3Out)*($AJ115=AA4Out)*($AK115=AA5Out)),0)),0)","v":0},{"$f":"(IF(ISNUMBER(O115) = FALSE, 0, O115) + IF(ISNUMBER(P115) = FALSE, 0, P115)+ IF(ISNUMBER(Q115) = FALSE, 0, Q115) + IF(ISNUMBER(R115) = FALSE, 0, R115) + IF(ISNUMBER(S115) = FALSE, 0, S115) + IF(ISNUMBER(T115) = FALSE, 0, T115)) + IF(ISNUMBER(U115) = FALSE, 0, U115)","v":0},{"$f":"(IF(ISNUMBER(W115) = FALSE, 0, W115) + IF(ISNUMBER(X115) = FALSE, 0, X115)+ IF(ISNUMBER(Y115) = FALSE, 0, Y115) + IF(ISNUMBER(Z115) = FALSE, 0, Z115) + IF(ISNUMBER(AA115) = FALSE, 0, AA115) + IF(ISNUMBER(AB115) = FALSE, 0, AB115)) + IF(ISNUMBER(AC115) = FALSE, 0, AC115) + IF(ISNUMBER(AD115) = FALSE, 0, AD115)","v":0},{"$f":"(IF(ISNUMBER(AF115) = FALSE, 0, AF115) + IF(ISNUMBER(AG115) = FALSE, 0, AG115)+ IF(ISNUMBER(AH115) = FALSE, 0, AH115) + IF(ISNUMBER(AI115) = FALSE, 0, AI115) + IF(ISNUMBER(AJ115) = FALSE, 0, AJ115)+ IF(ISNUMBER(AK115) = FALSE, 0,AK115))","v":0},"BLANK"]
[94,null,"","",{"$nulls":5},{"$f":"IF(ELO_Time[[#This Row],[Time  (hours) 6 min = 0.1 hr]]=\"\",\"\",SUM(G116:I116))","v":""},{"$f":"IF(ELO_Time[[#This Row],[Time  (hours) 6 min = 0.1 hr]]=\"\",\"\",ELO_Time[[#This Row],[Time  (hours) 6 min = 0.1 hr]]*ELO_Time[[#This Row],[KSA Total\n (0 - 18)]])","v":""},null,{"$f":"IFERROR(IF(CoreCapInput=\"None\",\"None\",VLOOKUP(CoreCapInput,CC!$A$2:$D$49,4)),\"\")","v":""},null,0,"","","","","","",{"$f":"IFERROR(INDEX(KSR,MATCH(1,(($P116=K1Out)*($Q116=K2Out)*($R116=K3Out)*($S116=K4Out)*($T116=K5Out)*($U116=K6Out)),0)),0)","v":0},0,"","","","","","","",{"$f":"IFERROR(INDEX(SSR,MATCH(1,(($X116=S1Out)*($Y116=S2Out)*($Z116=S3Out)*($AA116=S4Out)*($AB116=S5Out)*($AC116=S6Out)*($AD116=S7Out)),0)),0)","v":0},0,"","","","","",{"$f":"IFERROR(INDEX(AASR,MATCH(1,(($AG116=AA1Out)*($AH116=AA2Out)*($AI116=AA3Out)*($AJ116=AA4Out)*($AK116=AA5Out)),0)),0)","v":0},0,0,0,"BLANK"]
[95,null,"","",{"$nulls":5},{"$f":"IF(ELO_Time[[#This Row],[Time  (hours) 6 min = 0.1 hr]]=\"\",\"\",SUM(G117:I117))","v":""},{"$f":"IF(ELO_Time[[#This Row],[Time  (hours) 6 min = 0.1 hr]]=\"\",\"\",ELO_Time[[#This Row],[Time  (hours) 6 min = 0.1 hr]]*ELO_Time[[#This Row],[KSA Total\n (0 - 18)]])","v":""},null,{"$f":"IFERROR(IF(CoreCapInput=\"None\",\"None\",VLOOKUP(CoreCapInput,CC!$A$2:$D$49,4)),\"\")","v":""},null,0,"","","","","","",{"$f":"IFERROR(INDEX(KSR,MATCH(1,(($P117=K1Out)*($Q117=K2Out)*($R117=K3Out)*($S117=K4Out)*($T117=K5Out)*($U117=K6Out)),0)),0)","v":0},0,"","","","","","","",{"$f":"IFERROR(INDEX(SSR,MATCH(1,(($X117=S1Out)*($Y117=S2Out)*($Z117=S3Out)*($AA117=S4Out)*($AB117=S5Out)*($AC117=S6Out)*($AD117=S7Out)),0)),0)","v":0},0,"","","","","",{"$f":"IFERROR(INDEX(AASR,MATCH(1,(($AG117=AA1Out)*($AH117=AA2Out)*($AI117=AA3Out)*($AJ117=AA4Out)*($AK117=AA5Out)),0)),0)","v":0},0,0,0,"BLANK"]
[96,null,"","",{"$nulls":5},{"$f":"IF(ELO_Time[[#This Row],[Time  (hours) 6 min = 0.1 hr]]=\"\",\"\",SUM(G118:I118))","v":""},{"$f":"IF(ELO_Time[[#This Row],[Time  (hours) 6 min = 0.1 hr]]=\"\",\"\",ELO_Time[[#This Row],[Time  (hours) 6 min = 0.1 hr]]*ELO_Time[[#This Row],[KSA Total\n (0 - 18)]])","v":""},null,{"$f":"IFERROR(IF(CoreCapInput=\"None\",\"None\",VLOOKUP(CoreCapInput,CC!$A$2:$D$49,4)),\"\")","v":""},null,0,"","","","","","",{"$f":"IFERROR(INDEX(KSR,MATCH(1,(($P118=K1Out)*($Q118=K2Out)*($R118=K3Out)*($S118=K4Out)*($T118=K5Out)*($U118=K6Out)),0)),0)","v":0},0,"","","","","","","",{"$f":"IFERROR(INDEX(SSR,MATCH(1,(($X118=S1Out)*($Y118=S2Out)*($Z118=S3Out)*($AA118=S4Out)*($AB118=S5Out)*($AC118=S6Out)*($AD118=S7Out)),0)),0)","v":0},0,"","","","","",{"$f":"IFERROR(INDEX(AASR,MATCH(1,(($AG118=AA1Out)*($AH118=AA2Out)*($AI118=AA3Out)*($AJ118=AA4Out)*($AK118=AA5Out)),0)),0)","v":0},0,0,0,"BLANK"]
[97,null,"","",{"$nulls":5},{"$f":"IF(ELO_Time[[#This Row],[Time  (hours) 6 min = 0.1 hr]]=\"\",\"\",SUM(G119:I119))","v":""},{"$f":"IF(ELO_Time[[#This Row],[Time  (hours) 6 min = 0.1 hr]]=\"\",\"\",ELO_Time[[#This Row],[Time  (hours) 6 min = 0.1 hr]]*ELO_Time[[#This Row],[KSA Total\n (0 - 18)]])","v":""},null,{"$f":"IFERROR(IF(CoreCapInput=\"None\",\"None\",VLOOKUP(CoreCapInput,CC!$A$2:$D$49,4)),\"\")","v":""},null,0,{"$f":"IF(SUMPRODUCT(--ISNUMBER(SEARCH(K_A,$D119)))>0,1,\"\")","v":""},{"$f":"IF(SUMPRODUCT(--ISNUMBER(SEARCH(K_B,$D119)))>0,2,\"\")","v":""},{"$f":"IF(SUMPRODUCT(--ISNUMBER(SEARCH(K_C,$D119)))>0,3,\"\")","v":""},{"$f":"IF(SUMPRODUCT(--ISNUMBER(SEARCH(K_D,$D119)))>0,4,\"\")","v":""},{"$f":"IF(SUMPRODUCT(--ISNUMBER(SEARCH(K_E,$D119)))>0,5,\"\")","v":""},{"$f":"IF(SUMPRODUCT(--ISNUMBER(SEARCH(K_F,$D119)))>0,6,\"\")","v":""},{"$f":"IFERROR(INDEX(KSR,MATCH(1,(($P119=K1Out)*($Q119=K2Out)*($R119=K3Out)*($S119=K4Out)*($T119=K5Out)*($U119=K6Out)),0)),0)","v":0},0,{"$f":"IF(SUMPRODUCT(--ISNUMBER(SEARCH(S_A,$D119)))>0,1,\"\")","v":""},{"$f":"IF(SUMPRODUCT(--ISNUMBER(SEARCH(S_B,$D119)))>0, 2,\"\")","v":""},{"$f":"IF(SUMPRODUCT(--ISNUMBER(SEARCH(S_C,$D119)))>0,3,\"\")","v":""},{"$f":"IF(SUMPRODUCT(--ISNUMBER(SEARCH(S_D,$D119)))>0,4,\"\")","v":""},{"$f":"IF(SUMPRODUCT(--ISNUMBER(SEARCH(S_E,$D119)))>0,5,\"\")","v":""},{"$f":"IF(SUMPRODUCT(--ISNUMBER(SEARCH(S_F,$D119)))>0,6,\"\")","v":""},{"$f":"IF(SUMPRODUCT(--ISNUMBER(SEARCH(S_G,$D119)))>0,7,\"\")","v":""},{"$f":"IFERROR(INDEX(SSR,MATCH(1,(($X119=S1Out)*($Y119=S2Out)*($Z119=S3Out)*($AA119=S4Out)*($AB119=S5Out)*($AC119=S6Out)*($AD119=S7Out)),0)),0)","v":0},0,{"$f":"IF(SUMPRODUCT(--ISNUMBER(SEARCH(AA_A,$D119)))>0,1,\"\")","v":""},{"$f":"IF(SUMPRODUCT(--ISNUMBER(SEARCH(AA_B,$D119)))>0,2,\"\")","v":""},{"$f":"IF(SUMPRODUCT(--ISNUMBER(SEARCH(AA_C,$D119)))>0,3,\"\")","v":""},{"$f":"IF(SUMPRODUCT(--ISNUMBER(SEARCH(AA_D,$D119)))>0,4,\"\")","v":""},{"$f":"IF(SUMPRODUCT(--ISNUMBER(SEARCH(AA_E,$D119)))>0,5,\"\")","v":""},{"$f":"IFERROR(INDEX(AASR,MATCH(1,(($AG119=AA1Out)*($AH119=AA2Out)*($AI119=AA3Out)*($AJ119=AA4Out)*($AK119=AA5Out)),0)),0)","v":0},0,0,0,{"$f":"IF(E119 = \"\", \"BLANK\",IF((AM119+AN119+AO119) = 0, \"A\", AM119 + AN119 + AO119))","v":"BLANK"}]
[98,null,{"$f":"IF(B120=\"\",\"\",IF(B120=B119,C119+1,1))","v":""},"",{"$nulls":5},{"$f":"IF(ELO_Time[[#This Row],[Time  (hours) 6 min = 0.1 hr]]=\"\",\"\",SUM(G120:I120))","v":""},{"$f":"IF(ELO_Time[[#This Row],[Time  (hours) 6 min = 0.1 hr]]=\"\",\"\",ELO_Time[[#This Row],[Time  (hours) 6 min = 0.1 hr]]*ELO_Time[[#This Row],[KSA Total\n (0 - 18)]])","v":""},null,{"$f":"IFERROR(IF(CoreCapInput=\"None\",\"None\",VLOOKUP(CoreCapInput,CC!$A$2:$D$49,4)),\"\")","v":""},null,0,"","","","","","",{"$f":"IFERROR(INDEX(KSR,MATCH(1,(($P120=K1Out)*($Q120=K2Out)*($R120=K3Out)*($S120=K4Out)*($T120=K5Out)*($U120=K6Out)),0)),0)","v":0},0,"","","","","","","",{"$f":"IFERROR(INDEX(SSR,MATCH(1,(($X120=S1Out)*($Y120=S2Out)*($Z120=S3Out)*($AA120=S4Out)*($AB120=S5Out)*($AC120=S6Out)*($AD120=S7Out)),0)),0)","v":0},0,"","","","","",{"$f":"IFERROR(INDEX(AASR,MATCH(1,(($AG120=AA1Out)*($AH120=AA2Out)*($AI120=AA3Out)*($AJ120=AA4Out)*($AK120=AA5Out)),0)),0)","v":0},0,0,0,"BLANK"]
[99,null,"","",{"$nulls":5},{"$f":"IF(ELO_Time[[#This Row],[Time  (hours) 6 min = 0.1 hr]]=\"\",\"\",SUM(G121:I121))","v":""},{"$f":"IF(ELO_Time[[#This Row],[Time  (hours) 6 min = 0.1 hr]]=\"\",\"\",ELO_Time[[#This Row],[Time  (hours) 6 min = 0.1 hr]]*ELO_Time[[#This Row],[KSA Total\n (0 - 18)]])","v":""},null,{"$f":"IFERROR(IF(CoreCapInput=\"None\",\"None\",VLOOKUP(CoreCapInput,CC!$A$2:$D$49,4)),\"\")","v":""},null,0,"","","","","","",{"$f":"IFERROR(INDEX(KSR,MATCH(1,(($P121=K1Out)*($Q121=K2Out)*($R121=K3Out)*($S121=K4Out)*($T121=K5Out)*($U121=K6Out)),0)),0)","v":0},0,"","","","","","","",{"$f":"IFERROR(INDEX(SSR,MATCH(1,(($X121=S1Out)*($Y121=S2Out)*($Z121=S3Out)*($AA121=S4Out)*($AB121=S5Out)*($AC121=S6Out)*($AD121=S7Out)),0)),0)","v":0},0,"","","","","",{"$f":"IFERROR(INDEX(AASR,MATCH(1,(($AG121=AA1Out)*($AH121=AA2Out)*($AI121=AA3Out)*($AJ121=AA4Out)*($AK121=AA5Out)),0)),0)","v":0},0,0,0,"BLANK"]
[100,null,"","",{"$nulls":5},{"$f":"IF(ELO_Time[[#This Row],[Time  (hours) 6 min = 0.1 hr]]=\"\",\"\",SUM(G122:I122))","v":""},{"$f":"IF(ELO_Time[[#This Row],[Time  (hours) 6 min = 0.1 hr]]=\"\",\"\",ELO_Time[[#This Row],[Time  (hours) 6 min = 0.1 hr]]*ELO_Time[[#This Row],[KSA Total\n (0 - 18)]])","v":""},null,{"$f":"IFERROR(IF(CoreCapInput=\"None\",\"None\",VLOOKUP(CoreCapInput,CC!$A$2:$D$49,4)),\"\")","v":""},null,0,"","","","","","",{"$f":"IFERROR(INDEX(KSR,MATCH(1,(($P122=K1Out)*($Q122=K2Out)*($R122=K3Out)*($S122=K4Out)*($T122=K5Out)*($U122=K6Out)),0)),0)","v":0},0,"","","","","","","",{"$f":"IFERROR(INDEX(SSR,MATCH(1,(($X122=S1Out)*($Y122=S2Out)*($Z122=S3Out)*($AA122=S4Out)*($AB122=S5Out)*($AC122=S6Out)*($AD122=S7Out)),0)),0)","v":0},0,"","","","","",{"$f":"IFERROR(INDEX(AASR,MATCH(1,(($AG122=AA1Out)*($AH122=AA2Out)*($AI122=AA3Out)*($AJ122=AA4Out)*($AK122=AA5Out)),0)),0)","v":0},0,0,0,"BLANK"]
[101,null,"","",{"$nulls":5},{"$f":"IF(ELO_Time[[#This Row],[Time  (hours) 6 min = 0.1 hr]]=\"\",\"\",SUM(G123:I123))","v":""},{"$f":"IF(ELO_Time[[#This Row],[Time  (hours) 6 min = 0.1 hr]]=\"\",\"\",ELO_Time[[#This Row],[Time  (hours) 6 min = 0.1 hr]]*ELO_Time[[#This Row],[KSA Total\n (0 - 18)]])","v":""},null,{"$f":"IFERROR(IF(CoreCapInput=\"None\",\"None\",VLOOKUP(CoreCapInput,CC!$A$2:$D$49,4)),\"\")","v":""},null,0,"","","","","","",{"$f":"IFERROR(INDEX(KSR,MATCH(1,(($P123=K1Out)*($Q123=K2Out)*($R123=K3Out)*($S123=K4Out)*($T123=K5Out)*($U123=K6Out)),0)),0)","v":0},0,"","","","","","","",{"$f":"IFERROR(INDEX(SSR,MATCH(1,(($X123=S1Out)*($Y123=S2Out)*($Z123=S3Out)*($AA123=S4Out)*($AB123=S5Out)*($AC123=S6Out)*($AD123=S7Out)),0)),0)","v":0},0,"","","","","",{"$f":"IFERROR(INDEX(AASR,MATCH(1,(($AG123=AA1Out)*($AH123=AA2Out)*($AI123=AA3Out)*($AJ123=AA4Out)*($AK123=AA5Out)),0)),0)","v":0},0,0,0,"BLANK"]
[102,null,"","",{"$nulls":5},{"$f":"IF(ELO_Time[[#This Row],[Time  (hours) 6 min = 0.1 hr]]=\"\",\"\",SUM(G124:I124))","v":""},{"$f":"IF(ELO_Time[[#This Row],[Time  (hours) 6 min = 0.1 hr]]=\"\",\"\",ELO_Time[[#This Row],[Time  (hours) 6 min = 0.1 hr]]*ELO_Time[[#This Row],[KSA Total\n (0 - 18)]])","v":""},null,{"$f":"IFERROR(IF(CoreCapInput=\"None\",\"None\",VLOOKUP(CoreCapInput,CC!$A$2:$D$49,4)),\"\")","v":""},null,0,"","","","","","",{"$f":"IFERROR(INDEX(KSR,MATCH(1,(($P124=K1Out)*($Q124=K2Out)*($R124=K3Out)*($S124=K4Out)*($T124=K5Out)*($U124=K6Out)),0)),0)","v":0},0,"","","","","","","",{"$f":"IFERROR(INDEX(SSR,MATCH(1,(($X124=S1Out)*($Y124=S2Out)*($Z124=S3Out)*($AA124=S4Out)*($AB124=S5Out)*($AC124=S6Out)*($AD124=S7Out)),0)),0)","v":0},0,"","","","","",{"$f":"IFERROR(INDEX(AASR,MATCH(1,(($AG124=AA1Out)*($AH124=AA2Out)*($AI124=AA3Out)*($AJ124=AA4Out)*($AK124=AA5Out)),0)),0)","v":0},0,0,0,"BLANK"]
[103,null,"","",{"$nulls":5},{"$f":"IF(ELO_Time[[#This Row],[Time  (hours) 6 min = 0.1 hr]]=\"\",\"\",SUM(G125:I125))","v":""},{"$f":"IF(ELO_Time[[#This Row],[Time  (hours) 6 min = 0.1 hr]]=\"\",\"\",ELO_Time[[#This Row],[Time  (hours) 6 min = 0.1 hr]]*ELO_Time[[#This Row],[KSA Total\n (0 - 18)]])","v":""},null,{"$f":"IFERROR(IF(CoreCapInput=\"None\",\"None\",VLOOKUP(CoreCapInput,CC!$A$2:$D$49,4)),\"\")","v":""},null,0,"","","","","","",{"$f":"IFERROR(INDEX(KSR,MATCH(1,(($P125=K1Out)*($Q125=K2Out)*($R125=K3Out)*($S125=K4Out)*($T125=K5Out)*($U125=K6Out)),0)),0)","v":0},0,"","","","","","","",{"$f":"IFERROR(INDEX(SSR,MATCH(1,(($X125=S1Out)*($Y125=S2Out)*($Z125=S3Out)*($AA125=S4Out)*($AB125=S5Out)*($AC125=S6Out)*($AD125=S7Out)),0)),0)","v":0},0,"","","","","",{"$f":"IFERROR(INDEX(AASR,MATCH(1,(($AG125=AA1Out)*($AH125=AA2Out)*($AI125=AA3Out)*($AJ125=AA4Out)*($AK125=AA5Out)),0)),0)","v":0},0,0,0,"BLANK"]
[104,null,"","",{"$nulls":5},{"$f":"IF(ELO_Time[[#This Row],[Time  (hours) 6 min = 0.1 hr]]=\"\",\"\",SUM(G126:I126))","v":""},{"$f":"IF(ELO_Time[[#This Row],[Time  (hours) 6 min = 0.1 hr]]=\"\",\"\",ELO_Time[[#This Row],[Time  (hours) 6 min = 0.1 hr]]*ELO_Time[[#This Row],[KSA Total\n (0 - 18)]])","v":""},null,{"$f":"IFERROR(IF(CoreCapInput=\"None\",\"None\",VLOOKUP(CoreCapInput,CC!$A$2:$D$49,4)),\"\")","v":""},null,0,"","","","","","",{"$f":"IFERROR(INDEX(KSR,MATCH(1,(($P126=K1Out)*($Q126=K2Out)*($R126=K3Out)*($S126=K4Out)*($T126=K5Out)*($U126=K6Out)),0)),0)","v":0},0,"","","","","","","",{"$f":"IFERROR(INDEX(SSR,MATCH(1,(($X126=S1Out)*($Y126=S2Out)*($Z126=S3Out)*($AA126=S4Out)*($AB126=S5Out)*($AC126=S6Out)*($AD126=S7Out)),0)),0)","v":0},0,"","","","","",{"$f":"IFERROR(INDEX(AASR,MATCH(1,(($AG126=AA1Out)*($AH126=AA2Out)*($AI126=AA3Out)*($AJ126=AA4Out)*($AK126=AA5Out)),0)),0)","v":0},0,0,0,"BLANK"]
[105,null,"","",{"$nulls":5},{"$f":"IF(ELO_Time[[#This Row],[Time  (hours) 6 min = 0.1 hr]]=\"\",\"\",SUM(G127:I127))","v":""},{"$f":"IF(ELO_Time[[#This Row],[Time  (hours) 6 min = 0.1 hr]]=\"\",\"\",ELO_Time[[#This Row],[Time  (hours) 6 min = 0.1 hr]]*ELO_Time[[#This Row],[KSA Total\n (0 - 18)]])","v":""},null,{"$f":"IFERROR(IF(CoreCapInput=\"None\",\"None\",VLOOKUP(CoreCapInput,CC!$A$2:$D$49,4)),\"\")","v":""},null,0,"","","","","","",{"$f":"IFERROR(INDEX(KSR,MATCH(1,(($P127=K1Out)*($Q127=K2Out)*($R127=K3Out)*($S127=K4Out)*($T127=K5Out)*($U127=K6Out)),0)),0)","v":0},0,"","","","","","","",{"$f":"IFERROR(INDEX(SSR,MATCH(1,(($X127=S1Out)*($Y127=S2Out)*($Z127=S3Out)*($AA127=S4Out)*($AB127=S5Out)*($AC127=S6Out)*($AD127=S7Out)),0)),0)","v":0},0,"","","","","",{"$f":"IFERROR(INDEX(AASR,MATCH(1,(($AG127=AA1Out)*($AH127=AA2Out)*($AI127=AA3Out)*($AJ127=AA4Out)*($AK127=AA5Out)),0)),0)","v":0},0,0,0,"BLANK"]
[106,null,"","",{"$nulls":5},{"$f":"IF(ELO_Time[[#This Row],[Time  (hours) 6 min = 0.1 hr]]=\"\",\"\",SUM(G128:I128))","v":""},{"$f":"IF(ELO_Time[[#This Row],[Time  (hours) 6 min = 0.1 hr]]=\"\",\"\",ELO_Time[[#This Row],[Time  (hours) 6 min = 0.1 hr]]*ELO_Time[[#This Row],[KSA Total\n (0 - 18)]])","v":""},null,{"$f":"IFERROR(IF(CoreCapInput=\"None\",\"None\",VLOOKUP(CoreCapInput,CC!$A$2:$D$49,4)),\"\")","v":""},null,0,"","","","","","",{"$f":"IFERROR(INDEX(KSR,MATCH(1,(($P128=K1Out)*($Q128=K2Out)*($R128=K3Out)*($S128=K4Out)*($T128=K5Out)*($U128=K6Out)),0)),0)","v":0},0,"","","","","","","",{"$f":"IFERROR(INDEX(SSR,MATCH(1,(($X128=S1Out)*($Y128=S2Out)*($Z128=S3Out)*($AA128=S4Out)*($AB128=S5Out)*($AC128=S6Out)*($AD128=S7Out)),0)),0)","v":0},0,"","","","","",{"$f":"IFERROR(INDEX(AASR,MATCH(1,(($AG128=AA1Out)*($AH128=AA2Out)*($AI128=AA3Out)*($AJ128=AA4Out)*($AK128=AA5Out)),0)),0)","v":0},0,0,0,"BLANK"]
[107,null,"","",{"$nulls":5},{"$f":"IF(ELO_Time[[#This Row],[Time  (hours) 6 min = 0.1 hr]]=\"\",\"\",SUM(G129:I129))","v":""},{"$f":"IF(ELO_Time[[#This Row],[Time  (hours) 6 min = 0.1 hr]]=\"\",\"\",ELO_Time[[#This Row],[Time  (hours) 6 min = 0.1 hr]]*ELO_Time[[#This Row],[KSA Total\n (0 - 18)]])","v":""},null,{"$f":"IFERROR(IF(CoreCapInput=\"None\",\"None\",VLOOKUP(CoreCapInput,CC!$A$2:$D$49,4)),\"\")","v":""},null,0,"","","","","","",{"$f":"IFERROR(INDEX(KSR,MATCH(1,(($P129=K1Out)*($Q129=K2Out)*($R129=K3Out)*($S129=K4Out)*($T129=K5Out)*($U129=K6Out)),0)),0)","v":0},0,"","","","","","","",{"$f":"IFERROR(INDEX(SSR,MATCH(1,(($X129=S1Out)*($Y129=S2Out)*($Z129=S3Out)*($AA129=S4Out)*($AB129=S5Out)*($AC129=S6Out)*($AD129=S7Out)),0)),0)","v":0},0,"","","","","",{"$f":"IFERROR(INDEX(AASR,MATCH(1,(($AG129=AA1Out)*($AH129=AA2Out)*($AI129=AA3Out)*($AJ129=AA4Out)*($AK129=AA5Out)),0)),0)","v":0},0,0,0,"BLANK"]
[108,null,"","",{"$nulls":5},{"$f":"IF(ELO_Time[[#This Row],[Time  (hours) 6 min = 0.1 hr]]=\"\",\"\",SUM(G130:I130))","v":""},{"$f":"IF(ELO_Time[[#This Row],[Time  (hours) 6 min = 0.1 hr]]=\"\",\"\",ELO_Time[[#This Row],[Time  (hours) 6 min = 0.1 hr]]*ELO_Time[[#This Row],[KSA Total\n (0 - 18)]])","v":""},null,{"$f":"IFERROR(IF(CoreCapInput=\"None\",\"None\",VLOOKUP(CoreCapInput,CC!$A$2:$D$49,4)),\"\")","v":""},null,0,"","","","","","",{"$f":"IFERROR(INDEX(KSR,MATCH(1,(($P130=K1Out)*($Q130=K2Out)*($R130=K3Out)*($S130=K4Out)*($T130=K5Out)*($U130=K6Out)),0)),0)","v":0},0,"","","","","","","",{"$f":"IFERROR(INDEX(SSR,MATCH(1,(($X130=S1Out)*($Y130=S2Out)*($Z130=S3Out)*($AA130=S4Out)*($AB130=S5Out)*($AC130=S6Out)*($AD130=S7Out)),0)),0)","v":0},0,"","","","","",{"$f":"IFERROR(INDEX(AASR,MATCH(1,(($AG130=AA1Out)*($AH130=AA2Out)*($AI130=AA3Out)*($AJ130=AA4Out)*($AK130=AA5Out)),0)),0)","v":0},0,0,0,"BLANK"]
[109,null,"","",{"$nulls":5},{"$f":"IF(ELO_Time[[#This Row],[Time  (hours) 6 min = 0.1 hr]]=\"\",\"\",SUM(G131:I131))","v":""},{"$f":"IF(ELO_Time[[#This Row],[Time  (hours) 6 min = 0.1 hr]]=\"\",\"\",ELO_Time[[#This Row],[Time  (hours) 6 min = 0.1 hr]]*ELO_Time[[#This Row],[KSA Total\n (0 - 18)]])","v":""},null,{"$f":"IFERROR(IF(CoreCapInput=\"None\",\"None\",VLOOKUP(CoreCapInput,CC!$A$2:$D$49,4)),\"\")","v":""},null,0,"","","","","","",{"$f":"IFERROR(INDEX(KSR,MATCH(1,(($P131=K1Out)*($Q131=K2Out)*($R131=K3Out)*($S131=K4Out)*($T131=K5Out)*($U131=K6Out)),0)),0)","v":0},0,"","","","","","","",{"$f":"IFERROR(INDEX(SSR,MATCH(1,(($X131=S1Out)*($Y131=S2Out)*($Z131=S3Out)*($AA131=S4Out)*($AB131=S5Out)*($AC131=S6Out)*($AD131=S7Out)),0)),0)","v":0},0,"","","","","",{"$f":"IFERROR(INDEX(AASR,MATCH(1,(($AG131=AA1Out)*($AH131=AA2Out)*($AI131=AA3Out)*($AJ131=AA4Out)*($AK131=AA5Out)),0)),0)","v":0},0,0,0,"BLANK"]
[110,null,"","",{"$nulls":5},{"$f":"IF(ELO_Time[[#This Row],[Time  (hours) 6 min = 0.1 hr]]=\"\",\"\",SUM(G132:I132))","v":""},{"$f":"IF(ELO_Time[[#This Row],[Time  (hours) 6 min = 0.1 hr]]=\"\",\"\",ELO_Time[[#This Row],[Time  (hours) 6 min = 0.1 hr]]*ELO_Time[[#This Row],[KSA Total\n (0 - 18)]])","v":""},null,{"$f":"IFERROR(IF(CoreCapInput=\"None\",\"None\",VLOOKUP(CoreCapInput,CC!$A$2:$D$49,4)),\"\")","v":""},null,0,"","","","","","",{"$f":"IFERROR(INDEX(KSR,MATCH(1,(($P132=K1Out)*($Q132=K2Out)*($R132=K3Out)*($S132=K4Out)*($T132=K5Out)*($U132=K6Out)),0)),0)","v":0},0,"","","","","","","",{"$f":"IFERROR(INDEX(SSR,MATCH(1,(($X132=S1Out)*($Y132=S2Out)*($Z132=S3Out)*($AA132=S4Out)*($AB132=S5Out)*($AC132=S6Out)*($AD132=S7Out)),0)),0)","v":0},0,"","","","","",{"$f":"IFERROR(INDEX(AASR,MATCH(1,(($AG132=AA1Out)*($AH132=AA2Out)*($AI132=AA3Out)*($AJ132=AA4Out)*($AK132=AA5Out)),0)),0)","v":0},0,0,0,"BLANK"]
[111,null,"","",{"$nulls":5},{"$f":"IF(ELO_Time[[#This Row],[Time  (hours) 6 min = 0.1 hr]]=\"\",\"\",SUM(G133:I133))","v":""},{"$f":"IF(ELO_Time[[#This Row],[Time  (hours) 6 min = 0.1 hr]]=\"\",\"\",ELO_Time[[#This Row],[Time  (hours) 6 min = 0.1 hr]]*ELO_Time[[#This Row],[KSA Total\n (0 - 18)]])","v":""},null,{"$f":"IFERROR(IF(CoreCapInput=\"None\",\"None\",VLOOKUP(CoreCapInput,CC!$A$2:$D$49,4)),\"\")","v":""},null,0,"","","","","","",{"$f":"IFERROR(INDEX(KSR,MATCH(1,(($P133=K1Out)*($Q133=K2Out)*($R133=K3Out)*($S133=K4Out)*($T133=K5Out)*($U133=K6Out)),0)),0)","v":0},0,"","","","","","","",{"$f":"IFERROR(INDEX(SSR,MATCH(1,(($X133=S1Out)*($Y133=S2Out)*($Z133=S3Out)*($AA133=S4Out)*($AB133=S5Out)*($AC133=S6Out)*($AD133=S7Out)),0)),0)","v":0},0,"","","","","",{"$f":"IFERROR(INDEX(AASR,MATCH(1,(($AG133=AA1Out)*($AH133=AA2Out)*($AI133=AA3Out)*($AJ133=AA4Out)*($AK133=AA5Out)),0)),0)","v":0},0,0,0,"BLANK"]
[112,null,"","",{"$nulls":5},{"$f":"IF(ELO_Time[[#This Row],[Time  (hours) 6 min = 0.1 hr]]=\"\",\"\",SUM(G134:I134))","v":""},{"$f":"IF(ELO_Time[[#This Row],[Time  (hours) 6 min = 0.1 hr]]=\"\",\"\",ELO_Time[[#This Row],[Time  (hours) 6 min = 0.1 hr]]*ELO_Time[[#This Row],[KSA Total\n (0 - 18)]])","v":""},null,{"$f":"IFERROR(IF(CoreCapInput=\"None\",\"None\",VLOOKUP(CoreCapInput,CC!$A$2:$D$49,4)),\"\")","v":""},null,0,"","","","","","",{"$f":"IFERROR(INDEX(KSR,MATCH(1,(($P134=K1Out)*($Q134=K2Out)*($R134=K3Out)*($S134=K4Out)*($T134=K5Out)*($U134=K6Out)),0)),0)","v":0},0,"","","","","","","",{"$f":"IFERROR(INDEX(SSR,MATCH(1,(($X134=S1Out)*($Y134=S2Out)*($Z134=S3Out)*($AA134=S4Out)*($AB134=S5Out)*($AC134=S6Out)*($AD134=S7Out)),0)),0)","v":0},0,"","","","","",{"$f":"IFERROR(INDEX(AASR,MATCH(1,(($AG134=AA1Out)*($AH134=AA2Out)*($AI134=AA3Out)*($AJ134=AA4Out)*($AK134=AA5Out)),0)),0)","v":0},0,0,0,"BLANK"]
[113,null,"","",{"$nulls":5},{"$f":"IF(ELO_Time[[#This Row],[Time  (hours) 6 min = 0.1 hr]]=\"\",\"\",SUM(G135:I135))","v":""},{"$f":"IF(ELO_Time[[#This Row],[Time  (hours) 6 min = 0.1 hr]]=\"\",\"\",ELO_Time[[#This Row],[Time  (hours) 6 min = 0.1 hr]]*ELO_Time[[#This Row],[KSA Total\n (0 - 18)]])","v":""},null,{"$f":"IFERROR(IF(CoreCapInput=\"None\",\"None\",VLOOKUP(CoreCapInput,CC!$A$2:$D$49,4)),\"\")","v":""},null,0,"","","","","","",{"$f":"IFERROR(INDEX(KSR,MATCH(1,(($P135=K1Out)*($Q135=K2Out)*($R135=K3Out)*($S135=K4Out)*($T135=K5Out)*($U135=K6Out)),0)),0)","v":0},0,"","","","","","","",{"$f":"IFERROR(INDEX(SSR,MATCH(1,(($X135=S1Out)*($Y135=S2Out)*($Z135=S3Out)*($AA135=S4Out)*($AB135=S5Out)*($AC135=S6Out)*($AD135=S7Out)),0)),0)","v":0},0,"","","","","",{"$f":"IFERROR(INDEX(AASR,MATCH(1,(($AG135=AA1Out)*($AH135=AA2Out)*($AI135=AA3Out)*($AJ135=AA4Out)*($AK135=AA5Out)),0)),0)","v":0},0,0,0,"BLANK"]
[114,null,"","",{"$nulls":5},{"$f":"IF(ELO_Time[[#This Row],[Time  (hours) 6 min = 0.1 hr]]=\"\",\"\",SUM(G136:I136))","v":""},{"$f":"IF(ELO_Time[[#This Row],[Time  (hours) 6 min = 0.1 hr]]=\"\",\"\",ELO_Time[[#This Row],[Time  (hours) 6 min = 0.1 hr]]*ELO_Time[[#This Row],[KSA Total\n (0 - 18)]])","v":""},null,{"$f":"IFERROR(IF(CoreCapInput=\"None\",\"None\",VLOOKUP(CoreCapInput,CC!$A$2:$D$49,4)),\"\")","v":""},null,0,"","","","","","",{"$f":"IFERROR(INDEX(KSR,MATCH(1,(($P136=K1Out)*($Q136=K2Out)*($R136=K3Out)*($S136=K4Out)*($T136=K5Out)*($U136=K6Out)),0)),0)","v":0},0,"","","","","","","",{"$f":"IFERROR(INDEX(SSR,MATCH(1,(($X136=S1Out)*($Y136=S2Out)*($Z136=S3Out)*($AA136=S4Out)*($AB136=S5Out)*($AC136=S6Out)*($AD136=S7Out)),0)),0)","v":0},0,"","","","","",{"$f":"IFERROR(INDEX(AASR,MATCH(1,(($AG136=AA1Out)*($AH136=AA2Out)*($AI136=AA3Out)*($AJ136=AA4Out)*($AK136=AA5Out)),0)),0)","v":0},0,0,0,"BLANK"]
[115,null,"","",{"$nulls":5},{"$f":"IF(ELO_Time[[#This Row],[Time  (hours) 6 min = 0.1 hr]]=\"\",\"\",SUM(G137:I137))","v":""},{"$f":"IF(ELO_Time[[#This Row],[Time  (hours) 6 min = 0.1 hr]]=\"\",\"\",ELO_Time[[#This Row],[Time  (hours) 6 min = 0.1 hr]]*ELO_Time[[#This Row],[KSA Total\n (0 - 18)]])","v":""},null,{"$f":"IFERROR(IF(CoreCapInput=\"None\",\"None\",VLOOKUP(CoreCapInput,CC!$A$2:$D$49,4)),\"\")","v":""},null,0,"","","","","","",{"$f":"IFERROR(INDEX(KSR,MATCH(1,(($P137=K1Out)*($Q137=K2Out)*($R137=K3Out)*($S137=K4Out)*($T137=K5Out)*($U137=K6Out)),0)),0)","v":0},0,"","","","","","","",{"$f":"IFERROR(INDEX(SSR,MATCH(1,(($X137=S1Out)*($Y137=S2Out)*($Z137=S3Out)*($AA137=S4Out)*($AB137=S5Out)*($AC137=S6Out)*($AD137=S7Out)),0)),0)","v":0},0,"","","","","",{"$f":"IFERROR(INDEX(AASR,MATCH(1,(($AG137=AA1Out)*($AH137=AA2Out)*($AI137=AA3Out)*($AJ137=AA4Out)*($AK137=AA5Out)),0)),0)","v":0},0,0,0,"BLANK"]
[116,null,"","",{"$nulls":5},{"$f":"IF(ELO_Time[[#This Row],[Time  (hours) 6 min = 0.1 hr]]=\"\",\"\",SUM(G138:I138))","v":""},{"$f":"IF(ELO_Time[[#This Row],[Time  (hours) 6 min = 0.1 hr]]=\"\",\"\",ELO_Time[[#This Row],[Time  (hours) 6 min = 0.1 hr]]*ELO_Time[[#This Row],[KSA Total\n (0 - 18)]])","v":""},null,{"$f":"IFERROR(IF(CoreCapInput=\"None\",\"None\",VLOOKUP(CoreCapInput,CC!$A$2:$D$49,4)),\"\")","v":""},null,0,"","","","","","",{"$f":"IFERROR(INDEX(KSR,MATCH(1,(($P138=K1Out)*($Q138=K2Out)*($R138=K3Out)*($S138=K4Out)*($T138=K5Out)*($U138=K6Out)),0)),0)","v":0},0,"","","","","","","",{"$f":"IFERROR(INDEX(SSR,MATCH(1,(($X138=S1Out)*($Y138=S2Out)*($Z138=S3Out)*($AA138=S4Out)*($AB138=S5Out)*($AC138=S6Out)*($AD138=S7Out)),0)),0)","v":0},0,"","","","","",{"$f":"IFERROR(INDEX(AASR,MATCH(1,(($AG138=AA1Out)*($AH138=AA2Out)*($AI138=AA3Out)*($AJ138=AA4Out)*($AK138=AA5Out)),0)),0)","v":0},0,0,0,"BLANK"]
[117,null,"","",{"$nulls":5},{"$f":"IF(ELO_Time[[#This Row],[Time  (hours) 6 min = 0.1 hr]]=\"\",\"\",SUM(G139:I139))","v":""},{"$f":"IF(ELO_Time[[#This Row],[Time  (hours) 6 min = 0.1 hr]]=\"\",\"\",ELO_Time[[#This Row],[Time  (hours) 6 min = 0.1 hr]]*ELO_Time[[#This Row],[KSA Total\n (0 - 18)]])","v":""},null,{"$f":"IFERROR(IF(CoreCapInput=\"None\",\"None\",VLOOKUP(CoreCapInput,CC!$A$2:$D$49,4)),\"\")","v":""},null,0,"","","","","","",{"$f":"IFERROR(INDEX(KSR,MATCH(1,(($P139=K1Out)*($Q139=K2Out)*($R139=K3Out)*($S139=K4Out)*($T139=K5Out)*($U139=K6Out)),0)),0)","v":0},0,"","","","","","","",{"$f":"IFERROR(INDEX(SSR,MATCH(1,(($X139=S1Out)*($Y139=S2Out)*($Z139=S3Out)*($AA139=S4Out)*($AB139=S5Out)*($AC139=S6Out)*($AD139=S7Out)),0)),0)","v":0},0,"","","","","",{"$f":"IFERROR(INDEX(AASR,MATCH(1,(($AG139=AA1Out)*($AH139=AA2Out)*($AI139=AA3Out)*($AJ139=AA4Out)*($AK139=AA5Out)),0)),0)","v":0},0,0,0,"BLANK"]
[118,null,"","",{"$nulls":5},{"$f":"IF(ELO_Time[[#This Row],[Time  (hours) 6 min = 0.1 hr]]=\"\",\"\",SUM(G140:I140))","v":""},{"$f":"IF(ELO_Time[[#This Row],[Time  (hours) 6 min = 0.1 hr]]=\"\",\"\",ELO_Time[[#This Row],[Time  (hours) 6 min = 0.1 hr]]*ELO_Time[[#This Row],[KSA Total\n (0 - 18)]])","v":""},null,{"$f":"IFERROR(IF(CoreCapInput=\"None\",\"None\",VLOOKUP(CoreCapInput,CC!$A$2:$D$49,4)),\"\")","v":""},null,0,"","","","","","",{"$f":"IFERROR(INDEX(KSR,MATCH(1,(($P140=K1Out)*($Q140=K2Out)*($R140=K3Out)*($S140=K4Out)*($T140=K5Out)*($U140=K6Out)),0)),0)","v":0},0,"","","","","","","",{"$f":"IFERROR(INDEX(SSR,MATCH(1,(($X140=S1Out)*($Y140=S2Out)*($Z140=S3Out)*($AA140=S4Out)*($AB140=S5Out)*($AC140=S6Out)*($AD140=S7Out)),0)),0)","v":0},0,"","","","","",{"$f":"IFERROR(INDEX(AASR,MATCH(1,(($AG140=AA1Out)*($AH140=AA2Out)*($AI140=AA3Out)*($AJ140=AA4Out)*($AK140=AA5Out)),0)),0)","v":0},0,0,0,"BLANK"]
[119,null,"","",{"$nulls":5},{"$f":"IF(ELO_Time[[#This Row],[Time  (hours) 6 min = 0.1 hr]]=\"\",\"\",SUM(G141:I141))","v":""},{"$f":"IF(ELO_Time[[#This Row],[Time  (hours) 6 min = 0.1 hr]]=\"\",\"\",ELO_Time[[#This Row],[Time  (hours) 6 min = 0.1 hr]]*ELO_Time[[#This Row],[KSA Total\n (0 - 18)]])","v":""},null,{"$f":"IFERROR(IF(CoreCapInput=\"None\",\"None\",VLOOKUP(CoreCapInput,CC!$A$2:$D$49,4)),\"\")","v":""},null,0,"","","","","","",{"$f":"IFERROR(INDEX(KSR,MATCH(1,(($P141=K1Out)*($Q141=K2Out)*($R141=K3Out)*($S141=K4Out)*($T141=K5Out)*($U141=K6Out)),0)),0)","v":0},0,"","","","","","","",{"$f":"IFERROR(INDEX(SSR,MATCH(1,(($X141=S1Out)*($Y141=S2Out)*($Z141=S3Out)*($AA141=S4Out)*($AB141=S5Out)*($AC141=S6Out)*($AD141=S7Out)),0)),0)","v":0},0,"","","","","",{"$f":"IFERROR(INDEX(AASR,MATCH(1,(($AG141=AA1Out)*($AH141=AA2Out)*($AI141=AA3Out)*($AJ141=AA4Out)*($AK141=AA5Out)),0)),0)","v":0},0,0,0,"BLANK"]
[120,null,"","",{"$nulls":5},{"$f":"IF(ELO_Time[[#This Row],[Time  (hours) 6 min = 0.1 hr]]=\"\",\"\",SUM(G142:I142))","v":""},{"$f":"IF(ELO_Time[[#This Row],[Time  (hours) 6 min = 0.1 hr]]=\"\",\"\",ELO_Time[[#This Row],[Time  (hours) 6 min = 0.1 hr]]*ELO_Time[[#This Row],[KSA Total\n (0 - 18)]])","v":""},null,{"$f":"IFERROR(IF(CoreCapInput=\"None\",\"None\",VLOOKUP(CoreCapInput,CC!$A$2:$D$49,4)),\"\")","v":""},null,0,"","","","","","",{"$f":"IFERROR(INDEX(KSR,MATCH(1,(($P142=K1Out)*($Q142=K2Out)*($R142=K3Out)*($S142=K4Out)*($T142=K5Out)*($U142=K6Out)),0)),0)","v":0},0,"","","","","","","",{"$f":"IFERROR(INDEX(SSR,MATCH(1,(($X142=S1Out)*($Y142=S2Out)*($Z142=S3Out)*($AA142=S4Out)*($AB142=S5Out)*($AC142=S6Out)*($AD142=S7Out)),0)),0)","v":0},0,"","","","","",{"$f":"IFERROR(INDEX(AASR,MATCH(1,(($AG142=AA1Out)*($AH142=AA2Out)*($AI142=AA3Out)*($AJ142=AA4Out)*($AK142=AA5Out)),0)),0)","v":0},0,0,0,"BLANK"]
[121,null,"","",{"$nulls":5},{"$f":"IF(ELO_Time[[#This Row],[Time  (hours) 6 min = 0.1 hr]]=\"\",\"\",SUM(G143:I143))","v":""},{"$f":"IF(ELO_Time[[#This Row],[Time  (hours) 6 min = 0.1 hr]]=\"\",\"\",ELO_Time[[#This Row],[Time  (hours) 6 min = 0.1 hr]]*ELO_Time[[#This Row],[KSA Total\n (0 - 18)]])","v":""},null,{"$f":"IFERROR(IF(CoreCapInput=\"None\",\"None\",VLOOKUP(CoreCapInput,CC!$A$2:$D$49,4)),\"\")","v":""},null,0,"","","","","","",{"$f":"IFERROR(INDEX(KSR,MATCH(1,(($P143=K1Out)*($Q143=K2Out)*($R143=K3Out)*($S143=K4Out)*($T143=K5Out)*($U143=K6Out)),0)),0)","v":0},0,"","","","","","","",{"$f":"IFERROR(INDEX(SSR,MATCH(1,(($X143=S1Out)*($Y143=S2Out)*($Z143=S3Out)*($AA143=S4Out)*($AB143=S5Out)*($AC143=S6Out)*($AD143=S7Out)),0)),0)","v":0},0,"","","","","",{"$f":"IFERROR(INDEX(AASR,MATCH(1,(($AG143=AA1Out)*($AH143=AA2Out)*($AI143=AA3Out)*($AJ143=AA4Out)*($AK143=AA5Out)),0)),0)","v":0},0,0,0,"BLANK"]
[122,null,"","",{"$nulls":5},{"$f":"IF(ELO_Time[[#This Row],[Time  (hours) 6 min = 0.1 hr]]=\"\",\"\",SUM(G144:I144))","v":""},{"$f":"IF(ELO_Time[[#This Row],[Time  (hours) 6 min = 0.1 hr]]=\"\",\"\",ELO_Time[[#This Row],[Time  (hours) 6 min = 0.1 hr]]*ELO_Time[[#This Row],[KSA Total\n (0 - 18)]])","v":""},null,{"$f":"IFERROR(IF(CoreCapInput=\"None\",\"None\",VLOOKUP(CoreCapInput,CC!$A$2:$D$49,4)),\"\")","v":""},null,0,"","","","","","",{"$f":"IFERROR(INDEX(KSR,MATCH(1,(($P144=K1Out)*($Q144=K2Out)*($R144=K3Out)*($S144=K4Out)*($T144=K5Out)*($U144=K6Out)),0)),0)","v":0},0,"","","","","","","",{"$f":"IFERROR(INDEX(SSR,MATCH(1,(($X144=S1Out)*($Y144=S2Out)*($Z144=S3Out)*($AA144=S4Out)*($AB144=S5Out)*($AC144=S6Out)*($AD144=S7Out)),0)),0)","v":0},0,"","","","","",{"$f":"IFERROR(INDEX(AASR,MATCH(1,(($AG144=AA1Out)*($AH144=AA2Out)*($AI144=AA3Out)*($AJ144=AA4Out)*($AK144=AA5Out)),0)),0)","v":0},0,0,0,"BLANK"]
[123,null,"","",{"$nulls":5},{"$f":"IF(ELO_Time[[#This Row],[Time  (hours) 6 min = 0.1 hr]]=\"\",\"\",SUM(G145:I145))","v":""},{"$f":"IF(ELO_Time[[#This Row],[Time  (hours) 6 min = 0.1 hr]]=\"\",\"\",ELO_Time[[#This Row],[Time  (hours) 6 min = 0.1 hr]]*ELO_Time[[#This Row],[KSA Total\n (0 - 18)]])","v":""},null,{"$f":"IFERROR(IF(CoreCapInput=\"None\",\"None\",VLOOKUP(CoreCapInput,CC!$A$2:$D$49,4)),\"\")","v":""},null,0,"","","","","","",{"$f":"IFERROR(INDEX(KSR,MATCH(1,(($P145=K1Out)*($Q145=K2Out)*($R145=K3Out)*($S145=K4Out)*($T145=K5Out)*($U145=K6Out)),0)),0)","v":0},0,"","","","","","","",{"$f":"IFERROR(INDEX(SSR,MATCH(1,(($X145=S1Out)*($Y145=S2Out)*($Z145=S3Out)*($AA145=S4Out)*($AB145=S5Out)*($AC145=S6Out)*($AD145=S7Out)),0)),0)","v":0},0,"","","","","",{"$f":"IFERROR(INDEX(AASR,MATCH(1,(($AG145=AA1Out)*($AH145=AA2Out)*($AI145=AA3Out)*($AJ145=AA4Out)*($AK145=AA5Out)),0)),0)","v":0},0,0,0,"BLANK"]
[124,null,"","",{"$nulls":5},{"$f":"IF(ELO_Time[[#This Row],[Time  (hours) 6 min = 0.1 hr]]=\"\",\"\",SUM(G146:I146))","v":""},{"$f":"IF(ELO_Time[[#This Row],[Time  (hours) 6 min = 0.1 hr]]=\"\",\"\",ELO_Time[[#This Row],[Time  (hours) 6 min = 0.1 hr]]*ELO_Time[[#This Row],[KSA Total\n (0 - 18)]])","v":""},null,{"$f":"IFERROR(IF(CoreCapInput=\"None\",\"None\",VLOOKUP(CoreCapInput,CC!$A$2:$D$49,4)),\"\")","v":""},null,0,"","","","","","",{"$f":"IFERROR(INDEX(KSR,MATCH(1,(($P146=K1Out)*($Q146=K2Out)*($R146=K3Out)*($S146=K4Out)*($T146=K5Out)*($U146=K6Out)),0)),0)","v":0},0,"","","","","","","",{"$f":"IFERROR(INDEX(SSR,MATCH(1,(($X146=S1Out)*($Y146=S2Out)*($Z146=S3Out)*($AA146=S4Out)*($AB146=S5Out)*($AC146=S6Out)*($AD146=S7Out)),0)),0)","v":0},0,"","","","","",{"$f":"IFERROR(INDEX(AASR,MATCH(1,(($AG146=AA1Out)*($AH146=AA2Out)*($AI146=AA3Out)*($AJ146=AA4Out)*($AK146=AA5Out)),0)),0)","v":0},0,0,0,"BLANK"]
[125,null,"","",{"$nulls":5},{"$f":"IF(ELO_Time[[#This Row],[Time  (hours) 6 min = 0.1 hr]]=\"\",\"\",SUM(G147:I147))","v":""},{"$f":"IF(ELO_Time[[#This Row],[Time  (hours) 6 min = 0.1 hr]]=\"\",\"\",ELO_Time[[#This Row],[Time  (hours) 6 min = 0.1 hr]]*ELO_Time[[#This Row],[KSA Total\n (0 - 18)]])","v":""},null,{"$f":"IFERROR(IF(CoreCapInput=\"None\",\"None\",VLOOKUP(CoreCapInput,CC!$A$2:$D$49,4)),\"\")","v":""},null,0,"","","","","","",{"$f":"IFERROR(INDEX(KSR,MATCH(1,(($P147=K1Out)*($Q147=K2Out)*($R147=K3Out)*($S147=K4Out)*($T147=K5Out)*($U147=K6Out)),0)),0)","v":0},0,"","","","","","","",{"$f":"IFERROR(INDEX(SSR,MATCH(1,(($X147=S1Out)*($Y147=S2Out)*($Z147=S3Out)*($AA147=S4Out)*($AB147=S5Out)*($AC147=S6Out)*($AD147=S7Out)),0)),0)","v":0},0,"","","","","",{"$f":"IFERROR(INDEX(AASR,MATCH(1,(($AG147=AA1Out)*($AH147=AA2Out)*($AI147=AA3Out)*($AJ147=AA4Out)*($AK147=AA5Out)),0)),0)","v":0},{"$f":"(IF(ISNUMBER(O147) = FALSE, 0, O147) + IF(ISNUMBER(P147) = FALSE, 0, P147)+ IF(ISNUMBER(Q147) = FALSE, 0, Q147) + IF(ISNUMBER(R147) = FALSE, 0, R147) + IF(ISNUMBER(S147) = FALSE, 0, S147) + IF(ISNUMBER(T147) = FALSE, 0, T147)) + IF(ISNUMBER(U147) = FALSE, 0, U147)","v":0},{"$f":"(IF(ISNUMBER(W147) = FALSE, 0, W147) + IF(ISNUMBER(X147) = FALSE, 0, X147)+ IF(ISNUMBER(Y147) = FALSE, 0, Y147) + IF(ISNUMBER(Z147) = FALSE, 0, Z147) + IF(ISNUMBER(AA147) = FALSE, 0, AA147) + IF(ISNUMBER(AB147) = FALSE, 0, AB147)) + IF(ISNUMBER(AC147) = FALSE, 0, AC147) + IF(ISNUMBER(AD147) = FALSE, 0, AD147)","v":0},{"$f":"(IF(ISNUMBER(AF147) = FALSE, 0, AF147) + IF(ISNUMBER(AG147) = FALSE, 0, AG147)+ IF(ISNUMBER(AH147) = FALSE, 0, AH147) + IF(ISNUMBER(AI147) = FALSE, 0, AI147) + IF(ISNUMBER(AJ147) = FALSE, 0, AJ147)+ IF(ISNUMBER(AK147) = FALSE, 0,AK147))","v":0},"BLANK"]
[126,null,"","",{"$nulls":5},{"$f":"IF(ELO_Time[[#This Row],[Time  (hours) 6 min = 0.1 hr]]=\"\",\"\",SUM(G148:I148))","v":""},{"$f":"IF(ELO_Time[[#This Row],[Time  (hours) 6 min = 0.1 hr]]=\"\",\"\",ELO_Time[[#This Row],[Time  (hours) 6 min = 0.1 hr]]*ELO_Time[[#This Row],[KSA Total\n (0 - 18)]])","v":""},null,{"$f":"IFERROR(IF(CoreCapInput=\"None\",\"None\",VLOOKUP(CoreCapInput,CC!$A$2:$D$49,4)),\"\")","v":""},null,0,"","","","","","",{"$f":"IFERROR(INDEX(KSR,MATCH(1,(($P148=K1Out)*($Q148=K2Out)*($R148=K3Out)*($S148=K4Out)*($T148=K5Out)*($U148=K6Out)),0)),0)","v":0},0,"","","","","","","",{"$f":"IFERROR(INDEX(SSR,MATCH(1,(($X148=S1Out)*($Y148=S2Out)*($Z148=S3Out)*($AA148=S4Out)*($AB148=S5Out)*($AC148=S6Out)*($AD148=S7Out)),0)),0)","v":0},0,"","","","","",{"$f":"IFERROR(INDEX(AASR,MATCH(1,(($AG148=AA1Out)*($AH148=AA2Out)*($AI148=AA3Out)*($AJ148=AA4Out)*($AK148=AA5Out)),0)),0)","v":0},0,0,0,"BLANK"]
[127,null,"","",{"$nulls":5},{"$f":"IF(ELO_Time[[#This Row],[Time  (hours) 6 min = 0.1 hr]]=\"\",\"\",SUM(G149:I149))","v":""},{"$f":"IF(ELO_Time[[#This Row],[Time  (hours) 6 min = 0.1 hr]]=\"\",\"\",ELO_Time[[#This Row],[Time  (hours) 6 min = 0.1 hr]]*ELO_Time[[#This Row],[KSA Total\n (0 - 18)]])","v":""},null,{"$f":"IFERROR(IF(CoreCapInput=\"None\",\"None\",VLOOKUP(CoreCapInput,CC!$A$2:$D$49,4)),\"\")","v":""},null,0,"","","","","","",{"$f":"IFERROR(INDEX(KSR,MATCH(1,(($P149=K1Out)*($Q149=K2Out)*($R149=K3Out)*($S149=K4Out)*($T149=K5Out)*($U149=K6Out)),0)),0)","v":0},0,"","","","","","","",{"$f":"IFERROR(INDEX(SSR,MATCH(1,(($X149=S1Out)*($Y149=S2Out)*($Z149=S3Out)*($AA149=S4Out)*($AB149=S5Out)*($AC149=S6Out)*($AD149=S7Out)),0)),0)","v":0},0,"","","","","",{"$f":"IFERROR(INDEX(AASR,MATCH(1,(($AG149=AA1Out)*($AH149=AA2Out)*($AI149=AA3Out)*($AJ149=AA4Out)*($AK149=AA5Out)),0)),0)","v":0},0,0,0,"BLANK"]
[128,null,"","",{"$nulls":5},{"$f":"IF(ELO_Time[[#This Row],[Time  (hours) 6 min = 0.1 hr]]=\"\",\"\",SUM(G150:I150))","v":""},{"$f":"IF(ELO_Time[[#This Row],[Time  (hours) 6 min = 0.1 hr]]=\"\",\"\",ELO_Time[[#This Row],[Time  (hours) 6 min = 0.1 hr]]*ELO_Time[[#This Row],[KSA Total\n (0 - 18)]])","v":""},null,{"$f":"IFERROR(IF(CoreCapInput=\"None\",\"None\",VLOOKUP(CoreCapInput,CC!$A$2:$D$49,4)),\"\")","v":""},null,0,"","","","","","",{"$f":"IFERROR(INDEX(KSR,MATCH(1,(($P150=K1Out)*($Q150=K2Out)*($R150=K3Out)*($S150=K4Out)*($T150=K5Out)*($U150=K6Out)),0)),0)","v":0},0,"","","","","","","",{"$f":"IFERROR(INDEX(SSR,MATCH(1,(($X150=S1Out)*($Y150=S2Out)*($Z150=S3Out)*($AA150=S4Out)*($AB150=S5Out)*($AC150=S6Out)*($AD150=S7Out)),0)),0)","v":0},0,"","","","","",{"$f":"IFERROR(INDEX(AASR,MATCH(1,(($AG150=AA1Out)*($AH150=AA2Out)*($AI150=AA3Out)*($AJ150=AA4Out)*($AK150=AA5Out)),0)),0)","v":0},0,0,0,"BLANK"]
[129,null,"","",{"$nulls":5},{"$f":"IF(ELO_Time[[#This Row],[Time  (hours) 6 min = 0.1 hr]]=\"\",\"\",SUM(G151:I151))","v":""},{"$f":"IF(ELO_Time[[#This Row],[Time  (hours) 6 min = 0.1 hr]]=\"\",\"\",ELO_Time[[#This Row],[Time  (hours) 6 min = 0.1 hr]]*ELO_Time[[#This Row],[KSA Total\n (0 - 18)]])","v":""},null,{"$f":"IFERROR(IF(CoreCapInput=\"None\",\"None\",VLOOKUP(CoreCapInput,CC!$A$2:$D$49,4)),\"\")","v":""},null,0,{"$f":"IF(SUMPRODUCT(--ISNUMBER(SEARCH(K_A,$D151)))>0,1,\"\")","v":""},{"$f":"IF(SUMPRODUCT(--ISNUMBER(SEARCH(K_B,$D151)))>0,2,\"\")","v":""},{"$f":"IF(SUMPRODUCT(--ISNUMBER(SEARCH(K_C,$D151)))>0,3,\"\")","v":""},{"$f":"IF(SUMPRODUCT(--ISNUMBER(SEARCH(K_D,$D151)))>0,4,\"\")","v":""},{"$f":"IF(SUMPRODUCT(--ISNUMBER(SEARCH(K_E,$D151)))>0,5,\"\")","v":""},{"$f":"IF(SUMPRODUCT(--ISNUMBER(SEARCH(K_F,$D151)))>0,6,\"\")","v":""},{"$f":"IFERROR(INDEX(KSR,MATCH(1,(($P151=K1Out)*($Q151=K2Out)*($R151=K3Out)*($S151=K4Out)*($T151=K5Out)*($U151=K6Out)),0)),0)","v":0},0,{"$f":"IF(SUMPRODUCT(--ISNUMBER(SEARCH(S_A,$D151)))>0,1,\"\")","v":""},{"$f":"IF(SUMPRODUCT(--ISNUMBER(SEARCH(S_B,$D151)))>0, 2,\"\")","v":""},{"$f":"IF(SUMPRODUCT(--ISNUMBER(SEARCH(S_C,$D151)))>0,3,\"\")","v":""},{"$f":"IF(SUMPRODUCT(--ISNUMBER(SEARCH(S_D,$D151)))>0,4,\"\")","v":""},{"$f":"IF(SUMPRODUCT(--ISNUMBER(SEARCH(S_E,$D151)))>0,5,\"\")","v":""},{"$f":"IF(SUMPRODUCT(--ISNUMBER(SEARCH(S_F,$D151)))>0,6,\"\")","v":""},{"$f":"IF(SUMPRODUCT(--ISNUMBER(SEARCH(S_G,$D151)))>0,7,\"\")","v":""},{"$f":"IFERROR(INDEX(SSR,MATCH(1,(($X151=S1Out)*($Y151=S2Out)*($Z151=S3Out)*($AA151=S4Out)*($AB151=S5Out)*($AC151=S6Out)*($AD151=S7Out)),0)),0)","v":0},0,{"$f":"IF(SUMPRODUCT(--ISNUMBER(SEARCH(AA_A,$D151)))>0,1,\"\")","v":""},{"$f":"IF(SUMPRODUCT(--ISNUMBER(SEARCH(AA_B,$D151)))>0,2,\"\")","v":""},{"$f":"IF(SUMPRODUCT(--ISNUMBER(SEARCH(AA_C,$D151)))>0,3,\"\")","v":""},{"$f":"IF(SUMPRODUCT(--ISNUMBER(SEARCH(AA_D,$D151)))>0,4,\"\")","v":""},{"$f":"IF(SUMPRODUCT(--ISNUMBER(SEARCH(AA_E,$D151)))>0,5,\"\")","v":""},{"$f":"IFERROR(INDEX(AASR,MATCH(1,(($AG151=AA1Out)*($AH151=AA2Out)*($AI151=AA3Out)*($AJ151=AA4Out)*($AK151=AA5Out)),0)),0)","v":0},0,0,0,{"$f":"IF(E151 = \"\", \"BLANK\",IF((AM151+AN151+AO151) = 0, \"A\", AM151 + AN151 + AO151))","v":"BLANK"}]
[130,null,{"$f":"IF(B152=\"\",\"\",IF(B152=B151,C151+1,1))","v":""},{"$f":"IFERROR(LEFT(E152, FIND(\" \", E152)-1), \"\")","v":""},{"$nulls":5},{"$f":"IF(ELO_Time[[#This Row],[Time  (hours) 6 min = 0.1 hr]]=\"\",\"\",SUM(G152:I152))","v":""},{"$f":"IF(ELO_Time[[#This Row],[Time  (hours) 6 min = 0.1 hr]]=\"\",\"\",ELO_Time[[#This Row],[Time  (hours) 6 min = 0.1 hr]]*ELO_Time[[#This Row],[KSA Total\n (0 - 18)]])","v":""},null,{"$f":"IFERROR(IF(CoreCapInput=\"None\",\"None\",VLOOKUP(CoreCapInput,CC!$A$2:$D$49,4)),\"\")","v":""},null,0,"","","","","","",{"$f":"IFERROR(INDEX(KSR,MATCH(1,(($P152=K1Out)*($Q152=K2Out)*($R152=K3Out)*($S152=K4Out)*($T152=K5Out)*($U152=K6Out)),0)),0)","v":0},0,"","","","","","","",{"$f":"IFERROR(INDEX(SSR,MATCH(1,(($X152=S1Out)*($Y152=S2Out)*($Z152=S3Out)*($AA152=S4Out)*($AB152=S5Out)*($AC152=S6Out)*($AD152=S7Out)),0)),0)","v":0},0,"","","","","",{"$f":"IFERROR(INDEX(AASR,MATCH(1,(($AG152=AA1Out)*($AH152=AA2Out)*($AI152=AA3Out)*($AJ152=AA4Out)*($AK152=AA5Out)),0)),0)","v":0},0,0,0,"BLANK"]
[131,null,"","",{"$nulls":5},{"$f":"IF(ELO_Time[[#This Row],[Time  (hours) 6 min = 0.1 hr]]=\"\",\"\",SUM(G153:I153))","v":""},{"$f":"IF(ELO_Time[[#This Row],[Time  (hours) 6 min = 0.1 hr]]=\"\",\"\",ELO_Time[[#This Row],[Time  (hours) 6 min = 0.1 hr]]*ELO_Time[[#This Row],[KSA Total\n (0 - 18)]])","v":""},null,{"$f":"IFERROR(IF(CoreCapInput=\"None\",\"None\",VLOOKUP(CoreCapInput,CC!$A$2:$D$49,4)),\"\")","v":""},null,0,"","","","","","",{"$f":"IFERROR(INDEX(KSR,MATCH(1,(($P153=K1Out)*($Q153=K2Out)*($R153=K3Out)*($S153=K4Out)*($T153=K5Out)*($U153=K6Out)),0)),0)","v":0},0,"","","","","","","",{"$f":"IFERROR(INDEX(SSR,MATCH(1,(($X153=S1Out)*($Y153=S2Out)*($Z153=S3Out)*($AA153=S4Out)*($AB153=S5Out)*($AC153=S6Out)*($AD153=S7Out)),0)),0)","v":0},0,"","","","","",{"$f":"IFERROR(INDEX(AASR,MATCH(1,(($AG153=AA1Out)*($AH153=AA2Out)*($AI153=AA3Out)*($AJ153=AA4Out)*($AK153=AA5Out)),0)),0)","v":0},0,0,0,"BLANK"]
[132,null,"","",{"$nulls":5},{"$f":"IF(ELO_Time[[#This Row],[Time  (hours) 6 min = 0.1 hr]]=\"\",\"\",SUM(G154:I154))","v":""},{"$f":"IF(ELO_Time[[#This Row],[Time  (hours) 6 min = 0.1 hr]]=\"\",\"\",ELO_Time[[#This Row],[Time  (hours) 6 min = 0.1 hr]]*ELO_Time[[#This Row],[KSA Total\n (0 - 18)]])","v":""},null,{"$f":"IFERROR(IF(CoreCapInput=\"None\",\"None\",VLOOKUP(CoreCapInput,CC!$A$2:$D$49,4)),\"\")","v":""},null,0,"","","","","","",{"$f":"IFERROR(INDEX(KSR,MATCH(1,(($P154=K1Out)*($Q154=K2Out)*($R154=K3Out)*($S154=K4Out)*($T154=K5Out)*($U154=K6Out)),0)),0)","v":0},0,"","","","","","","",{"$f":"IFERROR(INDEX(SSR,MATCH(1,(($X154=S1Out)*($Y154=S2Out)*($Z154=S3Out)*($AA154=S4Out)*($AB154=S5Out)*($AC154=S6Out)*($AD154=S7Out)),0)),0)","v":0},0,"","","","","",{"$f":"IFERROR(INDEX(AASR,MATCH(1,(($AG154=AA1Out)*($AH154=AA2Out)*($AI154=AA3Out)*($AJ154=AA4Out)*($AK154=AA5Out)),0)),0)","v":0},0,0,0,"BLANK"]
[133,null,"","",{"$nulls":5},{"$f":"IF(ELO_Time[[#This Row],[Time  (hours) 6 min = 0.1 hr]]=\"\",\"\",SUM(G155:I155))","v":""},{"$f":"IF(ELO_Time[[#This Row],[Time  (hours) 6 min = 0.1 hr]]=\"\",\"\",ELO_Time[[#This Row],[Time  (hours) 6 min = 0.1 hr]]*ELO_Time[[#This Row],[KSA Total\n (0 - 18)]])","v":""},null,{"$f":"IFERROR(IF(CoreCapInput=\"None\",\"None\",VLOOKUP(CoreCapInput,CC!$A$2:$D$49,4)),\"\")","v":""},null,0,"","","","","","",{"$f":"IFERROR(INDEX(KSR,MATCH(1,(($P155=K1Out)*($Q155=K2Out)*($R155=K3Out)*($S155=K4Out)*($T155=K5Out)*($U155=K6Out)),0)),0)","v":0},0,"","","","","","","",{"$f":"IFERROR(INDEX(SSR,MATCH(1,(($X155=S1Out)*($Y155=S2Out)*($Z155=S3Out)*($AA155=S4Out)*($AB155=S5Out)*($AC155=S6Out)*($AD155=S7Out)),0)),0)","v":0},0,"","","","","",{"$f":"IFERROR(INDEX(AASR,MATCH(1,(($AG155=AA1Out)*($AH155=AA2Out)*($AI155=AA3Out)*($AJ155=AA4Out)*($AK155=AA5Out)),0)),0)","v":0},0,0,0,"BLANK"]
[134,null,"","",{"$nulls":5},{"$f":"IF(ELO_Time[[#This Row],[Time  (hours) 6 min = 0.1 hr]]=\"\",\"\",SUM(G156:I156))","v":""},{"$f":"IF(ELO_Time[[#This Row],[Time  (hours) 6 min = 0.1 hr]]=\"\",\"\",ELO_Time[[#This Row],[Time  (hours) 6 min = 0.1 hr]]*ELO_Time[[#This Row],[KSA Total\n (0 - 18)]])","v":""},null,{"$f":"IFERROR(IF(CoreCapInput=\"None\",\"None\",VLOOKUP(CoreCapInput,CC!$A$2:$D$49,4)),\"\")","v":""},null,0,"","","","","","",{"$f":"IFERROR(INDEX(KSR,MATCH(1,(($P156=K1Out)*($Q156=K2Out)*($R156=K3Out)*($S156=K4Out)*($T156=K5Out)*($U156=K6Out)),0)),0)","v":0},0,"","","","","","","",{"$f":"IFERROR(INDEX(SSR,MATCH(1,(($X156=S1Out)*($Y156=S2Out)*($Z156=S3Out)*($AA156=S4Out)*($AB156=S5Out)*($AC156=S6Out)*($AD156=S7Out)),0)),0)","v":0},0,"","","","","",{"$f":"IFERROR(INDEX(AASR,MATCH(1,(($AG156=AA1Out)*($AH156=AA2Out)*($AI156=AA3Out)*($AJ156=AA4Out)*($AK156=AA5Out)),0)),0)","v":0},0,0,0,"BLANK"]
[135,null,"","",{"$nulls":5},{"$f":"IF(ELO_Time[[#This Row],[Time  (hours) 6 min = 0.1 hr]]=\"\",\"\",SUM(G157:I157))","v":""},{"$f":"IF(ELO_Time[[#This Row],[Time  (hours) 6 min = 0.1 hr]]=\"\",\"\",ELO_Time[[#This Row],[Time  (hours) 6 min = 0.1 hr]]*ELO_Time[[#This Row],[KSA Total\n (0 - 18)]])","v":""},null,{"$f":"IFERROR(IF(CoreCapInput=\"None\",\"None\",VLOOKUP(CoreCapInput,CC!$A$2:$D$49,4)),\"\")","v":""},null,0,"","","","","","",{"$f":"IFERROR(INDEX(KSR,MATCH(1,(($P157=K1Out)*($Q157=K2Out)*($R157=K3Out)*($S157=K4Out)*($T157=K5Out)*($U157=K6Out)),0)),0)","v":0},0,"","","","","","","",{"$f":"IFERROR(INDEX(SSR,MATCH(1,(($X157=S1Out)*($Y157=S2Out)*($Z157=S3Out)*($AA157=S4Out)*($AB157=S5Out)*($AC157=S6Out)*($AD157=S7Out)),0)),0)","v":0},0,"","","","","",{"$f":"IFERROR(INDEX(AASR,MATCH(1,(($AG157=AA1Out)*($AH157=AA2Out)*($AI157=AA3Out)*($AJ157=AA4Out)*($AK157=AA5Out)),0)),0)","v":0},0,0,0,"BLANK"]
[136,null,"","",{"$nulls":5},{"$f":"IF(ELO_Time[[#This Row],[Time  (hours) 6 min = 0.1 hr]]=\"\",\"\",SUM(G158:I158))","v":""},{"$f":"IF(ELO_Time[[#This Row],[Time  (hours) 6 min = 0.1 hr]]=\"\",\"\",ELO_Time[[#This Row],[Time  (hours) 6 min = 0.1 hr]]*ELO_Time[[#This Row],[KSA Total\n (0 - 18)]])","v":""},null,{"$f":"IFERROR(IF(CoreCapInput=\"None\",\"None\",VLOOKUP(CoreCapInput,CC!$A$2:$D$49,4)),\"\")","v":""},null,0,"","","","","","",{"$f":"IFERROR(INDEX(KSR,MATCH(1,(($P158=K1Out)*($Q158=K2Out)*($R158=K3Out)*($S158=K4Out)*($T158=K5Out)*($U158=K6Out)),0)),0)","v":0},0,"","","","","","","",{"$f":"IFERROR(INDEX(SSR,MATCH(1,(($X158=S1Out)*($Y158=S2Out)*($Z158=S3Out)*($AA158=S4Out)*($AB158=S5Out)*($AC158=S6Out)*($AD158=S7Out)),0)),0)","v":0},0,"","","","","",{"$f":"IFERROR(INDEX(AASR,MATCH(1,(($AG158=AA1Out)*($AH158=AA2Out)*($AI158=AA3Out)*($AJ158=AA4Out)*($AK158=AA5Out)),0)),0)","v":0},0,0,0,"BLANK"]
[137,null,"","",{"$nulls":5},{"$f":"IF(ELO_Time[[#This Row],[Time  (hours) 6 min = 0.1 hr]]=\"\",\"\",SUM(G159:I159))","v":""},{"$f":"IF(ELO_Time[[#This Row],[Time  (hours) 6 min = 0.1 hr]]=\"\",\"\",ELO_Time[[#This Row],[Time  (hours) 6 min = 0.1 hr]]*ELO_Time[[#This Row],[KSA Total\n (0 - 18)]])","v":""},null,{"$f":"IFERROR(IF(CoreCapInput=\"None\",\"None\",VLOOKUP(CoreCapInput,CC!$A$2:$D$49,4)),\"\")","v":""},null,0,"","","","","","",{"$f":"IFERROR(INDEX(KSR,MATCH(1,(($P159=K1Out)*($Q159=K2Out)*($R159=K3Out)*($S159=K4Out)*($T159=K5Out)*($U159=K6Out)),0)),0)","v":0},0,"","","","","","","",{"$f":"IFERROR(INDEX(SSR,MATCH(1,(($X159=S1Out)*($Y159=S2Out)*($Z159=S3Out)*($AA159=S4Out)*($AB159=S5Out)*($AC159=S6Out)*($AD159=S7Out)),0)),0)","v":0},0,"","","","","",{"$f":"IFERROR(INDEX(AASR,MATCH(1,(($AG159=AA1Out)*($AH159=AA2Out)*($AI159=AA3Out)*($AJ159=AA4Out)*($AK159=AA5Out)),0)),0)","v":0},0,0,0,"BLANK"]
[138,null,"","",{"$nulls":5},{"$f":"IF(ELO_Time[[#This Row],[Time  (hours) 6 min = 0.1 hr]]=\"\",\"\",SUM(G160:I160))","v":""},{"$f":"IF(ELO_Time[[#This Row],[Time  (hours) 6 min = 0.1 hr]]=\"\",\"\",ELO_Time[[#This Row],[Time  (hours) 6 min = 0.1 hr]]*ELO_Time[[#This Row],[KSA Total\n (0 - 18)]])","v":""},null,{"$f":"IFERROR(IF(CoreCapInput=\"None\",\"None\",VLOOKUP(CoreCapInput,CC!$A$2:$D$49,4)),\"\")","v":""},null,0,"","","","","","",{"$f":"IFERROR(INDEX(KSR,MATCH(1,(($P160=K1Out)*($Q160=K2Out)*($R160=K3Out)*($S160=K4Out)*($T160=K5Out)*($U160=K6Out)),0)),0)","v":0},0,"","","","","","","",{"$f":"IFERROR(INDEX(SSR,MATCH(1,(($X160=S1Out)*($Y160=S2Out)*($Z160=S3Out)*($AA160=S4Out)*($AB160=S5Out)*($AC160=S6Out)*($AD160=S7Out)),0)),0)","v":0},0,"","","","","",{"$f":"IFERROR(INDEX(AASR,MATCH(1,(($AG160=AA1Out)*($AH160=AA2Out)*($AI160=AA3Out)*($AJ160=AA4Out)*($AK160=AA5Out)),0)),0)","v":0},0,0,0,"BLANK"]
[139,null,"","",{"$nulls":5},{"$f":"IF(ELO_Time[[#This Row],[Time  (hours) 6 min = 0.1 hr]]=\"\",\"\",SUM(G161:I161))","v":""},{"$f":"IF(ELO_Time[[#This Row],[Time  (hours) 6 min = 0.1 hr]]=\"\",\"\",ELO_Time[[#This Row],[Time  (hours) 6 min = 0.1 hr]]*ELO_Time[[#This Row],[KSA Total\n (0 - 18)]])","v":""},null,{"$f":"IFERROR(IF(CoreCapInput=\"None\",\"None\",VLOOKUP(CoreCapInput,CC!$A$2:$D$49,4)),\"\")","v":""},null,0,"","","","","","",{"$f":"IFERROR(INDEX(KSR,MATCH(1,(($P161=K1Out)*($Q161=K2Out)*($R161=K3Out)*($S161=K4Out)*($T161=K5Out)*($U161=K6Out)),0)),0)","v":0},0,"","","","","","","",{"$f":"IFERROR(INDEX(SSR,MATCH(1,(($X161=S1Out)*($Y161=S2Out)*($Z161=S3Out)*($AA161=S4Out)*($AB161=S5Out)*($AC161=S6Out)*($AD161=S7Out)),0)),0)","v":0},0,"","","","","",{"$f":"IFERROR(INDEX(AASR,MATCH(1,(($AG161=AA1Out)*($AH161=AA2Out)*($AI161=AA3Out)*($AJ161=AA4Out)*($AK161=AA5Out)),0)),0)","v":0},0,0,0,"BLANK"]
[140,null,"","",{"$nulls":5},{"$f":"IF(ELO_Time[[#This Row],[Time  (hours) 6 min = 0.1 hr]]=\"\",\"\",SUM(G162:I162))","v":""},{"$f":"IF(ELO_Time[[#This Row],[Time  (hours) 6 min = 0.1 hr]]=\"\",\"\",ELO_Time[[#This Row],[Time  (hours) 6 min = 0.1 hr]]*ELO_Time[[#This Row],[KSA Total\n (0 - 18)]])","v":""},null,{"$f":"IFERROR(IF(CoreCapInput=\"None\",\"None\",VLOOKUP(CoreCapInput,CC!$A$2:$D$49,4)),\"\")","v":""},null,0,"","","","","","",{"$f":"IFERROR(INDEX(KSR,MATCH(1,(($P162=K1Out)*($Q162=K2Out)*($R162=K3Out)*($S162=K4Out)*($T162=K5Out)*($U162=K6Out)),0)),0)","v":0},0,"","","","","","","",{"$f":"IFERROR(INDEX(SSR,MATCH(1,(($X162=S1Out)*($Y162=S2Out)*($Z162=S3Out)*($AA162=S4Out)*($AB162=S5Out)*($AC162=S6Out)*($AD162=S7Out)),0)),0)","v":0},0,"","","","","",{"$f":"IFERROR(INDEX(AASR,MATCH(1,(($AG162=AA1Out)*($AH162=AA2Out)*($AI162=AA3Out)*($AJ162=AA4Out)*($AK162=AA5Out)),0)),0)","v":0},0,0,0,"BLANK"]
[141,null,"","",{"$nulls":5},{"$f":"IF(ELO_Time[[#This Row],[Time  (hours) 6 min = 0.1 hr]]=\"\",\"\",SUM(G163:I163))","v":""},{"$f":"IF(ELO_Time[[#This Row],[Time  (hours) 6 min = 0.1 hr]]=\"\",\"\",ELO_Time[[#This Row],[Time  (hours) 6 min = 0.1 hr]]*ELO_Time[[#This Row],[KSA Total\n (0 - 18)]])","v":""},null,{"$f":"IFERROR(IF(CoreCapInput=\"None\",\"None\",VLOOKUP(CoreCapInput,CC!$A$2:$D$49,4)),\"\")","v":""},null,0,"","","","","","",{"$f":"IFERROR(INDEX(KSR,MATCH(1,(($P163=K1Out)*($Q163=K2Out)*($R163=K3Out)*($S163=K4Out)*($T163=K5Out)*($U163=K6Out)),0)),0)","v":0},0,"","","","","","","",{"$f":"IFERROR(INDEX(SSR,MATCH(1,(($X163=S1Out)*($Y163=S2Out)*($Z163=S3Out)*($AA163=S4Out)*($AB163=S5Out)*($AC163=S6Out)*($AD163=S7Out)),0)),0)","v":0},0,"","","","","",{"$f":"IFERROR(INDEX(AASR,MATCH(1,(($AG163=AA1Out)*($AH163=AA2Out)*($AI163=AA3Out)*($AJ163=AA4Out)*($AK163=AA5Out)),0)),0)","v":0},0,0,0,"BLANK"]
[142,null,"","",{"$nulls":5},{"$f":"IF(ELO_Time[[#This Row],[Time  (hours) 6 min = 0.1 hr]]=\"\",\"\",SUM(G164:I164))","v":""},{"$f":"IF(ELO_Time[[#This Row],[Time  (hours) 6 min = 0.1 hr]]=\"\",\"\",ELO_Time[[#This Row],[Time  (hours) 6 min = 0.1 hr]]*ELO_Time[[#This Row],[KSA Total\n (0 - 18)]])","v":""},null,{"$f":"IFERROR(IF(CoreCapInput=\"None\",\"None\",VLOOKUP(CoreCapInput,CC!$A$2:$D$49,4)),\"\")","v":""},null,0,"","","","","","",{"$f":"IFERROR(INDEX(KSR,MATCH(1,(($P164=K1Out)*($Q164=K2Out)*($R164=K3Out)*($S164=K4Out)*($T164=K5Out)*($U164=K6Out)),0)),0)","v":0},0,"","","","","","","",{"$f":"IFERROR(INDEX(SSR,MATCH(1,(($X164=S1Out)*($Y164=S2Out)*($Z164=S3Out)*($AA164=S4Out)*($AB164=S5Out)*($AC164=S6Out)*($AD164=S7Out)),0)),0)","v":0},0,"","","","","",{"$f":"IFERROR(INDEX(AASR,MATCH(1,(($AG164=AA1Out)*($AH164=AA2Out)*($AI164=AA3Out)*($AJ164=AA4Out)*($AK164=AA5Out)),0)),0)","v":0},0,0,0,"BLANK"]
[143,null,"","",{"$nulls":5},{"$f":"IF(ELO_Time[[#This Row],[Time  (hours) 6 min = 0.1 hr]]=\"\",\"\",SUM(G165:I165))","v":""},{"$f":"IF(ELO_Time[[#This Row],[Time  (hours) 6 min = 0.1 hr]]=\"\",\"\",ELO_Time[[#This Row],[Time  (hours) 6 min = 0.1 hr]]*ELO_Time[[#This Row],[KSA Total\n (0 - 18)]])","v":""},null,{"$f":"IFERROR(IF(CoreCapInput=\"None\",\"None\",VLOOKUP(CoreCapInput,CC!$A$2:$D$49,4)),\"\")","v":""},null,0,"","","","","","",{"$f":"IFERROR(INDEX(KSR,MATCH(1,(($P165=K1Out)*($Q165=K2Out)*($R165=K3Out)*($S165=K4Out)*($T165=K5Out)*($U165=K6Out)),0)),0)","v":0},0,"","","","","","","",{"$f":"IFERROR(INDEX(SSR,MATCH(1,(($X165=S1Out)*($Y165=S2Out)*($Z165=S3Out)*($AA165=S4Out)*($AB165=S5Out)*($AC165=S6Out)*($AD165=S7Out)),0)),0)","v":0},0,"","","","","",{"$f":"IFERROR(INDEX(AASR,MATCH(1,(($AG165=AA1Out)*($AH165=AA2Out)*($AI165=AA3Out)*($AJ165=AA4Out)*($AK165=AA5Out)),0)),0)","v":0},0,0,0,"BLANK"]
[144,null,"","",{"$nulls":5},{"$f":"IF(ELO_Time[[#This Row],[Time  (hours) 6 min = 0.1 hr]]=\"\",\"\",SUM(G166:I166))","v":""},{"$f":"IF(ELO_Time[[#This Row],[Time  (hours) 6 min = 0.1 hr]]=\"\",\"\",ELO_Time[[#This Row],[Time  (hours) 6 min = 0.1 hr]]*ELO_Time[[#This Row],[KSA Total\n (0 - 18)]])","v":""},null,{"$f":"IFERROR(IF(CoreCapInput=\"None\",\"None\",VLOOKUP(CoreCapInput,CC!$A$2:$D$49,4)),\"\")","v":""},null,0,"","","","","","",{"$f":"IFERROR(INDEX(KSR,MATCH(1,(($P166=K1Out)*($Q166=K2Out)*($R166=K3Out)*($S166=K4Out)*($T166=K5Out)*($U166=K6Out)),0)),0)","v":0},0,"","","","","","","",{"$f":"IFERROR(INDEX(SSR,MATCH(1,(($X166=S1Out)*($Y166=S2Out)*($Z166=S3Out)*($AA166=S4Out)*($AB166=S5Out)*($AC166=S6Out)*($AD166=S7Out)),0)),0)","v":0},0,"","","","","",{"$f":"IFERROR(INDEX(AASR,MATCH(1,(($AG166=AA1Out)*($AH166=AA2Out)*($AI166=AA3Out)*($AJ166=AA4Out)*($AK166=AA5Out)),0)),0)","v":0},0,0,0,"BLANK"]
[145,null,"","",{"$nulls":5},{"$f":"IF(ELO_Time[[#This Row],[Time  (hours) 6 min = 0.1 hr]]=\"\",\"\",SUM(G167:I167))","v":""},{"$f":"IF(ELO_Time[[#This Row],[Time  (hours) 6 min = 0.1 hr]]=\"\",\"\",ELO_Time[[#This Row],[Time  (hours) 6 min = 0.1 hr]]*ELO_Time[[#This Row],[KSA Total\n (0 - 18)]])","v":""},null,{"$f":"IFERROR(IF(CoreCapInput=\"None\",\"None\",VLOOKUP(CoreCapInput,CC!$A$2:$D$49,4)),\"\")","v":""},null,0,"","","","","","",{"$f":"IFERROR(INDEX(KSR,MATCH(1,(($P167=K1Out)*($Q167=K2Out)*($R167=K3Out)*($S167=K4Out)*($T167=K5Out)*($U167=K6Out)),0)),0)","v":0},0,"","","","","","","",{"$f":"IFERROR(INDEX(SSR,MATCH(1,(($X167=S1Out)*($Y167=S2Out)*($Z167=S3Out)*($AA167=S4Out)*($AB167=S5Out)*($AC167=S6Out)*($AD167=S7Out)),0)),0)","v":0},0,"","","","","",{"$f":"IFERROR(INDEX(AASR,MATCH(1,(($AG167=AA1Out)*($AH167=AA2Out)*($AI167=AA3Out)*($AJ167=AA4Out)*($AK167=AA5Out)),0)),0)","v":0},0,0,0,"BLANK"]
[146,null,"","",{"$nulls":5},{"$f":"IF(ELO_Time[[#This Row],[Time  (hours) 6 min = 0.1 hr]]=\"\",\"\",SUM(G168:I168))","v":""},{"$f":"IF(ELO_Time[[#This Row],[Time  (hours) 6 min = 0.1 hr]]=\"\",\"\",ELO_Time[[#This Row],[Time  (hours) 6 min = 0.1 hr]]*ELO_Time[[#This Row],[KSA Total\n (0 - 18)]])","v":""},null,{"$f":"IFERROR(IF(CoreCapInput=\"None\",\"None\",VLOOKUP(CoreCapInput,CC!$A$2:$D$49,4)),\"\")","v":""},null,0,"","","","","","",{"$f":"IFERROR(INDEX(KSR,MATCH(1,(($P168=K1Out)*($Q168=K2Out)*($R168=K3Out)*($S168=K4Out)*($T168=K5Out)*($U168=K6Out)),0)),0)","v":0},0,"","","","","","","",{"$f":"IFERROR(INDEX(SSR,MATCH(1,(($X168=S1Out)*($Y168=S2Out)*($Z168=S3Out)*($AA168=S4Out)*($AB168=S5Out)*($AC168=S6Out)*($AD168=S7Out)),0)),0)","v":0},0,"","","","","",{"$f":"IFERROR(INDEX(AASR,MATCH(1,(($AG168=AA1Out)*($AH168=AA2Out)*($AI168=AA3Out)*($AJ168=AA4Out)*($AK168=AA5Out)),0)),0)","v":0},0,0,0,"BLANK"]
[147,null,"","",{"$nulls":5},{"$f":"IF(ELO_Time[[#This Row],[Time  (hours) 6 min = 0.1 hr]]=\"\",\"\",SUM(G169:I169))","v":""},{"$f":"IF(ELO_Time[[#This Row],[Time  (hours) 6 min = 0.1 hr]]=\"\",\"\",ELO_Time[[#This Row],[Time  (hours) 6 min = 0.1 hr]]*ELO_Time[[#This Row],[KSA Total\n (0 - 18)]])","v":""},null,{"$f":"IFERROR(IF(CoreCapInput=\"None\",\"None\",VLOOKUP(CoreCapInput,CC!$A$2:$D$49,4)),\"\")","v":""},null,0,"","","","","","",{"$f":"IFERROR(INDEX(KSR,MATCH(1,(($P169=K1Out)*($Q169=K2Out)*($R169=K3Out)*($S169=K4Out)*($T169=K5Out)*($U169=K6Out)),0)),0)","v":0},0,"","","","","","","",{"$f":"IFERROR(INDEX(SSR,MATCH(1,(($X169=S1Out)*($Y169=S2Out)*($Z169=S3Out)*($AA169=S4Out)*($AB169=S5Out)*($AC169=S6Out)*($AD169=S7Out)),0)),0)","v":0},0,"","","","","",{"$f":"IFERROR(INDEX(AASR,MATCH(1,(($AG169=AA1Out)*($AH169=AA2Out)*($AI169=AA3Out)*($AJ169=AA4Out)*($AK169=AA5Out)),0)),0)","v":0},0,0,0,"BLANK"]
[148,null,"","",{"$nulls":5},{"$f":"IF(ELO_Time[[#This Row],[Time  (hours) 6 min = 0.1 hr]]=\"\",\"\",SUM(G170:I170))","v":""},{"$f":"IF(ELO_Time[[#This Row],[Time  (hours) 6 min = 0.1 hr]]=\"\",\"\",ELO_Time[[#This Row],[Time  (hours) 6 min = 0.1 hr]]*ELO_Time[[#This Row],[KSA Total\n (0 - 18)]])","v":""},null,{"$f":"IFERROR(IF(CoreCapInput=\"None\",\"None\",VLOOKUP(CoreCapInput,CC!$A$2:$D$49,4)),\"\")","v":""},null,0,"","","","","","",{"$f":"IFERROR(INDEX(KSR,MATCH(1,(($P170=K1Out)*($Q170=K2Out)*($R170=K3Out)*($S170=K4Out)*($T170=K5Out)*($U170=K6Out)),0)),0)","v":0},0,"","","","","","","",{"$f":"IFERROR(INDEX(SSR,MATCH(1,(($X170=S1Out)*($Y170=S2Out)*($Z170=S3Out)*($AA170=S4Out)*($AB170=S5Out)*($AC170=S6Out)*($AD170=S7Out)),0)),0)","v":0},0,"","","","","",{"$f":"IFERROR(INDEX(AASR,MATCH(1,(($AG170=AA1Out)*($AH170=AA2Out)*($AI170=AA3Out)*($AJ170=AA4Out)*($AK170=AA5Out)),0)),0)","v":0},0,0,0,"BLANK"]
[149,null,"","",{"$nulls":5},{"$f":"IF(ELO_Time[[#This Row],[Time  (hours) 6 min = 0.1 hr]]=\"\",\"\",SUM(G171:I171))","v":""},{"$f":"IF(ELO_Time[[#This Row],[Time  (hours) 6 min = 0.1 hr]]=\"\",\"\",ELO_Time[[#This Row],[Time  (hours) 6 min = 0.1 hr]]*ELO_Time[[#This Row],[KSA Total\n (0 - 18)]])","v":""},null,{"$f":"IFERROR(IF(CoreCapInput=\"None\",\"None\",VLOOKUP(CoreCapInput,CC!$A$2:$D$49,4)),\"\")","v":""},null,0,"","","","","","",{"$f":"IFERROR(INDEX(KSR,MATCH(1,(($P171=K1Out)*($Q171=K2Out)*($R171=K3Out)*($S171=K4Out)*($T171=K5Out)*($U171=K6Out)),0)),0)","v":0},0,"","","","","","","",{"$f":"IFERROR(INDEX(SSR,MATCH(1,(($X171=S1Out)*($Y171=S2Out)*($Z171=S3Out)*($AA171=S4Out)*($AB171=S5Out)*($AC171=S6Out)*($AD171=S7Out)),0)),0)","v":0},0,"","","","","",{"$f":"IFERROR(INDEX(AASR,MATCH(1,(($AG171=AA1Out)*($AH171=AA2Out)*($AI171=AA3Out)*($AJ171=AA4Out)*($AK171=AA5Out)),0)),0)","v":0},0,0,0,"BLANK"]
[150,null,"","",{"$nulls":5},{"$f":"IF(ELO_Time[[#This Row],[Time  (hours) 6 min = 0.1 hr]]=\"\",\"\",SUM(G172:I172))","v":""},{"$f":"IF(ELO_Time[[#This Row],[Time  (hours) 6 min = 0.1 hr]]=\"\",\"\",ELO_Time[[#This Row],[Time  (hours) 6 min = 0.1 hr]]*ELO_Time[[#This Row],[KSA Total\n (0 - 18)]])","v":""},null,{"$f":"IFERROR(IF(CoreCapInput=\"None\",\"None\",VLOOKUP(CoreCapInput,CC!$A$2:$D$49,4)),\"\")","v":""},null,0,"","","","","","",{"$f":"IFERROR(INDEX(KSR,MATCH(1,(($P172=K1Out)*($Q172=K2Out)*($R172=K3Out)*($S172=K4Out)*($T172=K5Out)*($U172=K6Out)),0)),0)","v":0},0,"","","","","","","",{"$f":"IFERROR(INDEX(SSR,MATCH(1,(($X172=S1Out)*($Y172=S2Out)*($Z172=S3Out)*($AA172=S4Out)*($AB172=S5Out)*($AC172=S6Out)*($AD172=S7Out)),0)),0)","v":0},0,"","","","","",{"$f":"IFERROR(INDEX(AASR,MATCH(1,(($AG172=AA1Out)*($AH172=AA2Out)*($AI172=AA3Out)*($AJ172=AA4Out)*($AK172=AA5Out)),0)),0)","v":0},0,0,0,"BLANK"]
[151,null,"","",{"$nulls":5},{"$f":"IF(ELO_Time[[#This Row],[Time  (hours) 6 min = 0.1 hr]]=\"\",\"\",SUM(G173:I173))","v":""},{"$f":"IF(ELO_Time[[#This Row],[Time  (hours) 6 min = 0.1 hr]]=\"\",\"\",ELO_Time[[#This Row],[Time  (hours) 6 min = 0.1 hr]]*ELO_Time[[#This Row],[KSA Total\n (0 - 18)]])","v":""},null,{"$f":"IFERROR(IF(CoreCapInput=\"None\",\"None\",VLOOKUP(CoreCapInput,CC!$A$2:$D$49,4)),\"\")","v":""},null,0,"","","","","","",{"$f":"IFERROR(INDEX(KSR,MATCH(1,(($P173=K1Out)*($Q173=K2Out)*($R173=K3Out)*($S173=K4Out)*($T173=K5Out)*($U173=K6Out)),0)),0)","v":0},0,"","","","","","","",{"$f":"IFERROR(INDEX(SSR,MATCH(1,(($X173=S1Out)*($Y173=S2Out)*($Z173=S3Out)*($AA173=S4Out)*($AB173=S5Out)*($AC173=S6Out)*($AD173=S7Out)),0)),0)","v":0},0,"","","","","",{"$f":"IFERROR(INDEX(AASR,MATCH(1,(($AG173=AA1Out)*($AH173=AA2Out)*($AI173=AA3Out)*($AJ173=AA4Out)*($AK173=AA5Out)),0)),0)","v":0},0,0,0,"BLANK"]
[152,null,"","",{"$nulls":5},{"$f":"IF(ELO_Time[[#This Row],[Time  (hours) 6 min = 0.1 hr]]=\"\",\"\",SUM(G174:I174))","v":""},{"$f":"IF(ELO_Time[[#This Row],[Time  (hours) 6 min = 0.1 hr]]=\"\",\"\",ELO_Time[[#This Row],[Time  (hours) 6 min = 0.1 hr]]*ELO_Time[[#This Row],[KSA Total\n (0 - 18)]])","v":""},null,{"$f":"IFERROR(IF(CoreCapInput=\"None\",\"None\",VLOOKUP(CoreCapInput,CC!$A$2:$D$49,4)),\"\")","v":""},null,0,"","","","","","",{"$f":"IFERROR(INDEX(KSR,MATCH(1,(($P174=K1Out)*($Q174=K2Out)*($R174=K3Out)*($S174=K4Out)*($T174=K5Out)*($U174=K6Out)),0)),0)","v":0},0,"","","","","","","",{"$f":"IFERROR(INDEX(SSR,MATCH(1,(($X174=S1Out)*($Y174=S2Out)*($Z174=S3Out)*($AA174=S4Out)*($AB174=S5Out)*($AC174=S6Out)*($AD174=S7Out)),0)),0)","v":0},0,"","","","","",{"$f":"IFERROR(INDEX(AASR,MATCH(1,(($AG174=AA1Out)*($AH174=AA2Out)*($AI174=AA3Out)*($AJ174=AA4Out)*($AK174=AA5Out)),0)),0)","v":0},0,0,0,"BLANK"]
[153,null,"","",{"$nulls":5},{"$f":"IF(ELO_Time[[#This Row],[Time  (hours) 6 min = 0.1 hr]]=\"\",\"\",SUM(G175:I175))","v":""},{"$f":"IF(ELO_Time[[#This Row],[Time  (hours) 6 min = 0.1 hr]]=\"\",\"\",ELO_Time[[#This Row],[Time  (hours) 6 min = 0.1 hr]]*ELO_Time[[#This Row],[KSA Total\n (0 - 18)]])","v":""},null,{"$f":"IFERROR(IF(CoreCapInput=\"None\",\"None\",VLOOKUP(CoreCapInput,CC!$A$2:$D$49,4)),\"\")","v":""},null,0,"","","","","","",{"$f":"IFERROR(INDEX(KSR,MATCH(1,(($P175=K1Out)*($Q175=K2Out)*($R175=K3Out)*($S175=K4Out)*($T175=K5Out)*($U175=K6Out)),0)),0)","v":0},0,"","","","","","","",{"$f":"IFERROR(INDEX(SSR,MATCH(1,(($X175=S1Out)*($Y175=S2Out)*($Z175=S3Out)*($AA175=S4Out)*($AB175=S5Out)*($AC175=S6Out)*($AD175=S7Out)),0)),0)","v":0},0,"","","","","",{"$f":"IFERROR(INDEX(AASR,MATCH(1,(($AG175=AA1Out)*($AH175=AA2Out)*($AI175=AA3Out)*($AJ175=AA4Out)*($AK175=AA5Out)),0)),0)","v":0},0,0,0,"BLANK"]
[154,null,"","",{"$nulls":5},{"$f":"IF(ELO_Time[[#This Row],[Time  (hours) 6 min = 0.1 hr]]=\"\",\"\",SUM(G176:I176))","v":""},{"$f":"IF(ELO_Time[[#This Row],[Time  (hours) 6 min = 0.1 hr]]=\"\",\"\",ELO_Time[[#This Row],[Time  (hours) 6 min = 0.1 hr]]*ELO_Time[[#This Row],[KSA Total\n (0 - 18)]])","v":""},null,{"$f":"IFERROR(IF(CoreCapInput=\"None\",\"None\",VLOOKUP(CoreCapInput,CC!$A$2:$D$49,4)),\"\")","v":""},null,0,"","","","","","",{"$f":"IFERROR(INDEX(KSR,MATCH(1,(($P176=K1Out)*($Q176=K2Out)*($R176=K3Out)*($S176=K4Out)*($T176=K5Out)*($U176=K6Out)),0)),0)","v":0},0,"","","","","","","",{"$f":"IFERROR(INDEX(SSR,MATCH(1,(($X176=S1Out)*($Y176=S2Out)*($Z176=S3Out)*($AA176=S4Out)*($AB176=S5Out)*($AC176=S6Out)*($AD176=S7Out)),0)),0)","v":0},0,"","","","","",{"$f":"IFERROR(INDEX(AASR,MATCH(1,(($AG176=AA1Out)*($AH176=AA2Out)*($AI176=AA3Out)*($AJ176=AA4Out)*($AK176=AA5Out)),0)),0)","v":0},0,0,0,"BLANK"]
[155,null,"","",{"$nulls":5},{"$f":"IF(ELO_Time[[#This Row],[Time  (hours) 6 min = 0.1 hr]]=\"\",\"\",SUM(G177:I177))","v":""},{"$f":"IF(ELO_Time[[#This Row],[Time  (hours) 6 min = 0.1 hr]]=\"\",\"\",ELO_Time[[#This Row],[Time  (hours) 6 min = 0.1 hr]]*ELO_Time[[#This Row],[KSA Total\n (0 - 18)]])","v":""},null,{"$f":"IFERROR(IF(CoreCapInput=\"None\",\"None\",VLOOKUP(CoreCapInput,CC!$A$2:$D$49,4)),\"\")","v":""},null,0,"","","","","","",{"$f":"IFERROR(INDEX(KSR,MATCH(1,(($P177=K1Out)*($Q177=K2Out)*($R177=K3Out)*($S177=K4Out)*($T177=K5Out)*($U177=K6Out)),0)),0)","v":0},0,"","","","","","","",{"$f":"IFERROR(INDEX(SSR,MATCH(1,(($X177=S1Out)*($Y177=S2Out)*($Z177=S3Out)*($AA177=S4Out)*($AB177=S5Out)*($AC177=S6Out)*($AD177=S7Out)),0)),0)","v":0},0,"","","","","",{"$f":"IFERROR(INDEX(AASR,MATCH(1,(($AG177=AA1Out)*($AH177=AA2Out)*($AI177=AA3Out)*($AJ177=AA4Out)*($AK177=AA5Out)),0)),0)","v":0},0,0,0,"BLANK"]
[156,null,"","",{"$nulls":5},{"$f":"IF(ELO_Time[[#This Row],[Time  (hours) 6 min = 0.1 hr]]=\"\",\"\",SUM(G178:I178))","v":""},{"$f":"IF(ELO_Time[[#This Row],[Time  (hours) 6 min = 0.1 hr]]=\"\",\"\",ELO_Time[[#This Row],[Time  (hours) 6 min = 0.1 hr]]*ELO_Time[[#This Row],[KSA Total\n (0 - 18)]])","v":""},null,{"$f":"IFERROR(IF(CoreCapInput=\"None\",\"None\",VLOOKUP(CoreCapInput,CC!$A$2:$D$49,4)),\"\")","v":""},null,0,"","","","","","",{"$f":"IFERROR(INDEX(KSR,MATCH(1,(($P178=K1Out)*($Q178=K2Out)*($R178=K3Out)*($S178=K4Out)*($T178=K5Out)*($U178=K6Out)),0)),0)","v":0},0,"","","","","","","",{"$f":"IFERROR(INDEX(SSR,MATCH(1,(($X178=S1Out)*($Y178=S2Out)*($Z178=S3Out)*($AA178=S4Out)*($AB178=S5Out)*($AC178=S6Out)*($AD178=S7Out)),0)),0)","v":0},0,"","","","","",{"$f":"IFERROR(INDEX(AASR,MATCH(1,(($AG178=AA1Out)*($AH178=AA2Out)*($AI178=AA3Out)*($AJ178=AA4Out)*($AK178=AA5Out)),0)),0)","v":0},0,0,0,"BLANK"]
[157,null,"","",{"$nulls":5},{"$f":"IF(ELO_Time[[#This Row],[Time  (hours) 6 min = 0.1 hr]]=\"\",\"\",SUM(G179:I179))","v":""},{"$f":"IF(ELO_Time[[#This Row],[Time  (hours) 6 min = 0.1 hr]]=\"\",\"\",ELO_Time[[#This Row],[Time  (hours) 6 min = 0.1 hr]]*ELO_Time[[#This Row],[KSA Total\n (0 - 18)]])","v":""},null,{"$f":"IFERROR(IF(CoreCapInput=\"None\",\"None\",VLOOKUP(CoreCapInput,CC!$A$2:$D$49,4)),\"\")","v":""},null,0,"","","","","","",{"$f":"IFERROR(INDEX(KSR,MATCH(1,(($P179=K1Out)*($Q179=K2Out)*($R179=K3Out)*($S179=K4Out)*($T179=K5Out)*($U179=K6Out)),0)),0)","v":0},0,"","","","","","","",{"$f":"IFERROR(INDEX(SSR,MATCH(1,(($X179=S1Out)*($Y179=S2Out)*($Z179=S3Out)*($AA179=S4Out)*($AB179=S5Out)*($AC179=S6Out)*($AD179=S7Out)),0)),0)","v":0},0,"","","","","",{"$f":"IFERROR(INDEX(AASR,MATCH(1,(($AG179=AA1Out)*($AH179=AA2Out)*($AI179=AA3Out)*($AJ179=AA4Out)*($AK179=AA5Out)),0)),0)","v":0},{"$f":"(IF(ISNUMBER(O179) = FALSE, 0, O179) + IF(ISNUMBER(P179) = FALSE, 0, P179)+ IF(ISNUMBER(Q179) = FALSE, 0, Q179) + IF(ISNUMBER(R179) = FALSE, 0, R179) + IF(ISNUMBER(S179) = FALSE, 0, S179) + IF(ISNUMBER(T179) = FALSE, 0, T179)) + IF(ISNUMBER(U179) = FALSE, 0, U179)","v":0},{"$f":"(IF(ISNUMBER(W179) = FALSE, 0, W179) + IF(ISNUMBER(X179) = FALSE, 0, X179)+ IF(ISNUMBER(Y179) = FALSE, 0, Y179) + IF(ISNUMBER(Z179) = FALSE, 0, Z179) + IF(ISNUMBER(AA179) = FALSE, 0, AA179) + IF(ISNUMBER(AB179) = FALSE, 0, AB179)) + IF(ISNUMBER(AC179) = FALSE, 0, AC179) + IF(ISNUMBER(AD179) = FALSE, 0, AD179)","v":0},{"$f":"(IF(ISNUMBER(AF179) = FALSE, 0, AF179) + IF(ISNUMBER(AG179) = FALSE, 0, AG179)+ IF(ISNUMBER(AH179) = FALSE, 0, AH179) + IF(ISNUMBER(AI179) = FALSE, 0, AI179) + IF(ISNUMBER(AJ179) = FALSE, 0, AJ179)+ IF(ISNUMBER(AK179) = FALSE, 0,AK179))","v":0},"BLANK"]
[158,null,"","",{"$nulls":5},{"$f":"IF(ELO_Time[[#This Row],[Time  (hours) 6 min = 0.1 hr]]=\"\",\"\",SUM(G180:I180))","v":""},{"$f":"IF(ELO_Time[[#This Row],[Time  (hours) 6 min = 0.1 hr]]=\"\",\"\",ELO_Time[[#This Row],[Time  (hours) 6 min = 0.1 hr]]*ELO_Time[[#This Row],[KSA Total\n (0 - 18)]])","v":""},null,{"$f":"IFERROR(IF(CoreCapInput=\"None\",\"None\",VLOOKUP(CoreCapInput,CC!$A$2:$D$49,4)),\"\")","v":""},null,0,"","","","","","",{"$f":"IFERROR(INDEX(KSR,MATCH(1,(($P180=K1Out)*($Q180=K2Out)*($R180=K3Out)*($S180=K4Out)*($T180=K5Out)*($U180=K6Out)),0)),0)","v":0},0,"","","","","","","",{"$f":"IFERROR(INDEX(SSR,MATCH(1,(($X180=S1Out)*($Y180=S2Out)*($Z180=S3Out)*($AA180=S4Out)*($AB180=S5Out)*($AC180=S6Out)*($AD180=S7Out)),0)),0)","v":0},0,"","","","","",{"$f":"IFERROR(INDEX(AASR,MATCH(1,(($AG180=AA1Out)*($AH180=AA2Out)*($AI180=AA3Out)*($AJ180=AA4Out)*($AK180=AA5Out)),0)),0)","v":0},0,0,0,"BLANK"]
[159,null,"","",{"$nulls":5},{"$f":"IF(ELO_Time[[#This Row],[Time  (hours) 6 min = 0.1 hr]]=\"\",\"\",SUM(G181:I181))","v":""},{"$f":"IF(ELO_Time[[#This Row],[Time  (hours) 6 min = 0.1 hr]]=\"\",\"\",ELO_Time[[#This Row],[Time  (hours) 6 min = 0.1 hr]]*ELO_Time[[#This Row],[KSA Total\n (0 - 18)]])","v":""},null,{"$f":"IFERROR(IF(CoreCapInput=\"None\",\"None\",VLOOKUP(CoreCapInput,CC!$A$2:$D$49,4)),\"\")","v":""},null,0,"","","","","","",{"$f":"IFERROR(INDEX(KSR,MATCH(1,(($P181=K1Out)*($Q181=K2Out)*($R181=K3Out)*($S181=K4Out)*($T181=K5Out)*($U181=K6Out)),0)),0)","v":0},0,"","","","","","","",{"$f":"IFERROR(INDEX(SSR,MATCH(1,(($X181=S1Out)*($Y181=S2Out)*($Z181=S3Out)*($AA181=S4Out)*($AB181=S5Out)*($AC181=S6Out)*($AD181=S7Out)),0)),0)","v":0},0,"","","","","",{"$f":"IFERROR(INDEX(AASR,MATCH(1,(($AG181=AA1Out)*($AH181=AA2Out)*($AI181=AA3Out)*($AJ181=AA4Out)*($AK181=AA5Out)),0)),0)","v":0},0,0,0,"BLANK"]
[160,null,"","",{"$nulls":5},{"$f":"IF(ELO_Time[[#This Row],[Time  (hours) 6 min = 0.1 hr]]=\"\",\"\",SUM(G182:I182))","v":""},{"$f":"IF(ELO_Time[[#This Row],[Time  (hours) 6 min = 0.1 hr]]=\"\",\"\",ELO_Time[[#This Row],[Time  (hours) 6 min = 0.1 hr]]*ELO_Time[[#This Row],[KSA Total\n (0 - 18)]])","v":""},null,{"$f":"IFERROR(IF(CoreCapInput=\"None\",\"None\",VLOOKUP(CoreCapInput,CC!$A$2:$D$49,4)),\"\")","v":""},null,0,"","","","","","",{"$f":"IFERROR(INDEX(KSR,MATCH(1,(($P182=K1Out)*($Q182=K2Out)*($R182=K3Out)*($S182=K4Out)*($T182=K5Out)*($U182=K6Out)),0)),0)","v":0},0,"","","","","","","",{"$f":"IFERROR(INDEX(SSR,MATCH(1,(($X182=S1Out)*($Y182=S2Out)*($Z182=S3Out)*($AA182=S4Out)*($AB182=S5Out)*($AC182=S6Out)*($AD182=S7Out)),0)),0)","v":0},0,"","","","","",{"$f":"IFERROR(INDEX(AASR,MATCH(1,(($AG182=AA1Out)*($AH182=AA2Out)*($AI182=AA3Out)*($AJ182=AA4Out)*($AK182=AA5Out)),0)),0)","v":0},0,0,0,"BLANK"]
[161,null,"","",{"$nulls":5},{"$f":"IF(ELO_Time[[#This Row],[Time  (hours) 6 min = 0.1 hr]]=\"\",\"\",SUM(G183:I183))","v":""},{"$f":"IF(ELO_Time[[#This Row],[Time  (hours) 6 min = 0.1 hr]]=\"\",\"\",ELO_Time[[#This Row],[Time  (hours) 6 min = 0.1 hr]]*ELO_Time[[#This Row],[KSA Total\n (0 - 18)]])","v":""},null,{"$f":"IFERROR(IF(CoreCapInput=\"None\",\"None\",VLOOKUP(CoreCapInput,CC!$A$2:$D$49,4)),\"\")","v":""},null,0,{"$f":"IF(SUMPRODUCT(--ISNUMBER(SEARCH(K_A,$D183)))>0,1,\"\")","v":""},{"$f":"IF(SUMPRODUCT(--ISNUMBER(SEARCH(K_B,$D183)))>0,2,\"\")","v":""},{"$f":"IF(SUMPRODUCT(--ISNUMBER(SEARCH(K_C,$D183)))>0,3,\"\")","v":""},{"$f":"IF(SUMPRODUCT(--ISNUMBER(SEARCH(K_D,$D183)))>0,4,\"\")","v":""},{"$f":"IF(SUMPRODUCT(--ISNUMBER(SEARCH(K_E,$D183)))>0,5,\"\")","v":""},{"$f":"IF(SUMPRODUCT(--ISNUMBER(SEARCH(K_F,$D183)))>0,6,\"\")","v":""},{"$f":"IFERROR(INDEX(KSR,MATCH(1,(($P183=K1Out)*($Q183=K2Out)*($R183=K3Out)*($S183=K4Out)*($T183=K5Out)*($U183=K6Out)),0)),0)","v":0},0,{"$f":"IF(SUMPRODUCT(--ISNUMBER(SEARCH(S_A,$D183)))>0,1,\"\")","v":""},{"$f":"IF(SUMPRODUCT(--ISNUMBER(SEARCH(S_B,$D183)))>0, 2,\"\")","v":""},{"$f":"IF(SUMPRODUCT(--ISNUMBER(SEARCH(S_C,$D183)))>0,3,\"\")","v":""},{"$f":"IF(SUMPRODUCT(--ISNUMBER(SEARCH(S_D,$D183)))>0,4,\"\")","v":""},{"$f":"IF(SUMPRODUCT(--ISNUMBER(SEARCH(S_E,$D183)))>0,5,\"\")","v":""},{"$f":"IF(SUMPRODUCT(--ISNUMBER(SEARCH(S_F,$D183)))>0,6,\"\")","v":""},{"$f":"IF(SUMPRODUCT(--ISNUMBER(SEARCH(S_G,$D183)))>0,7,\"\")","v":""},{"$f":"IFERROR(INDEX(SSR,MATCH(1,(($X183=S1Out)*($Y183=S2Out)*($Z183=S3Out)*($AA183=S4Out)*($AB183=S5Out)*($AC183=S6Out)*($AD183=S7Out)),0)),0)","v":0},0,{"$f":"IF(SUMPRODUCT(--ISNUMBER(SEARCH(AA_A,$D183)))>0,1,\"\")","v":""},{"$f":"IF(SUMPRODUCT(--ISNUMBER(SEARCH(AA_B,$D183)))>0,2,\"\")","v":""},{"$f":"IF(SUMPRODUCT(--ISNUMBER(SEARCH(AA_C,$D183)))>0,3,\"\")","v":""},{"$f":"IF(SUMPRODUCT(--ISNUMBER(SEARCH(AA_D,$D183)))>0,4,\"\")","v":""},{"$f":"IF(SUMPRODUCT(--ISNUMBER(SEARCH(AA_E,$D183)))>0,5,\"\")","v":""},{"$f":"IFERROR(INDEX(AASR,MATCH(1,(($AG183=AA1Out)*($AH183=AA2Out)*($AI183=AA3Out)*($AJ183=AA4Out)*($AK183=AA5Out)),0)),0)","v":0},0,0,0,{"$f":"IF(E183 = \"\", \"BLANK\",IF((AM183+AN183+AO183) = 0, \"A\", AM183 + AN183 + AO183))","v":"BLANK"}]
[162,null,{"$f":"IF(B184=\"\",\"\",IF(B184=B183,C183+1,1))","v":""},"",{"$nulls":5},{"$f":"IF(ELO_Time[[#This Row],[Time  (hours) 6 min = 0.1 hr]]=\"\",\"\",SUM(G184:I184))","v":""},{"$f":"IF(ELO_Time[[#This Row],[Time  (hours) 6 min = 0.1 hr]]=\"\",\"\",ELO_Time[[#This Row],[Time  (hours) 6 min = 0.1 hr]]*ELO_Time[[#This Row],[KSA Total\n (0 - 18)]])","v":""},null,{"$f":"IFERROR(IF(CoreCapInput=\"None\",\"None\",VLOOKUP(CoreCapInput,CC!$A$2:$D$49,4)),\"\")","v":""},null,0,"","","","","","",{"$f":"IFERROR(INDEX(KSR,MATCH(1,(($P184=K1Out)*($Q184=K2Out)*($R184=K3Out)*($S184=K4Out)*($T184=K5Out)*($U184=K6Out)),0)),0)","v":0},0,"","","","","","","",{"$f":"IFERROR(INDEX(SSR,MATCH(1,(($X184=S1Out)*($Y184=S2Out)*($Z184=S3Out)*($AA184=S4Out)*($AB184=S5Out)*($AC184=S6Out)*($AD184=S7Out)),0)),0)","v":0},0,"","","","","",{"$f":"IFERROR(INDEX(AASR,MATCH(1,(($AG184=AA1Out)*($AH184=AA2Out)*($AI184=AA3Out)*($AJ184=AA4Out)*($AK184=AA5Out)),0)),0)","v":0},0,0,0,"BLANK"]
[163,null,"","",{"$nulls":5},{"$f":"IF(ELO_Time[[#This Row],[Time  (hours) 6 min = 0.1 hr]]=\"\",\"\",SUM(G185:I185))","v":""},{"$f":"IF(ELO_Time[[#This Row],[Time  (hours) 6 min = 0.1 hr]]=\"\",\"\",ELO_Time[[#This Row],[Time  (hours) 6 min = 0.1 hr]]*ELO_Time[[#This Row],[KSA Total\n (0 - 18)]])","v":""},null,{"$f":"IFERROR(IF(CoreCapInput=\"None\",\"None\",VLOOKUP(CoreCapInput,CC!$A$2:$D$49,4)),\"\")","v":""},null,0,"","","","","","",{"$f":"IFERROR(INDEX(KSR,MATCH(1,(($P185=K1Out)*($Q185=K2Out)*($R185=K3Out)*($S185=K4Out)*($T185=K5Out)*($U185=K6Out)),0)),0)","v":0},0,"","","","","","","",{"$f":"IFERROR(INDEX(SSR,MATCH(1,(($X185=S1Out)*($Y185=S2Out)*($Z185=S3Out)*($AA185=S4Out)*($AB185=S5Out)*($AC185=S6Out)*($AD185=S7Out)),0)),0)","v":0},0,"","","","","",{"$f":"IFERROR(INDEX(AASR,MATCH(1,(($AG185=AA1Out)*($AH185=AA2Out)*($AI185=AA3Out)*($AJ185=AA4Out)*($AK185=AA5Out)),0)),0)","v":0},0,0,0,"BLANK"]
[164,null,"","",{"$nulls":5},{"$f":"IF(ELO_Time[[#This Row],[Time  (hours) 6 min = 0.1 hr]]=\"\",\"\",SUM(G186:I186))","v":""},{"$f":"IF(ELO_Time[[#This Row],[Time  (hours) 6 min = 0.1 hr]]=\"\",\"\",ELO_Time[[#This Row],[Time  (hours) 6 min = 0.1 hr]]*ELO_Time[[#This Row],[KSA Total\n (0 - 18)]])","v":""},null,{"$f":"IFERROR(IF(CoreCapInput=\"None\",\"None\",VLOOKUP(CoreCapInput,CC!$A$2:$D$49,4)),\"\")","v":""},null,0,"","","","","","",{"$f":"IFERROR(INDEX(KSR,MATCH(1,(($P186=K1Out)*($Q186=K2Out)*($R186=K3Out)*($S186=K4Out)*($T186=K5Out)*($U186=K6Out)),0)),0)","v":0},0,"","","","","","","",{"$f":"IFERROR(INDEX(SSR,MATCH(1,(($X186=S1Out)*($Y186=S2Out)*($Z186=S3Out)*($AA186=S4Out)*($AB186=S5Out)*($AC186=S6Out)*($AD186=S7Out)),0)),0)","v":0},0,"","","","","",{"$f":"IFERROR(INDEX(AASR,MATCH(1,(($AG186=AA1Out)*($AH186=AA2Out)*($AI186=AA3Out)*($AJ186=AA4Out)*($AK186=AA5Out)),0)),0)","v":0},0,0,0,"BLANK"]
[165,null,"","",{"$nulls":5},{"$f":"IF(ELO_Time[[#This Row],[Time  (hours) 6 min = 0.1 hr]]=\"\",\"\",SUM(G187:I187))","v":""},{"$f":"IF(ELO_Time[[#This Row],[Time  (hours) 6 min = 0.1 hr]]=\"\",\"\",ELO_Time[[#This Row],[Time  (hours) 6 min = 0.1 hr]]*ELO_Time[[#This Row],[KSA Total\n (0 - 18)]])","v":""},null,{"$f":"IFERROR(IF(CoreCapInput=\"None\",\"None\",VLOOKUP(CoreCapInput,CC!$A$2:$D$49,4)),\"\")","v":""},null,0,"","","","","","",{"$f":"IFERROR(INDEX(KSR,MATCH(1,(($P187=K1Out)*($Q187=K2Out)*($R187=K3Out)*($S187=K4Out)*($T187=K5Out)*($U187=K6Out)),0)),0)","v":0},0,"","","","","","","",{"$f":"IFERROR(INDEX(SSR,MATCH(1,(($X187=S1Out)*($Y187=S2Out)*($Z187=S3Out)*($AA187=S4Out)*($AB187=S5Out)*($AC187=S6Out)*($AD187=S7Out)),0)),0)","v":0},0,"","","","","",{"$f":"IFERROR(INDEX(AASR,MATCH(1,(($AG187=AA1Out)*($AH187=AA2Out)*($AI187=AA3Out)*($AJ187=AA4Out)*($AK187=AA5Out)),0)),0)","v":0},0,0,0,"BLANK"]
[166,null,"","",{"$nulls":5},{"$f":"IF(ELO_Time[[#This Row],[Time  (hours) 6 min = 0.1 hr]]=\"\",\"\",SUM(G188:I188))","v":""},{"$f":"IF(ELO_Time[[#This Row],[Time  (hours) 6 min = 0.1 hr]]=\"\",\"\",ELO_Time[[#This Row],[Time  (hours) 6 min = 0.1 hr]]*ELO_Time[[#This Row],[KSA Total\n (0 - 18)]])","v":""},null,{"$f":"IFERROR(IF(CoreCapInput=\"None\",\"None\",VLOOKUP(CoreCapInput,CC!$A$2:$D$49,4)),\"\")","v":""},null,0,"","","","","","",{"$f":"IFERROR(INDEX(KSR,MATCH(1,(($P188=K1Out)*($Q188=K2Out)*($R188=K3Out)*($S188=K4Out)*($T188=K5Out)*($U188=K6Out)),0)),0)","v":0},0,"","","","","","","",{"$f":"IFERROR(INDEX(SSR,MATCH(1,(($X188=S1Out)*($Y188=S2Out)*($Z188=S3Out)*($AA188=S4Out)*($AB188=S5Out)*($AC188=S6Out)*($AD188=S7Out)),0)),0)","v":0},0,"","","","","",{"$f":"IFERROR(INDEX(AASR,MATCH(1,(($AG188=AA1Out)*($AH188=AA2Out)*($AI188=AA3Out)*($AJ188=AA4Out)*($AK188=AA5Out)),0)),0)","v":0},0,0,0,"BLANK"]
[167,null,"","",{"$nulls":5},{"$f":"IF(ELO_Time[[#This Row],[Time  (hours) 6 min = 0.1 hr]]=\"\",\"\",SUM(G189:I189))","v":""},{"$f":"IF(ELO_Time[[#This Row],[Time  (hours) 6 min = 0.1 hr]]=\"\",\"\",ELO_Time[[#This Row],[Time  (hours) 6 min = 0.1 hr]]*ELO_Time[[#This Row],[KSA Total\n (0 - 18)]])","v":""},null,{"$f":"IFERROR(IF(CoreCapInput=\"None\",\"None\",VLOOKUP(CoreCapInput,CC!$A$2:$D$49,4)),\"\")","v":""},null,0,"","","","","","",{"$f":"IFERROR(INDEX(KSR,MATCH(1,(($P189=K1Out)*($Q189=K2Out)*($R189=K3Out)*($S189=K4Out)*($T189=K5Out)*($U189=K6Out)),0)),0)","v":0},0,"","","","","","","",{"$f":"IFERROR(INDEX(SSR,MATCH(1,(($X189=S1Out)*($Y189=S2Out)*($Z189=S3Out)*($AA189=S4Out)*($AB189=S5Out)*($AC189=S6Out)*($AD189=S7Out)),0)),0)","v":0},0,"","","","","",{"$f":"IFERROR(INDEX(AASR,MATCH(1,(($AG189=AA1Out)*($AH189=AA2Out)*($AI189=AA3Out)*($AJ189=AA4Out)*($AK189=AA5Out)),0)),0)","v":0},0,0,0,"BLANK"]
[168,null,"","",{"$nulls":5},{"$f":"IF(ELO_Time[[#This Row],[Time  (hours) 6 min = 0.1 hr]]=\"\",\"\",SUM(G190:I190))","v":""},{"$f":"IF(ELO_Time[[#This Row],[Time  (hours) 6 min = 0.1 hr]]=\"\",\"\",ELO_Time[[#This Row],[Time  (hours) 6 min = 0.1 hr]]*ELO_Time[[#This Row],[KSA Total\n (0 - 18)]])","v":""},null,{"$f":"IFERROR(IF(CoreCapInput=\"None\",\"None\",VLOOKUP(CoreCapInput,CC!$A$2:$D$49,4)),\"\")","v":""},null,0,"","","","","","",{"$f":"IFERROR(INDEX(KSR,MATCH(1,(($P190=K1Out)*($Q190=K2Out)*($R190=K3Out)*($S190=K4Out)*($T190=K5Out)*($U190=K6Out)),0)),0)","v":0},0,"","","","","","","",{"$f":"IFERROR(INDEX(SSR,MATCH(1,(($X190=S1Out)*($Y190=S2Out)*($Z190=S3Out)*($AA190=S4Out)*($AB190=S5Out)*($AC190=S6Out)*($AD190=S7Out)),0)),0)","v":0},0,"","","","","",{"$f":"IFERROR(INDEX(AASR,MATCH(1,(($AG190=AA1Out)*($AH190=AA2Out)*($AI190=AA3Out)*($AJ190=AA4Out)*($AK190=AA5Out)),0)),0)","v":0},0,0,0,"BLANK"]
[169,null,"","",{"$nulls":5},{"$f":"IF(ELO_Time[[#This Row],[Time  (hours) 6 min = 0.1 hr]]=\"\",\"\",SUM(G191:I191))","v":""},{"$f":"IF(ELO_Time[[#This Row],[Time  (hours) 6 min = 0.1 hr]]=\"\",\"\",ELO_Time[[#This Row],[Time  (hours) 6 min = 0.1 hr]]*ELO_Time[[#This Row],[KSA Total\n (0 - 18)]])","v":""},null,{"$f":"IFERROR(IF(CoreCapInput=\"None\",\"None\",VLOOKUP(CoreCapInput,CC!$A$2:$D$49,4)),\"\")","v":""},null,0,"","","","","","",{"$f":"IFERROR(INDEX(KSR,MATCH(1,(($P191=K1Out)*($Q191=K2Out)*($R191=K3Out)*($S191=K4Out)*($T191=K5Out)*($U191=K6Out)),0)),0)","v":0},0,"","","","","","","",{"$f":"IFERROR(INDEX(SSR,MATCH(1,(($X191=S1Out)*($Y191=S2Out)*($Z191=S3Out)*($AA191=S4Out)*($AB191=S5Out)*($AC191=S6Out)*($AD191=S7Out)),0)),0)","v":0},0,"","","","","",{"$f":"IFERROR(INDEX(AASR,MATCH(1,(($AG191=AA1Out)*($AH191=AA2Out)*($AI191=AA3Out)*($AJ191=AA4Out)*($AK191=AA5Out)),0)),0)","v":0},0,0,0,"BLANK"]
[170,null,"","",{"$nulls":5},{"$f":"IF(ELO_Time[[#This Row],[Time  (hours) 6 min = 0.1 hr]]=\"\",\"\",SUM(G192:I192))","v":""},{"$f":"IF(ELO_Time[[#This Row],[Time  (hours) 6 min = 0.1 hr]]=\"\",\"\",ELO_Time[[#This Row],[Time  (hours) 6 min = 0.1 hr]]*ELO_Time[[#This Row],[KSA Total\n (0 - 18)]])","v":""},null,{"$f":"IFERROR(IF(CoreCapInput=\"None\",\"None\",VLOOKUP(CoreCapInput,CC!$A$2:$D$49,4)),\"\")","v":""},null,0,"","","","","","",{"$f":"IFERROR(INDEX(KSR,MATCH(1,(($P192=K1Out)*($Q192=K2Out)*($R192=K3Out)*($S192=K4Out)*($T192=K5Out)*($U192=K6Out)),0)),0)","v":0},0,"","","","","","","",{"$f":"IFERROR(INDEX(SSR,MATCH(1,(($X192=S1Out)*($Y192=S2Out)*($Z192=S3Out)*($AA192=S4Out)*($AB192=S5Out)*($AC192=S6Out)*($AD192=S7Out)),0)),0)","v":0},0,"","","","","",{"$f":"IFERROR(INDEX(AASR,MATCH(1,(($AG192=AA1Out)*($AH192=AA2Out)*($AI192=AA3Out)*($AJ192=AA4Out)*($AK192=AA5Out)),0)),0)","v":0},0,0,0,"BLANK"]

{"sheet":"Threats","index":1,"n_rows":47,"n_cols":1,"rows_kept":47,"hidden":true}
["Threats"]
["Active Shooter"]
["Aircraft as a Weapon"]
["All Hazards"]
["Animal Disease"]
["Arson"]
["Avalanche"]
["Biological Attack (non-food)"]
["Biological Food Contamination - Accidental"]
["Chemical / Biological Food Contamination Terrorism Attack"]
["Chemical Attack"]
["Civil Disturbance"]
["Cyber Attack"]
["Dam Failure"]
["Drought"]
["Earthquake"]
["Explosive Device"]
["Extreme Temperatures"]
["Flood"]
["Food / Water Contamination"]
["Fuel Shortage"]
["Hazmat Release – Chemical"]
["Hazmat Release – Radiological"]
["Human Trafficking"]
["Hurricane / Typhoon"]
["Improvised Nuclear Attack"]
["Invasive Species"]
["Mass Migration"]
["Metal Theft"]
["Mine / Underground Fire"]
["Mine Accident"]
["Multiple Hazards"]
["Other"]
["Pandemic – Human"]
["Pipeline Explosion"]
["Radiological Attack"]
["Severe Storm / High Winds"]
["Sinkhole / Landslide / Expansive Soils"]
["Space Weather"]
["Tornado"]
["Transportation Accident"]
["Tsunami"]
["Urban Conflagration"]
["Utility Interruption"]
["Volcanic Eruption"]
["Water Contamination"]
["Wildfire"]

{"sheet":"Breakdown Graph","index":2,"n_rows":39,"n_cols":26,"rows_kept":39,"hidden":true,"merged":[[1,25,4,30],[7,25,7,30],[8,10,8,12],[29,2,32,13],[33,2,36,13],[38,2,41,13]]}
["Mission Area","Mission CC","Mission Percent","Primary","Secondary","Others","Primary Mission ELOs","Secondary Mission ELOs","Other ELOs","Totals",null,"Secondary CC 1","Secondary CC 2","Secondary CC 3","Secondary CC 4","Secondary CC 5","total"]
["None",{"$f":"COUNTIF(ELO_Time[Misson Area],A2)","v":0},{"$f":"B2/B8","v":{"$error":"#DIV/0!"}},{"$f":"SUMPRODUCT((Data!$X$2=ELO_Time[Core Capability])*(Table24[[#This Row],[Mission Area]]=ELO_Time[Misson Area]))","v":0},0,{"$f":"Table24[[#This Row],[Mission CC]]","v":0},{"$f":"D2/B$8","v":{"$error":"#DIV/0!"}},{"$f":"Table24[[#This Row],[Secondary]]/$B$8","v":{"$error":"#DIV/0!"}},{"$f":"Table24[[#This Row],[Others]]/$B$8","v":{"$error":"#DIV/0!"}},{"$f":"SUM(Table24[[#This Row],[Primary Mission ELOs]:[Other ELOs]])","v":{"$error":"#DIV/0!"}},null,{"$f":"IFERROR((INDEX(Data!$A$2:$B$34,SMALL(IF(Data!$A$2:$A$34=1,ROW(Data!$A$2:$A$34)),ROW(Data!1:1))-1,2)),\"FEMA\")","v":"FEMA"},{"$f":"IFERROR((INDEX(Data!$A$2:$B$34,SMALL(IF(Data!$A$2:$A$34=1,ROW(Data!$A$2:$A$34)),ROW(Data!2:2))-1,2)),\"FEMA\")","v":"FEMA"},{"$f":"IFERROR((INDEX(Data!$A$2:$B$34,SMALL(IF(Data!$A$2:$A$34=1,ROW(Data!$A$2:$A$34)),ROW(Data!3:3))-1,2)),\"FEMA\")","v":"FEMA"},{"$f":"IFERROR((INDEX(Data!$A$2:$B$34,SMALL(IF(Data!$A$2:$A$34=1,ROW(Data!$A$2:$A$34)),ROW(Data!4:4))-1,2)),\"FEMA\")","v":"FEMA"},{"$f":"IFERROR((INDEX(Data!$A$2:$B$34,SMALL(IF(Data!$A$2:$A$34=1,ROW(Data!$A$2:$A$34)),ROW(Data!4:4))-1,2)),\"FEMA\")","v":"FEMA"},{"$f":"SUM(L2:P2)","v":0},{"$nulls":8},"Blue areas represent enabling objectives that adaqueately address time, depth, or breath in one or more of the three domains of learning (KSAs)."]
["Protection",{"$f":"COUNTIF(MissionArea,A3)","v":0},{"$f":"B3/$B$8","v":{"$error":"#DIV/0!"}},{"$f":"SUMPRODUCT((Pri_CC=CoreCapInput)*(A3=MissionArea))","v":0},{"$f":"SUM(SUMPRODUCT((CoreCapInput=$L$2)*(MissionArea=A3)),SUMPRODUCT((CoreCapInput=$M$2)*(MissionArea=A3)),SUMPRODUCT((CoreCapInput=$N$2)),SUMPRODUCT((CoreCapInput=$O$2)*(MissionArea=A3)),SUMPRODUCT((CoreCapInput=$P$2)*(MissionArea=A3)))","v":0},{"$f":"B3-SUM(Table24[[#This Row],[Primary]],Table24[[#This Row],[Secondary]])","v":0},{"$f":"D3/$B$8","v":{"$error":"#DIV/0!"}},{"$f":"Table24[[#This Row],[Secondary]]/$B$8","v":{"$error":"#DIV/0!"}},{"$f":"Table24[[#This Row],[Others]]/$B$8","v":{"$error":"#DIV/0!"}},{"$f":"SUM(Table24[[#This Row],[Primary Mission ELOs]:[Other ELOs]])","v":{"$error":"#DIV/0!"}}]
["Response",{"$f":"COUNTIF(MissionArea,A4)","v":0},{"$f":"B4/$B$8","v":{"$error":"#DIV/0!"}},{"$f":"SUMPRODUCT((Pri_CC=CoreCapInput)*(A4=MissionArea))","v":0},{"$f":"SUM(SUMPRODUCT((CoreCapInput=$L$2)*(MissionArea=A4)),SUMPRODUCT((CoreCapInput=$M$2)*(MissionArea=A4)),SUMPRODUCT((CoreCapInput=$N$2)),SUMPRODUCT((CoreCapInput=$O$2)*(MissionArea=A4)),SUMPRODUCT((CoreCapInput=$P$2)*(MissionArea=A4)))","v":0},{"$f":"B4-SUM(Table24[[#This Row],[Primary]],Table24[[#This Row],[Secondary]])","v":0},{"$f":"D4/$B$8","v":{"$error":"#DIV/0!"}},{"$f":"Table24[[#This Row],[Secondary]]/$B$8","v":{"$error":"#DIV/0!"}},{"$f":"Table24[[#This Row],[Others]]/$B$8","v":{"$error":"#DIV/0!"}},{"$f":"SUM(Table24[[#This Row],[Primary Mission ELOs]:[Other ELOs]])","v":{"$error":"#DIV/0!"}}]
["Mitigation",{"$f":"COUNTIF(MissionArea,A5)","v":0},{"$error":"#DIV/0!"},{"$f":"SUMPRODUCT((Pri_CC=CoreCapInput)*(A5=MissionArea))","v":0},{"$f":"SUM(SUMPRODUCT((CoreCapInput=$L$2)*(MissionArea=A5)),SUMPRODUCT((CoreCapInput=$M$2)*(MissionArea=A5)),SUMPRODUCT((CoreCapInput=$N$2)),SUMPRODUCT((CoreCapInput=$O$2)*(MissionArea=A5)),SUMPRODUCT((CoreCapInput=$P$2)*(MissionArea=A5)))","v":0},{"$f":"B5-SUM(Table24[[#This Row],[Primary]],Table24[[#This Row],[Secondary]])","v":0},{"$error":"#DIV/0!"},{"$f":"Table24[[#This Row],[Secondary]]/$B$8","v":{"$error":"#DIV/0!"}},{"$f":"Table24[[#This Row],[Others]]/$B$8","v":{"$error":"#DIV/0!"}},{"$f":"SUM(Table24[[#This Row],[Primary Mission ELOs]:[Other ELOs]])","v":{"$error":"#DIV/0!"}}]
["Recovery",{"$f":"COUNTIF(MissionArea,A6)","v":0},{"$error":"#DIV/0!"},{"$f":"SUMPRODUCT((Pri_CC=CoreCapInput)*(A6=MissionArea))","v":0},{"$f":"SUM(SUMPRODUCT((CoreCapInput=$L$2)*(MissionArea=A6)),SUMPRODUCT((CoreCapInput=$M$2)*(MissionArea=A6)),SUMPRODUCT((CoreCapInput=$N$2)),SUMPRODUCT((CoreCapInput=$O$2)*(MissionArea=A6)),SUMPRODUCT((CoreCapInput=$P$2)*(MissionArea=A6)))","v":0},{"$f":"B6-SUM(Table24[[#This Row],[Primary]],Table24[[#This Row],[Secondary]])","v":0},{"$error":"#DIV/0!"},{"$f":"Table24[[#This Row],[Secondary]]/$B$8","v":{"$error":"#DIV/0!"}},{"$f":"Table24[[#This Row],[Others]]/$B$8","v":{"$error":"#DIV/0!"}},{"$f":"SUM(Table24[[#This Row],[Primary Mission ELOs]:[Other ELOs]])","v":{"$error":"#DIV/0!"}},null,"Primary Mission Area"]
["Prevention",{"$f":"COUNTIF(MissionArea,A7)","v":0},{"$error":"#DIV/0!"},{"$f":"SUMPRODUCT((Pri_CC=CoreCapInput)*(A7=MissionArea))","v":0},{"$f":"SUM(SUMPRODUCT((CoreCapInput=$L$2)*(MissionArea=A7)),SUMPRODUCT((CoreCapInput=$M$2)*(MissionArea=A7)),SUMPRODUCT((CoreCapInput=$N$2)),SUMPRODUCT((CoreCapInput=$O$2)*(MissionArea=A7)),SUMPRODUCT((CoreCapInput=$P$2)*(MissionArea=A7)))","v":0},{"$f":"B7-SUM(Table24[[#This Row],[Primary]],Table24[[#This Row],[Secondary]])","v":0},{"$error":"#DIV/0!"},{"$f":"Table24[[#This Row],[Secondary]]/$B$8","v":{"$error":"#DIV/0!"}},{"$f":"Table24[[#This Row],[Others]]/$B$8","v":{"$error":"#DIV/0!"}},{"$f":"SUM(Table24[[#This Row],[Primary Mission ELOs]:[Other ELOs]])","v":{"$error":"#DIV/0!"}},null,{"$f":"IF(MAX(D2:D7)>0,INDEX(A3:A7,MATCH(MAX(D3:D7),D3:D7,0)),\"Does Not Map\")","v":"Does Not Map"}]
["Total",{"$f":"SUM(B2:B7)","v":0},{"$f":"SUBTOTAL(109,C2:C7)","v":{"$error":"#DIV/0!"}},0,0,{"$f":"SUBTOTAL(109,F2:F7)","v":0},{"$error":"#DIV/0!"},{"$error":"#DIV/0!"},{"$f":"SUM(I2:I7)","v":{"$error":"#DIV/0!"}},{"$f":"SUM(Table24[[#This Row],[Primary Mission ELOs]:[Other ELOs]])","v":{"$error":"#DIV/0!"}},{"$nulls":15},"Red areas represent enabling objectives that insufficently address time, depth, or breath in one or more of the three domains of learning (KSAs)."]
{"$rows_empty":20}
[null,null,"Mission Area Graph Colors:"]
[null,null,"Gold areas represent enabling objectives from the Primary Core Capability"]
[]
[]
[]
[null,null,"Blue areas represent enabling objectives from all of the Secondary Core Capabilities (if any or made from this course)"]
[]
[]
[]
[]
[null,null,"Grey areas represent enabling objectives that insufficently address time, depth, or breadth in one or more of the three domains of learning (KSAs)."]

{"sheet":"Output","index":3,"n_rows":43,"n_cols":11,"rows_kept":43,"merged":[[27,10,30,21],[31,10,34,21],[36,10,39,21]]}
{"$rows_empty":23}
["Primary DHS / FEMA Doctrine for Course:"]
[{"$f":"Doctrine_Pri_FEMA","v":"Does Not Map"}]
[]
["Primary Federal Statue Doctrine for Course:",{"$nulls":9},"Mission Area Graph Colors:"]
[{"$f":"Doctrine_Pri_FSD","v":"Does Not Map"},{"$nulls":9},"Gold areas represent enabling objectives from the Primary Core Capability"]
[]
["Primary Interagency Regulation Doctrine for Course:"]
[{"$f":"Doctrine_Pri_IRD","v":"Does Not Map"}]
[{"$nulls":10},"Blue areas represent enabling objectives from all of the Secondary Core Capabilities (if any or made from this course)"]
["Primary Industry Standards Doctrine for Course:"]
[{"$f":"Doctrine_Pri_ISD","v":"Does Not Map"}]
[]
["Primary OPM Leadership Competency for Course:"]
[{"$f":"OPM_Pri_Lead","v":"Does Not Map"},{"$nulls":9},"Grey areas represent enabling objectives that insufficently address time, depth, or breadth in one or more of the three domains of learning (KSAs)."]
[]
["Primary DHS Core Competency for Course:"]
[{"$f":"Pri_DHS_CC","v":"Does Not Map"}]
[]
["Primary OPM MOSAIC Competency for this Course:"]
[{"$f":"Doctrine_Pri_MOSAIC","v":"Does Not Map"}]

{"sheet":"Doctrine","index":4,"n_rows":181,"n_cols":10,"rows_kept":181,"hidden":true,"merged":[[0,3,0,4],[3,0,5,4],[8,0,8,3]]}
[{"$f":"Input!B2","v":"Course Title:"},null,null,{"$f":"IF(Input!B3=0,\"\",Input!B3)","v":""}]
[]
[{"$f":"Input!B5","v":"Course Description:"}]
[{"$f":"IF(Input!B6=0,\"\",Input!B6)","v":""}]
[]
[]
[]
[{"$f":"Input!B11","v":"Target Audience: "},{"$nulls":3},"Primary DHS / FEMA Doctrine for Course:","Primary Federal Statute Doctrine for Course:","Primary Interagency Regulation Doctrine for Course:","Primary Industry Standards Doctrine for Course:"]
[{"$f":"IF(Input!B12=0,\"\",Input!B12)","v":""},{"$nulls":3},{"$f":"Doctrine_Pri_FEMA","v":"Does Not Map"},{"$f":"Doctrine_Pri_FSD","v":"Does Not Map"},{"$f":"Doctrine_Pri_IRD","v":"Does Not Map"},{"$f":"Doctrine_Pri_ISD","v":"Does Not Map"}]
[]
[{"$f":"Input!A22","v":"ELO #"},{"$f":"Input!B22","v":"Module #"},{"$f":"Input!C22","v":"Module ELO\n#"},{"$f":"Input!E22","v":"Enabling Learning Objectives (ELO)"},"DHS / FEMA Doctrine","Federal Statute - Doctrine","Interagency Regulation - Doctrine","Industry Standards - Doctrine",{"$f":"Input!F22","v":"Time  (hours) 6 min = 0.1 hr"},{"$f":"Input!K22","v":"ELO Complexity"}]
[{"$f":"Input!A23","v":1},{"$f":"IF(Input!B23=0,\"\",Input!B23)","v":""},{"$f":"IF(Input!C23=0,\"\",Input!C23)","v":1},{"$f":"IF(Input!E23=0,\"\",Input!E23)","v":""},{"$nulls":4},{"$f":"Input!F23","v":{"v":0,"d":"0.00"}},{"$f":"Input!K23","v":""}]
[{"$f":"Input!A24","v":2},{"$f":"IF(Input!B24=0,\"\",Input!B24)","v":""},{"$f":"IF(Input!C24=0,\"\",Input!C24)","v":""},{"$f":"IF(Input!E24=0,\"\",Input!E24)","v":""},{"$nulls":4},{"$f":"Input!F24","v":{"v":0,"d":"0.00"}},{"$f":"Input!K24","v":""}]
[{"$f":"Input!A25","v":3},{"$f":"IF(Input!B25=0,\"\",Input!B25)","v":""},{"$f":"IF(Input!C25=0,\"\",Input!C25)","v":""},{"$f":"IF(Input!E25=0,\"\",Input!E25)","v":""},{"$nulls":4},{"$f":"Input!F25","v":{"v":0,"d":"0.00"}},{"$f":"Input!K25","v":""}]
[{"$f":"Input!A26","v":4},{"$f":"IF(Input!B26=0,\"\",Input!B26)","v":""},{"$f":"IF(Input!C26=0,\"\",Input!C26)","v":""},{"$f":"IF(Input!E26=0,\"\",Input!E26)","v":""},{"$nulls":4},{"$f":"Input!F26","v":{"v":0,"d":"0.00"}},{"$f":"Input!K26","v":""}]
[{"$f":"Input!A27","v":5},{"$f":"IF(Input!B27=0,\"\",Input!B27)","v":""},{"$f":"IF(Input!C27=0,\"\",Input!C27)","v":""},{"$f":"IF(Input!E27=0,\"\",Input!E27)","v":""},{"$nulls":4},{"$f":"Input!F27","v":{"v":0,"d":"0.00"}},{"$f":"Input!K27","v":""}]
[{"$f":"Input!A28","v":6},{"$f":"IF(Input!B28=0,\"\",Input!B28)","v":""},{"$f":"IF(Input!C28=0,\"\",Input!C28)","v":""},{"$f":"IF(Input!E28=0,\"\",Input!E28)","v":""},{"$nulls":4},{"$f":"Input!F28","v":{"v":0,"d":"0.00"}},{"$f":"Input!K28","v":""}]
[{"$f":"Input!A29","v":7},{"$f":"IF(Input!B29=0,\"\",Input!B29)","v":""},{"$f":"IF(Input!C29=0,\"\",Input!C29)","v":""},{"$f":"IF(Input!E29=0,\"\",Input!E29)","v":""},{"$nulls":4},{"$f":"Input!F29","v":{"v":0,"d":"0.00"}},{"$f":"Input!K29","v":""}]
[{"$f":"Input!A30","v":8},{"$f":"IF(Input!B30=0,\"\",Input!B30)","v":""},{"$f":"IF(Input!C30=0,\"\",Input!C30)","v":""},{"$f":"IF(Input!E30=0,\"\",Input!E30)","v":""},{"$nulls":4},{"$f":"Input!F30","v":{"v":0,"d":"0.00"}},{"$f":"Input!K30","v":""}]
[{"$f":"Input!A31","v":9},{"$f":"IF(Input!B31=0,\"\",Input!B31)","v":""},{"$f":"IF(Input!C31=0,\"\",Input!C31)","v":""},{"$f":"IF(Input!E31=0,\"\",Input!E31)","v":""},{"$nulls":4},{"$f":"Input!F31","v":{"v":0,"d":"0.00"}},{"$f":"Input!K31","v":""}]
[{"$f":"Input!A32","v":10},{"$f":"IF(Input!B32=0,\"\",Input!B32)","v":""},{"$f":"IF(Input!C32=0,\"\",Input!C32)","v":""},{"$f":"IF(Input!E32=0,\"\",Input!E32)","v":""},{"$nulls":4},{"$f":"Input!F32","v":{"v":0,"d":"0.00"}},{"$f":"Input!K32","v":""}]
[{"$f":"Input!A33","v":11},{"$f":"IF(Input!B33=0,\"\",Input!B33)","v":""},{"$f":"IF(Input!C33=0,\"\",Input!C33)","v":""},{"$f":"IF(Input!E33=0,\"\",Input!E33)","v":""},{"$nulls":4},{"$f":"Input!F33","v":{"v":0,"d":"0.00"}},{"$f":"Input!K33","v":""}]
[{"$f":"Input!A34","v":12},{"$f":"IF(Input!B34=0,\"\",Input!B34)","v":""},{"$f":"IF(Input!C34=0,\"\",Input!C34)","v":""},{"$f":"IF(Input!E34=0,\"\",Input!E34)","v":""},{"$nulls":4},{"$f":"Input!F34","v":{"v":0,"d":"0.00"}},{"$f":"Input!K34","v":""}]
[{"$f":"Input!A35","v":13},{"$f":"IF(Input!B35=0,\"\",Input!B35)","v":""},{"$f":"IF(Input!C35=0,\"\",Input!C35)","v":""},{"$f":"IF(Input!E35=0,\"\",Input!E35)","v":""},{"$nulls":4},{"$f":"Input!F35","v":{"v":0,"d":"0.00"}},{"$f":"Input!K35","v":""}]
[{"$f":"Input!A36","v":14},{"$f":"IF(Input!B36=0,\"\",Input!B36)","v":""},{"$f":"IF(Input!C36=0,\"\",Input!C36)","v":""},{"$f":"IF(Input!E36=0,\"\",Input!E36)","v":""},{"$nulls":4},{"$f":"Input!F36","v":{"v":0,"d":"0.00"}},{"$f":"Input!K36","v":""}]
[{"$f":"Input!A37","v":15},{"$f":"IF(Input!B37=0,\"\",Input!B37)","v":""},{"$f":"IF(Input!C37=0,\"\",Input!C37)","v":""},{"$f":"IF(Input!E37=0,\"\",Input!E37)","v":""},{"$nulls":4},{"$f":"Input!F37","v":{"v":0,"d":"0.00"}},{"$f":"Input!K37","v":""}]
[{"$f":"Input!A38","v":16},{"$f":"IF(Input!B38=0,\"\",Input!B38)","v":""},{"$f":"IF(Input!C38=0,\"\",Input!C38)","v":""},{"$f":"IF(Input!E38=0,\"\",Input!E38)","v":""},{"$nulls":4},{"$f":"Input!F38","v":{"v":0,"d":"0.00"}},{"$f":"Input!K38","v":""}]
[{"$f":"Input!A39","v":17},{"$f":"IF(Input!B39=0,\"\",Input!B39)","v":""},{"$f":"IF(Input!C39=0,\"\",Input!C39)","v":""},{"$f":"IF(Input!E39=0,\"\",Input!E39)","v":""},{"$nulls":4},{"$f":"Input!F39","v":{"v":0,"d":"0.00"}},{"$f":"Input!K39","v":""}]
[{"$f":"Input!A40","v":18},{"$f":"IF(Input!B40=0,\"\",Input!B40)","v":""},{"$f":"IF(Input!C40=0,\"\",Input!C40)","v":""},{"$f":"IF(Input!E40=0,\"\",Input!E40)","v":""},{"$nulls":4},{"$f":"Input!F40","v":{"v":0,"d":"0.00"}},{"$f":"Input!K40","v":""}]
[{"$f":"Input!A41","v":19},{"$f":"IF(Input!B41=0,\"\",Input!B41)","v":""},{"$f":"IF(Input!C41=0,\"\",Input!C41)","v":""},{"$f":"IF(Input!E41=0,\"\",Input!E41)","v":""},{"$nulls":4},{"$f":"Input!F41","v":{"v":0,"d":"0.00"}},{"$f":"Input!K41","v":""}]
[{"$f":"Input!A42","v":20},{"$f":"IF(Input!B42=0,\"\",Input!B42)","v":""},{"$f":"IF(Input!C42=0,\"\",Input!C42)","v":""},{"$f":"IF(Input!E42=0,\"\",Input!E42)","v":""},{"$nulls":4},{"$f":"Input!F42","v":{"v":0,"d":"0.00"}},{"$f":"Input!K42","v":""}]
[{"$f":"Input!A43","v":21},{"$f":"IF(Input!B43=0,\"\",Input!B43)","v":""},{"$f":"IF(Input!C43=0,\"\",Input!C43)","v":""},{"$f":"IF(Input!E43=0,\"\",Input!E43)","v":""},{"$nulls":4},{"$f":"Input!F43","v":{"v":0,"d":"0.00"}},{"$f":"Input!K43","v":""}]
[{"$f":"Input!A44","v":22},{"$f":"IF(Input!B44=0,\"\",Input!B44)","v":""},{"$f":"IF(Input!C44=0,\"\",Input!C44)","v":""},{"$f":"IF(Input!E44=0,\"\",Input!E44)","v":""},{"$nulls":4},{"$f":"Input!F44","v":{"v":0,"d":"0.00"}},{"$f":"Input!K44","v":""}]
[{"$f":"Input!A45","v":23},{"$f":"IF(Input!B45=0,\"\",Input!B45)","v":""},{"$f":"IF(Input!C45=0,\"\",Input!C45)","v":""},{"$f":"IF(Input!E45=0,\"\",Input!E45)","v":""},{"$nulls":4},{"$f":"Input!F45","v":{"v":0,"d":"0.00"}},{"$f":"Input!K45","v":""}]
[{"$f":"Input!A46","v":24},{"$f":"IF(Input!B46=0,\"\",Input!B46)","v":""},{"$f":"IF(Input!C46=0,\"\",Input!C46)","v":""},{"$f":"IF(Input!E46=0,\"\",Input!E46)","v":""},{"$nulls":4},{"$f":"Input!F46","v":{"v":0,"d":"0.00"}},{"$f":"Input!K46","v":""}]
[{"$f":"Input!A47","v":25},{"$f":"IF(Input!B47=0,\"\",Input!B47)","v":""},{"$f":"IF(Input!C47=0,\"\",Input!C47)","v":""},{"$f":"IF(Input!E47=0,\"\",Input!E47)","v":""},{"$nulls":4},{"$f":"Input!F47","v":{"v":0,"d":"0.00"}},{"$f":"Input!K47","v":""}]
[{"$f":"Input!A48","v":26},{"$f":"IF(Input!B48=0,\"\",Input!B48)","v":""},{"$f":"IF(Input!C48=0,\"\",Input!C48)","v":""},{"$f":"IF(Input!E48=0,\"\",Input!E48)","v":""},{"$nulls":4},{"$f":"Input!F48","v":{"v":0,"d":"0.00"}},{"$f":"Input!K48","v":""}]
[{"$f":"Input!A49","v":27},{"$f":"IF(Input!B49=0,\"\",Input!B49)","v":""},{"$f":"IF(Input!C49=0,\"\",Input!C49)","v":""},{"$f":"IF(Input!E49=0,\"\",Input!E49)","v":""},{"$nulls":4},{"$f":"Input!F49","v":{"v":0,"d":"0.00"}},{"$f":"Input!K49","v":""}]
[{"$f":"Input!A50","v":28},{"$f":"IF(Input!B50=0,\"\",Input!B50)","v":""},{"$f":"IF(Input!C50=0,\"\",Input!C50)","v":""},{"$f":"IF(Input!E50=0,\"\",Input!E50)","v":""},{"$nulls":4},{"$f":"Input!F50","v":{"v":0,"d":"0.00"}},{"$f":"Input!K50","v":""}]
[{"$f":"Input!A51","v":29},{"$f":"IF(Input!B51=0,\"\",Input!B51)","v":""},{"$f":"IF(Input!C51=0,\"\",Input!C51)","v":""},{"$f":"IF(Input!E51=0,\"\",Input!E51)","v":""},{"$nulls":4},{"$f":"Input!F51","v":{"v":0,"d":"0.00"}},{"$f":"Input!K51","v":""}]
[{"$f":"Input!A52","v":30},{"$f":"IF(Input!B52=0,\"\",Input!B52)","v":""},{"$f":"IF(Input!C52=0,\"\",Input!C52)","v":""},{"$f":"IF(Input!E52=0,\"\",Input!E52)","v":""},{"$nulls":4},{"$f":"Input!F52","v":{"v":0,"d":"0.00"}},{"$f":"Input!K52","v":""}]
[{"$f":"Input!A53","v":31},{"$f":"IF(Input!B53=0,\"\",Input!B53)","v":""},{"$f":"IF(Input!C53=0,\"\",Input!C53)","v":""},{"$f":"IF(Input!E53=0,\"\",Input!E53)","v":""},{"$nulls":4},{"$f":"Input!F53","v":{"v":0,"d":"0.00"}},{"$f":"Input!K53","v":""}]
[{"$f":"Input!A54","v":32},{"$f":"IF(Input!B54=0,\"\",Input!B54)","v":""},{"$f":"IF(Input!C54=0,\"\",Input!C54)","v":""},{"$f":"IF(Input!E54=0,\"\",Input!E54)","v":""},{"$nulls":4},{"$f":"Input!F54","v":{"v":0,"d":"0.00"}},{"$f":"Input!K54","v":""}]
[{"$f":"Input!A55","v":33},{"$f":"IF(Input!B55=0,\"\",Input!B55)","v":""},{"$f":"IF(Input!C55=0,\"\",Input!C55)","v":""},{"$f":"IF(Input!E55=0,\"\",Input!E55)","v":""},{"$nulls":4},{"$f":"Input!F55","v":{"v":0,"d":"0.00"}},{"$f":"Input!K55","v":""}]
[{"$f":"Input!A56","v":34},{"$f":"IF(Input!B56=0,\"\",Input!B56)","v":""},{"$f":"IF(Input!C56=0,\"\",Input!C56)","v":""},{"$f":"IF(Input!E56=0,\"\",Input!E56)","v":""},{"$nulls":4},{"$f":"Input!F56","v":{"v":0,"d":"0.00"}},{"$f":"Input!K56","v":""}]
[{"$f":"Input!A57","v":35},{"$f":"IF(Input!B57=0,\"\",Input!B57)","v":""},{"$f":"IF(Input!C57=0,\"\",Input!C57)","v":""},{"$f":"IF(Input!E57=0,\"\",Input!E57)","v":""},{"$nulls":4},{"$f":"Input!F57","v":{"v":0,"d":"0.00"}},{"$f":"Input!K57","v":""}]
[{"$f":"Input!A58","v":36},{"$f":"IF(Input!B58=0,\"\",Input!B58)","v":""},{"$f":"IF(Input!C58=0,\"\",Input!C58)","v":""},{"$f":"IF(Input!E58=0,\"\",Input!E58)","v":""},{"$nulls":4},{"$f":"Input!F58","v":{"v":0,"d":"0.00"}},{"$f":"Input!K58","v":""}]
[{"$f":"Input!A59","v":37},{"$f":"IF(Input!B59=0,\"\",Input!B59)","v":""},{"$f":"IF(Input!C59=0,\"\",Input!C59)","v":""},{"$f":"IF(Input!E59=0,\"\",Input!E59)","v":""},{"$nulls":4},{"$f":"Input!F59","v":{"v":0,"d":"0.00"}},{"$f":"Input!K59","v":""}]
[{"$f":"Input!A60","v":38},{"$f":"IF(Input!B60=0,\"\",Input!B60)","v":""},{"$f":"IF(Input!C60=0,\"\",Input!C60)","v":""},{"$f":"IF(Input!E60=0,\"\",Input!E60)","v":""},{"$nulls":4},{"$f":"Input!F60","v":{"v":0,"d":"0.00"}},{"$f":"Input!K60","v":""}]
[{"$f":"Input!A61","v":39},{"$f":"IF(Input!B61=0,\"\",Input!B61)","v":""},{"$f":"IF(Input!C61=0,\"\",Input!C61)","v":""},{"$f":"IF(Input!E61=0,\"\",Input!E61)","v":""},{"$nulls":4},{"$f":"Input!F61","v":{"v":0,"d":"0.00"}},{"$f":"Input!K61","v":""}]
[{"$f":"Input!A62","v":40},{"$f":"IF(Input!B62=0,\"\",Input!B62)","v":""},{"$f":"IF(Input!C62=0,\"\",Input!C62)","v":""},{"$f":"IF(Input!E62=0,\"\",Input!E62)","v":""},{"$nulls":4},{"$f":"Input!F62","v":{"v":0,"d":"0.00"}},{"$f":"Input!K62","v":""}]
[{"$f":"Input!A63","v":41},{"$f":"IF(Input!B63=0,\"\",Input!B63)","v":""},{"$f":"IF(Input!C63=0,\"\",Input!C63)","v":""},{"$f":"IF(Input!E63=0,\"\",Input!E63)","v":""},{"$nulls":4},{"$f":"Input!F63","v":{"v":0,"d":"0.00"}},{"$f":"Input!K63","v":""}]
[{"$f":"Input!A64","v":42},{"$f":"IF(Input!B64=0,\"\",Input!B64)","v":""},{"$f":"IF(Input!C64=0,\"\",Input!C64)","v":""},{"$f":"IF(Input!E64=0,\"\",Input!E64)","v":""},{"$nulls":4},{"$f":"Input!F64","v":{"v":0,"d":"0.00"}},{"$f":"Input!K64","v":""}]
[{"$f":"Input!A65","v":43},{"$f":"IF(Input!B65=0,\"\",Input!B65)","v":""},{"$f":"IF(Input!C65=0,\"\",Input!C65)","v":""},{"$f":"IF(Input!E65=0,\"\",Input!E65)","v":""},{"$nulls":4},{"$f":"Input!F65","v":{"v":0,"d":"0.00"}},{"$f":"Input!K65","v":""}]
[{"$f":"Input!A66","v":44},{"$f":"IF(Input!B66=0,\"\",Input!B66)","v":""},{"$f":"IF(Input!C66=0,\"\",Input!C66)","v":""},{"$f":"IF(Input!E66=0,\"\",Input!E66)","v":""},{"$nulls":4},{"$f":"Input!F66","v":{"v":0,"d":"0.00"}},{"$f":"Input!K66","v":""}]
[{"$f":"Input!A67","v":45},{"$f":"IF(Input!B67=0,\"\",Input!B67)","v":""},{"$f":"IF(Input!C67=0,\"\",Input!C67)","v":""},{"$f":"IF(Input!E67=0,\"\",Input!E67)","v":""},{"$nulls":4},{"$f":"Input!F67","v":{"v":0,"d":"0.00"}},{"$f":"Input!K67","v":""}]
[{"$f":"Input!A68","v":46},{"$f":"IF(Input!B68=0,\"\",Input!B68)","v":""},{"$f":"IF(Input!C68=0,\"\",Input!C68)","v":""},{"$f":"IF(Input!E68=0,\"\",Input!E68)","v":""},{"$nulls":4},{"$f":"Input!F68","v":{"v":0,"d":"0.00"}},{"$f":"Input!K68","v":""}]
[{"$f":"Input!A69","v":47},{"$f":"IF(Input!B69=0,\"\",Input!B69)","v":""},{"$f":"IF(Input!C69=0,\"\",Input!C69)","v":""},{"$f":"IF(Input!E69=0,\"\",Input!E69)","v":""},{"$nulls":4},{"$f":"Input!F69","v":{"v":0,"d":"0.00"}},{"$f":"Input!K69","v":""}]
[{"$f":"Input!A70","v":48},{"$f":"IF(Input!B70=0,\"\",Input!B70)","v":""},{"$f":"IF(Input!C70=0,\"\",Input!C70)","v":""},{"$f":"IF(Input!E70=0,\"\",Input!E70)","v":""},{"$nulls":4},{"$f":"Input!F70","v":{"v":0,"d":"0.00"}},{"$f":"Input!K70","v":""}]
[{"$f":"Input!A71","v":49},{"$f":"IF(Input!B71=0,\"\",Input!B71)","v":""},{"$f":"IF(Input!C71=0,\"\",Input!C71)","v":""},{"$f":"IF(Input!E71=0,\"\",Input!E71)","v":""},{"$nulls":4},{"$f":"Input!F71","v":{"v":0,"d":"0.00"}},{"$f":"Input!K71","v":""}]
[{"$f":"Input!A72","v":50},{"$f":"IF(Input!B72=0,\"\",Input!B72)","v":""},{"$f":"IF(Input!C72=0,\"\",Input!C72)","v":""},{"$f":"IF(Input!E72=0,\"\",Input!E72)","v":""},{"$nulls":4},{"$f":"Input!F72","v":{"v":0,"d":"0.00"}},{"$f":"Input!K72","v":""}]
[{"$f":"Input!A73","v":51},{"$f":"IF(Input!B73=0,\"\",Input!B73)","v":""},{"$f":"IF(Input!C73=0,\"\",Input!C73)","v":""},{"$f":"IF(Input!E73=0,\"\",Input!E73)","v":""},{"$nulls":4},{"$f":"Input!F73","v":{"v":0,"d":"0.00"}},{"$f":"Input!K73","v":""}]
[{"$f":"Input!A74","v":52},{"$f":"IF(Input!B74=0,\"\",Input!B74)","v":""},{"$f":"IF(Input!C74=0,\"\",Input!C74)","v":""},{"$f":"IF(Input!E74=0,\"\",Input!E74)","v":""},{"$nulls":4},{"$f":"Input!F74","v":{"v":0,"d":"0.00"}},{"$f":"Input!K74","v":""}]
[{"$f":"Input!A75","v":53},{"$f":"IF(Input!B75=0,\"\",Input!B75)","v":""},{"$f":"IF(Input!C75=0,\"\",Input!C75)","v":""},{"$f":"IF(Input!E75=0,\"\",Input!E75)","v":""},{"$nulls":4},{"$f":"Input!F75","v":{"v":0,"d":"0.00"}},{"$f":"Input!K75","v":""}]
[{"$f":"Input!A76","v":54},{"$f":"IF(Input!B76=0,\"\",Input!B76)","v":""},{"$f":"IF(Input!C76=0,\"\",Input!C76)","v":""},{"$f":"IF(Input!E76=0,\"\",Input!E76)","v":""},{"$nulls":4},{"$f":"Input!F76","v":{"v":0,"d":"0.00"}},{"$f":"Input!K76","v":""}]
[{"$f":"Input!A77","v":55},{"$f":"IF(Input!B77=0,\"\",Input!B77)","v":""},{"$f":"IF(Input!C77=0,\"\",Input!C77)","v":""},{"$f":"IF(Input!E77=0,\"\",Input!E77)","v":""},{"$nulls":4},{"$f":"Input!F77","v":{"v":0,"d":"0.00"}},{"$f":"Input!K77","v":""}]
[{"$f":"Input!A78","v":56},{"$f":"IF(Input!B78=0,\"\",Input!B78)","v":""},{"$f":"IF(Input!C78=0,\"\",Input!C78)","v":""},{"$f":"IF(Input!E78=0,\"\",Input!E78)","v":""},{"$nulls":4},{"$f":"Input!F78","v":{"v":0,"d":"0.00"}},{"$f":"Input!K78","v":""}]
[{"$f":"Input!A79","v":57},{"$f":"IF(Input!B79=0,\"\",Input!B79)","v":""},{"$f":"IF(Input!C79=0,\"\",Input!C79)","v":""},{"$f":"IF(Input!E79=0,\"\",Input!E79)","v":""},{"$nulls":4},{"$f":"Input!F79","v":{"v":0,"d":"0.00"}},{"$f":"Input!K79","v":""}]
[{"$f":"Input!A80","v":58},{"$f":"IF(Input!B80=0,\"\",Input!B80)","v":""},{"$f":"IF(Input!C80=0,\"\",Input!C80)","v":""},{"$f":"IF(Input!E80=0,\"\",Input!E80)","v":""},{"$nulls":4},{"$f":"Input!F80","v":{"v":0,"d":"0.00"}},{"$f":"Input!K80","v":""}]
[{"$f":"Input!A81","v":59},{"$f":"IF(Input!B81=0,\"\",Input!B81)","v":""},{"$f":"IF(Input!C81=0,\"\",Input!C81)","v":""},{"$f":"IF(Input!E81=0,\"\",Input!E81)","v":""},{"$nulls":4},{"$f":"Input!F81","v":{"v":0,"d":"0.00"}},{"$f":"Input!K81","v":""}]
[{"$f":"Input!A82","v":60},{"$f":"IF(Input!B82=0,\"\",Input!B82)","v":""},{"$f":"IF(Input!C82=0,\"\",Input!C82)","v":""},{"$f":"IF(Input!E82=0,\"\",Input!E82)","v":""},{"$nulls":4},{"$f":"Input!F82","v":{"v":0,"d":"0.00"}},{"$f":"Input!K82","v":""}]
[{"$f":"Input!A83","v":61},{"$f":"IF(Input!B83=0,\"\",Input!B83)","v":""},{"$f":"IF(Input!C83=0,\"\",Input!C83)","v":""},{"$f":"IF(Input!E83=0,\"\",Input!E83)","v":""},{"$nulls":4},{"$f":"Input!F83","v":{"v":0,"d":"0.00"}},{"$f":"Input!K83","v":""}]
[{"$f":"Input!A84","v":62},{"$f":"IF(Input!B84=0,\"\",Input!B84)","v":""},{"$f":"IF(Input!C84=0,\"\",Input!C84)","v":""},{"$f":"IF(Input!E84=0,\"\",Input!E84)","v":""},{"$nulls":4},{"$f":"Input!F84","v":{"v":0,"d":"0.00"}},{"$f":"Input!K84","v":""}]
[{"$f":"Input!A85","v":63},{"$f":"IF(Input!B85=0,\"\",Input!B85)","v":""},{"$f":"IF(Input!C85=0,\"\",Input!C85)","v":""},{"$f":"IF(Input!E85=0,\"\",Input!E85)","v":""},{"$nulls":4},{"$f":"Input!F85","v":{"v":0,"d":"0.00"}},{"$f":"Input!K85","v":""}]
[{"$f":"Input!A86","v":64},{"$f":"IF(Input!B86=0,\"\",Input!B86)","v":""},{"$f":"IF(Input!C86=0,\"\",Input!C86)","v":""},{"$f":"IF(Input!E86=0,\"\",Input!E86)","v":""},{"$nulls":4},{"$f":"Input!F86","v":{"v":0,"d":"0.00"}},{"$f":"Input!K86","v":""}]
[{"$f":"Input!A87","v":65},{"$f":"IF(Input!B87=0,\"\",Input!B87)","v":""},{"$f":"IF(Input!C87=0,\"\",Input!C87)","v":""},{"$f":"IF(Input!E87=0,\"\",Input!E87)","v":""},{"$nulls":4},{"$f":"Input!F87","v":{"v":0,"d":"0.00"}},{"$f":"Input!K87","v":""}]
[{"$f":"Input!A88","v":66},{"$f":"IF(Input!B88=0,\"\",Input!B88)","v":""},{"$f":"IF(Input!C88=0,\"\",Input!C88)","v":""},{"$f":"IF(Input!E88=0,\"\",Input!E88)","v":""},{"$nulls":4},{"$f":"Input!F88","v":{"v":0,"d":"0.00"}},{"$f":"Input!K88","v":""}]
[{"$f":"Input!A89","v":67},{"$f":"IF(Input!B89=0,\"\",Input!B89)","v":""},{"$f":"IF(Input!C89=0,\"\",Input!C89)","v":""},{"$f":"IF(Input!E89=0,\"\",Input!E89)","v":""},{"$nulls":4},{"$f":"Input!F89","v":{"v":0,"d":"0.00"}},{"$f":"Input!K89","v":""}]
[{"$f":"Input!A90","v":68},{"$f":"IF(Input!B90=0,\"\",Input!B90)","v":""},{"$f":"IF(Input!C90=0,\"\",Input!C90)","v":""},{"$f":"IF(Input!E90=0,\"\",Input!E90)","v":""},{"$nulls":4},{"$f":"Input!F90","v":{"v":0,"d":"0.00"}},{"$f":"Input!K90","v":""}]
[{"$f":"Input!A91","v":69},{"$f":"IF(Input!B91=0,\"\",Input!B91)","v":""},{"$f":"IF(Input!C91=0,\"\",Input!C91)","v":""},{"$f":"IF(Input!E91=0,\"\",Input!E91)","v":""},{"$nulls":4},{"$f":"Input!F91","v":{"v":0,"d":"0.00"}},{"$f":"Input!K91","v":""}]
[{"$f":"Input!A92","v":70},{"$f":"IF(Input!B92=0,\"\",Input!B92)","v":""},{"$f":"IF(Input!C92=0,\"\",Input!C92)","v":""},{"$f":"IF(Input!E92=0,\"\",Input!E92)","v":""},{"$nulls":4},{"$f":"Input!F92","v":{"v":0,"d":"0.00"}},{"$f":"Input!K92","v":""}]
[{"$f":"Input!A93","v":71},{"$f":"IF(Input!B93=0,\"\",Input!B93)","v":""},{"$f":"IF(Input!C93=0,\"\",Input!C93)","v":""},{"$f":"IF(Input!E93=0,\"\",Input!E93)","v":""},{"$nulls":4},{"$f":"Input!F93","v":{"v":0,"d":"0.00"}},{"$f":"Input!K93","v":""}]
[{"$f":"Input!A94","v":72},{"$f":"IF(Input!B94=0,\"\",Input!B94)","v":""},{"$f":"IF(Input!C94=0,\"\",Input!C94)","v":""},{"$f":"IF(Input!E94=0,\"\",Input!E94)","v":""},{"$nulls":4},{"$f":"Input!F94","v":{"v":0,"d":"0.00"}},{"$f":"Input!K94","v":""}]
[{"$f":"Input!A95","v":73},{"$f":"IF(Input!B95=0,\"\",Input!B95)","v":""},{"$f":"IF(Input!C95=0,\"\",Input!C95)","v":""},{"$f":"IF(Input!E95=0,\"\",Input!E95)","v":""},{"$nulls":4},{"$f":"Input!F95","v":{"v":0,"d":"0.00"}},{"$f":"Input!K95","v":""}]
[{"$f":"Input!A96","v":74},{"$f":"IF(Input!B96=0,\"\",Input!B96)","v":""},{"$f":"IF(Input!C96=0,\"\",Input!C96)","v":""},{"$f":"IF(Input!E96=0,\"\",Input!E96)","v":""},{"$nulls":4},{"$f":"Input!F96","v":{"v":0,"d":"0.00"}},{"$f":"Input!K96","v":""}]
[{"$f":"Input!A97","v":75},{"$f":"IF(Input!B97=0,\"\",Input!B97)","v":""},{"$f":"IF(Input!C97=0,\"\",Input!C97)","v":""},{"$f":"IF(Input!E97=0,\"\",Input!E97)","v":""},{"$nulls":4},{"$f":"Input!F97","v":{"v":0,"d":"0.00"}},{"$f":"Input!K97","v":""}]
[{"$f":"Input!A98","v":76},{"$f":"IF(Input!B98=0,\"\",Input!B98)","v":""},{"$f":"IF(Input!C98=0,\"\",Input!C98)","v":""},{"$f":"IF(Input!E98=0,\"\",Input!E98)","v":""},{"$nulls":4},{"$f":"Input!F98","v":{"v":0,"d":"0.00"}},{"$f":"Input!K98","v":""}]
[{"$f":"Input!A99","v":77},{"$f":"IF(Input!B99=0,\"\",Input!B99)","v":""},{"$f":"IF(Input!C99=0,\"\",Input!C99)","v":""},{"$f":"IF(Input!E99=0,\"\",Input!E99)","v":""},{"$nulls":4},{"$f":"Input!F99","v":{"v":0,"d":"0.00"}},{"$f":"Input!K99","v":""}]
[{"$f":"Input!A100","v":78},{"$f":"IF(Input!B100=0,\"\",Input!B100)","v":""},{"$f":"IF(Input!C100=0,\"\",Input!C100)","v":""},{"$f":"IF(Input!E100=0,\"\",Input!E100)","v":""},{"$nulls":4},{"$f":"Input!F100","v":{"v":0,"d":"0.00"}},{"$f":"Input!K100","v":""}]
[{"$f":"Input!A101","v":79},{"$f":"IF(Input!B101=0,\"\",Input!B101)","v":""},{"$f":"IF(Input!C101=0,\"\",Input!C101)","v":""},{"$f":"IF(Input!E101=0,\"\",Input!E101)","v":""},{"$nulls":4},{"$f":"Input!F101","v":{"v":0,"d":"0.00"}},{"$f":"Input!K101","v":""}]
[{"$f":"Input!A102","v":80},{"$f":"IF(Input!B102=0,\"\",Input!B102)","v":""},{"$f":"IF(Input!C102=0,\"\",Input!C102)","v":""},{"$f":"IF(Input!E102=0,\"\",Input!E102)","v":""},{"$nulls":4},{"$f":"Input!F102","v":{"v":0,"d":"0.00"}},{"$f":"Input!K102","v":""}]
[{"$f":"Input!A103","v":81},{"$f":"IF(Input!B103=0,\"\",Input!B103)","v":""},{"$f":"IF(Input!C103=0,\"\",Input!C103)","v":""},{"$f":"IF(Input!E103=0,\"\",Input!E103)","v":""},{"$nulls":4},{"$f":"Input!F103","v":{"v":0,"d":"0.00"}},{"$f":"Input!K103","v":""}]
[{"$f":"Input!A104","v":82},{"$f":"IF(Input!B104=0,\"\",Input!B104)","v":""},{"$f":"IF(Input!C104=0,\"\",Input!C104)","v":""},{"$f":"IF(Input!E104=0,\"\",Input!E104)","v":""},{"$nulls":4},{"$f":"Input!F104","v":{"v":0,"d":"0.00"}},{"$f":"Input!K104","v":""}]
[{"$f":"Input!A105","v":83},{"$f":"IF(Input!B105=0,\"\",Input!B105)","v":""},{"$f":"IF(Input!C105=0,\"\",Input!C105)","v":""},{"$f":"IF(Input!E105=0,\"\",Input!E105)","v":""},{"$nulls":4},{"$f":"Input!F105","v":{"v":0,"d":"0.00"}},{"$f":"Input!K105","v":""}]
[{"$f":"Input!A106","v":84},{"$f":"IF(Input!B106=0,\"\",Input!B106)","v":""},{"$f":"IF(Input!C106=0,\"\",Input!C106)","v":""},{"$f":"IF(Input!E106=0,\"\",Input!E106)","v":""},{"$nulls":4},{"$f":"Input!F106","v":{"v":0,"d":"0.00"}},{"$f":"Input!K106","v":""}]
[{"$f":"Input!A107","v":85},{"$f":"IF(Input!B107=0,\"\",Input!B107)","v":""},{"$f":"IF(Input!C107=0,\"\",Input!C107)","v":""},{"$f":"IF(Input!E107=0,\"\",Input!E107)","v":""},{"$nulls":4},{"$f":"Input!F107","v":{"v":0,"d":"0.00"}},{"$f":"Input!K107","v":""}]
[{"$f":"Input!A108","v":86},{"$f":"IF(Input!B108=0,\"\",Input!B108)","v":""},{"$f":"IF(Input!C108=0,\"\",Input!C108)","v":""},{"$f":"IF(Input!E108=0,\"\",Input!E108)","v":""},{"$nulls":4},{"$f":"Input!F108","v":{"v":0,"d":"0.00"}},{"$f":"Input!K108","v":""}]
[{"$f":"Input!A109","v":87},{"$f":"IF(Input!B109=0,\"\",Input!B109)","v":""},{"$f":"IF(Input!C109=0,\"\",Input!C109)","v":""},{"$f":"IF(Input!E109=0,\"\",Input!E109)","v":""},{"$nulls":4},{"$f":"Input!F109","v":{"v":0,"d":"0.00"}},{"$f":"Input!K109","v":""}]
[{"$f":"Input!A110","v":88},{"$f":"IF(Input!B110=0,\"\",Input!B110)","v":""},{"$f":"IF(Input!C110=0,\"\",Input!C110)","v":""},{"$f":"IF(Input!E110=0,\"\",Input!E110)","v":""},{"$nulls":4},{"$f":"Input!F110","v":{"v":0,"d":"0.00"}},{"$f":"Input!K110","v":""}]
[{"$f":"Input!A111","v":89},{"$f":"IF(Input!B111=0,\"\",Input!B111)","v":""},{"$f":"IF(Input!C111=0,\"\",Input!C111)","v":""},{"$f":"IF(Input!E111=0,\"\",Input!E111)","v":""},{"$nulls":4},{"$f":"Input!F111","v":{"v":0,"d":"0.00"}},{"$f":"Input!K111","v":""}]
[{"$f":"Input!A112","v":90},{"$f":"IF(Input!B112=0,\"\",Input!B112)","v":""},{"$f":"IF(Input!C112=0,\"\",Input!C112)","v":""},{"$f":"IF(Input!E112=0,\"\",Input!E112)","v":""},{"$nulls":4},{"$f":"Input!F112","v":{"v":0,"d":"0.00"}},{"$f":"Input!K112","v":""}]
[{"$f":"Input!A113","v":91},{"$f":"IF(Input!B113=0,\"\",Input!B113)","v":""},{"$f":"IF(Input!C113=0,\"\",Input!C113)","v":""},{"$f":"IF(Input!E113=0,\"\",Input!E113)","v":""},{"$nulls":4},{"$f":"Input!F113","v":{"v":0,"d":"0.00"}},{"$f":"Input!K113","v":""}]
[{"$f":"Input!A114","v":92},{"$f":"IF(Input!B114=0,\"\",Input!B114)","v":""},{"$f":"IF(Input!C114=0,\"\",Input!C114)","v":""},{"$f":"IF(Input!E114=0,\"\",Input!E114)","v":""},{"$nulls":4},{"$f":"Input!F114","v":{"v":0,"d":"0.00"}},{"$f":"Input!K114","v":""}]
[{"$f":"Input!A115","v":93},{"$f":"IF(Input!B115=0,\"\",Input!B115)","v":""},{"$f":"IF(Input!C115=0,\"\",Input!C115)","v":""},{"$f":"IF(Input!E115=0,\"\",Input!E115)","v":""},{"$nulls":4},{"$f":"Input!F115","v":{"v":0,"d":"0.00"}},{"$f":"Input!K115","v":""}]
[{"$f":"Input!A116","v":94},{"$f":"IF(Input!B116=0,\"\",Input!B116)","v":""},{"$f":"IF(Input!C116=0,\"\",Input!C116)","v":""},{"$f":"IF(Input!E116=0,\"\",Input!E116)","v":""},{"$nulls":4},{"$f":"Input!F116","v":{"v":0,"d":"0.00"}},{"$f":"Input!K116","v":""}]
[{"$f":"Input!A117","v":95},{"$f":"IF(Input!B117=0,\"\",Input!B117)","v":""},{"$f":"IF(Input!C117=0,\"\",Input!C117)","v":""},{"$f":"IF(Input!E117=0,\"\",Input!E117)","v":""},{"$nulls":4},{"$f":"Input!F117","v":{"v":0,"d":"0.00"}},{"$f":"Input!K117","v":""}]
[{"$f":"Input!A118","v":96},{"$f":"IF(Input!B118=0,\"\",Input!B118)","v":""},{"$f":"IF(Input!C118=0,\"\",Input!C118)","v":""},{"$f":"IF(Input!E118=0,\"\",Input!E118)","v":""},{"$nulls":4},{"$f":"Input!F118","v":{"v":0,"d":"0.00"}},{"$f":"Input!K118","v":""}]
[{"$f":"Input!A119","v":97},{"$f":"IF(Input!B119=0,\"\",Input!B119)","v":""},{"$f":"IF(Input!C119=0,\"\",Input!C119)","v":""},{"$f":"IF(Input!E119=0,\"\",Input!E119)","v":""},{"$nulls":4},{"$f":"Input!F119","v":{"v":0,"d":"0.00"}},{"$f":"Input!K119","v":""}]
[{"$f":"Input!A120","v":98},{"$f":"IF(Input!B120=0,\"\",Input!B120)","v":""},{"$f":"IF(Input!C120=0,\"\",Input!C120)","v":""},{"$f":"IF(Input!E120=0,\"\",Input!E120)","v":""},{"$nulls":4},{"$f":"Input!F120","v":{"v":0,"d":"0.00"}},{"$f":"Input!K120","v":""}]
[{"$f":"Input!A121","v":99},{"$f":"IF(Input!B121=0,\"\",Input!B121)","v":""},{"$f":"IF(Input!C121=0,\"\",Input!C121)","v":""},{"$f":"IF(Input!E121=0,\"\",Input!E121)","v":""},{"$nulls":4},{"$f":"Input!F121","v":{"v":0,"d":"0.00"}},{"$f":"Input!K121","v":""}]
[{"$f":"Input!A122","v":100},{"$f":"IF(Input!B122=0,\"\",Input!B122)","v":""},{"$f":"IF(Input!C122=0,\"\",Input!C122)","v":""},{"$f":"IF(Input!E122=0,\"\",Input!E122)","v":""},{"$nulls":4},{"$f":"Input!F122","v":{"v":0,"d":"0.00"}},{"$f":"Input!K122","v":""}]
[{"$f":"Input!A123","v":101},{"$f":"IF(Input!B123=0,\"\",Input!B123)","v":""},{"$f":"IF(Input!C123=0,\"\",Input!C123)","v":""},{"$f":"IF(Input!E123=0,\"\",Input!E123)","v":""},{"$nulls":4},{"$f":"Input!F123","v":{"v":0,"d":"0.00"}},{"$f":"Input!K123","v":""}]
[{"$f":"Input!A124","v":102},{"$f":"IF(Input!B124=0,\"\",Input!B124)","v":""},{"$f":"IF(Input!C124=0,\"\",Input!C124)","v":""},{"$f":"IF(Input!E124=0,\"\",Input!E124)","v":""},{"$nulls":4},{"$f":"Input!F124","v":{"v":0,"d":"0.00"}},{"$f":"Input!K124","v":""}]
[{"$f":"Input!A125","v":103},{"$f":"IF(Input!B125=0,\"\",Input!B125)","v":""},{"$f":"IF(Input!C125=0,\"\",Input!C125)","v":""},{"$f":"IF(Input!E125=0,\"\",Input!E125)","v":""},{"$nulls":4},{"$f":"Input!F125","v":{"v":0,"d":"0.00"}},{"$f":"Input!K125","v":""}]
[{"$f":"Input!A126","v":104},{"$f":"IF(Input!B126=0,\"\",Input!B126)","v":""},{"$f":"IF(Input!C126=0,\"\",Input!C126)","v":""},{"$f":"IF(Input!E126=0,\"\",Input!E126)","v":""},{"$nulls":4},{"$f":"Input!F126","v":{"v":0,"d":"0.00"}},{"$f":"Input!K126","v":""}]
[{"$f":"Input!A127","v":105},{"$f":"IF(Input!B127=0,\"\",Input!B127)","v":""},{"$f":"IF(Input!C127=0,\"\",Input!C127)","v":""},{"$f":"IF(Input!E127=0,\"\",Input!E127)","v":""},{"$nulls":4},{"$f":"Input!F127","v":{"v":0,"d":"0.00"}},{"$f":"Input!K127","v":""}]
[{"$f":"Input!A128","v":106},{"$f":"IF(Input!B128=0,\"\",Input!B128)","v":""},{"$f":"IF(Input!C128=0,\"\",Input!C128)","v":""},{"$f":"IF(Input!E128=0,\"\",Input!E128)","v":""},{"$nulls":4},{"$f":"Input!F128","v":{"v":0,"d":"0.00"}},{"$f":"Input!K128","v":""}]
[{"$f":"Input!A129","v":107},{"$f":"IF(Input!B129=0,\"\",Input!B129)","v":""},{"$f":"IF(Input!C129=0,\"\",Input!C129)","v":""},{"$f":"IF(Input!E129=0,\"\",Input!E129)","v":""},{"$nulls":4},{"$f":"Input!F129","v":{"v":0,"d":"0.00"}},{"$f":"Input!K129","v":""}]
[{"$f":"Input!A130","v":108},{"$f":"IF(Input!B130=0,\"\",Input!B130)","v":""},{"$f":"IF(Input!C130=0,\"\",Input!C130)","v":""},{"$f":"IF(Input!E130=0,\"\",Input!E130)","v":""},{"$nulls":4},{"$f":"Input!F130","v":{"v":0,"d":"0.00"}},{"$f":"Input!K130","v":""}]
[{"$f":"Input!A131","v":109},{"$f":"IF(Input!B131=0,\"\",Input!B131)","v":""},{"$f":"IF(Input!C131=0,\"\",Input!C131)","v":""},{"$f":"IF(Input!E131=0,\"\",Input!E131)","v":""},{"$nulls":4},{"$f":"Input!F131","v":{"v":0,"d":"0.00"}},{"$f":"Input!K131","v":""}]
[{"$f":"Input!A132","v":110},{"$f":"IF(Input!B132=0,\"\",Input!B132)","v":""},{"$f":"IF(Input!C132=0,\"\",Input!C132)","v":""},{"$f":"IF(Input!E132=0,\"\",Input!E132)","v":""},{"$nulls":4},{"$f":"Input!F132","v":{"v":0,"d":"0.00"}},{"$f":"Input!K132","v":""}]
[{"$f":"Input!A133","v":111},{"$f":"IF(Input!B133=0,\"\",Input!B133)","v":""},{"$f":"IF(Input!C133=0,\"\",Input!C133)","v":""},{"$f":"IF(Input!E133=0,\"\",Input!E133)","v":""},{"$nulls":4},{"$f":"Input!F133","v":{"v":0,"d":"0.00"}},{"$f":"Input!K133","v":""}]
[{"$f":"Input!A134","v":112},{"$f":"IF(Input!B134=0,\"\",Input!B134)","v":""},{"$f":"IF(Input!C134=0,\"\",Input!C134)","v":""},{"$f":"IF(Input!E134=0,\"\",Input!E134)","v":""},{"$nulls":4},{"$f":"Input!F134","v":{"v":0,"d":"0.00"}},{"$f":"Input!K134","v":""}]
[{"$f":"Input!A135","v":113},{"$f":"IF(Input!B135=0,\"\",Input!B135)","v":""},{"$f":"IF(Input!C135=0,\"\",Input!C135)","v":""},{"$f":"IF(Input!E135=0,\"\",Input!E135)","v":""},{"$nulls":4},{"$f":"Input!F135","v":{"v":0,"d":"0.00"}},{"$f":"Input!K135","v":""}]
[{"$f":"Input!A136","v":114},{"$f":"IF(Input!B136=0,\"\",Input!B136)","v":""},{"$f":"IF(Input!C136=0,\"\",Input!C136)","v":""},{"$f":"IF(Input!E136=0,\"\",Input!E136)","v":""},{"$nulls":4},{"$f":"Input!F136","v":{"v":0,"d":"0.00"}},{"$f":"Input!K136","v":""}]
[{"$f":"Input!A137","v":115},{"$f":"IF(Input!B137=0,\"\",Input!B137)","v":""},{"$f":"IF(Input!C137=0,\"\",Input!C137)","v":""},{"$f":"IF(Input!E137=0,\"\",Input!E137)","v":""},{"$nulls":4},{"$f":"Input!F137","v":{"v":0,"d":"0.00"}},{"$f":"Input!K137","v":""}]
[{"$f":"Input!A138","v":116},{"$f":"IF(Input!B138=0,\"\",Input!B138)","v":""},{"$f":"IF(Input!C138=0,\"\",Input!C138)","v":""},{"$f":"IF(Input!E138=0,\"\",Input!E138)","v":""},{"$nulls":4},{"$f":"Input!F138","v":{"v":0,"d":"0.00"}},{"$f":"Input!K138","v":""}]
[{"$f":"Input!A139","v":117},{"$f":"IF(Input!B139=0,\"\",Input!B139)","v":""},{"$f":"IF(Input!C139=0,\"\",Input!C139)","v":""},{"$f":"IF(Input!E139=0,\"\",Input!E139)","v":""},{"$nulls":4},{"$f":"Input!F139","v":{"v":0,"d":"0.00"}},{"$f":"Input!K139","v":""}]
[{"$f":"Input!A140","v":118},{"$f":"IF(Input!B140=0,\"\",Input!B140)","v":""},{"$f":"IF(Input!C140=0,\"\",Input!C140)","v":""},{"$f":"IF(Input!E140=0,\"\",Input!E140)","v":""},{"$nulls":4},{"$f":"Input!F140","v":{"v":0,"d":"0.00"}},{"$f":"Input!K140","v":""}]
[{"$f":"Input!A141","v":119},{"$f":"IF(Input!B141=0,\"\",Input!B141)","v":""},{"$f":"IF(Input!C141=0,\"\",Input!C141)","v":""},{"$f":"IF(Input!E141=0,\"\",Input!E141)","v":""},{"$nulls":4},{"$f":"Input!F141","v":{"v":0,"d":"0.00"}},{"$f":"Input!K141","v":""}]
[{"$f":"Input!A142","v":120},{"$f":"IF(Input!B142=0,\"\",Input!B142)","v":""},{"$f":"IF(Input!C142=0,\"\",Input!C142)","v":""},{"$f":"IF(Input!E142=0,\"\",Input!E142)","v":""},{"$nulls":4},{"$f":"Input!F142","v":{"v":0,"d":"0.00"}},{"$f":"Input!K142","v":""}]
[{"$f":"Input!A143","v":121},{"$f":"IF(Input!B143=0,\"\",Input!B143)","v":""},{"$f":"IF(Input!C143=0,\"\",Input!C143)","v":""},{"$f":"IF(Input!E143=0,\"\",Input!E143)","v":""},{"$nulls":4},{"$f":"Input!F143","v":{"v":0,"d":"0.00"}},{"$f":"Input!K143","v":""}]
[{"$f":"Input!A144","v":122},{"$f":"IF(Input!B144=0,\"\",Input!B144)","v":""},{"$f":"IF(Input!C144=0,\"\",Input!C144)","v":""},{"$f":"IF(Input!E144=0,\"\",Input!E144)","v":""},{"$nulls":4},{"$f":"Input!F144","v":{"v":0,"d":"0.00"}},{"$f":"Input!K144","v":""}]
[{"$f":"Input!A145","v":123},{"$f":"IF(Input!B145=0,\"\",Input!B145)","v":""},{"$f":"IF(Input!C145=0,\"\",Input!C145)","v":""},{"$f":"IF(Input!E145=0,\"\",Input!E145)","v":""},{"$nulls":4},{"$f":"Input!F145","v":{"v":0,"d":"0.00"}},{"$f":"Input!K145","v":""}]
[{"$f":"Input!A146","v":124},{"$f":"IF(Input!B146=0,\"\",Input!B146)","v":""},{"$f":"IF(Input!C146=0,\"\",Input!C146)","v":""},{"$f":"IF(Input!E146=0,\"\",Input!E146)","v":""},{"$nulls":4},{"$f":"Input!F146","v":{"v":0,"d":"0.00"}},{"$f":"Input!K146","v":""}]
[{"$f":"Input!A147","v":125},{"$f":"IF(Input!B147=0,\"\",Input!B147)","v":""},{"$f":"IF(Input!C147=0,\"\",Input!C147)","v":""},{"$f":"IF(Input!E147=0,\"\",Input!E147)","v":""},{"$nulls":4},{"$f":"Input!F147","v":{"v":0,"d":"0.00"}},{"$f":"Input!K147","v":""}]
[{"$f":"Input!A148","v":126},{"$f":"IF(Input!B148=0,\"\",Input!B148)","v":""},{"$f":"IF(Input!C148=0,\"\",Input!C148)","v":""},{"$f":"IF(Input!E148=0,\"\",Input!E148)","v":""},{"$nulls":4},{"$f":"Input!F148","v":{"v":0,"d":"0.00"}},{"$f":"Input!K148","v":""}]
[{"$f":"Input!A149","v":127},{"$f":"IF(Input!B149=0,\"\",Input!B149)","v":""},{"$f":"IF(Input!C149=0,\"\",Input!C149)","v":""},{"$f":"IF(Input!E149=0,\"\",Input!E149)","v":""},{"$nulls":4},{"$f":"Input!F149","v":{"v":0,"d":"0.00"}},{"$f":"Input!K149","v":""}]
[{"$f":"Input!A150","v":128},{"$f":"IF(Input!B150=0,\"\",Input!B150)","v":""},{"$f":"IF(Input!C150=0,\"\",Input!C150)","v":""},{"$f":"IF(Input!E150=0,\"\",Input!E150)","v":""},{"$nulls":4},{"$f":"Input!F150","v":{"v":0,"d":"0.00"}},{"$f":"Input!K150","v":""}]
[{"$f":"Input!A151","v":129},{"$f":"IF(Input!B151=0,\"\",Input!B151)","v":""},{"$f":"IF(Input!C151=0,\"\",Input!C151)","v":""},{"$f":"IF(Input!E151=0,\"\",Input!E151)","v":""},{"$nulls":4},{"$f":"Input!F151","v":{"v":0,"d":"0.00"}},{"$f":"Input!K151","v":""}]
[{"$f":"Input!A152","v":130},{"$f":"IF(Input!B152=0,\"\",Input!B152)","v":""},{"$f":"IF(Input!C152=0,\"\",Input!C152)","v":""},{"$f":"IF(Input!E152=0,\"\",Input!E152)","v":""},{"$nulls":4},{"$f":"Input!F152","v":{"v":0,"d":"0.00"}},{"$f":"Input!K152","v":""}]
[{"$f":"Input!A153","v":131},{"$f":"IF(Input!B153=0,\"\",Input!B153)","v":""},{"$f":"IF(Input!C153=0,\"\",Input!C153)","v":""},{"$f":"IF(Input!E153=0,\"\",Input!E153)","v":""},{"$nulls":4},{"$f":"Input!F153","v":{"v":0,"d":"0.00"}},{"$f":"Input!K153","v":""}]
[{"$f":"Input!A154","v":132},{"$f":"IF(Input!B154=0,\"\",Input!B154)","v":""},{"$f":"IF(Input!C154=0,\"\",Input!C154)","v":""},{"$f":"IF(Input!E154=0,\"\",Input!E154)","v":""},{"$nulls":4},{"$f":"Input!F154","v":{"v":0,"d":"0.00"}},{"$f":"Input!K154","v":""}]
[{"$f":"Input!A155","v":133},{"$f":"IF(Input!B155=0,\"\",Input!B155)","v":""},{"$f":"IF(Input!C155=0,\"\",Input!C155)","v":""},{"$f":"IF(Input!E155=0,\"\",Input!E155)","v":""},{"$nulls":4},{"$f":"Input!F155","v":{"v":0,"d":"0.00"}},{"$f":"Input!K155","v":""}]
[{"$f":"Input!A156","v":134},{"$f":"IF(Input!B156=0,\"\",Input!B156)","v":""},{"$f":"IF(Input!C156=0,\"\",Input!C156)","v":""},{"$f":"IF(Input!E156=0,\"\",Input!E156)","v":""},{"$nulls":4},{"$f":"Input!F156","v":{"v":0,"d":"0.00"}},{"$f":"Input!K156","v":""}]
[{"$f":"Input!A157","v":135},{"$f":"IF(Input!B157=0,\"\",Input!B157)","v":""},{"$f":"IF(Input!C157=0,\"\",Input!C157)","v":""},{"$f":"IF(Input!E157=0,\"\",Input!E157)","v":""},{"$nulls":4},{"$f":"Input!F157","v":{"v":0,"d":"0.00"}},{"$f":"Input!K157","v":""}]
[{"$f":"Input!A158","v":136},{"$f":"IF(Input!B158=0,\"\",Input!B158)","v":""},{"$f":"IF(Input!C158=0,\"\",Input!C158)","v":""},{"$f":"IF(Input!E158=0,\"\",Input!E158)","v":""},{"$nulls":4},{"$f":"Input!F158","v":{"v":0,"d":"0.00"}},{"$f":"Input!K158","v":""}]
[{"$f":"Input!A159","v":137},{"$f":"IF(Input!B159=0,\"\",Input!B159)","v":""},{"$f":"IF(Input!C159=0,\"\",Input!C159)","v":""},{"$f":"IF(Input!E159=0,\"\",Input!E159)","v":""},{"$nulls":4},{"$f":"Input!F159","v":{"v":0,"d":"0.00"}},{"$f":"Input!K159","v":""}]
[{"$f":"Input!A160","v":138},{"$f":"IF(Input!B160=0,\"\",Input!B160)","v":""},{"$f":"IF(Input!C160=0,\"\",Input!C160)","v":""},{"$f":"IF(Input!E160=0,\"\",Input!E160)","v":""},{"$nulls":4},{"$f":"Input!F160","v":{"v":0,"d":"0.00"}},{"$f":"Input!K160","v":""}]
[{"$f":"Input!A161","v":139},{"$f":"IF(Input!B161=0,\"\",Input!B161)","v":""},{"$f":"IF(Input!C161=0,\"\",Input!C161)","v":""},{"$f":"IF(Input!E161=0,\"\",Input!E161)","v":""},{"$nulls":4},{"$f":"Input!F161","v":{"v":0,"d":"0.00"}},{"$f":"Input!K161","v":""}]
[{"$f":"Input!A162","v":140},{"$f":"IF(Input!B162=0,\"\",Input!B162)","v":""},{"$f":"IF(Input!C162=0,\"\",Input!C162)","v":""},{"$f":"IF(Input!E162=0,\"\",Input!E162)","v":""},{"$nulls":4},{"$f":"Input!F162","v":{"v":0,"d":"0.00"}},{"$f":"Input!K162","v":""}]
[{"$f":"Input!A163","v":141},{"$f":"IF(Input!B163=0,\"\",Input!B163)","v":""},{"$f":"IF(Input!C163=0,\"\",Input!C163)","v":""},{"$f":"IF(Input!E163=0,\"\",Input!E163)","v":""},{"$nulls":4},{"$f":"Input!F163","v":{"v":0,"d":"0.00"}},{"$f":"Input!K163","v":""}]
[{"$f":"Input!A164","v":142},{"$f":"IF(Input!B164=0,\"\",Input!B164)","v":""},{"$f":"IF(Input!C164=0,\"\",Input!C164)","v":""},{"$f":"IF(Input!E164=0,\"\",Input!E164)","v":""},{"$nulls":4},{"$f":"Input!F164","v":{"v":0,"d":"0.00"}},{"$f":"Input!K164","v":""}]
[{"$f":"Input!A165","v":143},{"$f":"IF(Input!B165=0,\"\",Input!B165)","v":""},{"$f":"IF(Input!C165=0,\"\",Input!C165)","v":""},{"$f":"IF(Input!E165=0,\"\",Input!E165)","v":""},{"$nulls":4},{"$f":"Input!F165","v":{"v":0,"d":"0.00"}},{"$f":"Input!K165","v":""}]
[{"$f":"Input!A166","v":144},{"$f":"IF(Input!B166=0,\"\",Input!B166)","v":""},{"$f":"IF(Input!C166=0,\"\",Input!C166)","v":""},{"$f":"IF(Input!E166=0,\"\",Input!E166)","v":""},{"$nulls":4},{"$f":"Input!F166","v":{"v":0,"d":"0.00"}},{"$f":"Input!K166","v":""}]
[{"$f":"Input!A167","v":145},{"$f":"IF(Input!B167=0,\"\",Input!B167)","v":""},{"$f":"IF(Input!C167=0,\"\",Input!C167)","v":""},{"$f":"IF(Input!E167=0,\"\",Input!E167)","v":""},{"$nulls":4},{"$f":"Input!F167","v":{"v":0,"d":"0.00"}},{"$f":"Input!K167","v":""}]
[{"$f":"Input!A168","v":146},{"$f":"IF(Input!B168=0,\"\",Input!B168)","v":""},{"$f":"IF(Input!C168=0,\"\",Input!C168)","v":""},{"$f":"IF(Input!E168=0,\"\",Input!E168)","v":""},{"$nulls":4},{"$f":"Input!F168","v":{"v":0,"d":"0.00"}},{"$f":"Input!K168","v":""}]
[{"$f":"Input!A169","v":147},{"$f":"IF(Input!B169=0,\"\",Input!B169)","v":""},{"$f":"IF(Input!C169=0,\"\",Input!C169)","v":""},{"$f":"IF(Input!E169=0,\"\",Input!E169)","v":""},{"$nulls":4},{"$f":"Input!F169","v":{"v":0,"d":"0.00"}},{"$f":"Input!K169","v":""}]
[{"$f":"Input!A170","v":148},{"$f":"IF(Input!B170=0,\"\",Input!B170)","v":""},{"$f":"IF(Input!C170=0,\"\",Input!C170)","v":""},{"$f":"IF(Input!E170=0,\"\",Input!E170)","v":""},{"$nulls":4},{"$f":"Input!F170","v":{"v":0,"d":"0.00"}},{"$f":"Input!K170","v":""}]
[{"$f":"Input!A171","v":149},{"$f":"IF(Input!B171=0,\"\",Input!B171)","v":""},{"$f":"IF(Input!C171=0,\"\",Input!C171)","v":""},{"$f":"IF(Input!E171=0,\"\",Input!E171)","v":""},{"$nulls":4},{"$f":"Input!F171","v":{"v":0,"d":"0.00"}},{"$f":"Input!K171","v":""}]
[{"$f":"Input!A172","v":150},{"$f":"IF(Input!B172=0,\"\",Input!B172)","v":""},{"$f":"IF(Input!C172=0,\"\",Input!C172)","v":""},{"$f":"IF(Input!E172=0,\"\",Input!E172)","v":""},{"$nulls":4},{"$f":"Input!F172","v":{"v":0,"d":"0.00"}},{"$f":"Input!K172","v":""}]
[{"$f":"Input!A173","v":151},{"$f":"IF(Input!B173=0,\"\",Input!B173)","v":""},{"$f":"IF(Input!C173=0,\"\",Input!C173)","v":""},{"$f":"IF(Input!E173=0,\"\",Input!E173)","v":""},{"$nulls":4},{"$f":"Input!F173","v":{"v":0,"d":"0.00"}},{"$f":"Input!K173","v":""}]
[{"$f":"Input!A174","v":152},{"$f":"IF(Input!B174=0,\"\",Input!B174)","v":""},{"$f":"IF(Input!C174=0,\"\",Input!C174)","v":""},{"$f":"IF(Input!E174=0,\"\",Input!E174)","v":""},{"$nulls":4},{"$f":"Input!F174","v":{"v":0,"d":"0.00"}},{"$f":"Input!K174","v":""}]
[{"$f":"Input!A175","v":153},{"$f":"IF(Input!B175=0,\"\",Input!B175)","v":""},{"$f":"IF(Input!C175=0,\"\",Input!C175)","v":""},{"$f":"IF(Input!E175=0,\"\",Input!E175)","v":""},{"$nulls":4},{"$f":"Input!F175","v":{"v":0,"d":"0.00"}},{"$f":"Input!K175","v":""}]
[{"$f":"Input!A176","v":154},{"$f":"IF(Input!B176=0,\"\",Input!B176)","v":""},{"$f":"IF(Input!C176=0,\"\",Input!C176)","v":""},{"$f":"IF(Input!E176=0,\"\",Input!E176)","v":""},{"$nulls":4},{"$f":"Input!F176","v":{"v":0,"d":"0.00"}},{"$f":"Input!K176","v":""}]
[{"$f":"Input!A177","v":155},{"$f":"IF(Input!B177=0,\"\",Input!B177)","v":""},{"$f":"IF(Input!C177=0,\"\",Input!C177)","v":""},{"$f":"IF(Input!E177=0,\"\",Input!E177)","v":""},{"$nulls":4},{"$f":"Input!F177","v":{"v":0,"d":"0.00"}},{"$f":"Input!K177","v":""}]
[{"$f":"Input!A178","v":156},{"$f":"IF(Input!B178=0,\"\",Input!B178)","v":""},{"$f":"IF(Input!C178=0,\"\",Input!C178)","v":""},{"$f":"IF(Input!E178=0,\"\",Input!E178)","v":""},{"$nulls":4},{"$f":"Input!F178","v":{"v":0,"d":"0.00"}},{"$f":"Input!K178","v":""}]
[{"$f":"Input!A179","v":157},{"$f":"IF(Input!B179=0,\"\",Input!B179)","v":""},{"$f":"IF(Input!C179=0,\"\",Input!C179)","v":""},{"$f":"IF(Input!E179=0,\"\",Input!E179)","v":""},{"$nulls":4},{"$f":"Input!F179","v":{"v":0,"d":"0.00"}},{"$f":"Input!K179","v":""}]
[{"$f":"Input!A180","v":158},{"$f":"IF(Input!B180=0,\"\",Input!B180)","v":""},{"$f":"IF(Input!C180=0,\"\",Input!C180)","v":""},{"$f":"IF(Input!E180=0,\"\",Input!E180)","v":""},{"$nulls":4},{"$f":"Input!F180","v":{"v":0,"d":"0.00"}},{"$f":"Input!K180","v":""}]
[{"$f":"Input!A181","v":159},{"$f":"IF(Input!B181=0,\"\",Input!B181)","v":""},{"$f":"IF(Input!C181=0,\"\",Input!C181)","v":""},{"$f":"IF(Input!E181=0,\"\",Input!E181)","v":""},{"$nulls":4},{"$f":"Input!F181","v":{"v":0,"d":"0.00"}},{"$f":"Input!K181","v":""}]
[{"$f":"Input!A182","v":160},{"$f":"IF(Input!B182=0,\"\",Input!B182)","v":""},{"$f":"IF(Input!C182=0,\"\",Input!C182)","v":""},{"$f":"IF(Input!E182=0,\"\",Input!E182)","v":""},{"$nulls":4},{"$f":"Input!F182","v":{"v":0,"d":"0.00"}},{"$f":"Input!K182","v":""}]
[{"$f":"Input!A183","v":161},{"$f":"IF(Input!B183=0,\"\",Input!B183)","v":""},{"$f":"IF(Input!C183=0,\"\",Input!C183)","v":""},{"$f":"IF(Input!E183=0,\"\",Input!E183)","v":""},{"$nulls":4},{"$f":"Input!F183","v":{"v":0,"d":"0.00"}},{"$f":"Input!K183","v":""}]
[{"$f":"Input!A184","v":162},{"$f":"IF(Input!B184=0,\"\",Input!B184)","v":""},{"$f":"IF(Input!C184=0,\"\",Input!C184)","v":""},{"$f":"IF(Input!E184=0,\"\",Input!E184)","v":""},{"$nulls":4},{"$f":"Input!F184","v":{"v":0,"d":"0.00"}},{"$f":"Input!K184","v":""}]
[{"$f":"Input!A185","v":163},{"$f":"IF(Input!B185=0,\"\",Input!B185)","v":""},{"$f":"IF(Input!C185=0,\"\",Input!C185)","v":""},{"$f":"IF(Input!E185=0,\"\",Input!E185)","v":""},{"$nulls":4},{"$f":"Input!F185","v":{"v":0,"d":"0.00"}},{"$f":"Input!K185","v":""}]
[{"$f":"Input!A186","v":164},{"$f":"IF(Input!B186=0,\"\",Input!B186)","v":""},{"$f":"IF(Input!C186=0,\"\",Input!C186)","v":""},{"$f":"IF(Input!E186=0,\"\",Input!E186)","v":""},{"$nulls":4},{"$f":"Input!F186","v":{"v":0,"d":"0.00"}},{"$f":"Input!K186","v":""}]
[{"$f":"Input!A187","v":165},{"$f":"IF(Input!B187=0,\"\",Input!B187)","v":""},{"$f":"IF(Input!C187=0,\"\",Input!C187)","v":""},{"$f":"IF(Input!E187=0,\"\",Input!E187)","v":""},{"$nulls":4},{"$f":"Input!F187","v":{"v":0,"d":"0.00"}},{"$f":"Input!K187","v":""}]
[{"$f":"Input!A188","v":166},{"$f":"IF(Input!B188=0,\"\",Input!B188)","v":""},{"$f":"IF(Input!C188=0,\"\",Input!C188)","v":""},{"$f":"IF(Input!E188=0,\"\",Input!E188)","v":""},{"$nulls":4},{"$f":"Input!F188","v":{"v":0,"d":"0.00"}},{"$f":"Input!K188","v":""}]
[{"$f":"Input!A189","v":167},{"$f":"IF(Input!B189=0,\"\",Input!B189)","v":""},{"$f":"IF(Input!C189=0,\"\",Input!C189)","v":""},{"$f":"IF(Input!E189=0,\"\",Input!E189)","v":""},{"$nulls":4},{"$f":"Input!F189","v":{"v":0,"d":"0.00"}},{"$f":"Input!K189","v":""}]
[{"$f":"Input!A190","v":168},{"$f":"IF(Input!B190=0,\"\",Input!B190)","v":""},{"$f":"IF(Input!C190=0,\"\",Input!C190)","v":""},{"$f":"IF(Input!E190=0,\"\",Input!E190)","v":""},{"$nulls":4},{"$f":"Input!F190","v":{"v":0,"d":"0.00"}},{"$f":"Input!K190","v":""}]
[{"$f":"Input!A191","v":169},{"$f":"IF(Input!B191=0,\"\",Input!B191)","v":""},{"$f":"IF(Input!C191=0,\"\",Input!C191)","v":""},{"$f":"IF(Input!E191=0,\"\",Input!E191)","v":""},{"$nulls":4},{"$f":"Input!F191","v":{"v":0,"d":"0.00"}},{"$f":"Input!K191","v":""}]
[{"$f":"Input!A192","v":170},{"$f":"IF(Input!B192=0,\"\",Input!B192)","v":""},{"$f":"IF(Input!C192=0,\"\",Input!C192)","v":""},{"$f":"IF(Input!E192=0,\"\",Input!E192)","v":""},{"$nulls":4},{"$f":"Input!F192","v":{"v":0,"d":"0.00"}},{"$f":"Input!K192","v":""}]

{"sheet":"OPM & DHS","index":5,"n_rows":181,"n_cols":17,"rows_kept":181,"hidden":true,"merged":[[0,3,0,4],[3,0,5,4],[8,0,8,3]]}
[{"$f":"Input!B2","v":"Course Title:"},null,null,{"$f":"IF(Input!B3=0,\"\",Input!B3)","v":""}]
[]
[{"$f":"Input!B5","v":"Course Description:"}]
[{"$f":"IF(Input!B6=0,\"\",Input!B6)","v":""}]
[]
[]
[]
[{"$f":"Input!B11","v":"Target Audience: "},{"$nulls":3},"Primary OPM Leadership Competency for Course:","Primary DHS Core Competency for Course:","Primary OPM MOSAIC Competency for this Course:"]
[{"$f":"IF(Input!B12=0,\"\",Input!B12)","v":""},{"$nulls":3},{"$f":"OPM_Pri_Lead","v":"Does Not Map"},{"$f":"Pri_DHS_CC","v":"Does Not Map"},{"$f":"Doctrine_Pri_MOSAIC","v":"Does Not Map"}]
[]
[{"$f":"Input!A22","v":"ELO #"},{"$f":"Input!B22","v":"Module #"},{"$f":"Input!C22","v":"Module ELO\n#"},{"$f":"Input!E22","v":"Enabling Learning Objectives (ELO)"},"OPM Leadership Competencies","DHS Core Competencies","OPM MOSAIC","Cybersecurity - MOSAIC","Grants Management - MOSAIC","IT Prorgram Management - MOSAIC","Financial Management - MOSAIC","Human Resource Management - MOSAIC","Law Enforcement, Compliance, Secuirty, and Intelligence - MOSAIC","Government Performance and Results - MOSAIC",{"$f":"Input!J22","v":"KSA Total\n (0 - 18)"},{"$f":"Input!F22","v":"Time  (hours) 6 min = 0.1 hr"},{"$f":"Input!K22","v":"ELO Complexity"}]
[{"$f":"Input!A23","v":1},{"$f":"IF(Input!B23=0,\"\",Input!B23)","v":""},{"$f":"IF(Input!C23=0,\"\",Input!C23)","v":1},{"$f":"IF(Input!E23=0,\"\",Input!E23)","v":""},{"$nulls":10},{"$f":"Input!J23","v":""},{"$f":"Input!F23","v":{"v":0,"d":"0.00"}},{"$f":"Input!K23","v":""}]
[{"$f":"Input!A24","v":2},{"$f":"IF(Input!B24=0,\"\",Input!B24)","v":""},{"$f":"IF(Input!C24=0,\"\",Input!C24)","v":""},{"$f":"IF(Input!E24=0,\"\",Input!E24)","v":""},{"$nulls":10},{"$f":"Input!J24","v":""},{"$f":"Input!F24","v":{"v":0,"d":"0.00"}},{"$f":"Input!K24","v":""}]
[{"$f":"Input!A25","v":3},{"$f":"IF(Input!B25=0,\"\",Input!B25)","v":""},{"$f":"IF(Input!C25=0,\"\",Input!C25)","v":""},{"$f":"IF(Input!E25=0,\"\",Input!E25)","v":""},{"$nulls":10},{"$f":"Input!J25","v":""},{"$f":"Input!F25","v":{"v":0,"d":"0.00"}},{"$f":"Input!K25","v":""}]
[{"$f":"Input!A26","v":4},{"$f":"IF(Input!B26=0,\"\",Input!B26)","v":""},{"$f":"IF(Input!C26=0,\"\",Input!C26)","v":""},{"$f":"IF(Input!E26=0,\"\",Input!E26)","v":""},{"$nulls":10},{"$f":"Input!J26","v":""},{"$f":"Input!F26","v":{"v":0,"d":"0.00"}},{"$f":"Input!K26","v":""}]
[{"$f":"Input!A27","v":5},{"$f":"IF(Input!B27=0,\"\",Input!B27)","v":""},{"$f":"IF(Input!C27=0,\"\",Input!C27)","v":""},{"$f":"IF(Input!E27=0,\"\",Input!E27)","v":""},{"$nulls":10},{"$f":"Input!J27","v":""},{"$f":"Input!F27","v":{"v":0,"d":"0.00"}},{"$f":"Input!K27","v":""}]
[{"$f":"Input!A28","v":6},{"$f":"IF(Input!B28=0,\"\",Input!B28)","v":""},{"$f":"IF(Input!C28=0,\"\",Input!C28)","v":""},{"$f":"IF(Input!E28=0,\"\",Input!E28)","v":""},{"$nulls":10},{"$f":"Input!J28","v":""},{"$f":"Input!F28","v":{"v":0,"d":"0.00"}},{"$f":"Input!K28","v":""}]
[{"$f":"Input!A29","v":7},{"$f":"IF(Input!B29=0,\"\",Input!B29)","v":""},{"$f":"IF(Input!C29=0,\"\",Input!C29)","v":""},{"$f":"IF(Input!E29=0,\"\",Input!E29)","v":""},{"$nulls":10},{"$f":"Input!J29","v":""},{"$f":"Input!F29","v":{"v":0,"d":"0.00"}},{"$f":"Input!K29","v":""}]
[{"$f":"Input!A30","v":8},{"$f":"IF(Input!B30=0,\"\",Input!B30)","v":""},{"$f":"IF(Input!C30=0,\"\",Input!C30)","v":""},{"$f":"IF(Input!E30=0,\"\",Input!E30)","v":""},{"$nulls":10},{"$f":"Input!J30","v":""},{"$f":"Input!F30","v":{"v":0,"d":"0.00"}},{"$f":"Input!K30","v":""}]
[{"$f":"Input!A31","v":9},{"$f":"IF(Input!B31=0,\"\",Input!B31)","v":""},{"$f":"IF(Input!C31=0,\"\",Input!C31)","v":""},{"$f":"IF(Input!E31=0,\"\",Input!E31)","v":""},{"$nulls":10},{"$f":"Input!J31","v":""},{"$f":"Input!F31","v":{"v":0,"d":"0.00"}},{"$f":"Input!K31","v":""}]
[{"$f":"Input!A32","v":10},{"$f":"IF(Input!B32=0,\"\",Input!B32)","v":""},{"$f":"IF(Input!C32=0,\"\",Input!C32)","v":""},{"$f":"IF(Input!E32=0,\"\",Input!E32)","v":""},{"$nulls":10},{"$f":"Input!J32","v":""},{"$f":"Input!F32","v":{"v":0,"d":"0.00"}},{"$f":"Input!K32","v":""}]
[{"$f":"Input!A33","v":11},{"$f":"IF(Input!B33=0,\"\",Input!B33)","v":""},{"$f":"IF(Input!C33=0,\"\",Input!C33)","v":""},{"$f":"IF(Input!E33=0,\"\",Input!E33)","v":""},{"$nulls":10},{"$f":"Input!J33","v":""},{"$f":"Input!F33","v":{"v":0,"d":"0.00"}},{"$f":"Input!K33","v":""}]
[{"$f":"Input!A34","v":12},{"$f":"IF(Input!B34=0,\"\",Input!B34)","v":""},{"$f":"IF(Input!C34=0,\"\",Input!C34)","v":""},{"$f":"IF(Input!E34=0,\"\",Input!E34)","v":""},{"$nulls":10},{"$f":"Input!J34","v":""},{"$f":"Input!F34","v":{"v":0,"d":"0.00"}},{"$f":"Input!K34","v":""}]
[{"$f":"Input!A35","v":13},{"$f":"IF(Input!B35=0,\"\",Input!B35)","v":""},{"$f":"IF(Input!C35=0,\"\",Input!C35)","v":""},{"$f":"IF(Input!E35=0,\"\",Input!E35)","v":""},{"$nulls":10},{"$f":"Input!J35","v":""},{"$f":"Input!F35","v":{"v":0,"d":"0.00"}},{"$f":"Input!K35","v":""}]
[{"$f":"Input!A36","v":14},{"$f":"IF(Input!B36=0,\"\",Input!B36)","v":""},{"$f":"IF(Input!C36=0,\"\",Input!C36)","v":""},{"$f":"IF(Input!E36=0,\"\",Input!E36)","v":""},{"$nulls":10},{"$f":"Input!J36","v":""},{"$f":"Input!F36","v":{"v":0,"d":"0.00"}},{"$f":"Input!K36","v":""}]
[{"$f":"Input!A37","v":15},{"$f":"IF(Input!B37=0,\"\",Input!B37)","v":""},{"$f":"IF(Input!C37=0,\"\",Input!C37)","v":""},{"$f":"IF(Input!E37=0,\"\",Input!E37)","v":""},{"$nulls":10},{"$f":"Input!J37","v":""},{"$f":"Input!F37","v":{"v":0,"d":"0.00"}},{"$f":"Input!K37","v":""}]
[{"$f":"Input!A38","v":16},{"$f":"IF(Input!B38=0,\"\",Input!B38)","v":""},{"$f":"IF(Input!C38=0,\"\",Input!C38)","v":""},{"$f":"IF(Input!E38=0,\"\",Input!E38)","v":""},{"$nulls":10},{"$f":"Input!J38","v":""},{"$f":"Input!F38","v":{"v":0,"d":"0.00"}},{"$f":"Input!K38","v":""}]
[{"$f":"Input!A39","v":17},{"$f":"IF(Input!B39=0,\"\",Input!B39)","v":""},{"$f":"IF(Input!C39=0,\"\",Input!C39)","v":""},{"$f":"IF(Input!E39=0,\"\",Input!E39)","v":""},{"$nulls":10},{"$f":"Input!J39","v":""},{"$f":"Input!F39","v":{"v":0,"d":"0.00"}},{"$f":"Input!K39","v":""}]
[{"$f":"Input!A40","v":18},{"$f":"IF(Input!B40=0,\"\",Input!B40)","v":""},{"$f":"IF(Input!C40=0,\"\",Input!C40)","v":""},{"$f":"IF(Input!E40=0,\"\",Input!E40)","v":""},{"$nulls":10},{"$f":"Input!J40","v":""},{"$f":"Input!F40","v":{"v":0,"d":"0.00"}},{"$f":"Input!K40","v":""}]
[{"$f":"Input!A41","v":19},{"$f":"IF(Input!B41=0,\"\",Input!B41)","v":""},{"$f":"IF(Input!C41=0,\"\",Input!C41)","v":""},{"$f":"IF(Input!E41=0,\"\",Input!E41)","v":""},{"$nulls":10},{"$f":"Input!J41","v":""},{"$f":"Input!F41","v":{"v":0,"d":"0.00"}},{"$f":"Input!K41","v":""}]
[{"$f":"Input!A42","v":20},{"$f":"IF(Input!B42=0,\"\",Input!B42)","v":""},{"$f":"IF(Input!C42=0,\"\",Input!C42)","v":""},{"$f":"IF(Input!E42=0,\"\",Input!E42)","v":""},{"$nulls":10},{"$f":"Input!J42","v":""},{"$f":"Input!F42","v":{"v":0,"d":"0.00"}},{"$f":"Input!K42","v":""}]
[{"$f":"Input!A43","v":21},{"$f":"IF(Input!B43=0,\"\",Input!B43)","v":""},{"$f":"IF(Input!C43=0,\"\",Input!C43)","v":""},{"$f":"IF(Input!E43=0,\"\",Input!E43)","v":""},{"$nulls":10},{"$f":"Input!J43","v":""},{"$f":"Input!F43","v":{"v":0,"d":"0.00"}},{"$f":"Input!K43","v":""}]
[{"$f":"Input!A44","v":22},{"$f":"IF(Input!B44=0,\"\",Input!B44)","v":""},{"$f":"IF(Input!C44=0,\"\",Input!C44)","v":""},{"$f":"IF(Input!E44=0,\"\",Input!E44)","v":""},{"$nulls":10},{"$f":"Input!J44","v":""},{"$f":"Input!F44","v":{"v":0,"d":"0.00"}},{"$f":"Input!K44","v":""}]
[{"$f":"Input!A45","v":23},{"$f":"IF(Input!B45=0,\"\",Input!B45)","v":""},{"$f":"IF(Input!C45=0,\"\",Input!C45)","v":""},{"$f":"IF(Input!E45=0,\"\",Input!E45)","v":""},{"$nulls":10},{"$f":"Input!J45","v":""},{"$f":"Input!F45","v":{"v":0,"d":"0.00"}},{"$f":"Input!K45","v":""}]
[{"$f":"Input!A46","v":24},{"$f":"IF(Input!B46=0,\"\",Input!B46)","v":""},{"$f":"IF(Input!C46=0,\"\",Input!C46)","v":""},{"$f":"IF(Input!E46=0,\"\",Input!E46)","v":""},{"$nulls":10},{"$f":"Input!J46","v":""},{"$f":"Input!F46","v":{"v":0,"d":"0.00"}},{"$f":"Input!K46","v":""}]
[{"$f":"Input!A47","v":25},{"$f":"IF(Input!B47=0,\"\",Input!B47)","v":""},{"$f":"IF(Input!C47=0,\"\",Input!C47)","v":""},{"$f":"IF(Input!E47=0,\"\",Input!E47)","v":""},{"$nulls":10},{"$f":"Input!J47","v":""},{"$f":"Input!F47","v":{"v":0,"d":"0.00"}},{"$f":"Input!K47","v":""}]
[{"$f":"Input!A48","v":26},{"$f":"IF(Input!B48=0,\"\",Input!B48)","v":""},{"$f":"IF(Input!C48=0,\"\",Input!C48)","v":""},{"$f":"IF(Input!E48=0,\"\",Input!E48)","v":""},{"$nulls":10},{"$f":"Input!J48","v":""},{"$f":"Input!F48","v":{"v":0,"d":"0.00"}},{"$f":"Input!K48","v":""}]
[{"$f":"Input!A49","v":27},{"$f":"IF(Input!B49=0,\"\",Input!B49)","v":""},{"$f":"IF(Input!C49=0,\"\",Input!C49)","v":""},{"$f":"IF(Input!E49=0,\"\",Input!E49)","v":""},{"$nulls":10},{"$f":"Input!J49","v":""},{"$f":"Input!F49","v":{"v":0,"d":"0.00"}},{"$f":"Input!K49","v":""}]
[{"$f":"Input!A50","v":28},{"$f":"IF(Input!B50=0,\"\",Input!B50)","v":""},{"$f":"IF(Input!C50=0,\"\",Input!C50)","v":""},{"$f":"IF(Input!E50=0,\"\",Input!E50)","v":""},{"$nulls":10},{"$f":"Input!J50","v":""},{"$f":"Input!F50","v":{"v":0,"d":"0.00"}},{"$f":"Input!K50","v":""}]
[{"$f":"Input!A51","v":29},{"$f":"IF(Input!B51=0,\"\",Input!B51)","v":""},{"$f":"IF(Input!C51=0,\"\",Input!C51)","v":""},{"$f":"IF(Input!E51=0,\"\",Input!E51)","v":""},{"$nulls":10},{"$f":"Input!J51","v":""},{"$f":"Input!F51","v":{"v":0,"d":"0.00"}},{"$f":"Input!K51","v":""}]
[{"$f":"Input!A52","v":30},{"$f":"IF(Input!B52=0,\"\",Input!B52)","v":""},{"$f":"IF(Input!C52=0,\"\",Input!C52)","v":""},{"$f":"IF(Input!E52=0,\"\",Input!E52)","v":""},{"$nulls":10},{"$f":"Input!J52","v":""},{"$f":"Input!F52","v":{"v":0,"d":"0.00"}},{"$f":"Input!K52","v":""}]
[{"$f":"Input!A53","v":31},{"$f":"IF(Input!B53=0,\"\",Input!B53)","v":""},{"$f":"IF(Input!C53=0,\"\",Input!C53)","v":""},{"$f":"IF(Input!E53=0,\"\",Input!E53)","v":""},{"$nulls":10},{"$f":"Input!J53","v":""},{"$f":"Input!F53","v":{"v":0,"d":"0.00"}},{"$f":"Input!K53","v":""}]
[{"$f":"Input!A54","v":32},{"$f":"IF(Input!B54=0,\"\",Input!B54)","v":""},{"$f":"IF(Input!C54=0,\"\",Input!C54)","v":""},{"$f":"IF(Input!E54=0,\"\",Input!E54)","v":""},{"$nulls":10},{"$f":"Input!J54","v":""},{"$f":"Input!F54","v":{"v":0,"d":"0.00"}},{"$f":"Input!K54","v":""}]
[{"$f":"Input!A55","v":33},{"$f":"IF(Input!B55=0,\"\",Input!B55)","v":""},{"$f":"IF(Input!C55=0,\"\",Input!C55)","v":""},{"$f":"IF(Input!E55=0,\"\",Input!E55)","v":""},{"$nulls":10},{"$f":"Input!J55","v":""},{"$f":"Input!F55","v":{"v":0,"d":"0.00"}},{"$f":"Input!K55","v":""}]
[{"$f":"Input!A56","v":34},{"$f":"IF(Input!B56=0,\"\",Input!B56)","v":""},{"$f":"IF(Input!C56=0,\"\",Input!C56)","v":""},{"$f":"IF(Input!E56=0,\"\",Input!E56)","v":""},{"$nulls":10},{"$f":"Input!J56","v":""},{"$f":"Input!F56","v":{"v":0,"d":"0.00"}},{"$f":"Input!K56","v":""}]
[{"$f":"Input!A57","v":35},{"$f":"IF(Input!B57=0,\"\",Input!B57)","v":""},{"$f":"IF(Input!C57=0,\"\",Input!C57)","v":""},{"$f":"IF(Input!E57=0,\"\",Input!E57)","v":""},{"$nulls":10},{"$f":"Input!J57","v":""},{"$f":"Input!F57","v":{"v":0,"d":"0.00"}},{"$f":"Input!K57","v":""}]
[{"$f":"Input!A58","v":36},{"$f":"IF(Input!B58=0,\"\",Input!B58)","v":""},{"$f":"IF(Input!C58=0,\"\",Input!C58)","v":""},{"$f":"IF(Input!E58=0,\"\",Input!E58)","v":""},{"$nulls":10},{"$f":"Input!J58","v":""},{"$f":"Input!F58","v":{"v":0,"d":"0.00"}},{"$f":"Input!K58","v":""}]
[{"$f":"Input!A59","v":37},{"$f":"IF(Input!B59=0,\"\",Input!B59)","v":""},{"$f":"IF(Input!C59=0,\"\",Input!C59)","v":""},{"$f":"IF(Input!E59=0,\"\",Input!E59)","v":""},{"$nulls":10},{"$f":"Input!J59","v":""},{"$f":"Input!F59","v":{"v":0,"d":"0.00"}},{"$f":"Input!K59","v":""}]
[{"$f":"Input!A60","v":38},{"$f":"IF(Input!B60=0,\"\",Input!B60)","v":""},{"$f":"IF(Input!C60=0,\"\",Input!C60)","v":""},{"$f":"IF(Input!E60=0,\"\",Input!E60)","v":""},{"$nulls":10},{"$f":"Input!J60","v":""},{"$f":"Input!F60","v":{"v":0,"d":"0.00"}},{"$f":"Input!K60","v":""}]
[{"$f":"Input!A61","v":39},{"$f":"IF(Input!B61=0,\"\",Input!B61)","v":""},{"$f":"IF(Input!C61=0,\"\",Input!C61)","v":""},{"$f":"IF(Input!E61=0,\"\",Input!E61)","v":""},{"$nulls":10},{"$f":"Input!J61","v":""},{"$f":"Input!F61","v":{"v":0,"d":"0.00"}},{"$f":"Input!K61","v":""}]
[{"$f":"Input!A62","v":40},{"$f":"IF(Input!B62=0,\"\",Input!B62)","v":""},{"$f":"IF(Input!C62=0,\"\",Input!C62)","v":""},{"$f":"IF(Input!E62=0,\"\",Input!E62)","v":""},{"$nulls":10},{"$f":"Input!J62","v":""},{"$f":"Input!F62","v":{"v":0,"d":"0.00"}},{"$f":"Input!K62","v":""}]
[{"$f":"Input!A63","v":41},{"$f":"IF(Input!B63=0,\"\",Input!B63)","v":""},{"$f":"IF(Input!C63=0,\"\",Input!C63)","v":""},{"$f":"IF(Input!E63=0,\"\",Input!E63)","v":""},{"$nulls":10},{"$f":"Input!J63","v":""},{"$f":"Input!F63","v":{"v":0,"d":"0.00"}},{"$f":"Input!K63","v":""}]
[{"$f":"Input!A64","v":42},{"$f":"IF(Input!B64=0,\"\",Input!B64)","v":""},{"$f":"IF(Input!C64=0,\"\",Input!C64)","v":""},{"$f":"IF(Input!E64=0,\"\",Input!E64)","v":""},{"$nulls":10},{"$f":"Input!J64","v":""},{"$f":"Input!F64","v":{"v":0,"d":"0.00"}},{"$f":"Input!K64","v":""}]
[{"$f":"Input!A65","v":43},{"$f":"IF(Input!B65=0,\"\",Input!B65)","v":""},{"$f":"IF(Input!C65=0,\"\",Input!C65)","v":""},{"$f":"IF(Input!E65=0,\"\",Input!E65)","v":""},{"$nulls":10},{"$f":"Input!J65","v":""},{"$f":"Input!F65","v":{"v":0,"d":"0.00"}},{"$f":"Input!K65","v":""}]
[{"$f":"Input!A66","v":44},{"$f":"IF(Input!B66=0,\"\",Input!B66)","v":""},{"$f":"IF(Input!C66=0,\"\",Input!C66)","v":""},{"$f":"IF(Input!E66=0,\"\",Input!E66)","v":""},{"$nulls":10},{"$f":"Input!J66","v":""},{"$f":"Input!F66","v":{"v":0,"d":"0.00"}},{"$f":"Input!K66","v":""}]
[{"$f":"Input!A67","v":45},{"$f":"IF(Input!B67=0,\"\",Input!B67)","v":""},{"$f":"IF(Input!C67=0,\"\",Input!C67)","v":""},{"$f":"IF(Input!E67=0,\"\",Input!E67)","v":""},{"$nulls":10},{"$f":"Input!J67","v":""},{"$f":"Input!F67","v":{"v":0,"d":"0.00"}},{"$f":"Input!K67","v":""}]
[{"$f":"Input!A68","v":46},{"$f":"IF(Input!B68=0,\"\",Input!B68)","v":""},{"$f":"IF(Input!C68=0,\"\",Input!C68)","v":""},{"$f":"IF(Input!E68=0,\"\",Input!E68)","v":""},{"$nulls":10},{"$f":"Input!J68","v":""},{"$f":"Input!F68","v":{"v":0,"d":"0.00"}},{"$f":"Input!K68","v":""}]
[{"$f":"Input!A69","v":47},{"$f":"IF(Input!B69=0,\"\",Input!B69)","v":""},{"$f":"IF(Input!C69=0,\"\",Input!C69)","v":""},{"$f":"IF(Input!E69=0,\"\",Input!E69)","v":""},{"$nulls":10},{"$f":"Input!J69","v":""},{"$f":"Input!F69","v":{"v":0,"d":"0.00"}},{"$f":"Input!K69","v":""}]
[{"$f":"Input!A70","v":48},{"$f":"IF(Input!B70=0,\"\",Input!B70)","v":""},{"$f":"IF(Input!C70=0,\"\",Input!C70)","v":""},{"$f":"IF(Input!E70=0,\"\",Input!E70)","v":""},{"$nulls":10},{"$f":"Input!J70","v":""},{"$f":"Input!F70","v":{"v":0,"d":"0.00"}},{"$f":"Input!K70","v":""}]
[{"$f":"Input!A71","v":49},{"$f":"IF(Input!B71=0,\"\",Input!B71)","v":""},{"$f":"IF(Input!C71=0,\"\",Input!C71)","v":""},{"$f":"IF(Input!E71=0,\"\",Input!E71)","v":""},{"$nulls":10},{"$f":"Input!J71","v":""},{"$f":"Input!F71","v":{"v":0,"d":"0.00"}},{"$f":"Input!K71","v":""}]
[{"$f":"Input!A72","v":50},{"$f":"IF(Input!B72=0,\"\",Input!B72)","v":""},{"$f":"IF(Input!C72=0,\"\",Input!C72)","v":""},{"$f":"IF(Input!E72=0,\"\",Input!E72)","v":""},{"$nulls":10},{"$f":"Input!J72","v":""},{"$f":"Input!F72","v":{"v":0,"d":"0.00"}},{"$f":"Input!K72","v":""}]
[{"$f":"Input!A73","v":51},{"$f":"IF(Input!B73=0,\"\",Input!B73)","v":""},{"$f":"IF(Input!C73=0,\"\",Input!C73)","v":""},{"$f":"IF(Input!E73=0,\"\",Input!E73)","v":""},{"$nulls":10},{"$f":"Input!J73","v":""},{"$f":"Input!F73","v":{"v":0,"d":"0.00"}},{"$f":"Input!K73","v":""}]
[{"$f":"Input!A74","v":52},{"$f":"IF(Input!B74=0,\"\",Input!B74)","v":""},{"$f":"IF(Input!C74=0,\"\",Input!C74)","v":""},{"$f":"IF(Input!E74=0,\"\",Input!E74)","v":""},{"$nulls":10},{"$f":"Input!J74","v":""},{"$f":"Input!F74","v":{"v":0,"d":"0.00"}},{"$f":"Input!K74","v":""}]
[{"$f":"Input!A75","v":53},{"$f":"IF(Input!B75=0,\"\",Input!B75)","v":""},{"$f":"IF(Input!C75=0,\"\",Input!C75)","v":""},{"$f":"IF(Input!E75=0,\"\",Input!E75)","v":""},{"$nulls":10},{"$f":"Input!J75","v":""},{"$f":"Input!F75","v":{"v":0,"d":"0.00"}},{"$f":"Input!K75","v":""}]
[{"$f":"Input!A76","v":54},{"$f":"IF(Input!B76=0,\"\",Input!B76)","v":""},{"$f":"IF(Input!C76=0,\"\",Input!C76)","v":""},{"$f":"IF(Input!E76=0,\"\",Input!E76)","v":""},{"$nulls":10},{"$f":"Input!J76","v":""},{"$f":"Input!F76","v":{"v":0,"d":"0.00"}},{"$f":"Input!K76","v":""}]
[{"$f":"Input!A77","v":55},{"$f":"IF(Input!B77=0,\"\",Input!B77)","v":""},{"$f":"IF(Input!C77=0,\"\",Input!C77)","v":""},{"$f":"IF(Input!E77=0,\"\",Input!E77)","v":""},{"$nulls":10},{"$f":"Input!J77","v":""},{"$f":"Input!F77","v":{"v":0,"d":"0.00"}},{"$f":"Input!K77","v":""}]
[{"$f":"Input!A78","v":56},{"$f":"IF(Input!B78=0,\"\",Input!B78)","v":""},{"$f":"IF(Input!C78=0,\"\",Input!C78)","v":""},{"$f":"IF(Input!E78=0,\"\",Input!E78)","v":""},{"$nulls":10},{"$f":"Input!J78","v":""},{"$f":"Input!F78","v":{"v":0,"d":"0.00"}},{"$f":"Input!K78","v":""}]
[{"$f":"Input!A79","v":57},{"$f":"IF(Input!B79=0,\"\",Input!B79)","v":""},{"$f":"IF(Input!C79=0,\"\",Input!C79)","v":""},{"$f":"IF(Input!E79=0,\"\",Input!E79)","v":""},{"$nulls":10},{"$f":"Input!J79","v":""},{"$f":"Input!F79","v":{"v":0,"d":"0.00"}},{"$f":"Input!K79","v":""}]
[{"$f":"Input!A80","v":58},{"$f":"IF(Input!B80=0,\"\",Input!B80)","v":""},{"$f":"IF(Input!C80=0,\"\",Input!C80)","v":""},{"$f":"IF(Input!E80=0,\"\",Input!E80)","v":""},{"$nulls":10},{"$f":"Input!J80","v":""},{"$f":"Input!F80","v":{"v":0,"d":"0.00"}},{"$f":"Input!K80","v":""}]
[{"$f":"Input!A81","v":59},{"$f":"IF(Input!B81=0,\"\",Input!B81)","v":""},{"$f":"IF(Input!C81=0,\"\",Input!C81)","v":""},{"$f":"IF(Input!E81=0,\"\",Input!E81)","v":""},{"$nulls":10},{"$f":"Input!J81","v":""},{"$f":"Input!F81","v":{"v":0,"d":"0.00"}},{"$f":"Input!K81","v":""}]
[{"$f":"Input!A82","v":60},{"$f":"IF(Input!B82=0,\"\",Input!B82)","v":""},{"$f":"IF(Input!C82=0,\"\",Input!C82)","v":""},{"$f":"IF(Input!E82=0,\"\",Input!E82)","v":""},{"$nulls":10},{"$f":"Input!J82","v":""},{"$f":"Input!F82","v":{"v":0,"d":"0.00"}},{"$f":"Input!K82","v":""}]
[{"$f":"Input!A83","v":61},{"$f":"IF(Input!B83=0,\"\",Input!B83)","v":""},{"$f":"IF(Input!C83=0,\"\",Input!C83)","v":""},{"$f":"IF(Input!E83=0,\"\",Input!E83)","v":""},{"$nulls":10},{"$f":"Input!J83","v":""},{"$f":"Input!F83","v":{"v":0,"d":"0.00"}},{"$f":"Input!K83","v":""}]
[{"$f":"Input!A84","v":62},{"$f":"IF(Input!B84=0,\"\",Input!B84)","v":""},{"$f":"IF(Input!C84=0,\"\",Input!C84)","v":""},{"$f":"IF(Input!E84=0,\"\",Input!E84)","v":""},{"$nulls":10},{"$f":"Input!J84","v":""},{"$f":"Input!F84","v":{"v":0,"d":"0.00"}},{"$f":"Input!K84","v":""}]
[{"$f":"Input!A85","v":63},{"$f":"IF(Input!B85=0,\"\",Input!B85)","v":""},{"$f":"IF(Input!C85=0,\"\",Input!C85)","v":""},{"$f":"IF(Input!E85=0,\"\",Input!E85)","v":""},{"$nulls":10},{"$f":"Input!J85","v":""},{"$f":"Input!F85","v":{"v":0,"d":"0.00"}},{"$f":"Input!K85","v":""}]
[{"$f":"Input!A86","v":64},{"$f":"IF(Input!B86=0,\"\",Input!B86)","v":""},{"$f":"IF(Input!C86=0,\"\",Input!C86)","v":""},{"$f":"IF(Input!E86=0,\"\",Input!E86)","v":""},{"$nulls":10},{"$f":"Input!J86","v":""},{"$f":"Input!F86","v":{"v":0,"d":"0.00"}},{"$f":"Input!K86","v":""}]
[{"$f":"Input!A87","v":65},{"$f":"IF(Input!B87=0,\"\",Input!B87)","v":""},{"$f":"IF(Input!C87=0,\"\",Input!C87)","v":""},{"$f":"IF(Input!E87=0,\"\",Input!E87)","v":""},{"$nulls":10},{"$f":"Input!J87","v":""},{"$f":"Input!F87","v":{"v":0,"d":"0.00"}},{"$f":"Input!K87","v":""}]
[{"$f":"Input!A88","v":66},{"$f":"IF(Input!B88=0,\"\",Input!B88)","v":""},{"$f":"IF(Input!C88=0,\"\",Input!C88)","v":""},{"$f":"IF(Input!E88=0,\"\",Input!E88)","v":""},{"$nulls":10},{"$f":"Input!J88","v":""},{"$f":"Input!F88","v":{"v":0,"d":"0.00"}},{"$f":"Input!K88","v":""}]
[{"$f":"Input!A89","v":67},{"$f":"IF(Input!B89=0,\"\",Input!B89)","v":""},{"$f":"IF(Input!C89=0,\"\",Input!C89)","v":""},{"$f":"IF(Input!E89=0,\"\",Input!E89)","v":""},{"$nulls":10},{"$f":"Input!J89","v":""},{"$f":"Input!F89","v":{"v":0,"d":"0.00"}},{"$f":"Input!K89","v":""}]
[{"$f":"Input!A90","v":68},{"$f":"IF(Input!B90=0,\"\",Input!B90)","v":""},{"$f":"IF(Input!C90=0,\"\",Input!C90)","v":""},{"$f":"IF(Input!E90=0,\"\",Input!E90)","v":""},{"$nulls":10},{"$f":"Input!J90","v":""},{"$f":"Input!F90","v":{"v":0,"d":"0.00"}},{"$f":"Input!K90","v":""}]
[{"$f":"Input!A91","v":69},{"$f":"IF(Input!B91=0,\"\",Input!B91)","v":""},{"$f":"IF(Input!C91=0,\"\",Input!C91)","v":""},{"$f":"IF(Input!E91=0,\"\",Input!E91)","v":""},{"$nulls":10},{"$f":"Input!J91","v":""},{"$f":"Input!F91","v":{"v":0,"d":"0.00"}},{"$f":"Input!K91","v":""}]
[{"$f":"Input!A92","v":70},{"$f":"IF(Input!B92=0,\"\",Input!B92)","v":""},{"$f":"IF(Input!C92=0,\"\",Input!C92)","v":""},{"$f":"IF(Input!E92=0,\"\",Input!E92)","v":""},{"$nulls":10},{"$f":"Input!J92","v":""},{"$f":"Input!F92","v":{"v":0,"d":"0.00"}},{"$f":"Input!K92","v":""}]
[{"$f":"Input!A93","v":71},{"$f":"IF(Input!B93=0,\"\",Input!B93)","v":""},{"$f":"IF(Input!C93=0,\"\",Input!C93)","v":""},{"$f":"IF(Input!E93=0,\"\",Input!E93)","v":""},{"$nulls":10},{"$f":"Input!J93","v":""},{"$f":"Input!F93","v":{"v":0,"d":"0.00"}},{"$f":"Input!K93","v":""}]
[{"$f":"Input!A94","v":72},{"$f":"IF(Input!B94=0,\"\",Input!B94)","v":""},{"$f":"IF(Input!C94=0,\"\",Input!C94)","v":""},{"$f":"IF(Input!E94=0,\"\",Input!E94)","v":""},{"$nulls":10},{"$f":"Input!J94","v":""},{"$f":"Input!F94","v":{"v":0,"d":"0.00"}},{"$f":"Input!K94","v":""}]
[{"$f":"Input!A95","v":73},{"$f":"IF(Input!B95=0,\"\",Input!B95)","v":""},{"$f":"IF(Input!C95=0,\"\",Input!C95)","v":""},{"$f":"IF(Input!E95=0,\"\",Input!E95)","v":""},{"$nulls":10},{"$f":"Input!J95","v":""},{"$f":"Input!F95","v":{"v":0,"d":"0.00"}},{"$f":"Input!K95","v":""}]
[{"$f":"Input!A96","v":74},{"$f":"IF(Input!B96=0,\"\",Input!B96)","v":""},{"$f":"IF(Input!C96=0,\"\",Input!C96)","v":""},{"$f":"IF(Input!E96=0,\"\",Input!E96)","v":""},{"$nulls":10},{"$f":"Input!J96","v":""},{"$f":"Input!F96","v":{"v":0,"d":"0.00"}},{"$f":"Input!K96","v":""}]
[{"$f":"Input!A97","v":75},{"$f":"IF(Input!B97=0,\"\",Input!B97)","v":""},{"$f":"IF(Input!C97=0,\"\",Input!C97)","v":""},{"$f":"IF(Input!E97=0,\"\",Input!E97)","v":""},{"$nulls":10},{"$f":"Input!J97","v":""},{"$f":"Input!F97","v":{"v":0,"d":"0.00"}},{"$f":"Input!K97","v":""}]
[{"$f":"Input!A98","v":76},{"$f":"IF(Input!B98=0,\"\",Input!B98)","v":""},{"$f":"IF(Input!C98=0,\"\",Input!C98)","v":""},{"$f":"IF(Input!E98=0,\"\",Input!E98)","v":""},{"$nulls":10},{"$f":"Input!J98","v":""},{"$f":"Input!F98","v":{"v":0,"d":"0.00"}},{"$f":"Input!K98","v":""}]
[{"$f":"Input!A99","v":77},{"$f":"IF(Input!B99=0,\"\",Input!B99)","v":""},{"$f":"IF(Input!C99=0,\"\",Input!C99)","v":""},{"$f":"IF(Input!E99=0,\"\",Input!E99)","v":""},{"$nulls":10},{"$f":"Input!J99","v":""},{"$f":"Input!F99","v":{"v":0,"d":"0.00"}},{"$f":"Input!K99","v":""}]
[{"$f":"Input!A100","v":78},{"$f":"IF(Input!B100=0,\"\",Input!B100)","v":""},{"$f":"IF(Input!C100=0,\"\",Input!C100)","v":""},{"$f":"IF(Input!E100=0,\"\",Input!E100)","v":""},{"$nulls":10},{"$f":"Input!J100","v":""},{"$f":"Input!F100","v":{"v":0,"d":"0.00"}},{"$f":"Input!K100","v":""}]
[{"$f":"Input!A101","v":79},{"$f":"IF(Input!B101=0,\"\",Input!B101)","v":""},{"$f":"IF(Input!C101=0,\"\",Input!C101)","v":""},{"$f":"IF(Input!E101=0,\"\",Input!E101)","v":""},{"$nulls":10},{"$f":"Input!J101","v":""},{"$f":"Input!F101","v":{"v":0,"d":"0.00"}},{"$f":"Input!K101","v":""}]
[{"$f":"Input!A102","v":80},{"$f":"IF(Input!B102=0,\"\",Input!B102)","v":""},{"$f":"IF(Input!C102=0,\"\",Input!C102)","v":""},{"$f":"IF(Input!E102=0,\"\",Input!E102)","v":""},{"$nulls":10},{"$f":"Input!J102","v":""},{"$f":"Input!F102","v":{"v":0,"d":"0.00"}},{"$f":"Input!K102","v":""}]
[{"$f":"Input!A103","v":81},{"$f":"IF(Input!B103=0,\"\",Input!B103)","v":""},{"$f":"IF(Input!C103=0,\"\",Input!C103)","v":""},{"$f":"IF(Input!E103=0,\"\",Input!E103)","v":""},{"$nulls":10},{"$f":"Input!J103","v":""},{"$f":"Input!F103","v":{"v":0,"d":"0.00"}},{"$f":"Input!K103","v":""}]
[{"$f":"Input!A104","v":82},{"$f":"IF(Input!B104=0,\"\",Input!B104)","v":""},{"$f":"IF(Input!C104=0,\"\",Input!C104)","v":""},{"$f":"IF(Input!E104=0,\"\",Input!E104)","v":""},{"$nulls":10},{"$f":"Input!J104","v":""},{"$f":"Input!F104","v":{"v":0,"d":"0.00"}},{"$f":"Input!K104","v":""}]
[{"$f":"Input!A105","v":83},{"$f":"IF(Input!B105=0,\"\",Input!B105)","v":""},{"$f":"IF(Input!C105=0,\"\",Input!C105)","v":""},{"$f":"IF(Input!E105=0,\"\",Input!E105)","v":""},{"$nulls":10},{"$f":"Input!J105","v":""},{"$f":"Input!F105","v":{"v":0,"d":"0.00"}},{"$f":"Input!K105","v":""}]
[{"$f":"Input!A106","v":84},{"$f":"IF(Input!B106=0,\"\",Input!B106)","v":""},{"$f":"IF(Input!C106=0,\"\",Input!C106)","v":""},{"$f":"IF(Input!E106=0,\"\",Input!E106)","v":""},{"$nulls":10},{"$f":"Input!J106","v":""},{"$f":"Input!F106","v":{"v":0,"d":"0.00"}},{"$f":"Input!K106","v":""}]
[{"$f":"Input!A107","v":85},{"$f":"IF(Input!B107=0,\"\",Input!B107)","v":""},{"$f":"IF(Input!C107=0,\"\",Input!C107)","v":""},{"$f":"IF(Input!E107=0,\"\",Input!E107)","v":""},{"$nulls":10},{"$f":"Input!J107","v":""},{"$f":"Input!F107","v":{"v":0,"d":"0.00"}},{"$f":"Input!K107","v":""}]
[{"$f":"Input!A108","v":86},{"$f":"IF(Input!B108=0,\"\",Input!B108)","v":""},{"$f":"IF(Input!C108=0,\"\",Input!C108)","v":""},{"$f":"IF(Input!E108=0,\"\",Input!E108)","v":""},{"$nulls":10},{"$f":"Input!J108","v":""},{"$f":"Input!F108","v":{"v":0,"d":"0.00"}},{"$f":"Input!K108","v":""}]
[{"$f":"Input!A109","v":87},{"$f":"IF(Input!B109=0,\"\",Input!B109)","v":""},{"$f":"IF(Input!C109=0,\"\",Input!C109)","v":""},{"$f":"IF(Input!E109=0,\"\",Input!E109)","v":""},{"$nulls":10},{"$f":"Input!J109","v":""},{"$f":"Input!F109","v":{"v":0,"d":"0.00"}},{"$f":"Input!K109","v":""}]
[{"$f":"Input!A110","v":88},{"$f":"IF(Input!B110=0,\"\",Input!B110)","v":""},{"$f":"IF(Input!C110=0,\"\",Input!C110)","v":""},{"$f":"IF(Input!E110=0,\"\",Input!E110)","v":""},{"$nulls":10},{"$f":"Input!J110","v":""},{"$f":"Input!F110","v":{"v":0,"d":"0.00"}},{"$f":"Input!K110","v":""}]
[{"$f":"Input!A111","v":89},{"$f":"IF(Input!B111=0,\"\",Input!B111)","v":""},{"$f":"IF(Input!C111=0,\"\",Input!C111)","v":""},{"$f":"IF(Input!E111=0,\"\",Input!E111)","v":""},{"$nulls":10},{"$f":"Input!J111","v":""},{"$f":"Input!F111","v":{"v":0,"d":"0.00"}},{"$f":"Input!K111","v":""}]
[{"$f":"Input!A112","v":90},{"$f":"IF(Input!B112=0,\"\",Input!B112)","v":""},{"$f":"IF(Input!C112=0,\"\",Input!C112)","v":""},{"$f":"IF(Input!E112=0,\"\",Input!E112)","v":""},{"$nulls":10},{"$f":"Input!J112","v":""},{"$f":"Input!F112","v":{"v":0,"d":"0.00"}},{"$f":"Input!K112","v":""}]
[{"$f":"Input!A113","v":91},{"$f":"IF(Input!B113=0,\"\",Input!B113)","v":""},{"$f":"IF(Input!C113=0,\"\",Input!C113)","v":""},{"$f":"IF(Input!E113=0,\"\",Input!E113)","v":""},{"$nulls":10},{"$f":"Input!J113","v":""},{"$f":"Input!F113","v":{"v":0,"d":"0.00"}},{"$f":"Input!K113","v":""}]
[{"$f":"Input!A114","v":92},{"$f":"IF(Input!B114=0,\"\",Input!B114)","v":""},{"$f":"IF(Input!C114=0,\"\",Input!C114)","v":""},{"$f":"IF(Input!E114=0,\"\",Input!E114)","v":""},{"$nulls":10},{"$f":"Input!J114","v":""},{"$f":"Input!F114","v":{"v":0,"d":"0.00"}},{"$f":"Input!K114","v":""}]
[{"$f":"Input!A115","v":93},{"$f":"IF(Input!B115=0,\"\",Input!B115)","v":""},{"$f":"IF(Input!C115=0,\"\",Input!C115)","v":""},{"$f":"IF(Input!E115=0,\"\",Input!E115)","v":""},{"$nulls":10},{"$f":"Input!J115","v":""},{"$f":"Input!F115","v":{"v":0,"d":"0.00"}},{"$f":"Input!K115","v":""}]
[{"$f":"Input!A116","v":94},{"$f":"IF(Input!B116=0,\"\",Input!B116)","v":""},{"$f":"IF(Input!C116=0,\"\",Input!C116)","v":""},{"$f":"IF(Input!E116=0,\"\",Input!E116)","v":""},{"$nulls":10},{"$f":"Input!J116","v":""},{"$f":"Input!F116","v":{"v":0,"d":"0.00"}},{"$f":"Input!K116","v":""}]
[{"$f":"Input!A117","v":95},{"$f":"IF(Input!B117=0,\"\",Input!B117)","v":""},{"$f":"IF(Input!C117=0,\"\",Input!C117)","v":""},{"$f":"IF(Input!E117=0,\"\",Input!E117)","v":""},{"$nulls":10},{"$f":"Input!J117","v":""},{"$f":"Input!F117","v":{"v":0,"d":"0.00"}},{"$f":"Input!K117","v":""}]
[{"$f":"Input!A118","v":96},{"$f":"IF(Input!B118=0,\"\",Input!B118)","v":""},{"$f":"IF(Input!C118=0,\"\",Input!C118)","v":""},{"$f":"IF(Input!E118=0,\"\",Input!E118)","v":""},{"$nulls":10},{"$f":"Input!J118","v":""},{"$f":"Input!F118","v":{"v":0,"d":"0.00"}},{"$f":"Input!K118","v":""}]
[{"$f":"Input!A119","v":97},{"$f":"IF(Input!B119=0,\"\",Input!B119)","v":""},{"$f":"IF(Input!C119=0,\"\",Input!C119)","v":""},{"$f":"IF(Input!E119=0,\"\",Input!E119)","v":""},{"$nulls":10},{"$f":"Input!J119","v":""},{"$f":"Input!F119","v":{"v":0,"d":"0.00"}},{"$f":"Input!K119","v":""}]
[{"$f":"Input!A120","v":98},{"$f":"IF(Input!B120=0,\"\",Input!B120)","v":""},{"$f":"IF(Input!C120=0,\"\",Input!C120)","v":""},{"$f":"IF(Input!E120=0,\"\",Input!E120)","v":""},{"$nulls":10},{"$f":"Input!J120","v":""},{"$f":"Input!F120","v":{"v":0,"d":"0.00"}},{"$f":"Input!K120","v":""}]
[{"$f":"Input!A121","v":99},{"$f":"IF(Input!B121=0,\"\",Input!B121)","v":""},{"$f":"IF(Input!C121=0,\"\",Input!C121)","v":""},{"$f":"IF(Input!E121=0,\"\",Input!E121)","v":""},{"$nulls":10},{"$f":"Input!J121","v":""},{"$f":"Input!F121","v":{"v":0,"d":"0.00"}},{"$f":"Input!K121","v":""}]
[{"$f":"Input!A122","v":100},{"$f":"IF(Input!B122=0,\"\",Input!B122)","v":""},{"$f":"IF(Input!C122=0,\"\",Input!C122)","v":""},{"$f":"IF(Input!E122=0,\"\",Input!E122)","v":""},{"$nulls":10},{"$f":"Input!J122","v":""},{"$f":"Input!F122","v":{"v":0,"d":"0.00"}},{"$f":"Input!K122","v":""}]
[{"$f":"Input!A123","v":101},{"$f":"IF(Input!B123=0,\"\",Input!B123)","v":""},{"$f":"IF(Input!C123=0,\"\",Input!C123)","v":""},{"$f":"IF(Input!E123=0,\"\",Input!E123)","v":""},{"$nulls":10},{"$f":"Input!J123","v":""},{"$f":"Input!F123","v":{"v":0,"d":"0.00"}},{"$f":"Input!K123","v":""}]
[{"$f":"Input!A124","v":102},{"$f":"IF(Input!B124=0,\"\",Input!B124)","v":""},{"$f":"IF(Input!C124=0,\"\",Input!C124)","v":""},{"$f":"IF(Input!E124=0,\"\",Input!E124)","v":""},{"$nulls":10},{"$f":"Input!J124","v":""},{"$f":"Input!F124","v":{"v":0,"d":"0.00"}},{"$f":"Input!K124","v":""}]
[{"$f":"Input!A125","v":103},{"$f":"IF(Input!B125=0,\"\",Input!B125)","v":""},{"$f":"IF(Input!C125=0,\"\",Input!C125)","v":""},{"$f":"IF(Input!E125=0,\"\",Input!E125)","v":""},{"$nulls":10},{"$f":"Input!J125","v":""},{"$f":"Input!F125","v":{"v":0,"d":"0.00"}},{"$f":"Input!K125","v":""}]
[{"$f":"Input!A126","v":104},{"$f":"IF(Input!B126=0,\"\",Input!B126)","v":""},{"$f":"IF(Input!C126=0,\"\",Input!C126)","v":""},{"$f":"IF(Input!E126=0,\"\",Input!E126)","v":""},{"$nulls":10},{"$f":"Input!J126","v":""},{"$f":"Input!F126","v":{"v":0,"d":"0.00"}},{"$f":"Input!K126","v":""}]
[{"$f":"Input!A127","v":105},{"$f":"IF(Input!B127=0,\"\",Input!B127)","v":""},{"$f":"IF(Input!C127=0,\"\",Input!C127)","v":""},{"$f":"IF(Input!E127=0,\"\",Input!E127)","v":""},{"$nulls":10},{"$f":"Input!J127","v":""},{"$f":"Input!F127","v":{"v":0,"d":"0.00"}},{"$f":"Input!K127","v":""}]
[{"$f":"Input!A128","v":106},{"$f":"IF(Input!B128=0,\"\",Input!B128)","v":""},{"$f":"IF(Input!C128=0,\"\",Input!C128)","v":""},{"$f":"IF(Input!E128=0,\"\",Input!E128)","v":""},{"$nulls":10},{"$f":"Input!J128","v":""},{"$f":"Input!F128","v":{"v":0,"d":"0.00"}},{"$f":"Input!K128","v":""}]
[{"$f":"Input!A129","v":107},{"$f":"IF(Input!B129=0,\"\",Input!B129)","v":""},{"$f":"IF(Input!C129=0,\"\",Input!C129)","v":""},{"$f":"IF(Input!E129=0,\"\",Input!E129)","v":""},{"$nulls":10},{"$f":"Input!J129","v":""},{"$f":"Input!F129","v":{"v":0,"d":"0.00"}},{"$f":"Input!K129","v":""}]
[{"$f":"Input!A130","v":108},{"$f":"IF(Input!B130=0,\"\",Input!B130)","v":""},{"$f":"IF(Input!C130=0,\"\",Input!C130)","v":""},{"$f":"IF(Input!E130=0,\"\",Input!E130)","v":""},{"$nulls":10},{"$f":"Input!J130","v":""},{"$f":"Input!F130","v":{"v":0,"d":"0.00"}},{"$f":"Input!K130","v":""}]
[{"$f":"Input!A131","v":109},{"$f":"IF(Input!B131=0,\"\",Input!B131)","v":""},{"$f":"IF(Input!C131=0,\"\",Input!C131)","v":""},{"$f":"IF(Input!E131=0,\"\",Input!E131)","v":""},{"$nulls":10},{"$f":"Input!J131","v":""},{"$f":"Input!F131","v":{"v":0,"d":"0.00"}},{"$f":"Input!K131","v":""}]
[{"$f":"Input!A132","v":110},{"$f":"IF(Input!B132=0,\"\",Input!B132)","v":""},{"$f":"IF(Input!C132=0,\"\",Input!C132)","v":""},{"$f":"IF(Input!E132=0,\"\",Input!E132)","v":""},{"$nulls":10},{"$f":"Input!J132","v":""},{"$f":"Input!F132","v":{"v":0,"d":"0.00"}},{"$f":"Input!K132","v":""}]
[{"$f":"Input!A133","v":111},{"$f":"IF(Input!B133=0,\"\",Input!B133)","v":""},{"$f":"IF(Input!C133=0,\"\",Input!C133)","v":""},{"$f":"IF(Input!E133=0,\"\",Input!E133)","v":""},{"$nulls":10},{"$f":"Input!J133","v":""},{"$f":"Input!F133","v":{"v":0,"d":"0.00"}},{"$f":"Input!K133","v":""}]
[{"$f":"Input!A134","v":112},{"$f":"IF(Input!B134=0,\"\",Input!B134)","v":""},{"$f":"IF(Input!C134=0,\"\",Input!C134)","v":""},{"$f":"IF(Input!E134=0,\"\",Input!E134)","v":""},{"$nulls":10},{"$f":"Input!J134","v":""},{"$f":"Input!F134","v":{"v":0,"d":"0.00"}},{"$f":"Input!K134","v":""}]
[{"$f":"Input!A135","v":113},{"$f":"IF(Input!B135=0,\"\",Input!B135)","v":""},{"$f":"IF(Input!C135=0,\"\",Input!C135)","v":""},{"$f":"IF(Input!E135=0,\"\",Input!E135)","v":""},{"$nulls":10},{"$f":"Input!J135","v":""},{"$f":"Input!F135","v":{"v":0,"d":"0.00"}},{"$f":"Input!K135","v":""}]
[{"$f":"Input!A136","v":114},{"$f":"IF(Input!B136=0,\"\",Input!B136)","v":""},{"$f":"IF(Input!C136=0,\"\",Input!C136)","v":""},{"$f":"IF(Input!E136=0,\"\",Input!E136)","v":""},{"$nulls":10},{"$f":"Input!J136","v":""},{"$f":"Input!F136","v":{"v":0,"d":"0.00"}},{"$f":"Input!K136","v":""}]
[{"$f":"Input!A137","v":115},{"$f":"IF(Input!B137=0,\"\",Input!B137)","v":""},{"$f":"IF(Input!C137=0,\"\",Input!C137)","v":""},{"$f":"IF(Input!E137=0,\"\",Input!E137)","v":""},{"$nulls":10},{"$f":"Input!J137","v":""},{"$f":"Input!F137","v":{"v":0,"d":"0.00"}},{"$f":"Input!K137","v":""}]
[{"$f":"Input!A138","v":116},{"$f":"IF(Input!B138=0,\"\",Input!B138)","v":""},{"$f":"IF(Input!C138=0,\"\",Input!C138)","v":""},{"$f":"IF(Input!E138=0,\"\",Input!E138)","v":""},{"$nulls":10},{"$f":"Input!J138","v":""},{"$f":"Input!F138","v":{"v":0,"d":"0.00"}},{"$f":"Input!K138","v":""}]
[{"$f":"Input!A139","v":117},{"$f":"IF(Input!B139=0,\"\",Input!B139)","v":""},{"$f":"IF(Input!C139=0,\"\",Input!C139)","v":""},{"$f":"IF(Input!E139=0,\"\",Input!E139)","v":""},{"$nulls":10},{"$f":"Input!J139","v":""},{"$f":"Input!F139","v":{"v":0,"d":"0.00"}},{"$f":"Input!K139","v":""}]
[{"$f":"Input!A140","v":118},{"$f":"IF(Input!B140=0,\"\",Input!B140)","v":""},{"$f":"IF(Input!C140=0,\"\",Input!C140)","v":""},{"$f":"IF(Input!E140=0,\"\",Input!E140)","v":""},{"$nulls":10},{"$f":"Input!J140","v":""},{"$f":"Input!F140","v":{"v":0,"d":"0.00"}},{"$f":"Input!K140","v":""}]
[{"$f":"Input!A141","v":119},{"$f":"IF(Input!B141=0,\"\",Input!B141)","v":""},{"$f":"IF(Input!C141=0,\"\",Input!C141)","v":""},{"$f":"IF(Input!E141=0,\"\",Input!E141)","v":""},{"$nulls":10},{"$f":"Input!J141","v":""},{"$f":"Input!F141","v":{"v":0,"d":"0.00"}},{"$f":"Input!K141","v":""}]
[{"$f":"Input!A142","v":120},{"$f":"IF(Input!B142=0,\"\",Input!B142)","v":""},{"$f":"IF(Input!C142=0,\"\",Input!C142)","v":""},{"$f":"IF(Input!E142=0,\"\",Input!E142)","v":""},{"$nulls":10},{"$f":"Input!J142","v":""},{"$f":"Input!F142","v":{"v":0,"d":"0.00"}},{"$f":"Input!K142","v":""}]
[{"$f":"Input!A143","v":121},{"$f":"IF(Input!B143=0,\"\",Input!B143)","v":""},{"$f":"IF(Input!C143=0,\"\",Input!C143)","v":""},{"$f":"IF(Input!E143=0,\"\",Input!E143)","v":""},{"$nulls":10},{"$f":"Input!J143","v":""},{"$f":"Input!F143","v":{"v":0,"d":"0.00"}},{"$f":"Input!K143","v":""}]
[{"$f":"Input!A144","v":122},{"$f":"IF(Input!B144=0,\"\",Input!B144)","v":""},{"$f":"IF(Input!C144=0,\"\",Input!C144)","v":""},{"$f":"IF(Input!E144=0,\"\",Input!E144)","v":""},{"$nulls":10},{"$f":"Input!J144","v":""},{"$f":"Input!F144","v":{"v":0,"d":"0.00"}},{"$f":"Input!K144","v":""}]
[{"$f":"Input!A145","v":123},{"$f":"IF(Input!B145=0,\"\",Input!B145)","v":""},{"$f":"IF(Input!C145=0,\"\",Input!C145)","v":""},{"$f":"IF(Input!E145=0,\"\",Input!E145)","v":""},{"$nulls":10},{"$f":"Input!J145","v":""},{"$f":"Input!F145","v":{"v":0,"d":"0.00"}},{"$f":"Input!K145","v":""}]
[{"$f":"Input!A146","v":124},{"$f":"IF(Input!B146=0,\"\",Input!B146)","v":""},{"$f":"IF(Input!C146=0,\"\",Input!C146)","v":""},{"$f":"IF(Input!E146=0,\"\",Input!E146)","v":""},{"$nulls":10},{"$f":"Input!J146","v":""},{"$f":"Input!F146","v":{"v":0,"d":"0.00"}},{"$f":"Input!K146","v":""}]
[{"$f":"Input!A147","v":125},{"$f":"IF(Input!B147=0,\"\",Input!B147)","v":""},{"$f":"IF(Input!C147=0,\"\",Input!C147)","v":""},{"$f":"IF(Input!E147=0,\"\",Input!E147)","v":""},{"$nulls":10},{"$f":"Input!J147","v":""},{"$f":"Input!F147","v":{"v":0,"d":"0.00"}},{"$f":"Input!K147","v":""}]
[{"$f":"Input!A148","v":126},{"$f":"IF(Input!B148=0,\"\",Input!B148)","v":""},{"$f":"IF(Input!C148=0,\"\",Input!C148)","v":""},{"$f":"IF(Input!E148=0,\"\",Input!E148)","v":""},{"$nulls":10},{"$f":"Input!J148","v":""},{"$f":"Input!F148","v":{"v":0,"d":"0.00"}},{"$f":"Input!K148","v":""}]
[{"$f":"Input!A149","v":127},{"$f":"IF(Input!B149=0,\"\",Input!B149)","v":""},{"$f":"IF(Input!C149=0,\"\",Input!C149)","v":""},{"$f":"IF(Input!E149=0,\"\",Input!E149)","v":""},{"$nulls":10},{"$f":"Input!J149","v":""},{"$f":"Input!F149","v":{"v":0,"d":"0.00"}},{"$f":"Input!K149","v":""}]
[{"$f":"Input!A150","v":128},{"$f":"IF(Input!B150=0,\"\",Input!B150)","v":""},{"$f":"IF(Input!C150=0,\"\",Input!C150)","v":""},{"$f":"IF(Input!E150=0,\"\",Input!E150)","v":""},{"$nulls":10},{"$f":"Input!J150","v":""},{"$f":"Input!F150","v":{"v":0,"d":"0.00"}},{"$f":"Input!K150","v":""}]
[{"$f":"Input!A151","v":129},{"$f":"IF(Input!B151=0,\"\",Input!B151)","v":""},{"$f":"IF(Input!C151=0,\"\",Input!C151)","v":""},{"$f":"IF(Input!E151=0,\"\",Input!E151)","v":""},{"$nulls":10},{"$f":"Input!J151","v":""},{"$f":"Input!F151","v":{"v":0,"d":"0.00"}},{"$f":"Input!K151","v":""}]
[{"$f":"Input!A152","v":130},{"$f":"IF(Input!B152=0,\"\",Input!B152)","v":""},{"$f":"IF(Input!C152=0,\"\",Input!C152)","v":""},{"$f":"IF(Input!E152=0,\"\",Input!E152)","v":""},{"$nulls":10},{"$f":"Input!J152","v":""},{"$f":"Input!F152","v":{"v":0,"d":"0.00"}},{"$f":"Input!K152","v":""}]
[{"$f":"Input!A153","v":131},{"$f":"IF(Input!B153=0,\"\",Input!B153)","v":""},{"$f":"IF(Input!C153=0,\"\",Input!C153)","v":""},{"$f":"IF(Input!E153=0,\"\",Input!E153)","v":""},{"$nulls":10},{"$f":"Input!J153","v":""},{"$f":"Input!F153","v":{"v":0,"d":"0.00"}},{"$f":"Input!K153","v":""}]
[{"$f":"Input!A154","v":132},{"$f":"IF(Input!B154=0,\"\",Input!B154)","v":""},{"$f":"IF(Input!C154=0,\"\",Input!C154)","v":""},{"$f":"IF(Input!E154=0,\"\",Input!E154)","v":""},{"$nulls":10},{"$f":"Input!J154","v":""},{"$f":"Input!F154","v":{"v":0,"d":"0.00"}},{"$f":"Input!K154","v":""}]
[{"$f":"Input!A155","v":133},{"$f":"IF(Input!B155=0,\"\",Input!B155)","v":""},{"$f":"IF(Input!C155=0,\"\",Input!C155)","v":""},{"$f":"IF(Input!E155=0,\"\",Input!E155)","v":""},{"$nulls":10},{"$f":"Input!J155","v":""},{"$f":"Input!F155","v":{"v":0,"d":"0.00"}},{"$f":"Input!K155","v":""}]
[{"$f":"Input!A156","v":134},{"$f":"IF(Input!B156=0,\"\",Input!B156)","v":""},{"$f":"IF(Input!C156=0,\"\",Input!C156)","v":""},{"$f":"IF(Input!E156=0,\"\",Input!E156)","v":""},{"$nulls":10},{"$f":"Input!J156","v":""},{"$f":"Input!F156","v":{"v":0,"d":"0.00"}},{"$f":"Input!K156","v":""}]
[{"$f":"Input!A157","v":135},{"$f":"IF(Input!B157=0,\"\",Input!B157)","v":""},{"$f":"IF(Input!C157=0,\"\",Input!C157)","v":""},{"$f":"IF(Input!E157=0,\"\",Input!E157)","v":""},{"$nulls":10},{"$f":"Input!J157","v":""},{"$f":"Input!F157","v":{"v":0,"d":"0.00"}},{"$f":"Input!K157","v":""}]
[{"$f":"Input!A158","v":136},{"$f":"IF(Input!B158=0,\"\",Input!B158)","v":""},{"$f":"IF(Input!C158=0,\"\",Input!C158)","v":""},{"$f":"IF(Input!E158=0,\"\",Input!E158)","v":""},{"$nulls":10},{"$f":"Input!J158","v":""},{"$f":"Input!F158","v":{"v":0,"d":"0.00"}},{"$f":"Input!K158","v":""}]
[{"$f":"Input!A159","v":137},{"$f":"IF(Input!B159=0,\"\",Input!B159)","v":""},{"$f":"IF(Input!C159=0,\"\",Input!C159)","v":""},{"$f":"IF(Input!E159=0,\"\",Input!E159)","v":""},{"$nulls":10},{"$f":"Input!J159","v":""},{"$f":"Input!F159","v":{"v":0,"d":"0.00"}},{"$f":"Input!K159","v":""}]
[{"$f":"Input!A160","v":138},{"$f":"IF(Input!B160=0,\"\",Input!B160)","v":""},{"$f":"IF(Input!C160=0,\"\",Input!C160)","v":""},{"$f":"IF(Input!E160=0,\"\",Input!E160)","v":""},{"$nulls":10},{"$f":"Input!J160","v":""},{"$f":"Input!F160","v":{"v":0,"d":"0.00"}},{"$f":"Input!K160","v":""}]
[{"$f":"Input!A161","v":139},{"$f":"IF(Input!B161=0,\"\",Input!B161)","v":""},{"$f":"IF(Input!C161=0,\"\",Input!C161)","v":""},{"$f":"IF(Input!E161=0,\"\",Input!E161)","v":""},{"$nulls":10},{"$f":"Input!J161","v":""},{"$f":"Input!F161","v":{"v":0,"d":"0.00"}},{"$f":"Input!K161","v":""}]
[{"$f":"Input!A162","v":140},{"$f":"IF(Input!B162=0,\"\",Input!B162)","v":""},{"$f":"IF(Input!C162=0,\"\",Input!C162)","v":""},{"$f":"IF(Input!E162=0,\"\",Input!E162)","v":""},{"$nulls":10},{"$f":"Input!J162","v":""},{"$f":"Input!F162","v":{"v":0,"d":"0.00"}},{"$f":"Input!K162","v":""}]
[{"$f":"Input!A163","v":141},{"$f":"IF(Input!B163=0,\"\",Input!B163)","v":""},{"$f":"IF(Input!C163=0,\"\",Input!C163)","v":""},{"$f":"IF(Input!E163=0,\"\",Input!E163)","v":""},{"$nulls":10},{"$f":"Input!J163","v":""},{"$f":"Input!F163","v":{"v":0,"d":"0.00"}},{"$f":"Input!K163","v":""}]
[{"$f":"Input!A164","v":142},{"$f":"IF(Input!B164=0,\"\",Input!B164)","v":""},{"$f":"IF(Input!C164=0,\"\",Input!C164)","v":""},{"$f":"IF(Input!E164=0,\"\",Input!E164)","v":""},{"$nulls":10},{"$f":"Input!J164","v":""},{"$f":"Input!F164","v":{"v":0,"d":"0.00"}},{"$f":"Input!K164","v":""}]
[{"$f":"Input!A165","v":143},{"$f":"IF(Input!B165=0,\"\",Input!B165)","v":""},{"$f":"IF(Input!C165=0,\"\",Input!C165)","v":""},{"$f":"IF(Input!E165=0,\"\",Input!E165)","v":""},{"$nulls":10},{"$f":"Input!J165","v":""},{"$f":"Input!F165","v":{"v":0,"d":"0.00"}},{"$f":"Input!K165","v":""}]
[{"$f":"Input!A166","v":144},{"$f":"IF(Input!B166=0,\"\",Input!B166)","v":""},{"$f":"IF(Input!C166=0,\"\",Input!C166)","v":""},{"$f":"IF(Input!E166=0,\"\",Input!E166)","v":""},{"$nulls":10},{"$f":"Input!J166","v":""},{"$f":"Input!F166","v":{"v":0,"d":"0.00"}},{"$f":"Input!K166","v":""}]
[{"$f":"Input!A167","v":145},{"$f":"IF(Input!B167=0,\"\",Input!B167)","v":""},{"$f":"IF(Input!C167=0,\"\",Input!C167)","v":""},{"$f":"IF(Input!E167=0,\"\",Input!E167)","v":""},{"$nulls":10},{"$f":"Input!J167","v":""},{"$f":"Input!F167","v":{"v":0,"d":"0.00"}},{"$f":"Input!K167","v":""}]
[{"$f":"Input!A168","v":146},{"$f":"IF(Input!B168=0,\"\",Input!B168)","v":""},{"$f":"IF(Input!C168=0,\"\",Input!C168)","v":""},{"$f":"IF(Input!E168=0,\"\",Input!E168)","v":""},{"$nulls":10},{"$f":"Input!J168","v":""},{"$f":"Input!F168","v":{"v":0,"d":"0.00"}},{"$f":"Input!K168","v":""}]
[{"$f":"Input!A169","v":147},{"$f":"IF(Input!B169=0,\"\",Input!B169)","v":""},{"$f":"IF(Input!C169=0,\"\",Input!C169)","v":""},{"$f":"IF(Input!E169=0,\"\",Input!E169)","v":""},{"$nulls":10},{"$f":"Input!J169","v":""},{"$f":"Input!F169","v":{"v":0,"d":"0.00"}},{"$f":"Input!K169","v":""}]
[{"$f":"Input!A170","v":148},{"$f":"IF(Input!B170=0,\"\",Input!B170)","v":""},{"$f":"IF(Input!C170=0,\"\",Input!C170)","v":""},{"$f":"IF(Input!E170=0,\"\",Input!E170)","v":""},{"$nulls":10},{"$f":"Input!J170","v":""},{"$f":"Input!F170","v":{"v":0,"d":"0.00"}},{"$f":"Input!K170","v":""}]
[{"$f":"Input!A171","v":149},{"$f":"IF(Input!B171=0,\"\",Input!B171)","v":""},{"$f":"IF(Input!C171=0,\"\",Input!C171)","v":""},{"$f":"IF(Input!E171=0,\"\",Input!E171)","v":""},{"$nulls":10},{"$f":"Input!J171","v":""},{"$f":"Input!F171","v":{"v":0,"d":"0.00"}},{"$f":"Input!K171","v":""}]
[{"$f":"Input!A172","v":150},{"$f":"IF(Input!B172=0,\"\",Input!B172)","v":""},{"$f":"IF(Input!C172=0,\"\",Input!C172)","v":""},{"$f":"IF(Input!E172=0,\"\",Input!E172)","v":""},{"$nulls":10},{"$f":"Input!J172","v":""},{"$f":"Input!F172","v":{"v":0,"d":"0.00"}},{"$f":"Input!K172","v":""}]
[{"$f":"Input!A173","v":151},{"$f":"IF(Input!B173=0,\"\",Input!B173)","v":""},{"$f":"IF(Input!C173=0,\"\",Input!C173)","v":""},{"$f":"IF(Input!E173=0,\"\",Input!E173)","v":""},{"$nulls":10},{"$f":"Input!J173","v":""},{"$f":"Input!F173","v":{"v":0,"d":"0.00"}},{"$f":"Input!K173","v":""}]
[{"$f":"Input!A174","v":152},{"$f":"IF(Input!B174=0,\"\",Input!B174)","v":""},{"$f":"IF(Input!C174=0,\"\",Input!C174)","v":""},{"$f":"IF(Input!E174=0,\"\",Input!E174)","v":""},{"$nulls":10},{"$f":"Input!J174","v":""},{"$f":"Input!F174","v":{"v":0,"d":"0.00"}},{"$f":"Input!K174","v":""}]
[{"$f":"Input!A175","v":153},{"$f":"IF(Input!B175=0,\"\",Input!B175)","v":""},{"$f":"IF(Input!C175=0,\"\",Input!C175)","v":""},{"$f":"IF(Input!E175=0,\"\",Input!E175)","v":""},{"$nulls":10},{"$f":"Input!J175","v":""},{"$f":"Input!F175","v":{"v":0,"d":"0.00"}},{"$f":"Input!K175","v":""}]
[{"$f":"Input!A176","v":154},{"$f":"IF(Input!B176=0,\"\",Input!B176)","v":""},{"$f":"IF(Input!C176=0,\"\",Input!C176)","v":""},{"$f":"IF(Input!E176=0,\"\",Input!E176)","v":""},{"$nulls":10},{"$f":"Input!J176","v":""},{"$f":"Input!F176","v":{"v":0,"d":"0.00"}},{"$f":"Input!K176","v":""}]
[{"$f":"Input!A177","v":155},{"$f":"IF(Input!B177=0,\"\",Input!B177)","v":""},{"$f":"IF(Input!C177=0,\"\",Input!C177)","v":""},{"$f":"IF(Input!E177=0,\"\",Input!E177)","v":""},{"$nulls":10},{"$f":"Input!J177","v":""},{"$f":"Input!F177","v":{"v":0,"d":"0.00"}},{"$f":"Input!K177","v":""}]
[{"$f":"Input!A178","v":156},{"$f":"IF(Input!B178=0,\"\",Input!B178)","v":""},{"$f":"IF(Input!C178=0,\"\",Input!C178)","v":""},{"$f":"IF(Input!E178=0,\"\",Input!E178)","v":""},{"$nulls":10},{"$f":"Input!J178","v":""},{"$f":"Input!F178","v":{"v":0,"d":"0.00"}},{"$f":"Input!K178","v":""}]
[{"$f":"Input!A179","v":157},{"$f":"IF(Input!B179=0,\"\",Input!B179)","v":""},{"$f":"IF(Input!C179=0,\"\",Input!C179)","v":""},{"$f":"IF(Input!E179=0,\"\",Input!E179)","v":""},{"$nulls":10},{"$f":"Input!J179","v":""},{"$f":"Input!F179","v":{"v":0,"d":"0.00"}},{"$f":"Input!K179","v":""}]
[{"$f":"Input!A180","v":158},{"$f":"IF(Input!B180=0,\"\",Input!B180)","v":""},{"$f":"IF(Input!C180=0,\"\",Input!C180)","v":""},{"$f":"IF(Input!E180=0,\"\",Input!E180)","v":""},{"$nulls":10},{"$f":"Input!J180","v":""},{"$f":"Input!F180","v":{"v":0,"d":"0.00"}},{"$f":"Input!K180","v":""}]
[{"$f":"Input!A181","v":159},{"$f":"IF(Input!B181=0,\"\",Input!B181)","v":""},{"$f":"IF(Input!C181=0,\"\",Input!C181)","v":""},{"$f":"IF(Input!E181=0,\"\",Input!E181)","v":""},{"$nulls":10},{"$f":"Input!J181","v":""},{"$f":"Input!F181","v":{"v":0,"d":"0.00"}},{"$f":"Input!K181","v":""}]
[{"$f":"Input!A182","v":160},{"$f":"IF(Input!B182=0,\"\",Input!B182)","v":""},{"$f":"IF(Input!C182=0,\"\",Input!C182)","v":""},{"$f":"IF(Input!E182=0,\"\",Input!E182)","v":""},{"$nulls":10},{"$f":"Input!J182","v":""},{"$f":"Input!F182","v":{"v":0,"d":"0.00"}},{"$f":"Input!K182","v":""}]
[{"$f":"Input!A183","v":161},{"$f":"IF(Input!B183=0,\"\",Input!B183)","v":""},{"$f":"IF(Input!C183=0,\"\",Input!C183)","v":""},{"$f":"IF(Input!E183=0,\"\",Input!E183)","v":""},{"$nulls":10},{"$f":"Input!J183","v":""},{"$f":"Input!F183","v":{"v":0,"d":"0.00"}},{"$f":"Input!K183","v":""}]
[{"$f":"Input!A184","v":162},{"$f":"IF(Input!B184=0,\"\",Input!B184)","v":""},{"$f":"IF(Input!C184=0,\"\",Input!C184)","v":""},{"$f":"IF(Input!E184=0,\"\",Input!E184)","v":""},{"$nulls":10},{"$f":"Input!J184","v":""},{"$f":"Input!F184","v":{"v":0,"d":"0.00"}},{"$f":"Input!K184","v":""}]
[{"$f":"Input!A185","v":163},{"$f":"IF(Input!B185=0,\"\",Input!B185)","v":""},{"$f":"IF(Input!C185=0,\"\",Input!C185)","v":""},{"$f":"IF(Input!E185=0,\"\",Input!E185)","v":""},{"$nulls":10},{"$f":"Input!J185","v":""},{"$f":"Input!F185","v":{"v":0,"d":"0.00"}},{"$f":"Input!K185","v":""}]
[{"$f":"Input!A186","v":164},{"$f":"IF(Input!B186=0,\"\",Input!B186)","v":""},{"$f":"IF(Input!C186=0,\"\",Input!C186)","v":""},{"$f":"IF(Input!E186=0,\"\",Input!E186)","v":""},{"$nulls":10},{"$f":"Input!J186","v":""},{"$f":"Input!F186","v":{"v":0,"d":"0.00"}},{"$f":"Input!K186","v":""}]
[{"$f":"Input!A187","v":165},{"$f":"IF(Input!B187=0,\"\",Input!B187)","v":""},{"$f":"IF(Input!C187=0,\"\",Input!C187)","v":""},{"$f":"IF(Input!E187=0,\"\",Input!E187)","v":""},{"$nulls":10},{"$f":"Input!J187","v":""},{"$f":"Input!F187","v":{"v":0,"d":"0.00"}},{"$f":"Input!K187","v":""}]
[{"$f":"Input!A188","v":166},{"$f":"IF(Input!B188=0,\"\",Input!B188)","v":""},{"$f":"IF(Input!C188=0,\"\",Input!C188)","v":""},{"$f":"IF(Input!E188=0,\"\",Input!E188)","v":""},{"$nulls":10},{"$f":"Input!J188","v":""},{"$f":"Input!F188","v":{"v":0,"d":"0.00"}},{"$f":"Input!K188","v":""}]
[{"$f":"Input!A189","v":167},{"$f":"IF(Input!B189=0,\"\",Input!B189)","v":""},{"$f":"IF(Input!C189=0,\"\",Input!C189)","v":""},{"$f":"IF(Input!E189=0,\"\",Input!E189)","v":""},{"$nulls":10},{"$f":"Input!J189","v":""},{"$f":"Input!F189","v":{"v":0,"d":"0.00"}},{"$f":"Input!K189","v":""}]
[{"$f":"Input!A190","v":168},{"$f":"IF(Input!B190=0,\"\",Input!B190)","v":""},{"$f":"IF(Input!C190=0,\"\",Input!C190)","v":""},{"$f":"IF(Input!E190=0,\"\",Input!E190)","v":""},{"$nulls":10},{"$f":"Input!J190","v":""},{"$f":"Input!F190","v":{"v":0,"d":"0.00"}},{"$f":"Input!K190","v":""}]
[{"$f":"Input!A191","v":169},{"$f":"IF(Input!B191=0,\"\",Input!B191)","v":""},{"$f":"IF(Input!C191=0,\"\",Input!C191)","v":""},{"$f":"IF(Input!E191=0,\"\",Input!E191)","v":""},{"$nulls":10},{"$f":"Input!J191","v":""},{"$f":"Input!F191","v":{"v":0,"d":"0.00"}},{"$f":"Input!K191","v":""}]
[{"$f":"Input!A192","v":170},{"$f":"IF(Input!B192=0,\"\",Input!B192)","v":""},{"$f":"IF(Input!C192=0,\"\",Input!C192)","v":""},{"$f":"IF(Input!E192=0,\"\",Input!E192)","v":""},{"$nulls":10},{"$f":"Input!J192","v":""},{"$f":"Input!F192","v":{"v":0,"d":"0.00"}},{"$f":"Input!K192","v":""}]

{"sheet":"MOSAIC","index":6,"n_rows":326,"n_cols":3,"rows_kept":326,"hidden":true}
["Competency Title","Notation","Competency Definition"]
["Accessibility",null,"Knowledge of tools, equipment, and technologies used to help individuals with disabilities use computer equipment and software."]
["Accident Investigation",null,"Knowledge of guidelines, regulations, and procedures associated with an accident investigation including preservation of accident scene, root cause analysis, and evidence detection and handling."]
["Accountability",null,"Holds self and others accountable for measurable high-quality, timely, and cost-effective results. Determines objectives, sets priorities, and delegates work. Accepts responsibility for mistakes. Complies with established control systems and rules."]
["Accounting",null,"Knowledge of traditional accounting practices including accrual, obligations, and costs methods."]
["Accounting Operations",null,"Knowledge of general ledger accounting and the control/subsidiary account relationships and reconciliation techniques, including accounts receivable, accounts payable, and disbursing officer's accountability."]
["Acquisition Strategy",null,"Knowledge of the principles and methods for developing an integrated acquisition management plan that describes the business, technical, and support strategies, including the relationship between the acquisition phases, work efforts, and key program events (for example, decision points, contract awards, test activities)."]
["Administration and Management",null,"Knowledge of planning, coordination, and execution of business functions, resource allocation, and production."]
["Administrative Law",null,"Knowledge of state and Federal administrative laws, including procedures, regulations, guidelines, and precedents related to case preparation and settlements."]
["Aerospace Engineering",null,"Knowledge of the concepts, principles, and theories of aerodynamics or space environments related to the design, development, testing, analysis, application, and utilization of aerospace and aeronautical devices, vehicles, systems, and equipment."]
["Agility",null,"Bends, stretches, twists, or reaches out with the body, arms, or legs."]
["Aircraft Maintenance",null,"Knowledge of aircraft engines, parts, and systems, including their designs, uses, repair, and maintenance."]
["Ammunition and Explosives",null,"Knowledge of ammunition and explosives and their uses, interactions, dangers, production, handling, storage, and disposal."]
["Animal Husbandry",null,"Knowledge of the care and handling of animals, including feeding, controlling, restraint, health, and reproduction."]
["Applies Technology to Tasks",null,"Selects and understands procedures, machines, or tools that will produce the desired results; identifies or solves problems in machines, computers, or other technologies as they are related to performing tasks."]
["Architecture",null,"Knowledge of the concepts, principles, theories, and practices used in the planning, design, construction, and maintenance of buildings or other structures, taking into consideration aesthetic and functional concerns."]
["Arithmetic",null,"Performs computations such as addition, subtraction, multiplication, and division correctly using whole numbers, fractions, decimals, and percentages."]
["Arithmetic/Mathematical Reasoning",null,"Performs computations such as addition, subtraction, multiplication, and division correctly; solves practical problems by choosing appropriately from a variety of mathematical techniques such as formulas and percentages.\""]
["Arrest",null,"Knowledge of the laws, principles, and procedures used in apprehending a criminal suspect, including polices for pursuit and proper use of force and capture such as Miranda rights."]
["Artificial Intelligence",null,"Knowledge of the principles, methods, and tools used to design systems that perform human intelligence functions."]
["Astronomy",null,"Knowledge of the concepts, principles, and theories of the physical processes leading to the emission of electromagnetic radiation or particles from celestial bodies, the measurement and physical characteristics of celestial bodies, including cosmic microwave background, submillimeter technology, galaxies, star formations, and planetary science."]
["Attention to Detail",null,"Is thorough when performing work and conscientious about attending to detail."]
["Audit Reporting",null,"Knowledge of the principles, practices, and techniques used to report audit findings (criteria, condition, cause, effect, and recommendation)."]
["Auditing",null,"Knowledge of generally accepted auditing standards and procedures for conducting financial and compliance, economy and efficiency, and program audits."]
["Biology",null,"Knowledge of the environment, plant and animal living tissue, cells, organisms, and entities, including their functions, interdependencies and interactions with each other and the environment."]
["Botany",null,"Knowledge of the concepts, principles, and theories of plants, including structures and functions, classification, taxonomy, plant communities, distribution, habitat requirements, life histories, reproduction, conservation, and care of plant species."]
["Budget Administration",null,"Knowledge of the principles and practices of budget administration and analysis; including preparing, justifying, reporting on, and executing the budget; and the relationships among program, budget, accounting, and reporting systems."]
["Building and Construction",null,"Knowledge of materials, methods, and the tools to construct objects, structures, and buildings."]
["Business Process Reengineering",null,"Knowledge of methods, metrics, tools, and techniques of Business Process Reengineering."]
["Capacity Management",null,"Knowledge of the principles and methods for monitoring, estimating, or reporting actual performance or the performance capability of information systems or components."]
["Capital Planning and Investment Assessment",null,"Knowledge of the principles and methods of capital investment analysis or business case analysis, including return on investment analysis."]
["Carpentry/Woodworking",null,"Knowledge of materials, methods, and the appropriate tools to construct, install, finish, or repair wooden objects or structures."]
["Cartography",null,"Knowledge of the concepts, principles, theories, and methods related to the research, design, development, or revision of maps, charts, and related cartographic products, and photogrammatic and cartographic processing."]
["Change Management",null,"Knowledge of change management principles, strategies, and techniques required for effectively planning, implementing, and evaluating change in the organization."]
["Chemical Engineering",null,"Knowledge of the concepts, principles, and theories related to the chemical composition or physical characteristics of materials for the design, construction, operation, and improvement of processes or systems."]
["Chemistry (*)","(*)","Knowledge of the concepts, principles, and theories of the composition, structure, and properties of substances, and of the chemical processes and transformations, including uses of chemicals and their interactions, danger signs, production techniques, and disposal methods."]
["Chemistry (†)","(†)","Knowledge of chemicals, including hazardous materials, and their uses, interactions, dangers, production, storage, and disposal."]
["Civil Engineering",null,"Knowledge of the concepts, principles, theories, and methods required to plan, design, construct, operate, and maintain facilities such as buildings, transportation systems, water and sanitary systems, and other public works systems."]
["Classification",null,"Knowledge of classification concepts, principles, and practices related to structuring organizations and positions and determining the appropriate pay system, occupational grouping, title, and pay level of positions."]
["Clerical",null,"Knowledge of filing, typing, entering data, maintaining records, taking shorthand, and using and completing forms."]
["Client Engagement/Change Management",null,"Knowledge of the impact of change on people, processes, procedures, leadership, and organizational culture; knowledge of change management principles, strategies, and techniques required for effectively planning, implementing, and evaluating change in the organization."]
["Communications and Media",null,"Knowledge of the production, communication and dissemination of information and ideas to inform and entertain via written, oral, and visual media."]
["Communications Security Management",null,"Knowledge of the principles, policies, and procedures involved in ensuring the security of communications services and data, and in maintaining the communications environment on which it resides."]
["Compensation",null,"Knowledge of compensation concepts, principles, and practices, including pay and leave administration and compensation flexibilities."]
["Compliance",null,"Knowledge of procedures for assessing, evaluating, and monitoring programs or projects for compliance with Federal laws, regulations, and guidance."]
["Compliance Inspection",null,"Knowledge of the guidelines, regulations, and procedures associated with compliance inquiries, including application of compliance rules and criteria and ability to make appropriate decisions and issue citations, fines, or orders."]
["Computer Forensics",null,"Knowledge of tools and techniques used in data recovery and preservation of electronic evidence."]
["Computer Languages",null,"Knowledge of computer languages and their applications to enable a system to perform specific functions."]
["Computer Network Defense",null,"Knowledge of defensive measures to detect, respond, and protect information, information systems, and networks from threats."]
["Computer Skills",null,"Uses computers, software applications, databases, and automated systems to accomplish work."]
["Computers",null,"Knowledge of circuit boards, processors, chips, and computer hardware and software, including applications and programming."]
["Computers and Electronics",null,"Knowledge of electric circuit boards, processors, chips, and computer hardware and software, including applications and programming."]
["Configuration Management",null,"Knowledge of the principles and methods for planning or managing the implementation, update, or integration of information systems components."]
["Conflict Management (*)","(*)","Manages and resolves conflicts, grievances, confrontations, or disagreements in a constructive manner to minimize negative personal impact."]
["Conflict Management (‡)","(‡)","Encourages creative tension and differences of opinions.  Anticipates and takes steps to prevent counter-productive confrontations. Manages and resolves conflicts and disagreements in a constructive manner."]
["Conscientiousness",null,"Displays a high level of effort and commitment towards performing work; demonstrates responsible behavior."]
["Constitutional Law",null,"Knowledge of the laws and legal precedents related to the U.S. Constitution."]
["Continual Learning",null,"Assesses and recognizes own strengths and weaknesses; pursues self-development."]
["Contracting/Procurement",null,"Knowledge of various types of contracts, techniques, or requirements (for example, Federal Acquisitions Regulations) for contracting or procurement, and contract negotiation and administration."]
["Control of Funds",null,"Knowledge of the principles, procedures, and requirements for maintaining control and accountability of obligations and expenditures for all appropriations and fund accounts (for example, revolving, non-appropriated, multiyear, and single-year appropriations)."]
["Cost Accounting",null,"Knowledge of the principles, procedures, and methods of cost accounting, including the use of historical cost, market value, or present value to measure cost; methods for assigning cost to accounting periods; and cost allocation, cost accrual, depreciation, and unit cost."]
["Cost Estimation and Analysis",null,"Knowledge of the principles, practices, and methods used to determine, estimate, and analyze costs, including determining life cycle costs, application of cost models, and evaluation of cost realism."]
["Cost-Benefit Analysis",null,"Knowledge of the principles and methods of cost-benefit analysis, including the time value of money, present value concepts, and quantifying tangible and intangible benefits."]
["Creative Thinking (*)","(*)","Uses imagination to develop new insights into situations and applies innovative solutions to problems; designs new methods where established methods and procedures are inapplicable or are unavailable."]
["Creative Thinking (†)","(†)","Uses imagination to develop new insights into situations and applies new solutions to problems; designs new methods where established methods and procedures are not suitable or are unavailable."]
["Creativity and Innovation",null,"Develops new insights into situations; questions conventional approaches; encourages new ideas and innovations; designs and implements new or cutting edge programs/processes."]
["Criminal Investigation",null,"Knowledge of the guidelines, regulations, and procedures associated with criminal investigation, including evidence detection and handling and drawing appropriate factual inferences and conclusions."]
["Criminal Law",null,"Knowledge of state and Federal criminal laws, including procedures, regulations, guidelines, and precedents related to admissibility of evidence and prosecution."]
["Customer Service (*)","(*)","Works with clients and customers (that is, any individuals who use or receive the services or products that your work unit produces, including the general public, individuals who work in the agency, other agencies, or organizations outside the Government) to assess their needs, provide information or assistance, resolve their problems, or satisfy their expectations; knows about available products and services; is committed to providing quality products and services."]
["Customer Service (‡)","(‡)","Anticipates and meets the needs of both internal and external customers. Delivers high-quality products and services; is committed to continuous improvement."]
["Cutting",null,"Knowledge of meat cutting, including the grades and structure of meat, fish, or poultry."]
["Data Management",null,"Knowledge of the principles, procedures, and tools of data management, such as modeling techniques, data backup, data recovery, data dictionaries, data warehousing, data mining, data archiving, data disposal, and data standardization processes."]
["Data Systems",null,"Knowledge of computer hardware and software development and systems as they apply to the conception, specification, analysis, planning, development, installation, test, modification and use of data handling and computing systems in support of aerospace flight and ground systems."]
["Database Administration",null,"Knowledge of the principles, methods, and tools for automating, developing, implementing, or administering database systems."]
["Database Management Systems",null,"Knowledge of the uses of database management systems and software to control the organization, storage, retrieval, security, and integrity of data."]
["Decision Making",null,"Makes sound, well-informed, and objective decisions; perceives the impact and implications of decisions; commits to action, even in uncertain situations, to accomplish organizational goals; causes change."]
["Decision Support",null,"Knowledge of decision support theories, methods, and tools for identifying, synthesizing, representing, and evaluating the important aspects of a decision situation and prescribing the recommended course for decision makers and other stakeholders."]
["Decisiveness",null,"Makes well-informed, effective, and timely decisions, even when data are limited or solutions produce unpleasant consequences; perceives the impact and implications of decisions."]
["Depth Perception",null,"Accurately judges which of several objects is closer or farther away from the observer, or the distance between an object and the observer."]
["Design",null,"Knowledge of conceptualizing, developing, producing, understanding, and using plans, models, blueprints, and maps, including the use of tools and instruments to produce precision technical drawings, working prototypes, components, or systems."]
["Detention",null,"Knowledge of the policies and procedures for detaining criminal suspects including processing, fingerprinting, detention requests, informing detainee of charges, and transportation."]
["Developing Others",null,"Develops the ability of others to perform and contribute to the organization by providing ongoing feedback and by providing opportunities to learn through formal and informal methods."]
["Distributed Systems",null,"Knowledge of the principles, theoretical concepts, and tools underlying distributed computing systems, including their associated components and communication standards."]
["Earth Science",null,"Knowledge of interdisciplinary disciplines associated with the earth’s composition, structure, or other physical aspects, including atmosphere."]
["Ecology",null,"Knowledge of the concepts, principles, and theories of the interrelationships among organisms and their environment, including competition and predation, evolution and natural selection, population dynamics, and the impact of natural phenomena or human actions on natural systems, processes, and biota."]
["Economics",null,"Knowledge of economic policy, principles, and practices, market and non-market values, and the analysis and reporting of economic data."]
["Economics and Accounting",null,"Knowledge of economic and accounting principles and practices, tax law and practices, the financial markets, banking, and the analysis and reporting of financial data."]
["Education and Training",null,"Knowledge of teaching, training, research, making presentations, lecturing, testing, and other instructional methods."]
["Electrical",null,"Knowledge of electrical equipment, components, instruments, and systems, including their design, installation, testing, uses, repair, or maintenance."]
["Electrical Engineering",null,"Knowledge of the concepts, principles, theories, and methods related to the design, analysis, test, and integration of electrical systems; energy conversion; electrical power generation; and energy transmission, control, distribution or use."]
["Electronic Commerce (e-Commerce)",null,"Knowledge of the principles, methods, and tools for conducting business online, including electronic data interchange."]
["Electronics",null,"Knowledge of electronic theory, circuits, components, and material properties (excluding computers)."]
["Electronics Engineering",null,"Knowledge of the concepts, principles, theories, and methods related to the design, analysis, test, fabrication, or verification of analog or digital electronic systems."]
["Embedded Computers",null,"Knowledge of specifications and uses of specialized computer systems used to control devices (for example, automobiles, helicopters), including the appropriate programming languages."]
["Employee Benefits",null,"Knowledge of HR concepts, principles, and practices related to retirement, insurance, injury compensation, and other employee benefits programs."]
["Employee Development",null,"Knowledge of employee development concepts, principles, and practices related to planning, evaluating, and administering training, organizational development, and career development initiatives."]
["Employee Relations",null,"Knowledge of laws, rules, regulations, case law, principles, and practices related to employee conduct, performance, and dispute resolution."]
["Encryption",null,"Knowledge of procedures, tools, and applications used to keep data or information secure, including public key infrastructure, point-to-point encryption, and smart cards."]
["Engineering and Technology",null,"Knowledge of engineering concepts, principles, and practices, and of equipment, tools, mechanical devices, and their uses to produce motion, light, power, technology, and other applications."]
["Enterprise Architecture",null,"Knowledge of principles, concepts, and methods of enterprise architecture to align information technology (IT) strategy, plans, and systems with the mission, goals, structure, and processes of the organization."]
["Entomology",null,"Knowledge of the concepts, principles, and theories of insects, including taxonomy, morphology, behavior, life cycles, population dynamics, host-insect interactions, the role of insects in natural and managed ecosystems, and the regulation, prevention, and control of pest-related problems."]
["Entrepreneurship",null,"Positions the organization for future success by identifying new opportunities; builds the organization by developing or improving products or services. Takes calculated risks to accomplish organizational objectives."]
["Environmental Engineering",null,"Knowledge of the concepts, principles, theories, and methods to protect and improve the quality of the environment and its resources; and to monitor, control, abate, and prevent pollutants."]
["External Awareness (*)","(*)","Identifies and understands economic, political, and social trends that affect the organization."]
["External Awareness (‡)","(‡)","Understands and keeps up-to-date on local, national, and international policies and trends that affect the organization and shape stakeholders' views; is aware of the organization's impact on the external environment."]
["Eye-Hand Coordination",null,"Accurately coordinates one's eyes with one's fingers, wrists, or arms to perform job-related tasks (for example, to move, carry, or manipulate objects)."]
["Facilities",null,"Knowledge of the physical, engineering, and experimental equipment and operational characteristics of facilities, and safety and equipment development designed to support aerospace activities."]
["Federal Funds Processing",null,"Knowledge of methods and procedures for processing direct and reimbursable program funds (for example, automatic and funded reimbursements, interagency agreements, transfer appropriations), grants, loans, and credit programs."]
["Financial Analysis",null,"Knowledge of the principles, methods, and techniques of financial analysis, forecasting, and modeling to interpret quantitative and qualitative data; includes data modeling, earned value management, and evaluating key financial indicators, trends, and historical data."]
["Financial Assistance Mechanisms",null,"Knowledge of the differences between acquisition and financial assistance purposes and requirements; knowledge of Federal assistance instruments, techniques, and procedures for grants (for example, block, mandatory, discretionary) and agreements (for example, cooperative, interagency)."]
["Financial Management (*)","(*)","Prepares, justifies, and/or administers the budget for program areas; plans, administers, and monitors expenditures to ensure cost-effective support of programs and policies; assesses financial condition of an organization."]
["Financial Management (‡)","(‡)","Understands the organization's financial processes. Prepares, justifies, and administers the program budget.  Oversees procurement and contracting to achieve desired results.   Monitors expenditures and uses cost-benefit thinking to set priorities."]
["Financial Systems",null,"Knowledge of the standards, architecture, and specifications of automated financial systems, including source documents, system flows, system interfaces, and related internal controls."]
["Fine Arts",null,"Knowledge of theory and techniques required to produce, compose, and perform works of music, dance, visual arts, drama, and sculpture."]
["Fire Management",null,"Knowledge of the concepts, principles, and theories of fire management, including the characteristics, behavior, and ecology of fire; methodologies, strategies, and equipment used in prescribed fires; fire detection, prevention, and suppression strategies; and integration of fire with natural resource management."]
["Firearms",null,"Knowledge of firearm usage and related issues, such as ammunition, range regulations and safety and use of force policies."]
["First Response",null,"Knowledge of emergency management methods, such as first aid, rescue techniques, and threat assessments."]
["Fishery Biology",null,"Knowledge of the concepts, principles, and theories of aquatic life, including classification, taxonomy, population dynamics, distribution, habitat requirements, life histories, reproduction, behaviors, conservation, and care of aquatic species."]
["Flexibility (*)","(*)","Is open to change and new information; adapts behavior or work methods in response to new information, changing conditions, or unexpected obstacles; effectively deals with ambiguity."]
["Flexibility (†)","(†)","Is open to change and new information; adapts behavior or work methods in response to new information, changing conditions, or unexpected obstacles; effectively deals with uncertainty."]
["Flexibility (‡)","(‡)","Is open to change and new information; rapidly adapts to new information, changing conditions, or unexpected obstacles."]
["Flight Systems",null,"Knowledge of the concepts, principles, and theories related to the development, design, test, and evaluation of aerospace flight vehicles and their component subsystems, or their related external systems."]
["Fluid Dynamics and Mechanics",null,"Knowledge of the concepts, principles, and theories of computational fluid dynamics, fluid mechanics, flight dynamics, flight structures, the force and motion mechanics of vehicles in various atmospheric and celestial environments, aerothermodynamics, and the characteristics of electrically conducting fluids under the action of magnetic and electric fields."]
["Food Production",null,"Knowledge of planning, growing, and harvesting of food for consumption using appropriate equipment and techniques."]
["Food Service",null,"Knowledge of preparing and serving food for consumption."]
["Foreign Language",null,"Knowledge of sign language or of the structure and content of a foreign (non-English) language, including the meaning and spelling of words, rules of composition, and grammar."]
["Forensics",null,"Knowledge of procedures of civil, criminal, or administrative hearings, evidence collection, including the delivery and receipt of evidence, classes of evidence, and rules of evidence and legal procedures."]
["Forest Management",null,"Knowledge of the concepts, principles, and theories of silviculture and forest ecology, forest use, management, harvesting, conducting inventories, regeneration, sustainability, and conservation; and the role of disturbances in timberland resources."]
["General Engineering",null,"Knowledge of the concepts, principles, and theories of engineering and their practical applications."]
["Genetics",null,"Knowledge of the concepts, principles, and theories of genetics, including the biochemistry of DNA, gene interaction, gene expression, gene inheritance, population genetics, adaptation, and evolution."]
["Geography",null,"Knowledge of geographical locations, their relationships and characteristics."]
["Geographical Sciences",null,"Knowledge of the concepts, principles, theories, and methods for describing the location and distribution of land, sea, and air masses, including their physical locations, relationships, characteristics, and what the land supports."]
["Geology",null,"Knowledge of the concepts, principles, and theories of the origins and structure of the earth, including the physical forces that have shaped it and its physical and organic history."]
["Geophysics",null,"Knowledge of the concepts, principles, and theories related to solid earth structure, global seismic patterns, lithosphere, atmosphere, and the behavior of the earth’s gravitational, magnetic, and electrical fields, and other forces affecting the earth and its environment."]
["Geotechnical Engineering",null,"Knowledge of the concepts, principles, theories, and methods related to the investigation and evaluation of subsurface soil or geologic conditions and properties for the purpose of designing stable foundation systems, earthen structures, or the remediation of subsurface conditions."]
["Grants Management",null,"Knowledge of requirements, practices, and procedures for soliciting, receiving, reviewing, and processing proposals, and awarding and administering grants and agreements."]
["Grants Management Laws, Regulations, and Guidelines",null,"Knowledge of principles, laws, regulations, policies, practices, and guidelines (for example, Executive Orders, Code of Federal Regulations, OMB circulars) of grant or agreement programs, including their order of precedence."]
["Hardware",null,"Knowledge of specifications, uses, and types of computer or computer-related equipment."]
["Hardware Engineering",null,"Knowledge of the principles, methods, and tools for designing, developing, and testing computer or computer-related equipment."]
["Hazardous Materials",null,"Knowledge of hazardous materials and waste and their uses, interactions, dangers, production, handling, storage, and disposal."]
["Health Physics",null,"Knowledge of the concepts, principles, theories, and methods pertaining to the protection of people, their environment, and equipment from hazards (for example, radiation or hazardous chemicals) and the control of radioactive material."]
["History and Archeology",null,"Knowledge of historical events and their causes, indicators, and impact on particular civilization and cultures, and of preservation and archival techniques."]
["Horticulture",null,"Knowledge of cultivating flowers, plants, and trees."]
["Horticultural Sciences",null,"Knowledge of the concepts, principles, theories, and practices of cultivation or crop management, physiological processes in plant growth and crop yield."]
["HR Information Systems",null,"Knowledge of HR management concepts, principles, and practices related to identifying and analyzing HR processes, translating functional requirements into technical requirements, and delivering and maintaining HR information systems."]
["Human Capital Management",null,"Builds and manages workforce based on organizational goals, budget considerations, and staffing needs. Ensures that employees are appropriately recruited, selected, appraised, and rewarded; takes action to address performance problems. Manages a multi-sector workforce and a variety of work situations."]
["Human Factors",null,"Knowledge of the principles, methods, and tools used to identify and apply information about human behavior, abilities, limitations, and other characteristics to the design of tools, machines, systems, tasks, jobs, and environments for effective human use."]
["Hydraulic Engineering",null,"Knowledge of the concepts, principles, theories, and methods applicable to analysis of the flow of fluids (open channel and pressure flow), estimation of river stages, and design of hydraulic structures, drainage structures, pipes, navigation facilities, reservoirs, locks, and dams."]
["Hydrology",null,"Knowledge of the concepts, principles, theories, and methods related to the magnitude, distribution, and quality of water resources including watershed management, climatology, geomorphology, groundwater hydrology, water quality, water resource management, and groundwater/surface water interactions."]
["Identity Management",null,"Knowledge of methods and controls to validate the identity of individuals to verify access approval and level, and monitor activity to ensure that only authorized access is taking place."]
["Incident Management",null,"Knowledge of the tactics, technologies, principles, and processes to protect, analyze, prioritize, and handle incidents."]
["Industrial Equipment Operation",null,"Knowledge of principles and methods for operating industrial equipment."]
["Influencing/Negotiating (*)","(*)","Persuades others to accept recommendations, cooperate, or change their behavior; works with others towards an agreement; negotiates to find mutually acceptable solutions."]
["Influencing/Negotiating (‡)","(‡)","Persuades others; builds consensus through give and take; gains cooperation from others to obtain information and accomplish goals."]
["Information Assurance",null,"Knowledge of methods and procedures to protect information systems and data by ensuring their availability, authentication, confidentiality, and integrity."]
["Information Management",null,"Identifies a need for and knows where or how to gather information; organizes and maintains information or information management systems."]
["Information Resources Strategy and Planning",null,"Knowledge of the principles, methods, and techniques of information technology (IT) assessment, planning, management, monitoring, and evaluation, such as IT baseline assessment, interagency functional analysis, contingency planning, and disaster recovery."]
["Information Systems Security Certification",null,"Knowledge of the principles, methods, and tools for evaluating information systems security features against a set of specified security requirements. Includes developing security certification and accreditation plans and procedures, documenting deficiencies, reporting corrective actions, and recommending changes to improve the security of information systems."]
["Information Systems/Network Security",null,"Knowledge of methods, tools, and procedures, including development of information security plans, to prevent information systems vulnerabilities, and provide or restore security of information systems and network services."]
["Information Technology Architecture",null,"Knowledge of architectural methodologies used in the design and development of information systems, including the physical structure of a system's internal operations and interactions with other systems."]
["Information Technology Performance Assessment",null,"Knowledge of the principles, methods, and tools (for example, surveys, system performance measures) to assess the effectiveness and practicality of information technology systems."]
["Information Technology Program Management",null,"Knowledge of the principles, methods, and tools for the coordinated management of an IT program to include providing oversight of multiple IT projects, integrating dependent schedules and deliverables, and related activities (for example, benefits management, life cycle management, program governance)."]
["Information Technology Research and Development",null,"Knowledge of scientific principles, methods, and tools of basic and applied research used to conduct a systematic inquiry into a subject matter area."]
["Infrastructure Design",null,"Knowledge of the architecture and typology of software, hardware, and networks, including LANS, WANS, and telecommunications systems, their components and associated protocols and standards, and how they operate and integrate with one another and with associated controlling software."]
["Insurance",null,"Knowledge of various types of insurance, insurance regulations, claims processing, examination, adjudication, or adjustment."]
["Integrity/Honesty (*)","(*)","Contributes to maintaining the integrity of the organization; displays high standards of ethical conduct and understands the impact of violating these standards on an organization, self, and others; is trustworthy."]
["Integrity/Honesty (‡)","(‡)","Behaves in an honest, fair, and ethical manner. Shows consistency in words and actions. Models high standards of ethics."]
["Internal Controls",null,"Knowledge of the principles, methods, and techniques for establishing internal control activities (for example, authorizations, verifications, reconciliations), monitoring their use, and evaluating their performance (for example, identification of material weaknesses or significant deficiencies)."]
["Interpersonal Skills (*)","(*)","Shows understanding, friendliness, courtesy, tact, empathy, concern, and politeness to others; develops and maintains effective relationships with others; may include effectively dealing with individuals who are difficult, hostile, or distressed; relates well to people from varied backgrounds and different situations; is sensitive to cultural diversity, race, gender, disabilities, and other individual differences."]
["Interpersonal Skills (‡)","(‡)","Treats others with courtesy, sensitivity, and respect.  Considers and responds appropriately to the needs and feelings of different people in different situations."]
["IT Modeling and Simulation",null,"Knowledge of mathematical modeling and simulation tools and techniques to plan and conduct test and evaluation programs, characterize systems support decisions involving requirements, evaluate design alternatives, or support operational preparation."]
["Knowledge Management",null,"Knowledge of the value of collected information and the methods of sharing that information throughout an organization."]
["Labor Law",null,"Knowledge of state and Federal employment laws, regulations, guidelines, and legal precedents related to hiring practices, equal employment opportunity, and wage and hour restrictions."]
["Labor Relations",null,"Knowledge of laws, rules, regulations, case law, principles, and practices related to negotiating and administering labor agreements."]
["Landscape Architecture",null,"Knowledge of the concepts, theories, and practices used in the planning, designing, construction, and adaptation of outdoor features, taking into consideration recreation planning, requirements, aesthetic value, and compatibility with other developments and resources."]
["Leadership",null,"Influences, motivates, and challenges others; adapts leadership styles to a variety of situations."]
["Learning",null,"Uses efficient learning techniques to acquire and apply new knowledge and skills; uses training, feedback, or other opportunities for self-learning and development."]
["Legal, Government, and Jurisprudence",null,"Knowledge of laws, legal codes, court procedures, precedents, legal practices and documents, Government regulations, Executive orders, agency rules, Government organization and functions, and the democratic political process."]
["Leveraging Diversity",null,"Fosters an inclusive workplace where diversity and individual differences are valued and leveraged to achieve the vision and mission of the organization."]
["Life Sciences and Systems",null,"Knowledge of life sciences that involve the theoretical and experimental research of life systems."]
["Listening",null,"Receives, attends to, interprets, and responds to verbal messages and other cues such as body language in ways that are appropriate to listeners and situations."]
["Logical Systems Design",null,"Knowledge of the principles and methods for designing business logic components, system processes and outputs, user interfaces, data inputs, and productivity tools (for example, computer-aided software engineering)."]
["Manages and Organizes Information",null,"Identifies a need; gathers, organizes, and maintains information; determines its importance and accuracy, and communicates it by a variety of methods."]
["Manages Human Resources",null,"Plans, distributes, and monitors work assignments; evaluates work performance and provides feedback to others on their performance."]
["Manages Resources",null,"Selects, acquires, stores, and distributes resources such as materials, equipment, or money."]
["Managing Human Resources",null,"Plans, distributes, coordinates, and monitors work assignments of others; evaluates work performance and provides feedback to others on their performance; ensures that staff are appropriately selected, utilized, and developed, and that they are treated in a fair and equitable manner."]
["Manufacturing",null,"Knowledge of the specifications, tools, inputs, raw materials, outputs, and waste related to the manufacture of prototypes, models, systems, or other products."]
["Materials Engineering",null,"Knowledge of the concepts, principles, theories, and methods related to the composition, structures, and properties of materials, their use, behavior and performance under environmental influences, and the identification, processing, and manufacture of optimal materials for various applications."]
["Mathematical Reasoning",null,"Solves practical problems by choosing appropriately from a variety of mathematical and statistical techniques."]
["Measurement and Instrumentation",null,"Knowledge of electronics and related electrical engineering disciplines necessary for the research and development of sensors, electronic measurement devices, and instrumentation systems for aerospace systems and components."]
["Mechanical (*)","(*)","Knowledge of machines and tools, including their designs, uses, benefits, repair, and maintenance."]
["Mechanical (†)","(†)","Knowledge of machines and tools, including their designs, installation, uses, repair, and maintenance."]
["Mechanical Engineering",null,"Knowledge of the concepts, principles, theories, and methods related to planning, designing, developing, testing, or evaluating thermodynamic, mechanical, electro-mechanical, pneumatic, hydraulic, or structural equipment, systems, models, tools, or specialized mechanical devices."]
["Mechanics",null,"Knowledge of machines and tools, including their design, use, benefits, repair, operation, and maintenance."]
["Medicine and Dentistry",null,"Knowledge of the diagnosis and treatment of injuries, diseases, and deformities, including preventive health-care measures."]
["Memory",null,"Recalls information that has been presented previously."]
["Mental Visualization",null,"Sees things in the mind by mentally organizing and processing symbols, pictures, graphs, objects, or other information (for example, sees a building from a blueprint, or sees the flow of work activities from reading a work plan)."]
["Metal Processing and Metalworking",null,"Knowledge of materials, methods, and appropriate tools to process, treat, form, or shape metal."]
["Metallurgy",null,"Knowledge of the concepts, principles, and theories related to the study of extracting, refining, alloying, and preparing metals for use; and their properties and behavior as affected by the composition, treatment in manufacture, and conditions of use."]
["Mine Safety and Health",null,"Knowledge of mine safety and health principles and practices, techniques and procedures, regulations, and standards as they apply to conducting inspections/investigations, identifying and evaluating unsafe conditions, and recommending methods to correct unsafe conditions."]
["Mining Engineering",null,"Knowledge of the concepts, principles, theories, and methods related to rock mechanics; the exploration, excavation, extraction, processing and transporting of mineral resources; and the conservation and development of mineral lands, materials, and deposits."]
["Modeling and Simulation",null,"Knowledge of the tools and techniques used to develop functional, physical, or prototype models and simulations for test and evaluation programs, the prediction of behavior and phenomena, and to visually communicate concepts."]
["Multimedia Technologies",null,"Knowledge of the principles, methods, tools, and techniques to develop or apply technology using text, audio, graphics, or other media."]
["Negotiation",null,"Works with others towards an agreement that may involve exchanging specific resources or resolving differences."]
["Network Management",null,"Knowledge of the operation, management, and maintenance of network and telecommunication systems and linked systems and peripherals."]
["Nuclear Engineering",null,"Knowledge of the concepts, principles, theories, and application of nuclear technologies including research, development, construction, operation, testing, and maintenance of nuclear reactors, radiation generating devices, and associated systems and equipment."]
["Nuclear Physics",null,"Knowledge of the concepts, principles, theories, and methods related to the prediction of nuclear interactions and reactions, including practices and methods used to produce, measure, use, or observe such reactions in stars, nuclear weapons systems, and radiation shielding."]
["Object Technology",null,"Knowledge of the principles, methods, tools, and techniques that use object-oriented languages, analysis, and design methodologies."]
["Operating Systems",null,"Knowledge of computer network, desktop, and mainframe operating systems and their applications."]
["Operations",null,"Knowledge of engineering or physical science disciplines to support space flight operations, training or planning; serving as an astronaut or mission specialist."]
["Operations Support",null,"Knowledge of procedures to ensure production or delivery of products and services, including tools and mechanisms for distributing new or enhanced software."]
["Oral Communication (*)","(*)","Expresses information (for example, ideas or facts) to individuals or groups effectively, taking into account the audience and nature of the information (for example, technical, sensitive, controversial); makes clear and convincing oral presentations; listens to others, attends to nonverbal cues, and responds appropriately."]
["Oral Communication (‡)","(‡)","Makes clear and convincing oral presentations. Listens effectively; clarifies information as needed."]
["Organizational Awareness",null,"Knows the organization's mission and functions, and how its social, political, and technological systems work and operates effectively within them; this includes the programs, policies, procedures, rules, and regulations of the organization."]
["Organizational Development",null,"Knowledge of the principles of organizational development and change management theories, and their applications."]
["Organizational Performance Analysis",null,"Knowledge of the methods, techniques, and tools used to analyze program, organizational, and mission performance; includes methods that deliver key performance information (for example, comparative, trend, diagnostic, root cause, predictive) used to inform decisions, actions, communications, and accountability systems."]
["Painting",null,"Knowledge of materials, methods, and appropriate tools to apply paint and other protective coating materials on drywall, wood, metal, glass, and other surfaces."]
["Partnering",null,"Develops networks and builds alliances; collaborates across boundaries to build strategic relationships and achieve common goals."]
["Pathology",null,"Knowledge of the concepts, principles, and theories of plant, insect, or animal diseases and host/pathogen relationships, including effects on natural and managed ecosystems."]
["Perceptual Speed",null,"Quickly and accurately sees detail in words, numbers, pictures, and graphs."]
["Performance Management",null,"Knowledge of performance management concepts, principles, and practices related to planning, monitoring, rating, and rewarding employee performance."]
["Performance Measurement",null,"Knowledge of the principles and methods for evaluating program or organizational performance using financial and nonfinancial measures, including identification of evaluation factors (for example, workload, personnel requirements), metrics, and outcomes."]
["Peripheral Vision",null,"Sees objects or movement of objects to one’s side when the eyes are focused forward."]
["Personnel and Human Resources",null,"Knowledge of hiring, classification, benefits, labor relations, negotiation, and Federal, state, and local employment regulations."]
["Personnel Security and Safety",null,"Knowledge of methods and controls of personnel, public safety, and security operations; investigation and inspection techniques; or rules, regulations, precautions, and prevention techniques for the protection of people, data, or property."]
["Pest Control",null,"Knowledge of pest species and the methods and materials, including chemicals, for control or prevention."]
["Petroleum Engineering",null,"Knowledge of the concepts, principles, theories, and methods related to the exploration, development, extraction, recovery, processing, and conservation of fluid minerals, geothermal resources, organic compounds, or natural gas resources."]
["Philosophy",null,"Knowledge of different philosophical systems, including their basic principles, values, ethics, ways of  thinking, customs, religions, and practices, and their impact on human culture."]
["Physical Security",null,"Knowledge of methods and controls to protect an organization from natural or man-made threats to physical locations where information systems equipment is located or work is performed (for example, computer rooms, work locations, and equipment rooms)."]
["Physical Strength",null,"Exerts maximum muscle force to lift, push, pull, or carry objects; performs moderately laboring work."]
["Physical Strength and Agility",null,"Ability to bend, lift, climb, stand, and walk for long periods of time; ability to perform moderately heavy laboring work."]
["Physics",null,"Knowledge and prediction of physical principles, laws, and applications including air, water, material dynamics, light, atomic principles, heat, electric theory, earth formations, and meteorological and related natural phenomena."]
["Physical Sciences",null,"Knowledge of the concepts, principles, theories, and methods to investigate and apply the relations between space, time, matter, and energy in the areas of gravity, atomic principles, mechanics, heat, light, sound, electricity, magnetism, and related natural phenomena."]
["Planning and Evaluating",null,"Organizes work, sets priorities, and determines resource requirements; determines short- or long-term goals and strategies to achieve them; coordinates with other organizations or parts of the organization to accomplish goals; monitors progress and evaluates outcomes."]
["Plumbing and Pipefitting",null,"Knowledge of materials, methods, and the appropriate tools to install, maintain, or repair pipelines, pipe systems, and fixtures, including water, air, steam, gas, chemicals, or sewage."]
["Political Savvy",null,"Identifies the internal and external politics that impact the work of the organization. Perceives organizational and political reality and acts accordingly."]
["Principles of Accounting",null,"Knowledge of generally accepted accounting principles, standards, and practices (for example, double entry accounting, accrual accounting), including the full accounting cycle and the preparation of work sheets, financial statements, ledgers, and journals."]
["Principles of Finance",null,"Knowledge of the basic principles, practices, and methods of financial management to include requisitions, apportionments, allotments, investments, fiscal management, activity reporting, and fiscal year guidelines."]
["Problem Solving (*)","(*)","Identifies problems; determines accuracy and relevance of information; uses sound judgment to generate and evaluate alternatives, and to make recommendations."]
["Problem Solving (‡)","(‡)","Identifies and analyzes problems; weighs relevance and accuracy of information; generates and evaluates alternative solutions; makes recommendations."]
["Process Control",null,"Knowledge of the principles, methods, and procedures used for the automated control of a process, including the design, development, and maintenance of associated software, hardware, and systems."]
["Product Evaluation",null,"Knowledge of methods for researching and analyzing external products to determine their potential for meeting organizational standards and business needs."]
["Production and Processing",null,"Knowledge of inputs, outputs, raw materials, waste, quality control, costs, maintaining inventory, and techniques for maximizing the manufacture and distribution of goods."]
["Project Management",null,"Knowledge of the principles, methods, or tools for developing, scheduling, coordinating, and managing projects and resources, including monitoring and inspecting costs, work, and contractor performance."]
["Propulsion and Power",null,"Knowledge of the concepts, principles, and theories of liquid, solid, electrical, chemical, electrochemical, or nuclear propulsion and power generation systems, their component parts and subsystems, and the direct and indirect conversion of energy into power for various applications."]
["Psychology",null,"Knowledge of the concepts, principles, and theories of human behavior and performance in various contexts, mental processes, or the assessment and treatment of behavioral and affective disorders."]
["Public Planning",null,"Knowledge of functions, principles, methods, and techniques of public planning, including those related to community planning, outdoor recreation planning, and natural resource management, such as demand forecasting, environmental impact analysis, financial forecasting, and land use planning and zoning."]
["Public Safety and Security",null,"Knowledge of military, weaponry, and intelligence operations; public safety and security operations; occupational health and safety; investigation and inspection techniques; or rules, regulations, precautions, and prevention techniques for the protection of people, data, and property."]
["Public Service Motivation",null,"Shows a commitment to serve the public. Ensures that actions meet public needs; aligns organizational objectives and practices with public interests."]
["Quality Assurance",null,"Knowledge of the principles, methods, and tools of quality assurance and quality control used to ensure a product fulfills functional requirements and standards."]
["Quality Management",null,"Knowledge of the principles, methods, and tools of quality assurance, quality control, and reliability used to ensure that a project, system, or product fulfills requirements and standards."]
["Rangeland Management",null,"Knowledge of the concepts, principles, and theories of non-forested or forested land ecosystems, including rangeland use, management, and monitoring; conducting inventories; and the role of disturbances in rangeland ecosystems."]
["Reading (*)","(*)","Understands and interprets written material, including technical material, rules, regulations, instructions, reports, charts, graphs, or tables; applies what is learned from written material to specific situations."]
["Reading (†)","(†)","Understands and interprets written material, including technical materials, rules, regulations, instructions, reports, charts, graphs, or tables; applies what is learned from written material to specific situations."]
["Reading Comprehension",null,"Understands and interprets written material, including technical material, rules, regulations, instructions, reports, charts, graphs, or tables; applies what is learned from written material to specific situations."]
["Real Estate",null,"Knowledge of real estate principles, practices, markets, and values."]
["Reasoning",null,"Identifies rules, principles, or relationships that explain facts, data, or other information; analyzes information and makes correct inferences or draws accurate conclusions."]
["Recruitment/Placement",null,"Knowledge of HR concepts, principles, and practices related to identifying, attracting, and selecting individuals and placing them into positions to address changing organizational needs."]
["Remote Sensing",null,"Knowledge of the concepts, principles, theories, and methods necessary to obtain, use, and interpret data from remote sensing sources, including aircrafts and satellites."]
["Requirements Analysis",null,"Knowledge of the principles and methods to identify, analyze, specify, design, and manage functional and infrastructure requirements; includes translating functional requirements into technical requirements used for logical design or presenting alternative technologies or approaches."]
["Research",null,"Knowledge of the scientific principles, methods, and processes used to conduct a systematic and objective inquiry; including study design, collection, analysis, and interpretation of data; and the reporting of results."]
["Resilience",null,"Deals effectively with pressure; remains optimistic and persistent, even under adversity. Recovers quickly from setbacks."]
["Restraint and Self-defense",null,"Knowledge of techniques and methods used to restrain hostile individuals, including the models and guidelines on appropriate level and nature of force for self-defense."]
["Risk Management",null,"Knowledge of the principles, methods, and tools used for risk assessment and mitigation, including assessment of failures and their consequences."]
["Road Work and Pavement",null,"Knowledge of materials, methods, and appropriate tools to construct, maintain, or repair road surfaces, including sidewalks, parking lots, runways, etc."]
["Safety Engineering",null,"Knowledge of the concepts, principles, theories, and methods to identify, control, mitigate, and eliminate safety hazards in the design and use of facilities, equipment, operations, and work processes."]
["Sales and Marketing",null,"Knowledge of showing, promoting, and selling products and services."]
["Search",null,"Knowledge of the laws, principles and methods of conducting searches on personal property such as vehicles, documents, buildings, and items."]
["Security",null,"Knowledge of the laws, regulations, and guidelines related to securing personnel, facilities, and information, including the requirements for handling, transporting, and protecting classified information and proper reporting of security incidents."]
["Seizure",null,"Knowledge of the laws, regulations, and procedures for property seizure, including chain of custody requirements and procedures to catalog and secure seized property."]
["Self-Esteem (*)","(*)","Believes in own self-worth; maintains a positive view of self and displays a professional image."]
["Self-Esteem (†)","(†)","Believes in own self-worth; maintains a positive view of self and displays a confident, capable image."]
["Self-Management",null,"Sets well-defined and realistic personal goals; displays a high level of initiative, effort, and commitment towards completing assignments in a timely manner; works with minimal supervision; is motivated to achieve; demonstrates responsible behavior."]
["Sociology and Anthropology",null,"Knowledge of the concepts, principles, and theories of group behavior and dynamics; societal trends and influences; and cultures, their history, migrations, ethnicity, and origins."]
["Software Development",null,"Knowledge of the principles, methods, and tools for designing, developing, and testing software in a given environment."]
["Software Engineering",null,"Knowledge of software engineering design and development methodologies, paradigms, and tools; the software life cycle; software reusability; and software reliability metrics."]
["Software Testing and Evaluation",null,"Knowledge of the principles, methods, and tools for analyzing and developing software test and evaluation procedures."]
["Soil Science",null,"Knowledge of the concepts, principles, or theories of soil composition, formation, classification, mapping, testing, and management, including erosion, pollution, conservation, and watershed management."]
["Space Science",null,"Knowledge of physical science and engineering necessary to conduct research or study the solar system and beyond."]
["Spatial Orientation",null,"Knows one's location in relation to the environment; determines where other objects are in relation to one's self (for example, when using a map)."]
["Speaking",null,"Uses correct English grammar to organize and communicate ideas in words that are appropriate to listeners and situations; uses body language appropriately."]
["Stakeholder Management",null,"Knowledge of the concepts, practices, and techniques used to identify, engage, influence, and monitor relationships with individuals and groups connected to a work effort; including those actively involved, those who exert influence over the process and its results, and those who have a vested interest in the outcome (positive or negative)."]
["Stamina (*)","(*)","Exerts oneself physically over long periods of time without tiring (which may include performing repetitive tasks such as data entry or coding)."]
["Stamina (†)","(†)","Exerts oneself physically over long periods of time without tiring (which may include performing repetitive tasks such as hammering or lifting objects)."]
["Standards",null,"Knowledge of standards that either are compliant with or derived from established standards or guidelines."]
["Strategic Thinking (‡)","(‡)","Formulates objectives and priorities, and implements plans consistent with the long-term interests of the organization in a global environment.  Capitalizes on opportunities and manages risks."]
["Strategic Thinking (*)","(*)","Formulates effective strategies consistent with the business and competitive strategy of the organization in a global economy. Examines policy issues and strategic planning with a long-term perspective. Determines objectives and sets priorities; anticipates potential threats or opportunities."]
["Stress Tolerance",null,"Deals calmly and effectively with high stress situations (for example, tight deadlines, hostile individuals, emergency situations, dangerous situations)."]
["Structural Engineering",null,"Knowledge of the concepts, principles, theories, and methods related to the design and analysis of complex structures using a variety of materials. Structures may include aerospace systems or structures, and other determinate or indeterminate systems."]
["Surveillance",null,"Knowledge of surveillance and counter-surveillance techniques, policies, and laws, including overt and covert methods and electronic, optical, and video surveillance methods and tools."]
["Surveying",null,"Knowledge of the concepts, principles, theories, and methods used in the measurement or determination of land boundaries, distances, elevations, areas, angles, and other features of the earth’s surface."]
["Systems Engineering",null,"Knowledge of the practice of integrating multiple disciplines into a team as part of a structured development process throughout a system's life cycle."]
["Systems Integration",null,"Knowledge of the principles, methods, and procedures for installing, integrating, and optimizing information systems components."]
["Systems Life Cycle",null,"Knowledge of systems life cycle management concepts used to plan, develop, implement, operate, and maintain information systems."]
["Systems Testing and Evaluation",null,"Knowledge of principles, methods, and tools for analyzing and developing systems testing and evaluation procedures and technical characteristics of IT systems, including identifying critical operational issues."]
["Tax Law",null,"Knowledge of accounting and tax law for individuals, sole proprietorships, partnerships, and corporations."]
["Teaches Others",null,"Helps others learn; identifies training needs; provides constructive reinforcement; coaches others on how to perform tasks; acts as a mentor."]
["Teaching Others",null,"Helps others learn through formal or informal methods; identifies training needs; provides constructive feedback; coaches others on how to perform tasks; acts as a mentor."]
["Team Building",null,"Inspires and fosters team commitment, spirit, pride, and trust. Facilitates cooperation and motivates team members to accomplish group goals."]
["Teamwork",null,"Encourages and facilitates cooperation, pride, trust, and group identity; fosters commitment and team spirit; works with others to achieve goals."]
["Technical Competence",null,"Uses knowledge that is acquired through formal training or extensive on-the-job experience to perform one's job; works with, understands, and evaluates technical information related to the job; advises others on technical issues."]
["Technical Credibility",null,"Understands and appropriately applies principles, procedures, requirements, regulations, and policies related to specialized expertise."]
["Technical Documentation",null,"Knowledge of procedures for developing technical and operational support documentation."]
["Technical Problem Solving",null,"Troubleshoots, diagnoses, analyzes, and identifies system malfunctions to determine the source and cause of the problem."]
["Technology Application",null,"Uses machines, tools, instruments, or equipment effectively; uses computers and computer applications to analyze and communicate information in the appropriate format."]
["Technology Awareness",null,"Knowledge of developments and new applications of information technology (hardware, software, telecommunications), emerging technologies and their applications to business processes, and applications and implementation of information systems to meet organizational requirements."]
["Technology Management",null,"Keeps up-to-date on technological developments.  Makes effective use of technology to achieve results.  Ensures access to and security of technology systems."]
["Telecommunications",null,"Knowledge of the concepts, principles, and theories of transmissions, broadcasting, switching, control, construction, or operation of telecommunications systems."]
["Textiles",null,"Knowledge of materials, methods, and appropriate tools to make and repair items made of fabric or leather."]
["Therapy and Counseling",null,"Knowledge of diagnosis and treatment of physical and mental ailments, and career guidance."]
["Toolmaking",null,"Knowledge of materials, methods, and appropriate tools to make or repair metal parts, tools, gauges, models,  patterns, and machines."]
["Transportation",null,"Knowledge of principles and methods for moving people or goods by air, rail, sea, or road, including costs and limits."]
["Transportation Engineering",null,"Knowledge of the concepts, principles, theories, and methods applicable to planning, designing, and constructing of transportation systems including traffic analysis, signal analysis, highway capacity, pavement design, bridge construction, planning of transportation projects, environmental analysis of transportation facilities, and transportation network analysis."]
["Vehicle Maintenance",null,"Knowledge of motor vehicle engines, parts, and systems, including their designs, uses, repair, and maintenance."]
["Vehicle Operation",null,"Knowledge of procedures for operating motor vehicles, including cars, trucks, or watercraft."]
["Vision (*)","(*)","Understands where the organization is headed and how to make a contribution; takes a long-term view and recognizes opportunities to help the organization accomplish its objectives or move toward the vision."]
["Vision (‡)","(‡)","Takes a long-term view and builds a shared vision with others; acts as a catalyst for organizational change.  Influences others to translate vision into action."]
["Visual Color Discrimination",null,"Accurately matches or detects differences among colors, including shades of color and brightness."]
["Visual Identification",null,"Accurately identifies people, animals, or objects based on knowledge of their characteristics."]
["Vulnerabilities Assessment",null,"Knowledge of the principles, methods, and tools for assessing vulnerabilities, and developing or recommending appropriate mitigation countermeasures."]
["Web Technology",null,"Knowledge of the principles and methods of web technologies, tools, and delivery systems, including web security, privacy policy practices, and user interface issues."]
["Wildlife Biology",null,"Knowledge of the concepts, principles, and theories of wildlife, including classification, taxonomy, population dynamics, distribution, habitat requirements, life histories, reproduction, behaviors, conservation, and care of wildlife."]
["Workforce Planning",null,"Knowledge of HR concepts, principles, and practices related to determining workload projections and current and future competency gaps to align human capital with organizational goals."]
["Writing (*)","(*)","Recognizes or uses correct English grammar, punctuation, and spelling; communicates information (for example, facts, ideas, or messages) in a succinct and organized manner; produces written information, which may include technical material, that is appropriate for the intended audience."]
["Writing (†)","(†)","Recognizes or uses correct English grammar, punctuation, and spelling; communicates information (for example, facts, ideas, or messages) in a brief, clear, and organized manner; produces written information, which may include technical material, that is appropriate for the intended audience."]
["Written Communication",null,"Writes in a clear, concise, organized, and convincing manner for the intended audience."]

{"sheet":"Knowledge","index":7,"n_rows":12,"n_cols":6,"rows_kept":12,"merged":[[0,1,0,13],[1,1,1,13],[2,1,2,13],[3,1,3,13],[4,1,4,13],[5,1,5,13],[6,1,6,13],[7,1,7,13],[11,5,11,10]]}
[null,"Knowledge / Cognitive Domain Scoring Rubric"]
[null,"0 = None = No knowledge aspects are found in this course."]
[null,"1 = Remembering = Recall data or information"]
[null,"2 = Understanding = Understand the meaning, translation, interpolation, and interpretation of instructions and problems. State a problem in one's own words."]
[null,"3 = Applying = Use a concept in a new situation or unprompted use of an abstraction. Applies what was learned in the classroom into novel situations in the work place."]
[null,"4 = Analyzing = Separates material or concepts into component parts so that the organizational structure may be understood. Distinguishes between facts and inferences."]
[null,"5 = Evaluating = Make judgments about the value of ideas or materials."]
[null,"6 = Creating = Builds a structure or pattern from diverse elements. Put parts together to form a whole, with emphasis on creating a new meaning or structure."]
[]
[]
[]
[null,"Source and Recommended Job Aid Tool:",{"$nulls":3},"http://www.nwlink.com/~donclark/hrd/bloom.html"]

{"sheet":"Skill","index":8,"n_rows":12,"n_cols":6,"rows_kept":12,"merged":[[0,1,0,13],[1,1,1,13],[2,1,2,13],[3,1,3,13],[4,1,4,13],[5,1,5,13],[6,1,6,13],[7,1,7,13],[8,1,8,13]]}
[null,"Skills / Psychomotor Domain Scoring Rubric"]
[null,"0 = None = No skills are found in this course."]
[null,"1 = Perception = The ability to use sensory cues to guide motor activity. This ranges from sensory stimulation, through cue selection, to translation."]
[null,"2 = Set = Readiness to act. It includes mental, physical, and emotional sets. These three sets are dispositions that predetermine a person's response to different situations sometimes called mindsets."]
[null,"3 = Guided Response = The early stages in learning a complex skill that includes imitation and trial and error. Adequacy of performance is achieved by practicing."]
[null,"4 = Mechanism basic proficiency = This is the intermediate stage in learning a complex skill. Learned responses have become habitual and the movements can be performed with some confidence and proficiency."]
[null,"5 = Complex Overt Response (Expert) = The skillful performance of motor acts that involve complex movement patterns. Proficiency is indicated by a quick, accurate, and highly coordinated performance, requiring a minimum of energy. This category includes performing without hesitation, and automatic performance. For example, players are often utter sounds of satisfaction or expletives as soon as they hit a tennis ball or throw a football, because they can tell by the feel of the act what the result will produce."]
[null,"6 = Adaptation = Skills are well developed and the individual can modify movement patterns to fit special requirements."]
[null,"7 = Origination = Creating new movement patterns to fit a particular situation or specific problem. Learning outcomes emphasize creativity based upon highly developed skills."]
[]
[]
[null,"Source and Recommended Job Aid Tool: ",{"$nulls":3},"http://www.nwlink.com/~donclark/hrd/bloom.html"]

{"sheet":"Attitude and Ability","index":9,"n_rows":9,"n_cols":6,"rows_kept":9,"merged":[[0,1,0,13],[1,1,1,13],[2,1,2,13],[3,1,3,13],[4,1,4,13],[5,1,5,13],[6,1,6,13]]}
[null,"Attitude / Affective Domain Scoring Rubric"]
[null,"0 = None = No attitudes or abilities aspects are found in this course."]
[null,"1 = Receiving Phenomena = Awareness, willingness to hear, selected attention."]
[null,"2 = Responding to Phenomena = Active participation on the part of the learners. Attends and reacts to a particular phenomenon. Learning outcomes may emphasize compliance in responding, willingness to respond, or satisfaction in responding motivation."]
[null,"3 = Valuing = The worth or value a person attaches to a particular object, phenomenon, or behavior. This ranges from simple acceptance to the more complex state of commitment. Valuing is based on the internalization of a set of specified values, while clues to these values are expressed in the learner's overt behavior and are often identifiable."]
[null,"4 = Organization = Organizes values into priorities by contrasting different values, resolving conflicts between them, and creating an unique value system.  The emphasis is on comparing, relating, and synthesizing values. "]
[null,"5 = Internalizing values characterization = Has a value system that controls their behavior. The behavior is pervasive, consistent, predictable, and most importantly, characteristic of the learner. Instructional objectives are concerned with the student's general patterns of adjustment personal, social, emotional."]
[]
[null,"Source and Recommended Job Aid Tool: ",{"$nulls":3},"http://www.nwlink.com/~donclark/hrd/bloom.html"]

{"sheet":"Data","index":10,"n_rows":36,"n_cols":31,"rows_kept":36,"hidden":true,"merged":[[43,3,43,6],[45,3,45,5]]}
["CC Icon","Core Capability","Number of EOs by CC","Percent of EO by CC","EO Complexity by CC","Percent of Class Time by CC","Weighted Average EO Complexity","Value of None CC Weighted Complexity","Max Complexity Value","LT 15% Content","None Rule","GT 15% Rule","2.5x Rule","3.5x Flag","Mapped CC","Primary CC","Secondary CC","Flag CC","CC Icon Alert","Number of Mapped EOs","CC Avg KSA","Weighted Average KSA of Mapped Core Capabilities","Course Level by CC","Course Subject","Course Level","Draft National Course Numbrer","Training Provider","Course Title","Current Course Number","Threat","Primary Mission Area"]
[{"$f":"$S$2:$S$34","v":-1},"None",{"$f":"IF(ISERROR(COUNTIF(CC,B2)),\"\",COUNTIF(CC,B2))","v":0},{"$f":"IFERROR((C2/(SUM($C$2:$C$34))),\"\")","v":""},{"$f":"IFERROR((SUMIFS(ELO_Complexity,CC,$B2)),\"\")","v":{"v":0,"d":"0.0"}},{"$f":"IFERROR(((SUMIFS(Time,CC,$B2))/SumCheck),\"\")","v":""},{"$f":"IFERROR((($E2*$C2)/SUM($C$2:$C$34)),\"\")","v":""},{"$f":"IFERROR((INDEX($G$2:$G$34,(MATCH(\"none\",$B$2:$B$34,0)))),\"\")","v":""},{"$f":"IFERROR((IF(AND(MAX($G$2:$G$34)=H2),LARGE($G$2:$G$34,2),MAX($G$2:$G$34))),\"\")","v":{"v":0,"d":"0.00"}},{"$f":"IFERROR((IF($D2<0.15,1,0)),\"\")","v":0},{"$f":"IFERROR((IF($B2=\"None\",0,1)),\"\")","v":0},{"$f":"IFERROR((IF($D2>=0.15,1,0)),\"\")","v":1},{"$f":"IFERROR((IF($G2*2.5>I2,1,0)),\"\")","v":""},{"$f":"IFERROR((IF(OR(AND(J2=1,$G2*3.5>I2),(AND(M2=0,$G2*3.5>I2)),$G2=I2),1,0)),\"\")","v":""},{"$f":"IFERROR((IF(AND($K2,$L2,$M2=1),1,0)),\"\")","v":0},{"$f":"IFERROR((IF(AND($O2=1,$G2=I2),3,0)),\"\")","v":0},{"$f":"IFERROR((IF(AND($P2=0,$O2=1),1,-1)),\"\")","v":-1},{"$f":"IFERROR((IF(AND(K2,N2=1),1,0)),\"\")","v":0},{"$f":"IFERROR(IF(H2=I2,-1,((SUM(P2,Q2,R2)))),\"\")","v":-1},{"$f":"IFERROR((SUMIF($O$2:$O$34,1,$C$2:$C$34)),\"\")","v":0},{"$f":"IFERROR((SUMIFS(KSA_Total,CC,$B2)/C2),\"\")","v":""},{"$f":"IFERROR((SUMPRODUCT(($O$2:$O$34),($U$2:$U$34),($C$2:$C$34))/T2),\"\")","v":""},{"$f":"IFERROR((VLOOKUP($U2,CalRefs!$A$3:$D$5,4)),\"\")","v":""},{"$f":"IFERROR(IF(OR(I2=H2,MAX($S$2:$S$34)<>3),\"Does Not Map\",INDEX($B$2:$B$34,MATCH(I2,$G$2:$G$34,0))),\"\")","v":"Does Not Map"},{"$f":"IFERROR(IF(Input!$B$12=\"Executive / Elected Official\",\"Executive\",(VLOOKUP($V$2,CalRefs!$A$3:$D$5,4))),\"\")","v":""},{"$f":"IFERROR(IF(OR(I2=H2,X2=\"Does Not Map\"),\"\",CONCATENATE(VLOOKUP(X2,Lexicon!$A$2:$B$34,2),\"-\",Y2,\"***-\",VLOOKUP(Input!B$18,Lexicon!$Q$2:$R$8,2),Input!$F$18)),\"\")","v":""},{"$f":"IF(ISERROR(Training_Partner),\"\",Training_Partner)","v":0},{"$f":"IF(ISERROR(CourseTitle),\"\",CourseTitle)","v":0},{"$f":"CourseNumber","v":0},{"$f":"Course_Threat","v":0},{"$f":"Pri_MissionArea","v":"Does Not Map"}]
[-1,"Access Control and Identity Verification",0,"",{"v":0,"d":"0.0"},"","","",{"v":0,"d":"0.00"},0,1,1,"","",0,0,-1,{"$f":"IFERROR((IF(AND(K3,N3=1),1,0)),\"\")","v":0},{"$f":"IFERROR(IF(H3=I3,-1,((SUM(P3,Q3,R3)))),\"\")","v":-1},0,"","",{"$f":"IFERROR((VLOOKUP($U3,CalRefs!$A$3:$D$5,4)),\"\")","v":""},{"$f":"IFERROR(IF(OR(I3=H3,MAX($S$2:$S$34)<>3),\"Does Not Map\",INDEX($B$2:$B$34,MATCH(I3,$G$2:$G$34,0))),\"\")","v":"Does Not Map"},{"$f":"IFERROR(IF(Input!$B$12=\"Executive / Elected Official\",\"Executive\",(VLOOKUP($V$2,CalRefs!$A$3:$D$5,4))),\"\")","v":""},{"$f":"IFERROR(IF(OR(I3=H3,X3=\"Does Not Map\"),\"\",CONCATENATE(VLOOKUP(X3,Lexicon!$A$2:$B$34,2),\"-\",Y3,\"***-\",VLOOKUP(Input!B$18,Lexicon!$Q$2:$R$8,2),Input!$F$18)),\"\")","v":""},0,0,0,0,"Does Not Map"]
[-1,"Community Resilience",0,"",{"v":0,"d":"0.0"},"","","",{"v":0,"d":"0.00"},0,1,1,"","",0,0,-1,0,-1,0,"","",{"$f":"IFERROR((VLOOKUP($U4,CalRefs!$A$3:$D$5,4)),\"\")","v":""},"Does Not Map",{"$f":"IFERROR(IF(Input!$B$12=\"Executive / Elected Official\",\"Executive\",(VLOOKUP($V$2,CalRefs!$A$3:$D$5,4))),\"\")","v":""},{"$f":"IFERROR(IF(OR(I4=H4,X4=\"Does Not Map\"),\"\",CONCATENATE(VLOOKUP(X4,Lexicon!$A$2:$B$34,2),\"-\",Y4,\"***-\",VLOOKUP(Input!B$18,Lexicon!$Q$2:$R$8,2),Input!$F$18)),\"\")","v":""},0,0,0,0,"Does Not Map"]
[-1,"Critical Transportation",0,"",{"v":0,"d":"0.0"},"","","",{"v":0,"d":"0.00"},0,1,1,"","",0,0,-1,0,-1,0,"","",{"$f":"IFERROR((VLOOKUP($U5,CalRefs!$A$3:$D$5,4)),\"\")","v":""},"Does Not Map",{"$f":"IFERROR(IF(Input!$B$12=\"Executive / Elected Official\",\"Executive\",(VLOOKUP($V$2,CalRefs!$A$3:$D$5,4))),\"\")","v":""},{"$f":"IFERROR(IF(OR(I5=H5,X5=\"Does Not Map\"),\"\",CONCATENATE(VLOOKUP(X5,Lexicon!$A$2:$B$34,2),\"-\",Y5,\"***-\",VLOOKUP(Input!B$18,Lexicon!$Q$2:$R$8,2),Input!$F$18)),\"\")","v":""},0,0,0,0,"Does Not Map"]
[-1,"Cybersecurity",0,"",{"v":0,"d":"0.0"},"","","",{"v":0,"d":"0.00"},0,1,1,"","",0,0,-1,0,-1,0,"","",{"$f":"IFERROR((VLOOKUP($U6,CalRefs!$A$3:$D$5,4)),\"\")","v":""},"Does Not Map",{"$f":"IFERROR(IF(Input!$B$12=\"Executive / Elected Official\",\"Executive\",(VLOOKUP($V$2,CalRefs!$A$3:$D$5,4))),\"\")","v":""},{"$f":"IFERROR(IF(OR(I6=H6,X6=\"Does Not Map\"),\"\",CONCATENATE(VLOOKUP(X6,Lexicon!$A$2:$B$34,2),\"-\",Y6,\"***-\",VLOOKUP(Input!B$18,Lexicon!$Q$2:$R$8,2),Input!$F$18)),\"\")","v":""},0,0,0,0,"Does Not Map"]
[-1,"Economic Recovery",0,"",{"v":0,"d":"0.0"},"","","",{"v":0,"d":"0.00"},0,1,1,"","",0,0,-1,0,-1,0,"","",{"$f":"IFERROR((VLOOKUP($U7,CalRefs!$A$3:$D$5,4)),\"\")","v":""},"Does Not Map",{"$f":"IFERROR(IF(Input!$B$12=\"Executive / Elected Official\",\"Executive\",(VLOOKUP($V$2,CalRefs!$A$3:$D$5,4))),\"\")","v":""},{"$f":"IFERROR(IF(OR(I7=H7,X7=\"Does Not Map\"),\"\",CONCATENATE(VLOOKUP(X7,Lexicon!$A$2:$B$34,2),\"-\",Y7,\"***-\",VLOOKUP(Input!B$18,Lexicon!$Q$2:$R$8,2),Input!$F$18)),\"\")","v":""},0,0,0,0,"Does Not Map"]
[-1,"Environmental Response / Health and Safety",0,"",{"v":0,"d":"0.0"},"","","",{"v":0,"d":"0.00"},0,1,1,"","",0,0,-1,0,-1,0,"","",{"$f":"IFERROR((VLOOKUP($U8,CalRefs!$A$3:$D$5,4)),\"\")","v":""},"Does Not Map",{"$f":"IFERROR(IF(Input!$B$12=\"Executive / Elected Official\",\"Executive\",(VLOOKUP($V$2,CalRefs!$A$3:$D$5,4))),\"\")","v":""},{"$f":"IFERROR(IF(OR(I8=H8,X8=\"Does Not Map\"),\"\",CONCATENATE(VLOOKUP(X8,Lexicon!$A$2:$B$34,2),\"-\",Y8,\"***-\",VLOOKUP(Input!B$18,Lexicon!$Q$2:$R$8,2),Input!$F$18)),\"\")","v":""},0,0,0,0,"Does Not Map"]
[-1,"Fatality Management Services",0,"",{"v":0,"d":"0.0"},"","","",{"v":0,"d":"0.00"},0,1,1,"","",0,0,-1,0,-1,0,"","",{"$f":"IFERROR((VLOOKUP($U9,CalRefs!$A$3:$D$5,4)),\"\")","v":""},"Does Not Map",{"$f":"IFERROR(IF(Input!$B$12=\"Executive / Elected Official\",\"Executive\",(VLOOKUP($V$2,CalRefs!$A$3:$D$5,4))),\"\")","v":""},{"$f":"IFERROR(IF(OR(I9=H9,X9=\"Does Not Map\"),\"\",CONCATENATE(VLOOKUP(X9,Lexicon!$A$2:$B$34,2),\"-\",Y9,\"***-\",VLOOKUP(Input!B$18,Lexicon!$Q$2:$R$8,2),Input!$F$18)),\"\")","v":""},0,0,0,0,"Does Not Map"]
[-1,"Fire Management and Suppression",0,"",{"v":0,"d":"0.0"},"","","",{"v":0,"d":"0.00"},0,1,1,"","",0,0,-1,0,-1,0,"","",{"$f":"IFERROR((VLOOKUP($U10,CalRefs!$A$3:$D$5,4)),\"\")","v":""},"Does Not Map",{"$f":"IFERROR(IF(Input!$B$12=\"Executive / Elected Official\",\"Executive\",(VLOOKUP($V$2,CalRefs!$A$3:$D$5,4))),\"\")","v":""},{"$f":"IFERROR(IF(OR(I10=H10,X10=\"Does Not Map\"),\"\",CONCATENATE(VLOOKUP(X10,Lexicon!$A$2:$B$34,2),\"-\",Y10,\"***-\",VLOOKUP(Input!B$18,Lexicon!$Q$2:$R$8,2),Input!$F$18)),\"\")","v":""},0,0,0,0,"Does Not Map"]
[-1,"Forensics and Attribution",0,"",{"v":0,"d":"0.0"},"","","",{"v":0,"d":"0.00"},0,1,1,"","",0,0,-1,0,-1,0,"","",{"$f":"IFERROR((VLOOKUP($U11,CalRefs!$A$3:$D$5,4)),\"\")","v":""},"Does Not Map",{"$f":"IFERROR(IF(Input!$B$12=\"Executive / Elected Official\",\"Executive\",(VLOOKUP($V$2,CalRefs!$A$3:$D$5,4))),\"\")","v":""},{"$f":"IFERROR(IF(OR(I11=H11,X11=\"Does Not Map\"),\"\",CONCATENATE(VLOOKUP(X11,Lexicon!$A$2:$B$34,2),\"-\",Y11,\"***-\",VLOOKUP(Input!B$18,Lexicon!$Q$2:$R$8,2),Input!$F$18)),\"\")","v":""},0,0,0,0,"Does Not Map"]
[-1,"Health and Social Services",0,"",{"v":0,"d":"0.0"},"","","",{"v":0,"d":"0.00"},0,1,1,"","",0,0,-1,0,-1,0,"","",{"$f":"IFERROR((VLOOKUP($U12,CalRefs!$A$3:$D$5,4)),\"\")","v":""},"Does Not Map",{"$f":"IFERROR(IF(Input!$B$12=\"Executive / Elected Official\",\"Executive\",(VLOOKUP($V$2,CalRefs!$A$3:$D$5,4))),\"\")","v":""},{"$f":"IFERROR(IF(OR(I12=H12,X12=\"Does Not Map\"),\"\",CONCATENATE(VLOOKUP(X12,Lexicon!$A$2:$B$34,2),\"-\",Y12,\"***-\",VLOOKUP(Input!B$18,Lexicon!$Q$2:$R$8,2),Input!$F$18)),\"\")","v":""},0,0,0,0,"Does Not Map"]
[-1,"Housing",0,"",{"v":0,"d":"0.0"},"","","",{"v":0,"d":"0.00"},0,1,1,"","",0,0,-1,0,-1,0,"","",{"$f":"IFERROR((VLOOKUP($U13,CalRefs!$A$3:$D$5,4)),\"\")","v":""},"Does Not Map",{"$f":"IFERROR(IF(Input!$B$12=\"Executive / Elected Official\",\"Executive\",(VLOOKUP($V$2,CalRefs!$A$3:$D$5,4))),\"\")","v":""},{"$f":"IFERROR(IF(OR(I13=H13,X13=\"Does Not Map\"),\"\",CONCATENATE(VLOOKUP(X13,Lexicon!$A$2:$B$34,2),\"-\",Y13,\"***-\",VLOOKUP(Input!B$18,Lexicon!$Q$2:$R$8,2),Input!$F$18)),\"\")","v":""},0,0,0,0,"Does Not Map"]
[-1,"Infrastructure Systems",0,"",{"v":0,"d":"0.0"},"","","",{"v":0,"d":"0.00"},0,1,1,"","",0,0,-1,0,-1,0,"","",{"$f":"IFERROR((VLOOKUP($U14,CalRefs!$A$3:$D$5,4)),\"\")","v":""},"Does Not Map",{"$f":"IFERROR(IF(Input!$B$12=\"Executive / Elected Official\",\"Executive\",(VLOOKUP($V$2,CalRefs!$A$3:$D$5,4))),\"\")","v":""},{"$f":"IFERROR(IF(OR(I14=H14,X14=\"Does Not Map\"),\"\",CONCATENATE(VLOOKUP(X14,Lexicon!$A$2:$B$34,2),\"-\",Y14,\"***-\",VLOOKUP(Input!B$18,Lexicon!$Q$2:$R$8,2),Input!$F$18)),\"\")","v":""},0,0,0,0,"Does Not Map"]
[-1,"Intelligence and Information Sharing",0,"",{"v":0,"d":"0.0"},"","","",{"v":0,"d":"0.00"},0,1,1,"","",0,0,-1,0,-1,0,"","",{"$f":"IFERROR((VLOOKUP($U15,CalRefs!$A$3:$D$5,4)),\"\")","v":""},"Does Not Map",{"$f":"IFERROR(IF(Input!$B$12=\"Executive / Elected Official\",\"Executive\",(VLOOKUP($V$2,CalRefs!$A$3:$D$5,4))),\"\")","v":""},{"$f":"IFERROR(IF(OR(I15=H15,X15=\"Does Not Map\"),\"\",CONCATENATE(VLOOKUP(X15,Lexicon!$A$2:$B$34,2),\"-\",Y15,\"***-\",VLOOKUP(Input!B$18,Lexicon!$Q$2:$R$8,2),Input!$F$18)),\"\")","v":""},0,0,0,0,"Does Not Map"]
[-1,"Interdiction and Disruption",0,"",{"v":0,"d":"0.0"},"","","",{"v":0,"d":"0.00"},0,1,1,"","",0,0,-1,0,-1,0,"","",{"$f":"IFERROR((VLOOKUP($U16,CalRefs!$A$3:$D$5,4)),\"\")","v":""},"Does Not Map",{"$f":"IFERROR(IF(Input!$B$12=\"Executive / Elected Official\",\"Executive\",(VLOOKUP($V$2,CalRefs!$A$3:$D$5,4))),\"\")","v":""},{"$f":"IFERROR(IF(OR(I16=H16,X16=\"Does Not Map\"),\"\",CONCATENATE(VLOOKUP(X16,Lexicon!$A$2:$B$34,2),\"-\",Y16,\"***-\",VLOOKUP(Input!B$18,Lexicon!$Q$2:$R$8,2),Input!$F$18)),\"\")","v":""},0,0,0,0,"Does Not Map"]
[-1,"Long-term Vulnerability Reduction",0,"",{"v":0,"d":"0.0"},"","","",{"v":0,"d":"0.00"},0,1,1,"","",0,0,-1,0,-1,0,"","",{"$f":"IFERROR((VLOOKUP($U17,CalRefs!$A$3:$D$5,4)),\"\")","v":""},"Does Not Map",{"$f":"IFERROR(IF(Input!$B$12=\"Executive / Elected Official\",\"Executive\",(VLOOKUP($V$2,CalRefs!$A$3:$D$5,4))),\"\")","v":""},{"$f":"IFERROR(IF(OR(I17=H17,X17=\"Does Not Map\"),\"\",CONCATENATE(VLOOKUP(X17,Lexicon!$A$2:$B$34,2),\"-\",Y17,\"***-\",VLOOKUP(Input!B$18,Lexicon!$Q$2:$R$8,2),Input!$F$18)),\"\")","v":""},0,0,0,0,"Does Not Map"]
[-1,"Mass Care Services",0,"",{"v":0,"d":"0.0"},"","","",{"v":0,"d":"0.00"},0,1,1,"","",0,0,-1,0,-1,0,"","",{"$f":"IFERROR((VLOOKUP($U18,CalRefs!$A$3:$D$5,4)),\"\")","v":""},"Does Not Map",{"$f":"IFERROR(IF(Input!$B$12=\"Executive / Elected Official\",\"Executive\",(VLOOKUP($V$2,CalRefs!$A$3:$D$5,4))),\"\")","v":""},{"$f":"IFERROR(IF(OR(I18=H18,X18=\"Does Not Map\"),\"\",CONCATENATE(VLOOKUP(X18,Lexicon!$A$2:$B$34,2),\"-\",Y18,\"***-\",VLOOKUP(Input!B$18,Lexicon!$Q$2:$R$8,2),Input!$F$18)),\"\")","v":""},0,0,0,0,"Does Not Map"]
[-1,"Mass Search and Rescue Operations",0,"",{"v":0,"d":"0.0"},"","","",{"v":0,"d":"0.00"},0,1,1,"","",0,0,-1,0,-1,0,"","",{"$f":"IFERROR((VLOOKUP($U19,CalRefs!$A$3:$D$5,4)),\"\")","v":""},"Does Not Map",{"$f":"IFERROR(IF(Input!$B$12=\"Executive / Elected Official\",\"Executive\",(VLOOKUP($V$2,CalRefs!$A$3:$D$5,4))),\"\")","v":""},{"$f":"IFERROR(IF(OR(I19=H19,X19=\"Does Not Map\"),\"\",CONCATENATE(VLOOKUP(X19,Lexicon!$A$2:$B$34,2),\"-\",Y19,\"***-\",VLOOKUP(Input!B$18,Lexicon!$Q$2:$R$8,2),Input!$F$18)),\"\")","v":""},0,0,0,0,"Does Not Map"]
[-1,"Natural and Cultural Resources",0,"",{"v":0,"d":"0.0"},"","","",{"v":0,"d":"0.00"},0,1,1,"","",0,0,-1,0,-1,0,"","",{"$f":"IFERROR((VLOOKUP($U20,CalRefs!$A$3:$D$5,4)),\"\")","v":""},"Does Not Map",{"$f":"IFERROR(IF(Input!$B$12=\"Executive / Elected Official\",\"Executive\",(VLOOKUP($V$2,CalRefs!$A$3:$D$5,4))),\"\")","v":""},{"$f":"IFERROR(IF(OR(I20=H20,X20=\"Does Not Map\"),\"\",CONCATENATE(VLOOKUP(X20,Lexicon!$A$2:$B$34,2),\"-\",Y20,\"***-\",VLOOKUP(Input!B$18,Lexicon!$Q$2:$R$8,2),Input!$F$18)),\"\")","v":""},0,0,0,0,"Does Not Map"]
[-1,"On-scene Security, Protection, and Law Enforcement",0,"",{"v":0,"d":"0.0"},"","","",{"v":0,"d":"0.00"},0,1,1,"","",0,0,-1,0,-1,0,"","",{"$f":"IFERROR((VLOOKUP($U21,CalRefs!$A$3:$D$5,4)),\"\")","v":""},"Does Not Map",{"$f":"IFERROR(IF(Input!$B$12=\"Executive / Elected Official\",\"Executive\",(VLOOKUP($V$2,CalRefs!$A$3:$D$5,4))),\"\")","v":""},{"$f":"IFERROR(IF(OR(I21=H21,X21=\"Does Not Map\"),\"\",CONCATENATE(VLOOKUP(X21,Lexicon!$A$2:$B$34,2),\"-\",Y21,\"***-\",VLOOKUP(Input!B$18,Lexicon!$Q$2:$R$8,2),Input!$F$18)),\"\")","v":""},0,0,0,0,"Does Not Map"]
[-1,"Operational Communications",0,"",{"v":0,"d":"0.0"},"","","",{"v":0,"d":"0.00"},0,1,1,"","",0,0,-1,0,-1,0,"","",{"$f":"IFERROR((VLOOKUP($U22,CalRefs!$A$3:$D$5,4)),\"\")","v":""},"Does Not Map",{"$f":"IFERROR(IF(Input!$B$12=\"Executive / Elected Official\",\"Executive\",(VLOOKUP($V$2,CalRefs!$A$3:$D$5,4))),\"\")","v":""},{"$f":"IFERROR(IF(OR(I22=H22,X22=\"Does Not Map\"),\"\",CONCATENATE(VLOOKUP(X22,Lexicon!$A$2:$B$34,2),\"-\",Y22,\"***-\",VLOOKUP(Input!B$18,Lexicon!$Q$2:$R$8,2),Input!$F$18)),\"\")","v":""},0,0,0,0,"Does Not Map"]
[-1,"Operational Coordination",0,"",{"v":0,"d":"0.0"},"","","",{"v":0,"d":"0.00"},0,1,1,"","",0,0,-1,0,-1,0,"","",{"$f":"IFERROR((VLOOKUP($U23,CalRefs!$A$3:$D$5,4)),\"\")","v":""},"Does Not Map",{"$f":"IFERROR(IF(Input!$B$12=\"Executive / Elected Official\",\"Executive\",(VLOOKUP($V$2,CalRefs!$A$3:$D$5,4))),\"\")","v":""},{"$f":"IFERROR(IF(OR(I23=H23,X23=\"Does Not Map\"),\"\",CONCATENATE(VLOOKUP(X23,Lexicon!$A$2:$B$34,2),\"-\",Y23,\"***-\",VLOOKUP(Input!B$18,Lexicon!$Q$2:$R$8,2),Input!$F$18)),\"\")","v":""},0,0,0,0,"Does Not Map"]
[-1,"Physical Protective Measures",0,"",{"v":0,"d":"0.0"},"","","",{"v":0,"d":"0.00"},0,1,1,"","",0,0,-1,0,-1,0,"","",{"$f":"IFERROR((VLOOKUP($U24,CalRefs!$A$3:$D$5,4)),\"\")","v":""},"Does Not Map",{"$f":"IFERROR(IF(Input!$B$12=\"Executive / Elected Official\",\"Executive\",(VLOOKUP($V$2,CalRefs!$A$3:$D$5,4))),\"\")","v":""},{"$f":"IFERROR(IF(OR(I24=H24,X24=\"Does Not Map\"),\"\",CONCATENATE(VLOOKUP(X24,Lexicon!$A$2:$B$34,2),\"-\",Y24,\"***-\",VLOOKUP(Input!B$18,Lexicon!$Q$2:$R$8,2),Input!$F$18)),\"\")","v":""},0,0,0,0,"Does Not Map"]
[-1,"Planning",0,"",{"v":0,"d":"0.0"},"","","",{"v":0,"d":"0.00"},0,1,1,"","",0,0,-1,0,-1,0,"","",{"$f":"IFERROR((VLOOKUP($U25,CalRefs!$A$3:$D$5,4)),\"\")","v":""},"Does Not Map",{"$f":"IFERROR(IF(Input!$B$12=\"Executive / Elected Official\",\"Executive\",(VLOOKUP($V$2,CalRefs!$A$3:$D$5,4))),\"\")","v":""},{"$f":"IFERROR(IF(OR(I25=H25,X25=\"Does Not Map\"),\"\",CONCATENATE(VLOOKUP(X25,Lexicon!$A$2:$B$34,2),\"-\",Y25,\"***-\",VLOOKUP(Input!B$18,Lexicon!$Q$2:$R$8,2),Input!$F$18)),\"\")","v":""},0,0,0,0,"Does Not Map"]
[-1,"Logistics and Supply Chain Management",0,"",{"v":0,"d":"0.0"},"","","",{"v":0,"d":"0.00"},0,1,1,"","",0,0,-1,0,-1,0,"","",{"$f":"IFERROR((VLOOKUP($U26,CalRefs!$A$3:$D$5,4)),\"\")","v":""},"Does Not Map",{"$f":"IFERROR(IF(Input!$B$12=\"Executive / Elected Official\",\"Executive\",(VLOOKUP($V$2,CalRefs!$A$3:$D$5,4))),\"\")","v":""},{"$f":"IFERROR(IF(OR(I26=H26,X26=\"Does Not Map\"),\"\",CONCATENATE(VLOOKUP(X26,Lexicon!$A$2:$B$34,2),\"-\",Y26,\"***-\",VLOOKUP(Input!B$18,Lexicon!$Q$2:$R$8,2),Input!$F$18)),\"\")","v":""},0,0,0,0,"Does Not Map"]
[-1,"Public Health, Healthcare, and Emergency Medical Services",0,"",{"v":0,"d":"0.0"},"","","",{"v":0,"d":"0.00"},0,1,1,"","",0,0,-1,0,-1,0,"","",{"$f":"IFERROR((VLOOKUP($U27,CalRefs!$A$3:$D$5,4)),\"\")","v":""},"Does Not Map",{"$f":"IFERROR(IF(Input!$B$12=\"Executive / Elected Official\",\"Executive\",(VLOOKUP($V$2,CalRefs!$A$3:$D$5,4))),\"\")","v":""},{"$f":"IFERROR(IF(OR(I27=H27,X27=\"Does Not Map\"),\"\",CONCATENATE(VLOOKUP(X27,Lexicon!$A$2:$B$34,2),\"-\",Y27,\"***-\",VLOOKUP(Input!B$18,Lexicon!$Q$2:$R$8,2),Input!$F$18)),\"\")","v":""},0,0,0,0,"Does Not Map"]
[-1,"Public Information and Warning",0,"",{"v":0,"d":"0.0"},"","","",{"v":0,"d":"0.00"},0,1,1,"","",0,0,-1,0,-1,0,"","",{"$f":"IFERROR((VLOOKUP($U28,CalRefs!$A$3:$D$5,4)),\"\")","v":""},"Does Not Map",{"$f":"IFERROR(IF(Input!$B$12=\"Executive / Elected Official\",\"Executive\",(VLOOKUP($V$2,CalRefs!$A$3:$D$5,4))),\"\")","v":""},{"$f":"IFERROR(IF(OR(I28=H28,X28=\"Does Not Map\"),\"\",CONCATENATE(VLOOKUP(X28,Lexicon!$A$2:$B$34,2),\"-\",Y28,\"***-\",VLOOKUP(Input!B$18,Lexicon!$Q$2:$R$8,2),Input!$F$18)),\"\")","v":""},0,0,0,0,"Does Not Map"]
[-1,"Risk and Disaster Resilience Assessment",0,"",{"v":0,"d":"0.0"},"","","",{"v":0,"d":"0.00"},0,1,1,"","",0,0,-1,0,-1,0,"","",{"$f":"IFERROR((VLOOKUP($U29,CalRefs!$A$3:$D$5,4)),\"\")","v":""},"Does Not Map",{"$f":"IFERROR(IF(Input!$B$12=\"Executive / Elected Official\",\"Executive\",(VLOOKUP($V$2,CalRefs!$A$3:$D$5,4))),\"\")","v":""},{"$f":"IFERROR(IF(OR(I29=H29,X29=\"Does Not Map\"),\"\",CONCATENATE(VLOOKUP(X29,Lexicon!$A$2:$B$34,2),\"-\",Y29,\"***-\",VLOOKUP(Input!B$18,Lexicon!$Q$2:$R$8,2),Input!$F$18)),\"\")","v":""},0,0,0,0,"Does Not Map"]
[-1,"Risk Management for Protection Programs and Activities",0,"",{"v":0,"d":"0.0"},"","","",{"v":0,"d":"0.00"},0,1,1,"","",0,0,-1,0,-1,0,"","",{"$f":"IFERROR((VLOOKUP($U30,CalRefs!$A$3:$D$5,4)),\"\")","v":""},"Does Not Map",{"$f":"IFERROR(IF(Input!$B$12=\"Executive / Elected Official\",\"Executive\",(VLOOKUP($V$2,CalRefs!$A$3:$D$5,4))),\"\")","v":""},{"$f":"IFERROR(IF(OR(I30=H30,X30=\"Does Not Map\"),\"\",CONCATENATE(VLOOKUP(X30,Lexicon!$A$2:$B$34,2),\"-\",Y30,\"***-\",VLOOKUP(Input!B$18,Lexicon!$Q$2:$R$8,2),Input!$F$18)),\"\")","v":""},0,0,0,0,"Does Not Map"]
[-1,"Screening, Search, and Detection",0,"",{"v":0,"d":"0.0"},"","","",{"v":0,"d":"0.00"},0,1,1,"","",0,0,-1,0,-1,0,"","",{"$f":"IFERROR((VLOOKUP($U31,CalRefs!$A$3:$D$5,4)),\"\")","v":""},"Does Not Map",{"$f":"IFERROR(IF(Input!$B$12=\"Executive / Elected Official\",\"Executive\",(VLOOKUP($V$2,CalRefs!$A$3:$D$5,4))),\"\")","v":""},{"$f":"IFERROR(IF(OR(I31=H31,X31=\"Does Not Map\"),\"\",CONCATENATE(VLOOKUP(X31,Lexicon!$A$2:$B$34,2),\"-\",Y31,\"***-\",VLOOKUP(Input!B$18,Lexicon!$Q$2:$R$8,2),Input!$F$18)),\"\")","v":""},0,0,0,0,"Does Not Map"]
[-1,"Situational Assessment",0,"",{"v":0,"d":"0.0"},"","","",{"v":0,"d":"0.00"},0,1,1,"","",0,0,-1,0,-1,0,"","",{"$f":"IFERROR((VLOOKUP($U32,CalRefs!$A$3:$D$5,4)),\"\")","v":""},"Does Not Map",{"$f":"IFERROR(IF(Input!$B$12=\"Executive / Elected Official\",\"Executive\",(VLOOKUP($V$2,CalRefs!$A$3:$D$5,4))),\"\")","v":""},{"$f":"IFERROR(IF(OR(I32=H32,X32=\"Does Not Map\"),\"\",CONCATENATE(VLOOKUP(X32,Lexicon!$A$2:$B$34,2),\"-\",Y32,\"***-\",VLOOKUP(Input!B$18,Lexicon!$Q$2:$R$8,2),Input!$F$18)),\"\")","v":""},0,0,0,0,"Does Not Map"]
[-1,"Supply Chain Integrity and Security",0,"",{"v":0,"d":"0.0"},"","","",{"v":0,"d":"0.00"},0,1,1,"","",0,0,-1,0,-1,0,"","",{"$f":"IFERROR((VLOOKUP($U33,CalRefs!$A$3:$D$5,4)),\"\")","v":""},"Does Not Map",{"$f":"IFERROR(IF(Input!$B$12=\"Executive / Elected Official\",\"Executive\",(VLOOKUP($V$2,CalRefs!$A$3:$D$5,4))),\"\")","v":""},{"$f":"IFERROR(IF(OR(I33=H33,X33=\"Does Not Map\"),\"\",CONCATENATE(VLOOKUP(X33,Lexicon!$A$2:$B$34,2),\"-\",Y33,\"***-\",VLOOKUP(Input!B$18,Lexicon!$Q$2:$R$8,2),Input!$F$18)),\"\")","v":""},0,0,0,0,"Does Not Map"]
[-1,"Threats and Hazards Identification",0,"",{"v":0,"d":"0.0"},"","","",{"v":0,"d":"0.00"},0,1,1,"","",0,0,-1,0,-1,0,"","",{"$f":"IFERROR((VLOOKUP($U34,CalRefs!$A$3:$D$5,4)),\"\")","v":""},"Does Not Map",{"$f":"IFERROR(IF(Input!$B$12=\"Executive / Elected Official\",\"Executive\",(VLOOKUP($V$2,CalRefs!$A$3:$D$5,4))),\"\")","v":""},{"$f":"IFERROR(IF(OR(I34=H34,X34=\"Does Not Map\"),\"\",CONCATENATE(VLOOKUP(X34,Lexicon!$A$2:$B$34,2),\"-\",Y34,\"***-\",VLOOKUP(Input!B$18,Lexicon!$Q$2:$R$8,2),Input!$F$18)),\"\")","v":""},0,0,0,0,"Does Not Map"]
[]
[{"$nulls":17},"Number of Primary Core Capabilities:",{"$f":"COUNTIF(S2:S34,3)","v":0}]

{"sheet":"Data - OPM","index":11,"n_rows":30,"n_cols":28,"rows_kept":30,"hidden":true}
["OPM Icon","OPM Leadership Competencies ","Number of EOs by OPM","Percent of EO by OPM","EO Complexity by OPM","Percent of Class Time by OPM","Weighted Average EO Complexity","Value of None OPM Weighted Complexity","Max Complexity Value","LT 15% Content","None Rule","GT 15% Rule","2.5x Rule","3.5x Flag","Mapped OPM","Primary OPM","Secondary OPM","Flag OPM","OPM Icon Alert","Number of Mapped EOs","OPM Avg KSA","Weighted Average KSA of Mapped OPM Leadership Competencies ","Course Level by OPM","Primary OPM","Course Level","Training Provider","Course Title","Course Number"]
[{"$f":"$S$2:$S$30","v":-1},{"$f":"IFERROR(OPM[[#This Row],[OPM Leadership Competencies]],\"   \")","v":"None"},{"$f":"IF(ISERROR(COUNTIF(OPM_Lead_Comp,B2)),\"\",COUNTIF(OPM_Lead_Comp,B2))","v":0},{"$f":"IFERROR((C2/(SUM($C$2:$C$30))),\"\")","v":""},{"$f":"IFERROR(SUMIFS(OPM_Complex,OPM_Lead_Comp,B2),\"\")","v":{"v":0,"d":"0.0"}},{"$f":"IFERROR(((SUMIFS(OPM_Time,OPM_Lead_Comp,$B2))/SumCheck),\"\")","v":""},{"$f":"IFERROR((($E2*$C2)/SUM($C$2:$C$30)),\"\")","v":""},{"$f":"IFERROR((INDEX($G$2:$G$30,(MATCH(\"none\",$B$2:$B$30,0)))),\"\")","v":""},{"$f":"IFERROR((IF(AND(MAX($G$2:$G$30)=H2),LARGE($G$2:$G$30,2),MAX($G$2:$G$30))),\"\")","v":{"v":0,"d":"0.00"}},{"$f":"IFERROR((IF($D2<0.15,1,0)),\"\")","v":0},{"$f":"IFERROR((IF($B2=\"None\",0,1)),\"\")","v":0},{"$f":"IFERROR((IF($D2>=0.15,1,0)),\"\")","v":1},{"$f":"IFERROR((IF($G2*2.5>I2,1,0)),\"\")","v":""},{"$f":"IFERROR((IF(OR(AND(J2=1,$G2*3.5>I2),(AND(M2=0,$G2*3.5>I2)),$G2=I2),1,0)),\"\")","v":""},{"$f":"IFERROR((IF(AND($K2,$L2,$M2=1),1,0)),\"\")","v":0},{"$f":"IFERROR((IF(AND($O2=1,$G2=I2),3,0)),\"\")","v":0},{"$f":"IFERROR((IF(AND($P2=0,$O2=1),1,-1)),\"\")","v":-1},{"$f":"IFERROR((IF(AND(K2,N2=1),1,0)),\"\")","v":0},{"$f":"IFERROR(IF(MAX($G$2:$G$30)=H2,-1,((SUM(R2,P2,Q2)))),\"\")","v":-1},{"$f":"IFERROR((SUMIF($O$2:$O$30,1,$C$2:$C$30)),\"\")","v":0},{"$f":"IFERROR((SUMIFS(OPM_KSA_Total,OPM_Lead_Comp,$B2)/C2),\"\")","v":""},{"$f":"IFERROR((SUMPRODUCT(($O$2:$O$30),($U$2:$U$30),($C$2:$C$30))/T2),\"\")","v":""},{"$f":"IFERROR((VLOOKUP($U2,CalRefs!$A$3:$D$5,4)),\"\")","v":""},{"$f":"IFERROR(IF(OR(MAX($G$2:$G$30)=$H$2,MAX($S$2:$S$30)<>3),\"Does Not Map\",INDEX($B$2:$B$30,MATCH(I2,$G$2:$G$30,0))),\"\")","v":"Does Not Map"},{"$f":"IFERROR(IF(Input!$B$12=\"Executive / Elected Official\",\"Executive\",(VLOOKUP($V$2,CalRefs!$A$3:$D$5,4))),\"\")","v":""},{"$f":"IF(ISERROR(Training_Partner),\"\",Training_Partner)","v":0},{"$f":"IF(ISERROR(CourseTitle),\"\",CourseTitle)","v":0},{"$f":"CourseNumber","v":0}]
[-1,{"$f":"IFERROR(OPM[[#This Row],[OPM Leadership Competencies]],\"   \")","v":"Accountability"},0,"",{"v":0,"d":"0.0"},"",{"$f":"IFERROR((($E3*$C3)/SUM($C$2:$C$30)),\"\")","v":""},"",{"v":0,"d":"0.00"},{"$f":"IFERROR((IF($D3<0.15,1,0)),\"\")","v":0},{"$f":"IFERROR((IF($B3=\"None\",0,1)),\"\")","v":1},{"$f":"IFERROR((IF($D3>=0.15,1,0)),\"\")","v":1},{"$f":"IFERROR((IF($G3*2.5>I3,1,0)),\"\")","v":""},{"$f":"IFERROR((IF(OR(AND(J3=1,$G3*3.5>I3),(AND(M3=0,$G3*3.5>I3)),$G3=I3),1,0)),\"\")","v":""},{"$f":"IFERROR((IF(AND($K3,$L3,$M3=1),1,0)),\"\")","v":0},0,{"$f":"IFERROR((IF(AND($P3=0,$O3=1),1,-1)),\"\")","v":-1},{"$f":"IFERROR((IF(AND(K3,N3=1),1,0)),\"\")","v":0},-1,0,"","",{"$f":"IFERROR((VLOOKUP($U3,CalRefs!$A$3:$D$5,4)),\"\")","v":""},"Does Not Map",{"$f":"IFERROR(IF(Input!$B$12=\"Executive / Elected Official\",\"Executive\",(VLOOKUP($V$2,CalRefs!$A$3:$D$5,4))),\"\")","v":""},0,0,0]
[-1,{"$f":"IFERROR(OPM[[#This Row],[OPM Leadership Competencies]],\"   \")","v":"Conflict Management"},0,"",{"v":0,"d":"0.0"},"","","",{"v":0,"d":"0.00"},0,1,1,"","",0,0,-1,0,-1,0,"","",{"$f":"IFERROR((VLOOKUP($U4,CalRefs!$A$3:$D$5,4)),\"\")","v":""},"Does Not Map",{"$f":"IFERROR(IF(Input!$B$12=\"Executive / Elected Official\",\"Executive\",(VLOOKUP($V$2,CalRefs!$A$3:$D$5,4))),\"\")","v":""},0,0,0]
[-1,{"$f":"IFERROR(OPM[[#This Row],[OPM Leadership Competencies]],\"   \")","v":"Continual Learning"},0,"",{"v":0,"d":"0.0"},"","","",{"v":0,"d":"0.00"},0,1,1,"","",0,0,-1,0,-1,0,"","",{"$f":"IFERROR((VLOOKUP($U5,CalRefs!$A$3:$D$5,4)),\"\")","v":""},"Does Not Map",{"$f":"IFERROR(IF(Input!$B$12=\"Executive / Elected Official\",\"Executive\",(VLOOKUP($V$2,CalRefs!$A$3:$D$5,4))),\"\")","v":""},0,0,0]
[-1,{"$f":"IFERROR(OPM[[#This Row],[OPM Leadership Competencies]],\"   \")","v":"Creativity and Innovation"},0,"",{"v":0,"d":"0.0"},"","","",{"v":0,"d":"0.00"},0,1,1,"","",0,0,-1,0,-1,0,"","",{"$f":"IFERROR((VLOOKUP($U6,CalRefs!$A$3:$D$5,4)),\"\")","v":""},"Does Not Map",{"$f":"IFERROR(IF(Input!$B$12=\"Executive / Elected Official\",\"Executive\",(VLOOKUP($V$2,CalRefs!$A$3:$D$5,4))),\"\")","v":""},0,0,0]
[-1,{"$f":"IFERROR(OPM[[#This Row],[OPM Leadership Competencies]],\"   \")","v":"Customer Service"},0,"",{"v":0,"d":"0.0"},"","","",{"v":0,"d":"0.00"},0,1,1,"","",0,0,-1,0,-1,0,"","",{"$f":"IFERROR((VLOOKUP($U7,CalRefs!$A$3:$D$5,4)),\"\")","v":""},"Does Not Map",{"$f":"IFERROR(IF(Input!$B$12=\"Executive / Elected Official\",\"Executive\",(VLOOKUP($V$2,CalRefs!$A$3:$D$5,4))),\"\")","v":""},0,0,0]
[-1,{"$f":"IFERROR(OPM[[#This Row],[OPM Leadership Competencies]],\"   \")","v":"Decisiveness"},0,"",{"v":0,"d":"0.0"},"","","",{"v":0,"d":"0.00"},0,1,1,"","",0,0,-1,0,-1,0,"","",{"$f":"IFERROR((VLOOKUP($U8,CalRefs!$A$3:$D$5,4)),\"\")","v":""},"Does Not Map",{"$f":"IFERROR(IF(Input!$B$12=\"Executive / Elected Official\",\"Executive\",(VLOOKUP($V$2,CalRefs!$A$3:$D$5,4))),\"\")","v":""},0,0,0]
[-1,{"$f":"IFERROR(OPM[[#This Row],[OPM Leadership Competencies]],\"   \")","v":"Developing Others"},0,"",{"v":0,"d":"0.0"},"","","",{"v":0,"d":"0.00"},0,1,1,"","",0,0,-1,0,-1,0,"","",{"$f":"IFERROR((VLOOKUP($U9,CalRefs!$A$3:$D$5,4)),\"\")","v":""},"Does Not Map",{"$f":"IFERROR(IF(Input!$B$12=\"Executive / Elected Official\",\"Executive\",(VLOOKUP($V$2,CalRefs!$A$3:$D$5,4))),\"\")","v":""},0,0,0]
[-1,{"$f":"IFERROR(OPM[[#This Row],[OPM Leadership Competencies]],\"   \")","v":"Entrepreneurship"},0,"",{"v":0,"d":"0.0"},"","","",{"v":0,"d":"0.00"},0,1,1,"","",0,0,-1,0,-1,0,"","",{"$f":"IFERROR((VLOOKUP($U10,CalRefs!$A$3:$D$5,4)),\"\")","v":""},"Does Not Map",{"$f":"IFERROR(IF(Input!$B$12=\"Executive / Elected Official\",\"Executive\",(VLOOKUP($V$2,CalRefs!$A$3:$D$5,4))),\"\")","v":""},0,0,0]
[-1,{"$f":"IFERROR(OPM[[#This Row],[OPM Leadership Competencies]],\"   \")","v":"External Awareness"},0,"",{"v":0,"d":"0.0"},"","","",{"v":0,"d":"0.00"},0,1,1,"","",0,0,-1,0,-1,0,"","",{"$f":"IFERROR((VLOOKUP($U11,CalRefs!$A$3:$D$5,4)),\"\")","v":""},"Does Not Map",{"$f":"IFERROR(IF(Input!$B$12=\"Executive / Elected Official\",\"Executive\",(VLOOKUP($V$2,CalRefs!$A$3:$D$5,4))),\"\")","v":""},0,0,0]
[-1,{"$f":"IFERROR(OPM[[#This Row],[OPM Leadership Competencies]],\"   \")","v":"Financial Management"},0,"",{"v":0,"d":"0.0"},"","","",{"v":0,"d":"0.00"},0,1,1,"","",0,0,-1,0,-1,0,"","",{"$f":"IFERROR((VLOOKUP($U12,CalRefs!$A$3:$D$5,4)),\"\")","v":""},"Does Not Map",{"$f":"IFERROR(IF(Input!$B$12=\"Executive / Elected Official\",\"Executive\",(VLOOKUP($V$2,CalRefs!$A$3:$D$5,4))),\"\")","v":""},0,0,0]
[-1,{"$f":"IFERROR(OPM[[#This Row],[OPM Leadership Competencies]],\"   \")","v":"Flexibility"},0,"",{"v":0,"d":"0.0"},"","","",{"v":0,"d":"0.00"},0,1,1,"","",0,0,-1,0,-1,0,"","",{"$f":"IFERROR((VLOOKUP($U13,CalRefs!$A$3:$D$5,4)),\"\")","v":""},"Does Not Map",{"$f":"IFERROR(IF(Input!$B$12=\"Executive / Elected Official\",\"Executive\",(VLOOKUP($V$2,CalRefs!$A$3:$D$5,4))),\"\")","v":""},0,0,0]
[-1,{"$f":"IFERROR(OPM[[#This Row],[OPM Leadership Competencies]],\"   \")","v":"Human Capital Management"},0,"",{"v":0,"d":"0.0"},"","","",{"v":0,"d":"0.00"},0,1,1,"","",0,0,-1,0,-1,0,"","",{"$f":"IFERROR((VLOOKUP($U14,CalRefs!$A$3:$D$5,4)),\"\")","v":""},"Does Not Map",{"$f":"IFERROR(IF(Input!$B$12=\"Executive / Elected Official\",\"Executive\",(VLOOKUP($V$2,CalRefs!$A$3:$D$5,4))),\"\")","v":""},0,0,0]
[-1,{"$f":"IFERROR(OPM[[#This Row],[OPM Leadership Competencies]],\"   \")","v":"Influencing / Negotiating"},0,"",{"v":0,"d":"0.0"},"","","",{"v":0,"d":"0.00"},0,1,1,"","",0,0,-1,0,-1,0,"","",{"$f":"IFERROR((VLOOKUP($U15,CalRefs!$A$3:$D$5,4)),\"\")","v":""},"Does Not Map",{"$f":"IFERROR(IF(Input!$B$12=\"Executive / Elected Official\",\"Executive\",(VLOOKUP($V$2,CalRefs!$A$3:$D$5,4))),\"\")","v":""},0,0,0]
[-1,{"$f":"IFERROR(OPM[[#This Row],[OPM Leadership Competencies]],\"   \")","v":"Integrity / Honesty"},0,"",{"v":0,"d":"0.0"},"","","",{"v":0,"d":"0.00"},0,1,1,"","",0,0,-1,0,-1,0,"","",{"$f":"IFERROR((VLOOKUP($U16,CalRefs!$A$3:$D$5,4)),\"\")","v":""},"Does Not Map",{"$f":"IFERROR(IF(Input!$B$12=\"Executive / Elected Official\",\"Executive\",(VLOOKUP($V$2,CalRefs!$A$3:$D$5,4))),\"\")","v":""},0,0,0]
[-1,{"$f":"IFERROR(OPM[[#This Row],[OPM Leadership Competencies]],\"   \")","v":"Interpersonal Skills"},0,"",{"v":0,"d":"0.0"},"","","",{"v":0,"d":"0.00"},0,1,1,"","",0,0,-1,0,-1,0,"","",{"$f":"IFERROR((VLOOKUP($U17,CalRefs!$A$3:$D$5,4)),\"\")","v":""},"Does Not Map",{"$f":"IFERROR(IF(Input!$B$12=\"Executive / Elected Official\",\"Executive\",(VLOOKUP($V$2,CalRefs!$A$3:$D$5,4))),\"\")","v":""},0,0,0]
[-1,{"$f":"IFERROR(OPM[[#This Row],[OPM Leadership Competencies]],\"   \")","v":"Leveraging Divesity"},0,"",{"v":0,"d":"0.0"},"","","",{"v":0,"d":"0.00"},0,1,1,"","",0,0,-1,0,-1,0,"","",{"$f":"IFERROR((VLOOKUP($U18,CalRefs!$A$3:$D$5,4)),\"\")","v":""},"Does Not Map",{"$f":"IFERROR(IF(Input!$B$12=\"Executive / Elected Official\",\"Executive\",(VLOOKUP($V$2,CalRefs!$A$3:$D$5,4))),\"\")","v":""},0,0,0]
[-1,{"$f":"IFERROR(OPM[[#This Row],[OPM Leadership Competencies]],\"   \")","v":"Oral Communication"},0,"",{"v":0,"d":"0.0"},"","","",{"v":0,"d":"0.00"},0,1,1,"","",0,0,-1,0,-1,0,"","",{"$f":"IFERROR((VLOOKUP($U19,CalRefs!$A$3:$D$5,4)),\"\")","v":""},"Does Not Map",{"$f":"IFERROR(IF(Input!$B$12=\"Executive / Elected Official\",\"Executive\",(VLOOKUP($V$2,CalRefs!$A$3:$D$5,4))),\"\")","v":""},0,0,0]
[-1,{"$f":"IFERROR(OPM[[#This Row],[OPM Leadership Competencies]],\"   \")","v":"Partnering"},0,"",{"v":0,"d":"0.0"},"","","",{"v":0,"d":"0.00"},0,1,1,"","",0,0,-1,0,-1,0,"","",{"$f":"IFERROR((VLOOKUP($U20,CalRefs!$A$3:$D$5,4)),\"\")","v":""},"Does Not Map",{"$f":"IFERROR(IF(Input!$B$12=\"Executive / Elected Official\",\"Executive\",(VLOOKUP($V$2,CalRefs!$A$3:$D$5,4))),\"\")","v":""},0,0,0]
[-1,{"$f":"IFERROR(OPM[[#This Row],[OPM Leadership Competencies]],\"   \")","v":"Political Savvy"},0,"",{"v":0,"d":"0.0"},"","","",{"v":0,"d":"0.00"},0,1,1,"","",0,0,-1,0,-1,0,"","",{"$f":"IFERROR((VLOOKUP($U21,CalRefs!$A$3:$D$5,4)),\"\")","v":""},"Does Not Map",{"$f":"IFERROR(IF(Input!$B$12=\"Executive / Elected Official\",\"Executive\",(VLOOKUP($V$2,CalRefs!$A$3:$D$5,4))),\"\")","v":""},0,0,0]
[-1,{"$f":"IFERROR(OPM[[#This Row],[OPM Leadership Competencies]],\"   \")","v":"Problem Solving"},0,"",{"v":0,"d":"0.0"},"","","",{"v":0,"d":"0.00"},0,1,1,"","",0,0,-1,0,-1,0,"","",{"$f":"IFERROR((VLOOKUP($U22,CalRefs!$A$3:$D$5,4)),\"\")","v":""},"Does Not Map",{"$f":"IFERROR(IF(Input!$B$12=\"Executive / Elected Official\",\"Executive\",(VLOOKUP($V$2,CalRefs!$A$3:$D$5,4))),\"\")","v":""},0,0,0]
[-1,{"$f":"IFERROR(OPM[[#This Row],[OPM Leadership Competencies]],\"   \")","v":"Public Service Motivation"},0,"",{"v":0,"d":"0.0"},"","","",{"v":0,"d":"0.00"},0,1,1,"","",0,0,-1,0,-1,0,"","",{"$f":"IFERROR((VLOOKUP($U23,CalRefs!$A$3:$D$5,4)),\"\")","v":""},"Does Not Map",{"$f":"IFERROR(IF(Input!$B$12=\"Executive / Elected Official\",\"Executive\",(VLOOKUP($V$2,CalRefs!$A$3:$D$5,4))),\"\")","v":""},0,0,0]
[-1,{"$f":"IFERROR(OPM[[#This Row],[OPM Leadership Competencies]],\"   \")","v":"Resilience"},0,"",{"v":0,"d":"0.0"},"","","",{"v":0,"d":"0.00"},0,1,1,"","",0,0,-1,0,-1,0,"","",{"$f":"IFERROR((VLOOKUP($U24,CalRefs!$A$3:$D$5,4)),\"\")","v":""},"Does Not Map",{"$f":"IFERROR(IF(Input!$B$12=\"Executive / Elected Official\",\"Executive\",(VLOOKUP($V$2,CalRefs!$A$3:$D$5,4))),\"\")","v":""},0,0,0]
[-1,{"$f":"IFERROR(OPM[[#This Row],[OPM Leadership Competencies]],\"   \")","v":"Strategic Thinking"},0,"",{"v":0,"d":"0.0"},"","","",{"v":0,"d":"0.00"},0,1,1,"","",0,0,-1,0,-1,0,"","",{"$f":"IFERROR((VLOOKUP($U25,CalRefs!$A$3:$D$5,4)),\"\")","v":""},"Does Not Map",{"$f":"IFERROR(IF(Input!$B$12=\"Executive / Elected Official\",\"Executive\",(VLOOKUP($V$2,CalRefs!$A$3:$D$5,4))),\"\")","v":""},0,0,0]
[-1,{"$f":"IFERROR(OPM[[#This Row],[OPM Leadership Competencies]],\"   \")","v":"Team Building"},0,"",{"v":0,"d":"0.0"},"","","",{"v":0,"d":"0.00"},0,1,1,"","",0,0,-1,0,-1,0,"","",{"$f":"IFERROR((VLOOKUP($U26,CalRefs!$A$3:$D$5,4)),\"\")","v":""},"Does Not Map",{"$f":"IFERROR(IF(Input!$B$12=\"Executive / Elected Official\",\"Executive\",(VLOOKUP($V$2,CalRefs!$A$3:$D$5,4))),\"\")","v":""},0,0,0]
[-1,{"$f":"IFERROR(OPM[[#This Row],[OPM Leadership Competencies]],\"   \")","v":"Technical Credibility"},0,"",{"v":0,"d":"0.0"},"","","",{"v":0,"d":"0.00"},0,1,1,"","",0,0,-1,0,-1,0,"","",{"$f":"IFERROR((VLOOKUP($U27,CalRefs!$A$3:$D$5,4)),\"\")","v":""},"Does Not Map",{"$f":"IFERROR(IF(Input!$B$12=\"Executive / Elected Official\",\"Executive\",(VLOOKUP($V$2,CalRefs!$A$3:$D$5,4))),\"\")","v":""},0,0,0]
[-1,{"$f":"IFERROR(OPM[[#This Row],[OPM Leadership Competencies]],\"   \")","v":"Technology Management"},0,"",{"v":0,"d":"0.0"},"","","",{"v":0,"d":"0.00"},0,1,1,"","",0,0,-1,0,-1,0,"","",{"$f":"IFERROR((VLOOKUP($U28,CalRefs!$A$3:$D$5,4)),\"\")","v":""},"Does Not Map",{"$f":"IFERROR(IF(Input!$B$12=\"Executive / Elected Official\",\"Executive\",(VLOOKUP($V$2,CalRefs!$A$3:$D$5,4))),\"\")","v":""},0,0,0]
[-1,{"$f":"IFERROR(OPM[[#This Row],[OPM Leadership Competencies]],\"   \")","v":"Vision"},0,"",{"v":0,"d":"0.0"},"","","",{"v":0,"d":"0.00"},0,1,1,"","",0,0,-1,0,-1,0,"","",{"$f":"IFERROR((VLOOKUP($U29,CalRefs!$A$3:$D$5,4)),\"\")","v":""},"Does Not Map",{"$f":"IFERROR(IF(Input!$B$12=\"Executive / Elected Official\",\"Executive\",(VLOOKUP($V$2,CalRefs!$A$3:$D$5,4))),\"\")","v":""},0,0,0]
[-1,{"$f":"IFERROR(OPM[[#This Row],[OPM Leadership Competencies]],\"   \")","v":"Written Communication"},0,"",{"v":0,"d":"0.0"},"","","",{"v":0,"d":"0.00"},0,1,1,"","",0,0,-1,0,-1,0,"","",{"$f":"IFERROR((VLOOKUP($U30,CalRefs!$A$3:$D$5,4)),\"\")","v":""},"Does Not Map",{"$f":"IFERROR(IF(Input!$B$12=\"Executive / Elected Official\",\"Executive\",(VLOOKUP($V$2,CalRefs!$A$3:$D$5,4))),\"\")","v":""},0,0,0]

{"sheet":"Data - DHS CC","index":12,"n_rows":10,"n_cols":28,"rows_kept":10,"hidden":true}
["OPM Icon","DHS Core Competencies ","Number of EOs by DHS CC","Percent of EO by DHS CC","EO Complexity by DHS CC","Percent of Class Time by DHS CC","Weighted Average EO Complexity","Value of None DHS CC Weighted Complexity","Max Complexity Value","LT 15% Content","None Rule","GT 15% Rule","2.5x Rule","3.5x Flag","Mapped DHS CC","Primary DHS CC","Secondary DHS CC","Flag DHS CC","DHS CC Icon Alert","Number of Mapped EOs","DHS CC Avg KSA","Weighted Average KSA of Mapped DHS CC Leadership Competencies ","Course Level by DHS CC","Primary DHS CC","Course Level","Training Provider","Course Title","Course Number"]
[{"$f":"$S$2:$S$10","v":-1},{"$f":"IFERROR(OPM[[#This Row],[OPM Leadership Competencies]],\"   \")","v":"None"},{"$f":"IF(ISERROR(COUNTIF(DHS_Lead_Comp,B2)),\"\",COUNTIF(DHS_Lead_Comp,B2))","v":0},{"$f":"IFERROR((C2/(SUM($C$2:$C$10))),\"\")","v":""},{"$f":"IFERROR(SUMIFS(OPM_Complex,DHS_Lead_Comp,B2),\"\")","v":{"v":0,"d":"0.0"}},{"$f":"IFERROR(((SUMIFS(OPM_Time,DHS_Lead_Comp,$B2))/SumCheck),\"\")","v":""},{"$f":"IFERROR((($E2*$C2)/SUM($C$2:$C$10)),\"\")","v":""},{"$f":"IFERROR((INDEX($G$2:$G$10,(MATCH(\"none\",$B$2:$B$10,0)))),\"\")","v":""},{"$f":"IFERROR((IF(AND(MAX($G$2:$G$10)=H2),LARGE($G$2:$G$10,2),MAX($G$2:$G$10))),\"\")","v":{"v":0,"d":"0.00"}},{"$f":"IFERROR((IF($D2<0.15,1,0)),\"\")","v":0},{"$f":"IFERROR((IF($B2=\"None\",0,1)),\"\")","v":0},{"$f":"IFERROR((IF($D2>=0.15,1,0)),\"\")","v":1},{"$f":"IFERROR((IF($G2*2.5>I2,1,0)),\"\")","v":""},{"$f":"IFERROR((IF(OR(AND(J2=1,$G2*3.5>I2),(AND(M2=0,$G2*3.5>I2)),$G2=I2),1,0)),\"\")","v":""},{"$f":"IFERROR((IF(AND($K2,$L2,$M2=1),1,0)),\"\")","v":0},{"$f":"IFERROR((IF(AND($O2=1,$G2=I2),3,0)),\"\")","v":0},{"$f":"IFERROR((IF(AND($P2=0,$O2=1),1,-1)),\"\")","v":-1},{"$f":"IFERROR((IF(AND(K2,N2=1),1,0)),\"\")","v":0},{"$f":"IFERROR(IF(MAX($G$2:$G$10)=H2,-1,((SUM(R2,P2,Q2)))),\"\")","v":-1},{"$f":"IFERROR((SUMIF($O$2:$O$10,1,$C$2:$C$10)),\"\")","v":0},{"$f":"IFERROR((SUMIFS(OPM_KSA_Total,DHS_Lead_Comp,$B2)/C2),\"\")","v":""},{"$f":"IFERROR((SUMPRODUCT(($O$2:$O$10),($U$2:$U$10),($C$2:$C$10))/T2),\"\")","v":""},{"$f":"IFERROR((VLOOKUP($U2,CalRefs!$A$3:$D$5,4)),\"\")","v":""},{"$f":"IFERROR(IF(OR(MAX($G$2:$G$10)=$H$2,MAX($S$2:$S$10)<>3),\"Does Not Map\",INDEX($B$2:$B$10,MATCH(I2,$G$2:$G$10,0))),\"\")","v":"Does Not Map"},{"$f":"IFERROR(IF(Input!$B$12=\"Executive / Elected Official\",\"Executive\",(VLOOKUP($V$2,CalRefs!$A$3:$D$5,4))),\"\")","v":""},{"$f":"IF(ISERROR(Training_Partner),\"\",Training_Partner)","v":0},{"$f":"IF(ISERROR(CourseTitle),\"\",CourseTitle)","v":0},{"$f":"CourseNumber","v":0}]
[-1,"Achieving results",0,"",{"v":0,"d":"0.0"},"","","",{"v":0,"d":"0.00"},{"$f":"IFERROR((IF($D3<0.15,1,0)),\"\")","v":0},{"$f":"IFERROR((IF($B3=\"None\",0,1)),\"\")","v":1},{"$f":"IFERROR((IF($D3>=0.15,1,0)),\"\")","v":1},{"$f":"IFERROR((IF($G3*2.5>I3,1,0)),\"\")","v":""},{"$f":"IFERROR((IF(OR(AND(J3=1,$G3*3.5>I3),(AND(M3=0,$G3*3.5>I3)),$G3=I3),1,0)),\"\")","v":""},{"$f":"IFERROR((IF(AND($K3,$L3,$M3=1),1,0)),\"\")","v":0},0,{"$f":"IFERROR((IF(AND($P3=0,$O3=1),1,-1)),\"\")","v":-1},{"$f":"IFERROR((IF(AND(K3,N3=1),1,0)),\"\")","v":0},-1,0,"","",{"$f":"IFERROR((VLOOKUP($U3,CalRefs!$A$3:$D$5,4)),\"\")","v":""},"Does Not Map",{"$f":"IFERROR(IF(Input!$B$12=\"Executive / Elected Official\",\"Executive\",(VLOOKUP($V$2,CalRefs!$A$3:$D$5,4))),\"\")","v":""},0,0,0]
[-1,"Technical proficiency",0,"",{"v":0,"d":"0.0"},"","","",{"v":0,"d":"0.00"},0,1,1,"","",0,0,-1,0,-1,0,"","",{"$f":"IFERROR((VLOOKUP($U4,CalRefs!$A$3:$D$5,4)),\"\")","v":""},"Does Not Map",{"$f":"IFERROR(IF(Input!$B$12=\"Executive / Elected Official\",\"Executive\",(VLOOKUP($V$2,CalRefs!$A$3:$D$5,4))),\"\")","v":""},0,0,0]
[-1,"Customer service",0,"",{"v":0,"d":"0.0"},"","","",{"v":0,"d":"0.00"},0,1,1,"","",0,0,-1,0,-1,0,"","",{"$f":"IFERROR((VLOOKUP($U5,CalRefs!$A$3:$D$5,4)),\"\")","v":""},"Does Not Map",{"$f":"IFERROR(IF(Input!$B$12=\"Executive / Elected Official\",\"Executive\",(VLOOKUP($V$2,CalRefs!$A$3:$D$5,4))),\"\")","v":""},0,0,0]
[-1,"Teamwork / Cooperation",0,"",{"v":0,"d":"0.0"},"","","",{"v":0,"d":"0.00"},0,1,1,"","",0,0,-1,0,-1,0,"","",{"$f":"IFERROR((VLOOKUP($U6,CalRefs!$A$3:$D$5,4)),\"\")","v":""},"Does Not Map",{"$f":"IFERROR(IF(Input!$B$12=\"Executive / Elected Official\",\"Executive\",(VLOOKUP($V$2,CalRefs!$A$3:$D$5,4))),\"\")","v":""},0,0,0]
[-1,"Communications",0,"",{"v":0,"d":"0.0"},"","","",{"v":0,"d":"0.00"},0,1,1,"","",0,0,-1,0,-1,0,"","",{"$f":"IFERROR((VLOOKUP($U7,CalRefs!$A$3:$D$5,4)),\"\")","v":""},"Does Not Map",{"$f":"IFERROR(IF(Input!$B$12=\"Executive / Elected Official\",\"Executive\",(VLOOKUP($V$2,CalRefs!$A$3:$D$5,4))),\"\")","v":""},0,0,0]
[-1,"Representing the agency",0,"",{"v":0,"d":"0.0"},"","","",{"v":0,"d":"0.00"},0,1,1,"","",0,0,-1,0,-1,0,"","",{"$f":"IFERROR((VLOOKUP($U8,CalRefs!$A$3:$D$5,4)),\"\")","v":""},"Does Not Map",{"$f":"IFERROR(IF(Input!$B$12=\"Executive / Elected Official\",\"Executive\",(VLOOKUP($V$2,CalRefs!$A$3:$D$5,4))),\"\")","v":""},0,0,0]
[-1,"Assigning, monitoring, and evaluating work",0,"",{"v":0,"d":"0.0"},"","","",{"v":0,"d":"0.00"},0,1,1,"","",0,0,-1,0,-1,0,"","",{"$f":"IFERROR((VLOOKUP($U9,CalRefs!$A$3:$D$5,4)),\"\")","v":""},"Does Not Map",{"$f":"IFERROR(IF(Input!$B$12=\"Executive / Elected Official\",\"Executive\",(VLOOKUP($V$2,CalRefs!$A$3:$D$5,4))),\"\")","v":""},0,0,0]
[-1,"Leadership",0,"",{"v":0,"d":"0.0"},"","","",{"v":0,"d":"0.00"},0,1,1,"","",0,0,-1,0,-1,0,"","",{"$f":"IFERROR((VLOOKUP($U10,CalRefs!$A$3:$D$5,4)),\"\")","v":""},"Does Not Map",{"$f":"IFERROR(IF(Input!$B$12=\"Executive / Elected Official\",\"Executive\",(VLOOKUP($V$2,CalRefs!$A$3:$D$5,4))),\"\")","v":""},0,0,0]

{"sheet":"Data - MOSAIC","index":13,"n_rows":327,"n_cols":28,"rows_kept":327,"hidden":true}
["OPM Icon","OPM MOSAIC Competencies ","Number of EOs by OPM","Percent of EO by OPM","EO Complexity by OPM","Percent of Class Time by OPM","Weighted Average EO Complexity","Value of None OPM Weighted Complexity","Max Complexity Value","LT 15% Content","None Rule","GT 15% Rule","2.5x Rule","3.5x Flag","Mapped OPM","Primary OPM","Secondary OPM","Flag OPM","OPM Icon Alert","Number of Mapped EOs","OPM Avg KSA","Weighted Average KSA of Mapped OPM Leadership Competencies ","Course Level by OPM","Primary OPM MOSAIC","Course Level","Training Provider","Course Title","Course Number"]
[{"$f":"$R$2:$R$327","v":0},{"$f":"IFERROR(OPM[[#This Row],[OPM Leadership Competencies]],\"   \")","v":"None"},{"$f":"IF(ISERROR(COUNTIF(OPM_Lead_Comp,B2)),\"\",COUNTIF(OPM_Lead_Comp,B2))","v":0},{"$f":"IFERROR((C2/(SUM($C$2:$C$327))),\"\")","v":""},{"$f":"SUMIFS(OPM_Complex,OPM_Mosaic,B2)","v":{"v":0,"d":"0.0"}},{"$f":"IFERROR(((SUMIFS(OPM_Time,OPM_Lead_Comp,$B2))/SumCheck),\"\")","v":""},{"$f":"IFERROR((($E2*$C2)/SUM($C$2:$C$327)),\"\")","v":""},{"$f":"IFERROR((INDEX($G$2:$G$327,(MATCH(\"none\",$B$2:$B$327,0)))),\"\")","v":""},{"$f":"IFERROR((IF(AND(MAX($G$3:$G$35)=H2),LARGE($G$3:$G$35,2),MAX($G$3:$G$35))),\"\")","v":{"v":0,"d":"0.00"}},{"$f":"IFERROR((IF($D2<0.15,1,0)),\"\")","v":0},{"$f":"IFERROR((IF($B2=\"None\",0,1)),\"\")","v":0},{"$f":"IFERROR((IF($D2>=0.15,1,0)),\"\")","v":1},{"$f":"IFERROR((IF($G2*2.5>I2,1,0)),\"\")","v":""},{"$f":"IFERROR((IF(OR(AND(J2=1,$G2*3.5>I2),(AND(M2=0,$G2*3.5>I2)),$G2=I2),1,0)),\"\")","v":""},{"$f":"IFERROR((IF(AND($K2,$L2,$M2=1),1,0)),\"\")","v":0},{"$f":"IFERROR((IF(AND($O2=1,$G2=I2),3,0)),\"\")","v":0},{"$f":"IFERROR((IF(AND($P2=0,$O2=1),1,-1)),\"\")","v":-1},{"$f":"IFERROR((IF(AND(K2,N2=1),1,0)),\"\")","v":0},{"$f":"IFERROR(IF(MAX($G$3:$G$35)=H2,-1,((SUM(R2,P2,Q2)))),\"\")","v":-1},{"$f":"IFERROR((SUMIF($O$3:$O$35,1,$C$3:$C$35)),\"\")","v":0},{"$f":"IFERROR((SUMIFS(OPM_KSA_Total,OPM_Mosaic,$B2)/C2),\"\")","v":""},{"$f":"IFERROR((SUMPRODUCT(($O$3:$O$35),($U$3:$U$35),($C$3:$C$35))/T2),\"\")","v":""},{"$f":"IFERROR((VLOOKUP($U2,CalRefs!$A$3:$D$5,4)),\"\")","v":""},{"$f":"IFERROR(IF(OR(MAX($G$3:$G$31)=$H$3,MAX($S$3:$S$31)<>3),\"Does Not Map\",INDEX($B$3:$B$31,MATCH(I2,$G$3:$G$31,0))),\"\")","v":"Does Not Map"},{"$f":"IFERROR(IF(Input!$B$12=\"Executive / Elected Official\",\"Executive\",(VLOOKUP($V$3,CalRefs!$A$3:$D$5,4))),\"\")","v":""},{"$f":"IF(ISERROR(Training_Partner),\"\",Training_Partner)","v":0},{"$f":"IF(ISERROR(CourseTitle),\"\",CourseTitle)","v":0},{"$f":"CourseNumber","v":0}]
[{"$f":"$S$3:$S$31","v":-1},"Accessibility",{"$f":"IF(ISERROR(COUNTIF(OPM_Mosaic,B3)),\"\",COUNTIF(OPM_Mosaic,B3))","v":0},{"$f":"IFERROR((C3/(SUM($C$3:$C$327))),\"\")","v":""},{"v":0,"d":"0.0"},{"$f":"IFERROR(((SUMIFS(OPM_Time,OPM_Mosaic,$B3))/SumCheck),\"\")","v":""},{"$f":"IFERROR((($E3*$C3)/SUM($C$3:$C$31)),\"\")","v":""},{"$f":"IFERROR((INDEX($G$2:$G$327,(MATCH(\"none\",$B$2:$B$327,0)))),\"\")","v":""},{"$f":"IFERROR((IF(AND(MAX($G$3:$G$35)=H3),LARGE($G$3:$G$35,2),MAX($G$3:$G$35))),\"\")","v":{"v":0,"d":"0.00"}},{"$f":"IFERROR((IF($D3<0.15,1,0)),\"\")","v":0},{"$f":"IFERROR((IF($B3=\"None\",0,1)),\"\")","v":1},{"$f":"IFERROR((IF($D3>=0.15,1,0)),\"\")","v":1},{"$f":"IFERROR((IF($G3*2.5>I3,1,0)),\"\")","v":""},{"$f":"IFERROR((IF(OR(AND(J3=1,$G3*3.5>I3),(AND(M3=0,$G3*3.5>I3)),$G3=I3),1,0)),\"\")","v":""},{"$f":"IFERROR((IF(AND($K3,$L3,$M3=1),1,0)),\"\")","v":0},{"$f":"IFERROR((IF(AND($O3=1,$G3=I3),3,0)),\"\")","v":0},{"$f":"IFERROR((IF(AND($P3=0,$O3=1),1,-1)),\"\")","v":-1},{"$f":"IFERROR((IF(AND(K3,N3=1),1,0)),\"\")","v":0},{"$f":"IFERROR(IF(MAX($G$3:$G$35)=H3,-1,((SUM(R3,P3,Q3)))),\"\")","v":-1},{"$f":"IFERROR((SUMIF($O$3:$O$35,1,$C$3:$C$35)),\"\")","v":0},"",{"$f":"IFERROR((SUMPRODUCT(($O$3:$O$35),($U$3:$U$35),($C$3:$C$35))/T3),\"\")","v":""},{"$f":"IFERROR((VLOOKUP($U3,CalRefs!$A$3:$D$5,4)),\"\")","v":""},{"$f":"IFERROR(IF(OR(MAX($G$3:$G$31)=$H$3,MAX($S$3:$S$31)<>3),\"Does Not Map\",INDEX($B$3:$B$31,MATCH(I3,$G$3:$G$31,0))),\"\")","v":"Does Not Map"},{"$f":"IFERROR(IF(Input!$B$12=\"Executive / Elected Official\",\"Executive\",(VLOOKUP($V$3,CalRefs!$A$3:$D$5,4))),\"\")","v":""},0,0,0]
[-1,"Accident Investigation",0,{"$f":"IFERROR((C4/(SUM($C$3:$C$327))),\"\")","v":""},{"v":0,"d":"0.0"},"",{"$f":"IFERROR((($E4*$C4)/SUM($C$3:$C$31)),\"\")","v":""},"",{"$f":"IFERROR((IF(AND(MAX($G$3:$G$35)=H4),LARGE($G$3:$G$35,2),MAX($G$3:$G$35))),\"\")","v":{"v":0,"d":"0.00"}},{"$f":"IFERROR((IF($D4<0.15,1,0)),\"\")","v":0},{"$f":"IFERROR((IF($B4=\"None\",0,1)),\"\")","v":1},{"$f":"IFERROR((IF($D4>=0.15,1,0)),\"\")","v":1},{"$f":"IFERROR((IF($G4*2.5>I4,1,0)),\"\")","v":""},{"$f":"IFERROR((IF(OR(AND(J4=1,$G4*3.5>I4),(AND(M4=0,$G4*3.5>I4)),$G4=I4),1,0)),\"\")","v":""},{"$f":"IFERROR((IF(AND($K4,$L4,$M4=1),1,0)),\"\")","v":0},{"$f":"IFERROR((IF(AND($O4=1,$G4=I4),3,0)),\"\")","v":0},{"$f":"IFERROR((IF(AND($P4=0,$O4=1),1,-1)),\"\")","v":-1},{"$f":"IFERROR((IF(AND(K4,N4=1),1,0)),\"\")","v":0},{"$f":"IFERROR(IF(MAX($G$3:$G$35)=H4,-1,((SUM(R4,P4,Q4)))),\"\")","v":-1},{"$f":"IFERROR((SUMIF($O$3:$O$35,1,$C$3:$C$35)),\"\")","v":0},"",{"$f":"IFERROR((SUMPRODUCT(($O$3:$O$35),($U$3:$U$35),($C$3:$C$35))/T4),\"\")","v":""},{"$f":"IFERROR((VLOOKUP($U4,CalRefs!$A$3:$D$5,4)),\"\")","v":""},{"$f":"IFERROR(IF(OR(MAX($G$3:$G$31)=$H$3,MAX($S$3:$S$31)<>3),\"Does Not Map\",INDEX($B$3:$B$31,MATCH(I4,$G$3:$G$31,0))),\"\")","v":"Does Not Map"},{"$f":"IFERROR(IF(Input!$B$12=\"Executive / Elected Official\",\"Executive\",(VLOOKUP($V$3,CalRefs!$A$3:$D$5,4))),\"\")","v":""},0,0,0]
[-1,"Accountability",0,"",{"v":0,"d":"0.0"},"","","",{"v":0,"d":"0.00"},0,1,1,"","",0,0,-1,0,-1,0,"","",{"$f":"IFERROR((VLOOKUP($U5,CalRefs!$A$3:$D$5,4)),\"\")","v":""},"Does Not Map",{"$f":"IFERROR(IF(Input!$B$12=\"Executive / Elected Official\",\"Executive\",(VLOOKUP($V$3,CalRefs!$A$3:$D$5,4))),\"\")","v":""},0,0,0]
[-1,"Accounting",0,"",{"v":0,"d":"0.0"},"","","",{"v":0,"d":"0.00"},0,1,1,"","",0,0,-1,0,-1,0,"","",{"$f":"IFERROR((VLOOKUP($U6,CalRefs!$A$3:$D$5,4)),\"\")","v":""},"Does Not Map",{"$f":"IFERROR(IF(Input!$B$12=\"Executive / Elected Official\",\"Executive\",(VLOOKUP($V$3,CalRefs!$A$3:$D$5,4))),\"\")","v":""},0,0,0]
[-1,"Accounting Operations",0,"",{"v":0,"d":"0.0"},"","","",{"v":0,"d":"0.00"},0,1,1,"","",0,0,-1,0,-1,0,"","",{"$f":"IFERROR((VLOOKUP($U7,CalRefs!$A$3:$D$5,4)),\"\")","v":""},"Does Not Map",{"$f":"IFERROR(IF(Input!$B$12=\"Executive / Elected Official\",\"Executive\",(VLOOKUP($V$3,CalRefs!$A$3:$D$5,4))),\"\")","v":""},0,0,0]
[-1,"Acquisition Strategy",0,"",{"v":0,"d":"0.0"},"","","",{"v":0,"d":"0.00"},0,1,1,"","",0,0,-1,0,-1,0,"","",{"$f":"IFERROR((VLOOKUP($U8,CalRefs!$A$3:$D$5,4)),\"\")","v":""},"Does Not Map",{"$f":"IFERROR(IF(Input!$B$12=\"Executive / Elected Official\",\"Executive\",(VLOOKUP($V$3,CalRefs!$A$3:$D$5,4))),\"\")","v":""},0,0,0]
[-1,"Administration and Management",0,"",{"v":0,"d":"0.0"},"","","",{"v":0,"d":"0.00"},0,1,1,"","",0,0,-1,0,-1,0,"","",{"$f":"IFERROR((VLOOKUP($U9,CalRefs!$A$3:$D$5,4)),\"\")","v":""},"Does Not Map",{"$f":"IFERROR(IF(Input!$B$12=\"Executive / Elected Official\",\"Executive\",(VLOOKUP($V$3,CalRefs!$A$3:$D$5,4))),\"\")","v":""},0,0,0]
[-1,"Administrative Law",0,"",{"v":0,"d":"0.0"},"","","",{"v":0,"d":"0.00"},0,1,1,"","",0,0,-1,0,-1,0,"","",{"$f":"IFERROR((VLOOKUP($U10,CalRefs!$A$3:$D$5,4)),\"\")","v":""},"Does Not Map",{"$f":"IFERROR(IF(Input!$B$12=\"Executive / Elected Official\",\"Executive\",(VLOOKUP($V$3,CalRefs!$A$3:$D$5,4))),\"\")","v":""},0,0,0]
[-1,"Aerospace Engineering",0,"",{"v":0,"d":"0.0"},"","","",{"v":0,"d":"0.00"},0,1,1,"","",0,0,-1,0,-1,0,"","",{"$f":"IFERROR((VLOOKUP($U11,CalRefs!$A$3:$D$5,4)),\"\")","v":""},"Does Not Map",{"$f":"IFERROR(IF(Input!$B$12=\"Executive / Elected Official\",\"Executive\",(VLOOKUP($V$3,CalRefs!$A$3:$D$5,4))),\"\")","v":""},0,0,0]
[-1,"Agility",0,"",{"v":0,"d":"0.0"},"","","",{"v":0,"d":"0.00"},0,1,1,"","",0,0,-1,0,-1,0,"","",{"$f":"IFERROR((VLOOKUP($U12,CalRefs!$A$3:$D$5,4)),\"\")","v":""},"Does Not Map",{"$f":"IFERROR(IF(Input!$B$12=\"Executive / Elected Official\",\"Executive\",(VLOOKUP($V$3,CalRefs!$A$3:$D$5,4))),\"\")","v":""},0,0,0]
[-1,"Aircraft Maintenance",0,"",{"v":0,"d":"0.0"},"","","",{"v":0,"d":"0.00"},0,1,1,"","",0,0,-1,0,-1,0,"","",{"$f":"IFERROR((VLOOKUP($U13,CalRefs!$A$3:$D$5,4)),\"\")","v":""},"Does Not Map",{"$f":"IFERROR(IF(Input!$B$12=\"Executive / Elected Official\",\"Executive\",(VLOOKUP($V$3,CalRefs!$A$3:$D$5,4))),\"\")","v":""},0,0,0]
[-1,"Ammunition and Explosives",0,"",{"v":0,"d":"0.0"},"","","",{"v":0,"d":"0.00"},0,1,1,"","",0,0,-1,0,-1,0,"","",{"$f":"IFERROR((VLOOKUP($U14,CalRefs!$A$3:$D$5,4)),\"\")","v":""},"Does Not Map",{"$f":"IFERROR(IF(Input!$B$12=\"Executive / Elected Official\",\"Executive\",(VLOOKUP($V$3,CalRefs!$A$3:$D$5,4))),\"\")","v":""},0,0,0]
[-1,"Animal Husbandry",0,"",{"v":0,"d":"0.0"},"","","",{"v":0,"d":"0.00"},0,1,1,"","",0,0,-1,0,-1,0,"","",{"$f":"IFERROR((VLOOKUP($U15,CalRefs!$A$3:$D$5,4)),\"\")","v":""},"Does Not Map",{"$f":"IFERROR(IF(Input!$B$12=\"Executive / Elected Official\",\"Executive\",(VLOOKUP($V$3,CalRefs!$A$3:$D$5,4))),\"\")","v":""},0,0,0]
[-1,"Applies Technology to Tasks",0,"",{"v":0,"d":"0.0"},"","","",{"v":0,"d":"0.00"},0,1,1,"","",0,0,-1,0,-1,0,"","",{"$f":"IFERROR((VLOOKUP($U16,CalRefs!$A$3:$D$5,4)),\"\")","v":""},"Does Not Map",{"$f":"IFERROR(IF(Input!$B$12=\"Executive / Elected Official\",\"Executive\",(VLOOKUP($V$3,CalRefs!$A$3:$D$5,4))),\"\")","v":""},0,0,0]
[-1,"Architecture",0,"",{"v":0,"d":"0.0"},"","","",{"v":0,"d":"0.00"},0,1,1,"","",0,0,-1,0,-1,0,"","",{"$f":"IFERROR((VLOOKUP($U17,CalRefs!$A$3:$D$5,4)),\"\")","v":""},"Does Not Map",{"$f":"IFERROR(IF(Input!$B$12=\"Executive / Elected Official\",\"Executive\",(VLOOKUP($V$3,CalRefs!$A$3:$D$5,4))),\"\")","v":""},0,0,0]
[-1,"Arithmetic",0,"",{"v":0,"d":"0.0"},"","","",{"v":0,"d":"0.00"},0,1,1,"","",0,0,-1,0,-1,0,"","",{"$f":"IFERROR((VLOOKUP($U18,CalRefs!$A$3:$D$5,4)),\"\")","v":""},"Does Not Map",{"$f":"IFERROR(IF(Input!$B$12=\"Executive / Elected Official\",\"Executive\",(VLOOKUP($V$3,CalRefs!$A$3:$D$5,4))),\"\")","v":""},0,0,0]
[-1,"Arithmetic/Mathematical Reasoning",0,"",{"v":0,"d":"0.0"},"","","",{"v":0,"d":"0.00"},0,1,1,"","",0,0,-1,0,-1,0,"","",{"$f":"IFERROR((VLOOKUP($U19,CalRefs!$A$3:$D$5,4)),\"\")","v":""},"Does Not Map",{"$f":"IFERROR(IF(Input!$B$12=\"Executive / Elected Official\",\"Executive\",(VLOOKUP($V$3,CalRefs!$A$3:$D$5,4))),\"\")","v":""},0,0,0]
[-1,"Arrest",0,"",{"v":0,"d":"0.0"},"","","",{"v":0,"d":"0.00"},0,1,1,"","",0,0,-1,0,-1,0,"","",{"$f":"IFERROR((VLOOKUP($U20,CalRefs!$A$3:$D$5,4)),\"\")","v":""},"Does Not Map",{"$f":"IFERROR(IF(Input!$B$12=\"Executive / Elected Official\",\"Executive\",(VLOOKUP($V$3,CalRefs!$A$3:$D$5,4))),\"\")","v":""},0,0,0]
[-1,"Artificial Intelligence",0,"",{"v":0,"d":"0.0"},"","","",{"v":0,"d":"0.00"},0,1,1,"","",0,0,-1,0,-1,0,"","",{"$f":"IFERROR((VLOOKUP($U21,CalRefs!$A$3:$D$5,4)),\"\")","v":""},"Does Not Map",{"$f":"IFERROR(IF(Input!$B$12=\"Executive / Elected Official\",\"Executive\",(VLOOKUP($V$3,CalRefs!$A$3:$D$5,4))),\"\")","v":""},0,0,0]
[-1,"Astronomy",0,"",{"v":0,"d":"0.0"},"","","",{"v":0,"d":"0.00"},0,1,1,"","",0,0,-1,0,-1,0,"","",{"$f":"IFERROR((VLOOKUP($U22,CalRefs!$A$3:$D$5,4)),\"\")","v":""},"Does Not Map",{"$f":"IFERROR(IF(Input!$B$12=\"Executive / Elected Official\",\"Executive\",(VLOOKUP($V$3,CalRefs!$A$3:$D$5,4))),\"\")","v":""},0,0,0]
[-1,"Attention to Detail",0,"",{"v":0,"d":"0.0"},"","","",{"v":0,"d":"0.00"},0,1,1,"","",0,0,-1,0,-1,0,"","",{"$f":"IFERROR((VLOOKUP($U23,CalRefs!$A$3:$D$5,4)),\"\")","v":""},"Does Not Map",{"$f":"IFERROR(IF(Input!$B$12=\"Executive / Elected Official\",\"Executive\",(VLOOKUP($V$3,CalRefs!$A$3:$D$5,4))),\"\")","v":""},0,0,0]
[-1,"Audit Reporting",0,"",{"v":0,"d":"0.0"},"","","",{"v":0,"d":"0.00"},0,1,1,"","",0,0,-1,0,-1,0,"","",{"$f":"IFERROR((VLOOKUP($U24,CalRefs!$A$3:$D$5,4)),\"\")","v":""},"Does Not Map",{"$f":"IFERROR(IF(Input!$B$12=\"Executive / Elected Official\",\"Executive\",(VLOOKUP($V$3,CalRefs!$A$3:$D$5,4))),\"\")","v":""},0,0,0]
[-1,"Auditing",0,"",{"v":0,"d":"0.0"},"","","",{"v":0,"d":"0.00"},0,1,1,"","",0,0,-1,0,-1,0,"","",{"$f":"IFERROR((VLOOKUP($U25,CalRefs!$A$3:$D$5,4)),\"\")","v":""},"Does Not Map",{"$f":"IFERROR(IF(Input!$B$12=\"Executive / Elected Official\",\"Executive\",(VLOOKUP($V$3,CalRefs!$A$3:$D$5,4))),\"\")","v":""},0,0,0]
[-1,"Biology",0,"",{"v":0,"d":"0.0"},"","","",{"v":0,"d":"0.00"},0,1,1,"","",0,0,-1,0,-1,0,"","",{"$f":"IFERROR((VLOOKUP($U26,CalRefs!$A$3:$D$5,4)),\"\")","v":""},"Does Not Map",{"$f":"IFERROR(IF(Input!$B$12=\"Executive / Elected Official\",\"Executive\",(VLOOKUP($V$3,CalRefs!$A$3:$D$5,4))),\"\")","v":""},0,0,0]
[-1,"Botany",0,"",{"v":0,"d":"0.0"},"","","",{"v":0,"d":"0.00"},0,1,1,"","",0,0,-1,0,-1,0,"","",{"$f":"IFERROR((VLOOKUP($U27,CalRefs!$A$3:$D$5,4)),\"\")","v":""},"Does Not Map",{"$f":"IFERROR(IF(Input!$B$12=\"Executive / Elected Official\",\"Executive\",(VLOOKUP($V$3,CalRefs!$A$3:$D$5,4))),\"\")","v":""},0,0,0]
[-1,"Budget Administration",0,"",{"v":0,"d":"0.0"},"","","",{"v":0,"d":"0.00"},0,1,1,"","",0,0,-1,0,-1,0,"","",{"$f":"IFERROR((VLOOKUP($U28,CalRefs!$A$3:$D$5,4)),\"\")","v":""},"Does Not Map",{"$f":"IFERROR(IF(Input!$B$12=\"Executive / Elected Official\",\"Executive\",(VLOOKUP($V$3,CalRefs!$A$3:$D$5,4))),\"\")","v":""},0,0,0]
[-1,"Building and Construction",0,"",{"v":0,"d":"0.0"},"","","",{"v":0,"d":"0.00"},0,1,1,"","",0,0,-1,0,-1,0,"","",{"$f":"IFERROR((VLOOKUP($U29,CalRefs!$A$3:$D$5,4)),\"\")","v":""},"Does Not Map",{"$f":"IFERROR(IF(Input!$B$12=\"Executive / Elected Official\",\"Executive\",(VLOOKUP($V$3,CalRefs!$A$3:$D$5,4))),\"\")","v":""},0,0,0]
[-1,"Business Process Reengineering",0,"",{"v":0,"d":"0.0"},"","","",{"v":0,"d":"0.00"},0,1,1,"","",0,0,-1,0,-1,0,"","",{"$f":"IFERROR((VLOOKUP($U30,CalRefs!$A$3:$D$5,4)),\"\")","v":""},"Does Not Map",{"$f":"IFERROR(IF(Input!$B$12=\"Executive / Elected Official\",\"Executive\",(VLOOKUP($V$3,CalRefs!$A$3:$D$5,4))),\"\")","v":""},0,0,0]
[-1,"Capacity Management",0,"",{"v":0,"d":"0.0"},"","","",{"v":0,"d":"0.00"},0,1,1,"","",0,0,-1,0,-1,0,"","",{"$f":"IFERROR((VLOOKUP($U31,CalRefs!$A$3:$D$5,4)),\"\")","v":""},"Does Not Map",{"$f":"IFERROR(IF(Input!$B$12=\"Executive / Elected Official\",\"Executive\",(VLOOKUP($V$3,CalRefs!$A$3:$D$5,4))),\"\")","v":""},0,0,0]
[null,"Capital Planning and Investment Assessment",0,"",{"v":0,"d":"0.0"},"","","",{"v":0,"d":"0.00"},0,1,1,"","",0,0,-1,0,-1,0,"","",{"$f":"IFERROR((VLOOKUP($U32,CalRefs!$A$3:$D$5,4)),\"\")","v":""},"Does Not Map",{"$f":"IFERROR(IF(Input!$B$12=\"Executive / Elected Official\",\"Executive\",(VLOOKUP($V$3,CalRefs!$A$3:$D$5,4))),\"\")","v":""},0,0,0]
[null,"Carpentry/Woodworking",0,"",{"v":0,"d":"0.0"},"","","",{"v":0,"d":"0.00"},0,1,1,"","",0,0,-1,0,-1,0,"","",{"$f":"IFERROR((VLOOKUP($U33,CalRefs!$A$3:$D$5,4)),\"\")","v":""},"Does Not Map",{"$f":"IFERROR(IF(Input!$B$12=\"Executive / Elected Official\",\"Executive\",(VLOOKUP($V$3,CalRefs!$A$3:$D$5,4))),\"\")","v":""},0,0,0]
[null,"Cartography",0,"",{"v":0,"d":"0.0"},"","","",{"v":0,"d":"0.00"},0,1,1,"","",0,0,-1,0,-1,0,"","",{"$f":"IFERROR((VLOOKUP($U34,CalRefs!$A$3:$D$5,4)),\"\")","v":""},"Does Not Map",{"$f":"IFERROR(IF(Input!$B$12=\"Executive / Elected Official\",\"Executive\",(VLOOKUP($V$3,CalRefs!$A$3:$D$5,4))),\"\")","v":""},0,0,0]
[null,"Change Management",0,"",{"v":0,"d":"0.0"},"","","",{"v":0,"d":"0.00"},0,1,1,"","",0,0,-1,0,-1,0,"","",{"$f":"IFERROR((VLOOKUP($U35,CalRefs!$A$3:$D$5,4)),\"\")","v":""},"Does Not Map",{"$f":"IFERROR(IF(Input!$B$12=\"Executive / Elected Official\",\"Executive\",(VLOOKUP($V$3,CalRefs!$A$3:$D$5,4))),\"\")","v":""},0,0,0]
[null,"Chemical Engineering",0,"",{"v":0,"d":"0.0"},"","","",{"v":0,"d":"0.00"},0,1,1,"","",0,0,-1,0,-1,0,"","",{"$f":"IFERROR((VLOOKUP($U36,CalRefs!$A$3:$D$5,4)),\"\")","v":""},"Does Not Map",{"$f":"IFERROR(IF(Input!$B$12=\"Executive / Elected Official\",\"Executive\",(VLOOKUP($V$3,CalRefs!$A$3:$D$5,4))),\"\")","v":""},0,0,0]
[null,"Chemistry (*)",0,"",{"v":0,"d":"0.0"},"","","",{"v":0,"d":"0.00"},0,1,1,"","",0,0,-1,0,-1,0,"","",{"$f":"IFERROR((VLOOKUP($U37,CalRefs!$A$3:$D$5,4)),\"\")","v":""},"Does Not Map",{"$f":"IFERROR(IF(Input!$B$12=\"Executive / Elected Official\",\"Executive\",(VLOOKUP($V$3,CalRefs!$A$3:$D$5,4))),\"\")","v":""},0,0,0]
[null,"Chemistry (†)",0,"",{"v":0,"d":"0.0"},"","","",{"v":0,"d":"0.00"},0,1,1,"","",0,0,-1,0,-1,0,"","",{"$f":"IFERROR((VLOOKUP($U38,CalRefs!$A$3:$D$5,4)),\"\")","v":""},"Does Not Map",{"$f":"IFERROR(IF(Input!$B$12=\"Executive / Elected Official\",\"Executive\",(VLOOKUP($V$3,CalRefs!$A$3:$D$5,4))),\"\")","v":""},0,0,0]
[null,"Civil Engineering",0,"",{"v":0,"d":"0.0"},"","","",{"v":0,"d":"0.00"},0,1,1,"","",0,0,-1,0,-1,0,"","",{"$f":"IFERROR((VLOOKUP($U39,CalRefs!$A$3:$D$5,4)),\"\")","v":""},"Does Not Map",{"$f":"IFERROR(IF(Input!$B$12=\"Executive / Elected Official\",\"Executive\",(VLOOKUP($V$3,CalRefs!$A$3:$D$5,4))),\"\")","v":""},0,0,0]
[null,"Classification",0,"",{"v":0,"d":"0.0"},"","","",{"v":0,"d":"0.00"},0,1,1,"","",0,0,-1,0,-1,0,"","",{"$f":"IFERROR((VLOOKUP($U40,CalRefs!$A$3:$D$5,4)),\"\")","v":""},"Does Not Map",{"$f":"IFERROR(IF(Input!$B$12=\"Executive / Elected Official\",\"Executive\",(VLOOKUP($V$3,CalRefs!$A$3:$D$5,4))),\"\")","v":""},0,0,0]
[null,"Clerical",0,"",{"v":0,"d":"0.0"},"","","",{"v":0,"d":"0.00"},0,1,1,"","",0,0,-1,0,-1,0,"","",{"$f":"IFERROR((VLOOKUP($U41,CalRefs!$A$3:$D$5,4)),\"\")","v":""},"Does Not Map",{"$f":"IFERROR(IF(Input!$B$12=\"Executive / Elected Official\",\"Executive\",(VLOOKUP($V$3,CalRefs!$A$3:$D$5,4))),\"\")","v":""},0,0,0]
[null,"Client Engagement/Change Management",0,"",{"v":0,"d":"0.0"},"","","",{"v":0,"d":"0.00"},0,1,1,"","",0,0,-1,0,-1,0,"","",{"$f":"IFERROR((VLOOKUP($U42,CalRefs!$A$3:$D$5,4)),\"\")","v":""},"Does Not Map",{"$f":"IFERROR(IF(Input!$B$12=\"Executive / Elected Official\",\"Executive\",(VLOOKUP($V$3,CalRefs!$A$3:$D$5,4))),\"\")","v":""},0,0,0]
[null,"Communications and Media",0,"",{"v":0,"d":"0.0"},"","","",{"v":0,"d":"0.00"},0,1,1,"","",0,0,-1,0,-1,0,"","",{"$f":"IFERROR((VLOOKUP($U43,CalRefs!$A$3:$D$5,4)),\"\")","v":""},"Does Not Map",{"$f":"IFERROR(IF(Input!$B$12=\"Executive / Elected Official\",\"Executive\",(VLOOKUP($V$3,CalRefs!$A$3:$D$5,4))),\"\")","v":""},0,0,0]
[null,"Communications Security Management",0,"",{"v":0,"d":"0.0"},"","","",{"v":0,"d":"0.00"},0,1,1,"","",0,0,-1,0,-1,0,"","",{"$f":"IFERROR((VLOOKUP($U44,CalRefs!$A$3:$D$5,4)),\"\")","v":""},"Does Not Map",{"$f":"IFERROR(IF(Input!$B$12=\"Executive / Elected Official\",\"Executive\",(VLOOKUP($V$3,CalRefs!$A$3:$D$5,4))),\"\")","v":""},0,0,0]
[null,"Compensation",0,"",{"v":0,"d":"0.0"},"","","",{"v":0,"d":"0.00"},0,1,1,"","",0,0,-1,0,-1,0,"","",{"$f":"IFERROR((VLOOKUP($U45,CalRefs!$A$3:$D$5,4)),\"\")","v":""},"Does Not Map",{"$f":"IFERROR(IF(Input!$B$12=\"Executive / Elected Official\",\"Executive\",(VLOOKUP($V$3,CalRefs!$A$3:$D$5,4))),\"\")","v":""},0,0,0]
[null,"Compliance",0,"",{"v":0,"d":"0.0"},"","","",{"v":0,"d":"0.00"},0,1,1,"","",0,0,-1,0,-1,0,"","",{"$f":"IFERROR((VLOOKUP($U46,CalRefs!$A$3:$D$5,4)),\"\")","v":""},"Does Not Map",{"$f":"IFERROR(IF(Input!$B$12=\"Executive / Elected Official\",\"Executive\",(VLOOKUP($V$3,CalRefs!$A$3:$D$5,4))),\"\")","v":""},0,0,0]
[null,"Compliance Inspection",0,"",{"v":0,"d":"0.0"},"","","",{"v":0,"d":"0.00"},0,1,1,"","",0,0,-1,0,-1,0,"","",{"$f":"IFERROR((VLOOKUP($U47,CalRefs!$A$3:$D$5,4)),\"\")","v":""},"Does Not Map",{"$f":"IFERROR(IF(Input!$B$12=\"Executive / Elected Official\",\"Executive\",(VLOOKUP($V$3,CalRefs!$A$3:$D$5,4))),\"\")","v":""},0,0,0]
[null,"Computer Forensics",0,"",{"v":0,"d":"0.0"},"","","",{"v":0,"d":"0.00"},0,1,1,"","",0,0,-1,0,-1,0,"","",{"$f":"IFERROR((VLOOKUP($U48,CalRefs!$A$3:$D$5,4)),\"\")","v":""},"Does Not Map",{"$f":"IFERROR(IF(Input!$B$12=\"Executive / Elected Official\",\"Executive\",(VLOOKUP($V$3,CalRefs!$A$3:$D$5,4))),\"\")","v":""},0,0,0]
[null,"Computer Languages",0,"",{"v":0,"d":"0.0"},"","","",{"v":0,"d":"0.00"},0,1,1,"","",0,0,-1,0,-1,0,"","",{"$f":"IFERROR((VLOOKUP($U49,CalRefs!$A$3:$D$5,4)),\"\")","v":""},"Does Not Map",{"$f":"IFERROR(IF(Input!$B$12=\"Executive / Elected Official\",\"Executive\",(VLOOKUP($V$3,CalRefs!$A$3:$D$5,4))),\"\")","v":""},0,0,0]
[null,"Computer Network Defense",0,"",{"v":0,"d":"0.0"},"","","",{"v":0,"d":"0.00"},0,1,1,"","",0,0,-1,0,-1,0,"","",{"$f":"IFERROR((VLOOKUP($U50,CalRefs!$A$3:$D$5,4)),\"\")","v":""},"Does Not Map",{"$f":"IFERROR(IF(Input!$B$12=\"Executive / Elected Official\",\"Executive\",(VLOOKUP($V$3,CalRefs!$A$3:$D$5,4))),\"\")","v":""},0,0,0]
[null,"Computer Skills",0,"",{"v":0,"d":"0.0"},"","","",{"v":0,"d":"0.00"},0,1,1,"","",0,0,-1,0,-1,0,"","",{"$f":"IFERROR((VLOOKUP($U51,CalRefs!$A$3:$D$5,4)),\"\")","v":""},"Does Not Map",{"$f":"IFERROR(IF(Input!$B$12=\"Executive / Elected Official\",\"Executive\",(VLOOKUP($V$3,CalRefs!$A$3:$D$5,4))),\"\")","v":""},0,0,0]
[null,"Computers",0,"",{"v":0,"d":"0.0"},"","","",{"v":0,"d":"0.00"},0,1,1,"","",0,0,-1,0,-1,0,"","",{"$f":"IFERROR((VLOOKUP($U52,CalRefs!$A$3:$D$5,4)),\"\")","v":""},"Does Not Map",{"$f":"IFERROR(IF(Input!$B$12=\"Executive / Elected Official\",\"Executive\",(VLOOKUP($V$3,CalRefs!$A$3:$D$5,4))),\"\")","v":""},0,0,0]
[null,"Computers and Electronics",0,"",{"v":0,"d":"0.0"},"","","",{"v":0,"d":"0.00"},0,1,1,"","",0,0,-1,0,-1,0,"","",{"$f":"IFERROR((VLOOKUP($U53,CalRefs!$A$3:$D$5,4)),\"\")","v":""},"Does Not Map",{"$f":"IFERROR(IF(Input!$B$12=\"Executive / Elected Official\",\"Executive\",(VLOOKUP($V$3,CalRefs!$A$3:$D$5,4))),\"\")","v":""},0,0,0]
[null,"Configuration Management",0,"",{"v":0,"d":"0.0"},"","","",{"v":0,"d":"0.00"},0,1,1,"","",0,0,-1,0,-1,0,"","",{"$f":"IFERROR((VLOOKUP($U54,CalRefs!$A$3:$D$5,4)),\"\")","v":""},"Does Not Map",{"$f":"IFERROR(IF(Input!$B$12=\"Executive / Elected Official\",\"Executive\",(VLOOKUP($V$3,CalRefs!$A$3:$D$5,4))),\"\")","v":""},0,0,0]
[null,"Conflict Management (*)",0,"",{"v":0,"d":"0.0"},"","","",{"v":0,"d":"0.00"},0,1,1,"","",0,0,-1,0,-1,0,"","",{"$f":"IFERROR((VLOOKUP($U55,CalRefs!$A$3:$D$5,4)),\"\")","v":""},"Does Not Map",{"$f":"IFERROR(IF(Input!$B$12=\"Executive / Elected Official\",\"Executive\",(VLOOKUP($V$3,CalRefs!$A$3:$D$5,4))),\"\")","v":""},0,0,0]
[null,"Conflict Management (‡)",0,"",{"v":0,"d":"0.0"},"","","",{"v":0,"d":"0.00"},0,1,1,"","",0,0,-1,0,-1,0,"","",{"$f":"IFERROR((VLOOKUP($U56,CalRefs!$A$3:$D$5,4)),\"\")","v":""},"Does Not Map",{"$f":"IFERROR(IF(Input!$B$12=\"Executive / Elected Official\",\"Executive\",(VLOOKUP($V$3,CalRefs!$A$3:$D$5,4))),\"\")","v":""},0,0,0]
[null,"Conscientiousness",0,"",{"v":0,"d":"0.0"},"","","",{"v":0,"d":"0.00"},0,1,1,"","",0,0,-1,0,-1,0,"","",{"$f":"IFERROR((VLOOKUP($U57,CalRefs!$A$3:$D$5,4)),\"\")","v":""},"Does Not Map",{"$f":"IFERROR(IF(Input!$B$12=\"Executive / Elected Official\",\"Executive\",(VLOOKUP($V$3,CalRefs!$A$3:$D$5,4))),\"\")","v":""},0,0,0]
[null,"Constitutional Law",0,"",{"v":0,"d":"0.0"},"","","",{"v":0,"d":"0.00"},0,1,1,"","",0,0,-1,0,-1,0,"","",{"$f":"IFERROR((VLOOKUP($U58,CalRefs!$A$3:$D$5,4)),\"\")","v":""},"Does Not Map",{"$f":"IFERROR(IF(Input!$B$12=\"Executive / Elected Official\",\"Executive\",(VLOOKUP($V$3,CalRefs!$A$3:$D$5,4))),\"\")","v":""},0,0,0]
[null,"Continual Learning",0,"",{"v":0,"d":"0.0"},"","","",{"v":0,"d":"0.00"},0,1,1,"","",0,0,-1,0,-1,0,"","",{"$f":"IFERROR((VLOOKUP($U59,CalRefs!$A$3:$D$5,4)),\"\")","v":""},"Does Not Map",{"$f":"IFERROR(IF(Input!$B$12=\"Executive / Elected Official\",\"Executive\",(VLOOKUP($V$3,CalRefs!$A$3:$D$5,4))),\"\")","v":""},0,0,0]
[null,"Contracting/Procurement",0,"",{"v":0,"d":"0.0"},"","","",{"v":0,"d":"0.00"},0,1,1,"","",0,0,-1,0,-1,0,"","",{"$f":"IFERROR((VLOOKUP($U60,CalRefs!$A$3:$D$5,4)),\"\")","v":""},"Does Not Map",{"$f":"IFERROR(IF(Input!$B$12=\"Executive / Elected Official\",\"Executive\",(VLOOKUP($V$3,CalRefs!$A$3:$D$5,4))),\"\")","v":""},0,0,0]
[null,"Control of Funds",0,"",{"v":0,"d":"0.0"},"","","",{"v":0,"d":"0.00"},0,1,1,"","",0,0,-1,0,-1,0,"","",{"$f":"IFERROR((VLOOKUP($U61,CalRefs!$A$3:$D$5,4)),\"\")","v":""},"Does Not Map",{"$f":"IFERROR(IF(Input!$B$12=\"Executive / Elected Official\",\"Executive\",(VLOOKUP($V$3,CalRefs!$A$3:$D$5,4))),\"\")","v":""},0,0,0]
[null,"Cost Accounting",0,"",{"v":0,"d":"0.0"},"","","",{"v":0,"d":"0.00"},0,1,1,"","",0,0,-1,0,-1,0,"","",{"$f":"IFERROR((VLOOKUP($U62,CalRefs!$A$3:$D$5,4)),\"\")","v":""},"Does Not Map",{"$f":"IFERROR(IF(Input!$B$12=\"Executive / Elected Official\",\"Executive\",(VLOOKUP($V$3,CalRefs!$A$3:$D$5,4))),\"\")","v":""},0,0,0]
[null,"Cost Estimation and Analysis",0,"",{"v":0,"d":"0.0"},"","","",{"v":0,"d":"0.00"},0,1,1,"","",0,0,-1,0,-1,0,"","",{"$f":"IFERROR((VLOOKUP($U63,CalRefs!$A$3:$D$5,4)),\"\")","v":""},"Does Not Map",{"$f":"IFERROR(IF(Input!$B$12=\"Executive / Elected Official\",\"Executive\",(VLOOKUP($V$3,CalRefs!$A$3:$D$5,4))),\"\")","v":""},0,0,0]
[null,"Cost-Benefit Analysis",0,"",{"v":0,"d":"0.0"},"","","",{"v":0,"d":"0.00"},0,1,1,"","",0,0,-1,0,-1,0,"","",{"$f":"IFERROR((VLOOKUP($U64,CalRefs!$A$3:$D$5,4)),\"\")","v":""},"Does Not Map",{"$f":"IFERROR(IF(Input!$B$12=\"Executive / Elected Official\",\"Executive\",(VLOOKUP($V$3,CalRefs!$A$3:$D$5,4))),\"\")","v":""},0,0,0]
[null,"Creative Thinking (*)",0,"",{"v":0,"d":"0.0"},"","","",{"v":0,"d":"0.00"},0,1,1,"","",0,0,-1,0,-1,0,"","",{"$f":"IFERROR((VLOOKUP($U65,CalRefs!$A$3:$D$5,4)),\"\")","v":""},"Does Not Map",{"$f":"IFERROR(IF(Input!$B$12=\"Executive / Elected Official\",\"Executive\",(VLOOKUP($V$3,CalRefs!$A$3:$D$5,4))),\"\")","v":""},0,0,0]
[null,"Creative Thinking (†)",0,"",{"$f":"SUMIFS(OPM_Complex,OPM_Mosaic,B66)","v":{"v":0,"d":"0.0"}},"","","",{"v":0,"d":"0.00"},0,1,1,"","",0,0,-1,0,-1,0,{"$f":"IFERROR((SUMIFS(OPM_KSA_Total,OPM_Mosaic,$B66)/C66),\"\")","v":""},"",{"$f":"IFERROR((VLOOKUP($U66,CalRefs!$A$3:$D$5,4)),\"\")","v":""},"Does Not Map",{"$f":"IFERROR(IF(Input!$B$12=\"Executive / Elected Official\",\"Executive\",(VLOOKUP($V$3,CalRefs!$A$3:$D$5,4))),\"\")","v":""},{"$f":"IF(ISERROR(Training_Partner),\"\",Training_Partner)","v":0},{"$f":"IF(ISERROR(CourseTitle),\"\",CourseTitle)","v":0},{"$f":"CourseNumber","v":0}]
[null,"Creativity and Innovation",{"$f":"IF(ISERROR(COUNTIF(OPM_Mosaic,B67)),\"\",COUNTIF(OPM_Mosaic,B67))","v":0},"",{"v":0,"d":"0.0"},{"$f":"IFERROR(((SUMIFS(OPM_Time,OPM_Mosaic,$B67))/SumCheck),\"\")","v":""},"",{"$f":"IFERROR((INDEX($G$2:$G$327,(MATCH(\"none\",$B$2:$B$327,0)))),\"\")","v":""},{"v":0,"d":"0.00"},0,1,1,"","",0,0,-1,0,-1,0,"","",{"$f":"IFERROR((VLOOKUP($U67,CalRefs!$A$3:$D$5,4)),\"\")","v":""},"Does Not Map",{"$f":"IFERROR(IF(Input!$B$12=\"Executive / Elected Official\",\"Executive\",(VLOOKUP($V$3,CalRefs!$A$3:$D$5,4))),\"\")","v":""},0,0,0]
[null,"Criminal Investigation",0,{"$f":"IFERROR((C68/(SUM($C$3:$C$327))),\"\")","v":""},{"v":0,"d":"0.0"},"",{"$f":"IFERROR((($E68*$C68)/SUM($C$3:$C$31)),\"\")","v":""},"",{"$f":"IFERROR((IF(AND(MAX($G$3:$G$35)=H68),LARGE($G$3:$G$35,2),MAX($G$3:$G$35))),\"\")","v":{"v":0,"d":"0.00"}},{"$f":"IFERROR((IF($D68<0.15,1,0)),\"\")","v":0},{"$f":"IFERROR((IF($B68=\"None\",0,1)),\"\")","v":1},{"$f":"IFERROR((IF($D68>=0.15,1,0)),\"\")","v":1},{"$f":"IFERROR((IF($G68*2.5>I68,1,0)),\"\")","v":""},{"$f":"IFERROR((IF(OR(AND(J68=1,$G68*3.5>I68),(AND(M68=0,$G68*3.5>I68)),$G68=I68),1,0)),\"\")","v":""},{"$f":"IFERROR((IF(AND($K68,$L68,$M68=1),1,0)),\"\")","v":0},{"$f":"IFERROR((IF(AND($O68=1,$G68=I68),3,0)),\"\")","v":0},{"$f":"IFERROR((IF(AND($P68=0,$O68=1),1,-1)),\"\")","v":-1},{"$f":"IFERROR((IF(AND(K68,N68=1),1,0)),\"\")","v":0},{"$f":"IFERROR(IF(MAX($G$3:$G$35)=H68,-1,((SUM(R68,P68,Q68)))),\"\")","v":-1},{"$f":"IFERROR((SUMIF($O$3:$O$35,1,$C$3:$C$35)),\"\")","v":0},"",{"$f":"IFERROR((SUMPRODUCT(($O$3:$O$35),($U$3:$U$35),($C$3:$C$35))/T68),\"\")","v":""},{"$f":"IFERROR((VLOOKUP($U68,CalRefs!$A$3:$D$5,4)),\"\")","v":""},{"$f":"IFERROR(IF(OR(MAX($G$3:$G$31)=$H$3,MAX($S$3:$S$31)<>3),\"Does Not Map\",INDEX($B$3:$B$31,MATCH(I68,$G$3:$G$31,0))),\"\")","v":"Does Not Map"},{"$f":"IFERROR(IF(Input!$B$12=\"Executive / Elected Official\",\"Executive\",(VLOOKUP($V$3,CalRefs!$A$3:$D$5,4))),\"\")","v":""},0,0,0]
[null,"Criminal Law",0,"",{"v":0,"d":"0.0"},"","","",{"v":0,"d":"0.00"},0,1,1,"","",0,0,-1,0,-1,0,"","",{"$f":"IFERROR((VLOOKUP($U69,CalRefs!$A$3:$D$5,4)),\"\")","v":""},"Does Not Map",{"$f":"IFERROR(IF(Input!$B$12=\"Executive / Elected Official\",\"Executive\",(VLOOKUP($V$3,CalRefs!$A$3:$D$5,4))),\"\")","v":""},0,0,0]
[null,"Customer Service (*)",0,"",{"v":0,"d":"0.0"},"","","",{"v":0,"d":"0.00"},0,1,1,"","",0,0,-1,0,-1,0,"","",{"$f":"IFERROR((VLOOKUP($U70,CalRefs!$A$3:$D$5,4)),\"\")","v":""},"Does Not Map",{"$f":"IFERROR(IF(Input!$B$12=\"Executive / Elected Official\",\"Executive\",(VLOOKUP($V$3,CalRefs!$A$3:$D$5,4))),\"\")","v":""},0,0,0]
[null,"Customer Service (‡)",0,"",{"v":0,"d":"0.0"},"","","",{"v":0,"d":"0.00"},0,1,1,"","",0,0,-1,0,-1,0,"","",{"$f":"IFERROR((VLOOKUP($U71,CalRefs!$A$3:$D$5,4)),\"\")","v":""},"Does Not Map",{"$f":"IFERROR(IF(Input!$B$12=\"Executive / Elected Official\",\"Executive\",(VLOOKUP($V$3,CalRefs!$A$3:$D$5,4))),\"\")","v":""},0,0,0]
[null,"Cutting",0,"",{"v":0,"d":"0.0"},"","","",{"v":0,"d":"0.00"},0,1,1,"","",0,0,-1,0,-1,0,"","",{"$f":"IFERROR((VLOOKUP($U72,CalRefs!$A$3:$D$5,4)),\"\")","v":""},"Does Not Map",{"$f":"IFERROR(IF(Input!$B$12=\"Executive / Elected Official\",\"Executive\",(VLOOKUP($V$3,CalRefs!$A$3:$D$5,4))),\"\")","v":""},0,0,0]
[null,"Data Management",0,"",{"v":0,"d":"0.0"},"","","",{"v":0,"d":"0.00"},0,1,1,"","",0,0,-1,0,-1,0,"","",{"$f":"IFERROR((VLOOKUP($U73,CalRefs!$A$3:$D$5,4)),\"\")","v":""},"Does Not Map",{"$f":"IFERROR(IF(Input!$B$12=\"Executive / Elected Official\",\"Executive\",(VLOOKUP($V$3,CalRefs!$A$3:$D$5,4))),\"\")","v":""},0,0,0]
[null,"Data Systems",0,"",{"v":0,"d":"0.0"},"","","",{"v":0,"d":"0.00"},0,1,1,"","",0,0,-1,0,-1,0,"","",{"$f":"IFERROR((VLOOKUP($U74,CalRefs!$A$3:$D$5,4)),\"\")","v":""},"Does Not Map",{"$f":"IFERROR(IF(Input!$B$12=\"Executive / Elected Official\",\"Executive\",(VLOOKUP($V$3,CalRefs!$A$3:$D$5,4))),\"\")","v":""},0,0,0]
[null,"Database Administration",0,"",{"v":0,"d":"0.0"},"","","",{"v":0,"d":"0.00"},0,1,1,"","",0,0,-1,0,-1,0,"","",{"$f":"IFERROR((VLOOKUP($U75,CalRefs!$A$3:$D$5,4)),\"\")","v":""},"Does Not Map",{"$f":"IFERROR(IF(Input!$B$12=\"Executive / Elected Official\",\"Executive\",(VLOOKUP($V$3,CalRefs!$A$3:$D$5,4))),\"\")","v":""},0,0,0]
[null,"Database Management Systems",0,"",{"v":0,"d":"0.0"},"","","",{"v":0,"d":"0.00"},0,1,1,"","",0,0,-1,0,-1,0,"","",{"$f":"IFERROR((VLOOKUP($U76,CalRefs!$A$3:$D$5,4)),\"\")","v":""},"Does Not Map",{"$f":"IFERROR(IF(Input!$B$12=\"Executive / Elected Official\",\"Executive\",(VLOOKUP($V$3,CalRefs!$A$3:$D$5,4))),\"\")","v":""},0,0,0]
[null,"Decision Making",0,"",{"v":0,"d":"0.0"},"","","",{"v":0,"d":"0.00"},0,1,1,"","",0,0,-1,0,-1,0,"","",{"$f":"IFERROR((VLOOKUP($U77,CalRefs!$A$3:$D$5,4)),\"\")","v":""},"Does Not Map",{"$f":"IFERROR(IF(Input!$B$12=\"Executive / Elected Official\",\"Executive\",(VLOOKUP($V$3,CalRefs!$A$3:$D$5,4))),\"\")","v":""},0,0,0]
[null,"Decision Support",0,"",{"v":0,"d":"0.0"},"","","",{"v":0,"d":"0.00"},0,1,1,"","",0,0,-1,0,-1,0,"","",{"$f":"IFERROR((VLOOKUP($U78,CalRefs!$A$3:$D$5,4)),\"\")","v":""},"Does Not Map",{"$f":"IFERROR(IF(Input!$B$12=\"Executive / Elected Official\",\"Executive\",(VLOOKUP($V$3,CalRefs!$A$3:$D$5,4))),\"\")","v":""},0,0,0]
[null,"Decisiveness",0,"",{"v":0,"d":"0.0"},"","","",{"v":0,"d":"0.00"},0,1,1,"","",0,0,-1,0,-1,0,"","",{"$f":"IFERROR((VLOOKUP($U79,CalRefs!$A$3:$D$5,4)),\"\")","v":""},"Does Not Map",{"$f":"IFERROR(IF(Input!$B$12=\"Executive / Elected Official\",\"Executive\",(VLOOKUP($V$3,CalRefs!$A$3:$D$5,4))),\"\")","v":""},0,0,0]
[null,"Depth Perception",0,"",{"v":0,"d":"0.0"},"","","",{"v":0,"d":"0.00"},0,1,1,"","",0,0,-1,0,-1,0,"","",{"$f":"IFERROR((VLOOKUP($U80,CalRefs!$A$3:$D$5,4)),\"\")","v":""},"Does Not Map",{"$f":"IFERROR(IF(Input!$B$12=\"Executive / Elected Official\",\"Executive\",(VLOOKUP($V$3,CalRefs!$A$3:$D$5,4))),\"\")","v":""},0,0,0]
[null,"Design",0,"",{"v":0,"d":"0.0"},"","","",{"v":0,"d":"0.00"},0,1,1,"","",0,0,-1,0,-1,0,"","",{"$f":"IFERROR((VLOOKUP($U81,CalRefs!$A$3:$D$5,4)),\"\")","v":""},"Does Not Map",{"$f":"IFERROR(IF(Input!$B$12=\"Executive / Elected Official\",\"Executive\",(VLOOKUP($V$3,CalRefs!$A$3:$D$5,4))),\"\")","v":""},0,0,0]
[null,"Detention",0,"",{"v":0,"d":"0.0"},"","","",{"v":0,"d":"0.00"},0,1,1,"","",0,0,-1,0,-1,0,"","",{"$f":"IFERROR((VLOOKUP($U82,CalRefs!$A$3:$D$5,4)),\"\")","v":""},"Does Not Map",{"$f":"IFERROR(IF(Input!$B$12=\"Executive / Elected Official\",\"Executive\",(VLOOKUP($V$3,CalRefs!$A$3:$D$5,4))),\"\")","v":""},0,0,0]
[null,"Developing Others",0,"",{"v":0,"d":"0.0"},"","","",{"v":0,"d":"0.00"},0,1,1,"","",0,0,-1,0,-1,0,"","",{"$f":"IFERROR((VLOOKUP($U83,CalRefs!$A$3:$D$5,4)),\"\")","v":""},"Does Not Map",{"$f":"IFERROR(IF(Input!$B$12=\"Executive / Elected Official\",\"Executive\",(VLOOKUP($V$3,CalRefs!$A$3:$D$5,4))),\"\")","v":""},0,0,0]
[null,"Distributed Systems",0,"",{"v":0,"d":"0.0"},"","","",{"v":0,"d":"0.00"},0,1,1,"","",0,0,-1,0,-1,0,"","",{"$f":"IFERROR((VLOOKUP($U84,CalRefs!$A$3:$D$5,4)),\"\")","v":""},"Does Not Map",{"$f":"IFERROR(IF(Input!$B$12=\"Executive / Elected Official\",\"Executive\",(VLOOKUP($V$3,CalRefs!$A$3:$D$5,4))),\"\")","v":""},0,0,0]
[null,"Earth Science",0,"",{"v":0,"d":"0.0"},"","","",{"v":0,"d":"0.00"},0,1,1,"","",0,0,-1,0,-1,0,"","",{"$f":"IFERROR((VLOOKUP($U85,CalRefs!$A$3:$D$5,4)),\"\")","v":""},"Does Not Map",{"$f":"IFERROR(IF(Input!$B$12=\"Executive / Elected Official\",\"Executive\",(VLOOKUP($V$3,CalRefs!$A$3:$D$5,4))),\"\")","v":""},0,0,0]
[null,"Ecology",0,"",{"v":0,"d":"0.0"},"","","",{"v":0,"d":"0.00"},0,1,1,"","",0,0,-1,0,-1,0,"","",{"$f":"IFERROR((VLOOKUP($U86,CalRefs!$A$3:$D$5,4)),\"\")","v":""},"Does Not Map",{"$f":"IFERROR(IF(Input!$B$12=\"Executive / Elected Official\",\"Executive\",(VLOOKUP($V$3,CalRefs!$A$3:$D$5,4))),\"\")","v":""},0,0,0]
[null,"Economics",0,"",{"v":0,"d":"0.0"},"","","",{"v":0,"d":"0.00"},0,1,1,"","",0,0,-1,0,-1,0,"","",{"$f":"IFERROR((VLOOKUP($U87,CalRefs!$A$3:$D$5,4)),\"\")","v":""},"Does Not Map",{"$f":"IFERROR(IF(Input!$B$12=\"Executive / Elected Official\",\"Executive\",(VLOOKUP($V$3,CalRefs!$A$3:$D$5,4))),\"\")","v":""},0,0,0]
[null,"Economics and Accounting",0,"",{"v":0,"d":"0.0"},"","","",{"v":0,"d":"0.00"},0,1,1,"","",0,0,-1,0,-1,0,"","",{"$f":"IFERROR((VLOOKUP($U88,CalRefs!$A$3:$D$5,4)),\"\")","v":""},"Does Not Map",{"$f":"IFERROR(IF(Input!$B$12=\"Executive / Elected Official\",\"Executive\",(VLOOKUP($V$3,CalRefs!$A$3:$D$5,4))),\"\")","v":""},0,0,0]
[null,"Education and Training",0,"",{"v":0,"d":"0.0"},"","","",{"v":0,"d":"0.00"},0,1,1,"","",0,0,-1,0,-1,0,"","",{"$f":"IFERROR((VLOOKUP($U89,CalRefs!$A$3:$D$5,4)),\"\")","v":""},"Does Not Map",{"$f":"IFERROR(IF(Input!$B$12=\"Executive / Elected Official\",\"Executive\",(VLOOKUP($V$3,CalRefs!$A$3:$D$5,4))),\"\")","v":""},0,0,0]
[null,"Electrical",0,"",{"v":0,"d":"0.0"},"","","",{"v":0,"d":"0.00"},0,1,1,"","",0,0,-1,0,-1,0,"","",{"$f":"IFERROR((VLOOKUP($U90,CalRefs!$A$3:$D$5,4)),\"\")","v":""},"Does Not Map",{"$f":"IFERROR(IF(Input!$B$12=\"Executive / Elected Official\",\"Executive\",(VLOOKUP($V$3,CalRefs!$A$3:$D$5,4))),\"\")","v":""},0,0,0]
[null,"Electrical Engineering",0,"",{"v":0,"d":"0.0"},"","","",{"v":0,"d":"0.00"},0,1,1,"","",0,0,-1,0,-1,0,"","",{"$f":"IFERROR((VLOOKUP($U91,CalRefs!$A$3:$D$5,4)),\"\")","v":""},"Does Not Map",{"$f":"IFERROR(IF(Input!$B$12=\"Executive / Elected Official\",\"Executive\",(VLOOKUP($V$3,CalRefs!$A$3:$D$5,4))),\"\")","v":""},0,0,0]
[null,"Electronic Commerce (e-Commerce)",0,"",{"v":0,"d":"0.0"},"","","",{"v":0,"d":"0.00"},0,1,1,"","",0,0,-1,0,-1,0,"","",{"$f":"IFERROR((VLOOKUP($U92,CalRefs!$A$3:$D$5,4)),\"\")","v":""},"Does Not Map",{"$f":"IFERROR(IF(Input!$B$12=\"Executive / Elected Official\",\"Executive\",(VLOOKUP($V$3,CalRefs!$A$3:$D$5,4))),\"\")","v":""},0,0,0]
[null,"Electronics",0,"",{"v":0,"d":"0.0"},"","","",{"v":0,"d":"0.00"},0,1,1,"","",0,0,-1,0,-1,0,"","",{"$f":"IFERROR((VLOOKUP($U93,CalRefs!$A$3:$D$5,4)),\"\")","v":""},"Does Not Map",{"$f":"IFERROR(IF(Input!$B$12=\"Executive / Elected Official\",\"Executive\",(VLOOKUP($V$3,CalRefs!$A$3:$D$5,4))),\"\")","v":""},0,0,0]
[null,"Electronics Engineering",0,"",{"v":0,"d":"0.0"},"","","",{"v":0,"d":"0.00"},0,1,1,"","",0,0,-1,0,-1,0,"","",{"$f":"IFERROR((VLOOKUP($U94,CalRefs!$A$3:$D$5,4)),\"\")","v":""},"Does Not Map",{"$f":"IFERROR(IF(Input!$B$12=\"Executive / Elected Official\",\"Executive\",(VLOOKUP($V$3,CalRefs!$A$3:$D$5,4))),\"\")","v":""},0,0,0]
[null,"Embedded Computers",0,"",{"v":0,"d":"0.0"},"","","",{"v":0,"d":"0.00"},0,1,1,"","",0,0,-1,0,-1,0,"","",{"$f":"IFERROR((VLOOKUP($U95,CalRefs!$A$3:$D$5,4)),\"\")","v":""},"Does Not Map",{"$f":"IFERROR(IF(Input!$B$12=\"Executive / Elected Official\",\"Executive\",(VLOOKUP($V$3,CalRefs!$A$3:$D$5,4))),\"\")","v":""},0,0,0]
[null,"Employee Benefits",0,"",{"v":0,"d":"0.0"},"","","",{"v":0,"d":"0.00"},0,1,1,"","",0,0,-1,0,-1,0,"","",{"$f":"IFERROR((VLOOKUP($U96,CalRefs!$A$3:$D$5,4)),\"\")","v":""},"Does Not Map",{"$f":"IFERROR(IF(Input!$B$12=\"Executive / Elected Official\",\"Executive\",(VLOOKUP($V$3,CalRefs!$A$3:$D$5,4))),\"\")","v":""},0,0,0]
[null,"Employee Development",0,"",{"v":0,"d":"0.0"},"","","",{"v":0,"d":"0.00"},0,1,1,"","",0,0,-1,0,-1,0,"","",{"$f":"IFERROR((VLOOKUP($U97,CalRefs!$A$3:$D$5,4)),\"\")","v":""},"Does Not Map",{"$f":"IFERROR(IF(Input!$B$12=\"Executive / Elected Official\",\"Executive\",(VLOOKUP($V$3,CalRefs!$A$3:$D$5,4))),\"\")","v":""},0,0,0]
[null,"Employee Relations",0,"",{"v":0,"d":"0.0"},"","","",{"v":0,"d":"0.00"},0,1,1,"","",0,0,-1,0,-1,0,"","",{"$f":"IFERROR((VLOOKUP($U98,CalRefs!$A$3:$D$5,4)),\"\")","v":""},"Does Not Map",{"$f":"IFERROR(IF(Input!$B$12=\"Executive / Elected Official\",\"Executive\",(VLOOKUP($V$3,CalRefs!$A$3:$D$5,4))),\"\")","v":""},0,0,0]
[null,"Encryption",0,"",{"v":0,"d":"0.0"},"","","",{"v":0,"d":"0.00"},0,1,1,"","",0,0,-1,0,-1,0,"","",{"$f":"IFERROR((VLOOKUP($U99,CalRefs!$A$3:$D$5,4)),\"\")","v":""},"Does Not Map",{"$f":"IFERROR(IF(Input!$B$12=\"Executive / Elected Official\",\"Executive\",(VLOOKUP($V$3,CalRefs!$A$3:$D$5,4))),\"\")","v":""},0,0,0]
[null,"Engineering and Technology",0,"",{"v":0,"d":"0.0"},"","","",{"v":0,"d":"0.00"},0,1,1,"","",0,0,-1,0,-1,0,"","",{"$f":"IFERROR((VLOOKUP($U100,CalRefs!$A$3:$D$5,4)),\"\")","v":""},"Does Not Map",{"$f":"IFERROR(IF(Input!$B$12=\"Executive / Elected Official\",\"Executive\",(VLOOKUP($V$3,CalRefs!$A$3:$D$5,4))),\"\")","v":""},0,0,0]
[null,"Enterprise Architecture",0,"",{"v":0,"d":"0.0"},"","","",{"v":0,"d":"0.00"},0,1,1,"","",0,0,-1,0,-1,0,"","",{"$f":"IFERROR((VLOOKUP($U101,CalRefs!$A$3:$D$5,4)),\"\")","v":""},"Does Not Map",{"$f":"IFERROR(IF(Input!$B$12=\"Executive / Elected Official\",\"Executive\",(VLOOKUP($V$3,CalRefs!$A$3:$D$5,4))),\"\")","v":""},0,0,0]
[null,"Entomology",0,"",{"v":0,"d":"0.0"},"","","",{"v":0,"d":"0.00"},0,1,1,"","",0,0,-1,0,-1,0,"","",{"$f":"IFERROR((VLOOKUP($U102,CalRefs!$A$3:$D$5,4)),\"\")","v":""},"Does Not Map",{"$f":"IFERROR(IF(Input!$B$12=\"Executive / Elected Official\",\"Executive\",(VLOOKUP($V$3,CalRefs!$A$3:$D$5,4))),\"\")","v":""},0,0,0]
[null,"Entrepreneurship",0,"",{"v":0,"d":"0.0"},"","","",{"v":0,"d":"0.00"},0,1,1,"","",0,0,-1,0,-1,0,"","",{"$f":"IFERROR((VLOOKUP($U103,CalRefs!$A$3:$D$5,4)),\"\")","v":""},"Does Not Map",{"$f":"IFERROR(IF(Input!$B$12=\"Executive / Elected Official\",\"Executive\",(VLOOKUP($V$3,CalRefs!$A$3:$D$5,4))),\"\")","v":""},0,0,0]
[null,"Environmental Engineering",0,"",{"v":0,"d":"0.0"},"","","",{"v":0,"d":"0.00"},0,1,1,"","",0,0,-1,0,-1,0,"","",{"$f":"IFERROR((VLOOKUP($U104,CalRefs!$A$3:$D$5,4)),\"\")","v":""},"Does Not Map",{"$f":"IFERROR(IF(Input!$B$12=\"Executive / Elected Official\",\"Executive\",(VLOOKUP($V$3,CalRefs!$A$3:$D$5,4))),\"\")","v":""},0,0,0]
[null,"External Awareness (*)",0,"",{"v":0,"d":"0.0"},"","","",{"v":0,"d":"0.00"},0,1,1,"","",0,0,-1,0,-1,0,"","",{"$f":"IFERROR((VLOOKUP($U105,CalRefs!$A$3:$D$5,4)),\"\")","v":""},"Does Not Map",{"$f":"IFERROR(IF(Input!$B$12=\"Executive / Elected Official\",\"Executive\",(VLOOKUP($V$3,CalRefs!$A$3:$D$5,4))),\"\")","v":""},0,0,0]
[null,"External Awareness (‡)",0,"",{"v":0,"d":"0.0"},"","","",{"v":0,"d":"0.00"},0,1,1,"","",0,0,-1,0,-1,0,"","",{"$f":"IFERROR((VLOOKUP($U106,CalRefs!$A$3:$D$5,4)),\"\")","v":""},"Does Not Map",{"$f":"IFERROR(IF(Input!$B$12=\"Executive / Elected Official\",\"Executive\",(VLOOKUP($V$3,CalRefs!$A$3:$D$5,4))),\"\")","v":""},0,0,0]
[null,"Eye-Hand Coordination",0,"",{"v":0,"d":"0.0"},"","","",{"v":0,"d":"0.00"},0,1,1,"","",0,0,-1,0,-1,0,"","",{"$f":"IFERROR((VLOOKUP($U107,CalRefs!$A$3:$D$5,4)),\"\")","v":""},"Does Not Map",{"$f":"IFERROR(IF(Input!$B$12=\"Executive / Elected Official\",\"Executive\",(VLOOKUP($V$3,CalRefs!$A$3:$D$5,4))),\"\")","v":""},0,0,0]
[null,"Facilities",0,"",{"v":0,"d":"0.0"},"","","",{"v":0,"d":"0.00"},0,1,1,"","",0,0,-1,0,-1,0,"","",{"$f":"IFERROR((VLOOKUP($U108,CalRefs!$A$3:$D$5,4)),\"\")","v":""},"Does Not Map",{"$f":"IFERROR(IF(Input!$B$12=\"Executive / Elected Official\",\"Executive\",(VLOOKUP($V$3,CalRefs!$A$3:$D$5,4))),\"\")","v":""},0,0,0]
[null,"Federal Funds Processing",0,"",{"v":0,"d":"0.0"},"","","",{"v":0,"d":"0.00"},0,1,1,"","",0,0,-1,0,-1,0,"","",{"$f":"IFERROR((VLOOKUP($U109,CalRefs!$A$3:$D$5,4)),\"\")","v":""},"Does Not Map",{"$f":"IFERROR(IF(Input!$B$12=\"Executive / Elected Official\",\"Executive\",(VLOOKUP($V$3,CalRefs!$A$3:$D$5,4))),\"\")","v":""},0,0,0]
[null,"Financial Analysis",0,"",{"v":0,"d":"0.0"},"","","",{"v":0,"d":"0.00"},0,1,1,"","",0,0,-1,0,-1,0,"","",{"$f":"IFERROR((VLOOKUP($U110,CalRefs!$A$3:$D$5,4)),\"\")","v":""},"Does Not Map",{"$f":"IFERROR(IF(Input!$B$12=\"Executive / Elected Official\",\"Executive\",(VLOOKUP($V$3,CalRefs!$A$3:$D$5,4))),\"\")","v":""},0,0,0]
[null,"Financial Assistance Mechanisms",0,"",{"v":0,"d":"0.0"},"","","",{"v":0,"d":"0.00"},0,1,1,"","",0,0,-1,0,-1,0,"","",{"$f":"IFERROR((VLOOKUP($U111,CalRefs!$A$3:$D$5,4)),\"\")","v":""},"Does Not Map",{"$f":"IFERROR(IF(Input!$B$12=\"Executive / Elected Official\",\"Executive\",(VLOOKUP($V$3,CalRefs!$A$3:$D$5,4))),\"\")","v":""},0,0,0]
[null,"Financial Management (*)",0,"",{"v":0,"d":"0.0"},"","","",{"v":0,"d":"0.00"},0,1,1,"","",0,0,-1,0,-1,0,"","",{"$f":"IFERROR((VLOOKUP($U112,CalRefs!$A$3:$D$5,4)),\"\")","v":""},"Does Not Map",{"$f":"IFERROR(IF(Input!$B$12=\"Executive / Elected Official\",\"Executive\",(VLOOKUP($V$3,CalRefs!$A$3:$D$5,4))),\"\")","v":""},0,0,0]
[null,"Financial Management (‡)",0,"",{"v":0,"d":"0.0"},"","","",{"v":0,"d":"0.00"},0,1,1,"","",0,0,-1,0,-1,0,"","",{"$f":"IFERROR((VLOOKUP($U113,CalRefs!$A$3:$D$5,4)),\"\")","v":""},"Does Not Map",{"$f":"IFERROR(IF(Input!$B$12=\"Executive / Elected Official\",\"Executive\",(VLOOKUP($V$3,CalRefs!$A$3:$D$5,4))),\"\")","v":""},0,0,0]
[null,"Financial Systems",0,"",{"v":0,"d":"0.0"},"","","",{"v":0,"d":"0.00"},0,1,1,"","",0,0,-1,0,-1,0,"","",{"$f":"IFERROR((VLOOKUP($U114,CalRefs!$A$3:$D$5,4)),\"\")","v":""},"Does Not Map",{"$f":"IFERROR(IF(Input!$B$12=\"Executive / Elected Official\",\"Executive\",(VLOOKUP($V$3,CalRefs!$A$3:$D$5,4))),\"\")","v":""},0,0,0]
[null,"Fine Arts",0,"",{"v":0,"d":"0.0"},"","","",{"v":0,"d":"0.00"},0,1,1,"","",0,0,-1,0,-1,0,"","",{"$f":"IFERROR((VLOOKUP($U115,CalRefs!$A$3:$D$5,4)),\"\")","v":""},"Does Not Map",{"$f":"IFERROR(IF(Input!$B$12=\"Executive / Elected Official\",\"Executive\",(VLOOKUP($V$3,CalRefs!$A$3:$D$5,4))),\"\")","v":""},0,0,0]
[null,"Fire Management",0,"",{"v":0,"d":"0.0"},"","","",{"v":0,"d":"0.00"},0,1,1,"","",0,0,-1,0,-1,0,"","",{"$f":"IFERROR((VLOOKUP($U116,CalRefs!$A$3:$D$5,4)),\"\")","v":""},"Does Not Map",{"$f":"IFERROR(IF(Input!$B$12=\"Executive / Elected Official\",\"Executive\",(VLOOKUP($V$3,CalRefs!$A$3:$D$5,4))),\"\")","v":""},0,0,0]
[null,"Firearms",0,"",{"v":0,"d":"0.0"},"","","",{"v":0,"d":"0.00"},0,1,1,"","",0,0,-1,0,-1,0,"","",{"$f":"IFERROR((VLOOKUP($U117,CalRefs!$A$3:$D$5,4)),\"\")","v":""},"Does Not Map",{"$f":"IFERROR(IF(Input!$B$12=\"Executive / Elected Official\",\"Executive\",(VLOOKUP($V$3,CalRefs!$A$3:$D$5,4))),\"\")","v":""},0,0,0]
[null,"First Response",0,"",{"v":0,"d":"0.0"},"","","",{"v":0,"d":"0.00"},0,1,1,"","",0,0,-1,0,-1,0,"","",{"$f":"IFERROR((VLOOKUP($U118,CalRefs!$A$3:$D$5,4)),\"\")","v":""},"Does Not Map",{"$f":"IFERROR(IF(Input!$B$12=\"Executive / Elected Official\",\"Executive\",(VLOOKUP($V$3,CalRefs!$A$3:$D$5,4))),\"\")","v":""},0,0,0]
[null,"Fishery Biology",0,"",{"v":0,"d":"0.0"},"","","",{"v":0,"d":"0.00"},0,1,1,"","",0,0,-1,0,-1,0,"","",{"$f":"IFERROR((VLOOKUP($U119,CalRefs!$A$3:$D$5,4)),\"\")","v":""},"Does Not Map",{"$f":"IFERROR(IF(Input!$B$12=\"Executive / Elected Official\",\"Executive\",(VLOOKUP($V$3,CalRefs!$A$3:$D$5,4))),\"\")","v":""},0,0,0]
[null,"Flexibility (*)",0,"",{"v":0,"d":"0.0"},"","","",{"v":0,"d":"0.00"},0,1,1,"","",0,0,-1,0,-1,0,"","",{"$f":"IFERROR((VLOOKUP($U120,CalRefs!$A$3:$D$5,4)),\"\")","v":""},"Does Not Map",{"$f":"IFERROR(IF(Input!$B$12=\"Executive / Elected Official\",\"Executive\",(VLOOKUP($V$3,CalRefs!$A$3:$D$5,4))),\"\")","v":""},0,0,0]
[null,"Flexibility (†)",0,"",{"v":0,"d":"0.0"},"","","",{"v":0,"d":"0.00"},0,1,1,"","",0,0,-1,0,-1,0,"","",{"$f":"IFERROR((VLOOKUP($U121,CalRefs!$A$3:$D$5,4)),\"\")","v":""},"Does Not Map",{"$f":"IFERROR(IF(Input!$B$12=\"Executive / Elected Official\",\"Executive\",(VLOOKUP($V$3,CalRefs!$A$3:$D$5,4))),\"\")","v":""},0,0,0]
[null,"Flexibility (‡)",0,"",{"v":0,"d":"0.0"},"","","",{"v":0,"d":"0.00"},0,1,1,"","",0,0,-1,0,-1,0,"","",{"$f":"IFERROR((VLOOKUP($U122,CalRefs!$A$3:$D$5,4)),\"\")","v":""},"Does Not Map",{"$f":"IFERROR(IF(Input!$B$12=\"Executive / Elected Official\",\"Executive\",(VLOOKUP($V$3,CalRefs!$A$3:$D$5,4))),\"\")","v":""},0,0,0]
[null,"Flight Systems",0,"",{"v":0,"d":"0.0"},"","","",{"v":0,"d":"0.00"},0,1,1,"","",0,0,-1,0,-1,0,"","",{"$f":"IFERROR((VLOOKUP($U123,CalRefs!$A$3:$D$5,4)),\"\")","v":""},"Does Not Map",{"$f":"IFERROR(IF(Input!$B$12=\"Executive / Elected Official\",\"Executive\",(VLOOKUP($V$3,CalRefs!$A$3:$D$5,4))),\"\")","v":""},0,0,0]
[null,"Fluid Dynamics and Mechanics",0,"",{"v":0,"d":"0.0"},"","","",{"v":0,"d":"0.00"},0,1,1,"","",0,0,-1,0,-1,0,"","",{"$f":"IFERROR((VLOOKUP($U124,CalRefs!$A$3:$D$5,4)),\"\")","v":""},"Does Not Map",{"$f":"IFERROR(IF(Input!$B$12=\"Executive / Elected Official\",\"Executive\",(VLOOKUP($V$3,CalRefs!$A$3:$D$5,4))),\"\")","v":""},0,0,0]
[null,"Food Production",0,"",{"v":0,"d":"0.0"},"","","",{"v":0,"d":"0.00"},0,1,1,"","",0,0,-1,0,-1,0,"","",{"$f":"IFERROR((VLOOKUP($U125,CalRefs!$A$3:$D$5,4)),\"\")","v":""},"Does Not Map",{"$f":"IFERROR(IF(Input!$B$12=\"Executive / Elected Official\",\"Executive\",(VLOOKUP($V$3,CalRefs!$A$3:$D$5,4))),\"\")","v":""},0,0,0]
[null,"Food Service",0,"",{"v":0,"d":"0.0"},"","","",{"v":0,"d":"0.00"},0,1,1,"","",0,0,-1,0,-1,0,"","",{"$f":"IFERROR((VLOOKUP($U126,CalRefs!$A$3:$D$5,4)),\"\")","v":""},"Does Not Map",{"$f":"IFERROR(IF(Input!$B$12=\"Executive / Elected Official\",\"Executive\",(VLOOKUP($V$3,CalRefs!$A$3:$D$5,4))),\"\")","v":""},0,0,0]
[null,"Foreign Language",0,"",{"v":0,"d":"0.0"},"","","",{"v":0,"d":"0.00"},0,1,1,"","",0,0,-1,0,-1,0,"","",{"$f":"IFERROR((VLOOKUP($U127,CalRefs!$A$3:$D$5,4)),\"\")","v":""},"Does Not Map",{"$f":"IFERROR(IF(Input!$B$12=\"Executive / Elected Official\",\"Executive\",(VLOOKUP($V$3,CalRefs!$A$3:$D$5,4))),\"\")","v":""},0,0,0]
[null,"Forensics",0,"",{"v":0,"d":"0.0"},"","","",{"v":0,"d":"0.00"},0,1,1,"","",0,0,-1,0,-1,0,"","",{"$f":"IFERROR((VLOOKUP($U128,CalRefs!$A$3:$D$5,4)),\"\")","v":""},"Does Not Map",{"$f":"IFERROR(IF(Input!$B$12=\"Executive / Elected Official\",\"Executive\",(VLOOKUP($V$3,CalRefs!$A$3:$D$5,4))),\"\")","v":""},0,0,0]
[null,"Forest Management",0,"",{"v":0,"d":"0.0"},"","","",{"v":0,"d":"0.00"},0,1,1,"","",0,0,-1,0,-1,0,"","",{"$f":"IFERROR((VLOOKUP($U129,CalRefs!$A$3:$D$5,4)),\"\")","v":""},"Does Not Map",{"$f":"IFERROR(IF(Input!$B$12=\"Executive / Elected Official\",\"Executive\",(VLOOKUP($V$3,CalRefs!$A$3:$D$5,4))),\"\")","v":""},0,0,0]
[null,"General Engineering",0,"",{"$f":"SUMIFS(OPM_Complex,OPM_Mosaic,B130)","v":{"v":0,"d":"0.0"}},"","","",{"v":0,"d":"0.00"},0,1,1,"","",0,0,-1,0,-1,0,{"$f":"IFERROR((SUMIFS(OPM_KSA_Total,OPM_Mosaic,$B130)/C130),\"\")","v":""},"",{"$f":"IFERROR((VLOOKUP($U130,CalRefs!$A$3:$D$5,4)),\"\")","v":""},"Does Not Map",{"$f":"IFERROR(IF(Input!$B$12=\"Executive / Elected Official\",\"Executive\",(VLOOKUP($V$3,CalRefs!$A$3:$D$5,4))),\"\")","v":""},{"$f":"IF(ISERROR(Training_Partner),\"\",Training_Partner)","v":0},{"$f":"IF(ISERROR(CourseTitle),\"\",CourseTitle)","v":0},{"$f":"CourseNumber","v":0}]
[null,"Genetics",{"$f":"IF(ISERROR(COUNTIF(OPM_Mosaic,B131)),\"\",COUNTIF(OPM_Mosaic,B131))","v":0},"",{"v":0,"d":"0.0"},{"$f":"IFERROR(((SUMIFS(OPM_Time,OPM_Mosaic,$B131))/SumCheck),\"\")","v":""},"",{"$f":"IFERROR((INDEX($G$2:$G$327,(MATCH(\"none\",$B$2:$B$327,0)))),\"\")","v":""},{"v":0,"d":"0.00"},0,1,1,"","",0,0,-1,0,-1,0,"","",{"$f":"IFERROR((VLOOKUP($U131,CalRefs!$A$3:$D$5,4)),\"\")","v":""},"Does Not Map",{"$f":"IFERROR(IF(Input!$B$12=\"Executive / Elected Official\",\"Executive\",(VLOOKUP($V$3,CalRefs!$A$3:$D$5,4))),\"\")","v":""},0,0,0]
[null,"Geography",0,{"$f":"IFERROR((C132/(SUM($C$3:$C$327))),\"\")","v":""},{"v":0,"d":"0.0"},"",{"$f":"IFERROR((($E132*$C132)/SUM($C$3:$C$31)),\"\")","v":""},"",{"$f":"IFERROR((IF(AND(MAX($G$3:$G$35)=H132),LARGE($G$3:$G$35,2),MAX($G$3:$G$35))),\"\")","v":{"v":0,"d":"0.00"}},{"$f":"IFERROR((IF($D132<0.15,1,0)),\"\")","v":0},{"$f":"IFERROR((IF($B132=\"None\",0,1)),\"\")","v":1},{"$f":"IFERROR((IF($D132>=0.15,1,0)),\"\")","v":1},{"$f":"IFERROR((IF($G132*2.5>I132,1,0)),\"\")","v":""},{"$f":"IFERROR((IF(OR(AND(J132=1,$G132*3.5>I132),(AND(M132=0,$G132*3.5>I132)),$G132=I132),1,0)),\"\")","v":""},{"$f":"IFERROR((IF(AND($K132,$L132,$M132=1),1,0)),\"\")","v":0},{"$f":"IFERROR((IF(AND($O132=1,$G132=I132),3,0)),\"\")","v":0},{"$f":"IFERROR((IF(AND($P132=0,$O132=1),1,-1)),\"\")","v":-1},{"$f":"IFERROR((IF(AND(K132,N132=1),1,0)),\"\")","v":0},{"$f":"IFERROR(IF(MAX($G$3:$G$35)=H132,-1,((SUM(R132,P132,Q132)))),\"\")","v":-1},{"$f":"IFERROR((SUMIF($O$3:$O$35,1,$C$3:$C$35)),\"\")","v":0},"",{"$f":"IFERROR((SUMPRODUCT(($O$3:$O$35),($U$3:$U$35),($C$3:$C$35))/T132),\"\")","v":""},{"$f":"IFERROR((VLOOKUP($U132,CalRefs!$A$3:$D$5,4)),\"\")","v":""},{"$f":"IFERROR(IF(OR(MAX($G$3:$G$31)=$H$3,MAX($S$3:$S$31)<>3),\"Does Not Map\",INDEX($B$3:$B$31,MATCH(I132,$G$3:$G$31,0))),\"\")","v":"Does Not Map"},{"$f":"IFERROR(IF(Input!$B$12=\"Executive / Elected Official\",\"Executive\",(VLOOKUP($V$3,CalRefs!$A$3:$D$5,4))),\"\")","v":""},0,0,0]
[null,"Geographical Sciences",0,"",{"v":0,"d":"0.0"},"","","",{"v":0,"d":"0.00"},0,1,1,"","",0,0,-1,0,-1,0,"","",{"$f":"IFERROR((VLOOKUP($U133,CalRefs!$A$3:$D$5,4)),\"\")","v":""},"Does Not Map",{"$f":"IFERROR(IF(Input!$B$12=\"Executive / Elected Official\",\"Executive\",(VLOOKUP($V$3,CalRefs!$A$3:$D$5,4))),\"\")","v":""},0,0,0]
[null,"Geology",0,"",{"v":0,"d":"0.0"},"","","",{"v":0,"d":"0.00"},0,1,1,"","",0,0,-1,0,-1,0,"","",{"$f":"IFERROR((VLOOKUP($U134,CalRefs!$A$3:$D$5,4)),\"\")","v":""},"Does Not Map",{"$f":"IFERROR(IF(Input!$B$12=\"Executive / Elected Official\",\"Executive\",(VLOOKUP($V$3,CalRefs!$A$3:$D$5,4))),\"\")","v":""},0,0,0]
[null,"Geophysics",0,"",{"v":0,"d":"0.0"},"","","",{"v":0,"d":"0.00"},0,1,1,"","",0,0,-1,0,-1,0,"","",{"$f":"IFERROR((VLOOKUP($U135,CalRefs!$A$3:$D$5,4)),\"\")","v":""},"Does Not Map",{"$f":"IFERROR(IF(Input!$B$12=\"Executive / Elected Official\",\"Executive\",(VLOOKUP($V$3,CalRefs!$A$3:$D$5,4))),\"\")","v":""},0,0,0]
[null,"Geotechnical Engineering",0,"",{"v":0,"d":"0.0"},"","","",{"v":0,"d":"0.00"},0,1,1,"","",0,0,-1,0,-1,0,"","",{"$f":"IFERROR((VLOOKUP($U136,CalRefs!$A$3:$D$5,4)),\"\")","v":""},"Does Not Map",{"$f":"IFERROR(IF(Input!$B$12=\"Executive / Elected Official\",\"Executive\",(VLOOKUP($V$3,CalRefs!$A$3:$D$5,4))),\"\")","v":""},0,0,0]
[null,"Grants Management",0,"",{"v":0,"d":"0.0"},"","","",{"v":0,"d":"0.00"},0,1,1,"","",0,0,-1,0,-1,0,"","",{"$f":"IFERROR((VLOOKUP($U137,CalRefs!$A$3:$D$5,4)),\"\")","v":""},"Does Not Map",{"$f":"IFERROR(IF(Input!$B$12=\"Executive / Elected Official\",\"Executive\",(VLOOKUP($V$3,CalRefs!$A$3:$D$5,4))),\"\")","v":""},0,0,0]
[null,"Grants Management Laws, Regulations, and Guidelines",0,"",{"v":0,"d":"0.0"},"","","",{"v":0,"d":"0.00"},0,1,1,"","",0,0,-1,0,-1,0,"","",{"$f":"IFERROR((VLOOKUP($U138,CalRefs!$A$3:$D$5,4)),\"\")","v":""},"Does Not Map",{"$f":"IFERROR(IF(Input!$B$12=\"Executive / Elected Official\",\"Executive\",(VLOOKUP($V$3,CalRefs!$A$3:$D$5,4))),\"\")","v":""},0,0,0]
[null,"Hardware",0,"",{"v":0,"d":"0.0"},"","","",{"v":0,"d":"0.00"},0,1,1,"","",0,0,-1,0,-1,0,"","",{"$f":"IFERROR((VLOOKUP($U139,CalRefs!$A$3:$D$5,4)),\"\")","v":""},"Does Not Map",{"$f":"IFERROR(IF(Input!$B$12=\"Executive / Elected Official\",\"Executive\",(VLOOKUP($V$3,CalRefs!$A$3:$D$5,4))),\"\")","v":""},0,0,0]
[null,"Hardware Engineering",0,"",{"v":0,"d":"0.0"},"","","",{"v":0,"d":"0.00"},0,1,1,"","",0,0,-1,0,-1,0,"","",{"$f":"IFERROR((VLOOKUP($U140,CalRefs!$A$3:$D$5,4)),\"\")","v":""},"Does Not Map",{"$f":"IFERROR(IF(Input!$B$12=\"Executive / Elected Official\",\"Executive\",(VLOOKUP($V$3,CalRefs!$A$3:$D$5,4))),\"\")","v":""},0,0,0]
[null,"Hazardous Materials",0,"",{"v":0,"d":"0.0"},"","","",{"v":0,"d":"0.00"},0,1,1,"","",0,0,-1,0,-1,0,"","",{"$f":"IFERROR((VLOOKUP($U141,CalRefs!$A$3:$D$5,4)),\"\")","v":""},"Does Not Map",{"$f":"IFERROR(IF(Input!$B$12=\"Executive / Elected Official\",\"Executive\",(VLOOKUP($V$3,CalRefs!$A$3:$D$5,4))),\"\")","v":""},0,0,0]
[null,"Health Physics",0,"",{"v":0,"d":"0.0"},"","","",{"v":0,"d":"0.00"},0,1,1,"","",0,0,-1,0,-1,0,"","",{"$f":"IFERROR((VLOOKUP($U142,CalRefs!$A$3:$D$5,4)),\"\")","v":""},"Does Not Map",{"$f":"IFERROR(IF(Input!$B$12=\"Executive / Elected Official\",\"Executive\",(VLOOKUP($V$3,CalRefs!$A$3:$D$5,4))),\"\")","v":""},0,0,0]
[null,"History and Archeology",0,"",{"v":0,"d":"0.0"},"","","",{"v":0,"d":"0.00"},0,1,1,"","",0,0,-1,0,-1,0,"","",{"$f":"IFERROR((VLOOKUP($U143,CalRefs!$A$3:$D$5,4)),\"\")","v":""},"Does Not Map",{"$f":"IFERROR(IF(Input!$B$12=\"Executive / Elected Official\",\"Executive\",(VLOOKUP($V$3,CalRefs!$A$3:$D$5,4))),\"\")","v":""},0,0,0]
[null,"Horticulture",0,"",{"v":0,"d":"0.0"},"","","",{"v":0,"d":"0.00"},0,1,1,"","",0,0,-1,0,-1,0,"","",{"$f":"IFERROR((VLOOKUP($U144,CalRefs!$A$3:$D$5,4)),\"\")","v":""},"Does Not Map",{"$f":"IFERROR(IF(Input!$B$12=\"Executive / Elected Official\",\"Executive\",(VLOOKUP($V$3,CalRefs!$A$3:$D$5,4))),\"\")","v":""},0,0,0]
[null,"Horticultural Sciences",0,"",{"v":0,"d":"0.0"},"","","",{"v":0,"d":"0.00"},0,1,1,"","",0,0,-1,0,-1,0,"","",{"$f":"IFERROR((VLOOKUP($U145,CalRefs!$A$3:$D$5,4)),\"\")","v":""},"Does Not Map",{"$f":"IFERROR(IF(Input!$B$12=\"Executive / Elected Official\",\"Executive\",(VLOOKUP($V$3,CalRefs!$A$3:$D$5,4))),\"\")","v":""},0,0,0]
[null,"HR Information Systems",0,"",{"v":0,"d":"0.0"},"","","",{"v":0,"d":"0.00"},0,1,1,"","",0,0,-1,0,-1,0,"","",{"$f":"IFERROR((VLOOKUP($U146,CalRefs!$A$3:$D$5,4)),\"\")","v":""},"Does Not Map",{"$f":"IFERROR(IF(Input!$B$12=\"Executive / Elected Official\",\"Executive\",(VLOOKUP($V$3,CalRefs!$A$3:$D$5,4))),\"\")","v":""},0,0,0]
[null,"Human Capital Management",0,"",{"v":0,"d":"0.0"},"","","",{"v":0,"d":"0.00"},0,1,1,"","",0,0,-1,0,-1,0,"","",{"$f":"IFERROR((VLOOKUP($U147,CalRefs!$A$3:$D$5,4)),\"\")","v":""},"Does Not Map",{"$f":"IFERROR(IF(Input!$B$12=\"Executive / Elected Official\",\"Executive\",(VLOOKUP($V$3,CalRefs!$A$3:$D$5,4))),\"\")","v":""},0,0,0]
[null,"Human Factors",0,"",{"v":0,"d":"0.0"},"","","",{"v":0,"d":"0.00"},0,1,1,"","",0,0,-1,0,-1,0,"","",{"$f":"IFERROR((VLOOKUP($U148,CalRefs!$A$3:$D$5,4)),\"\")","v":""},"Does Not Map",{"$f":"IFERROR(IF(Input!$B$12=\"Executive / Elected Official\",\"Executive\",(VLOOKUP($V$3,CalRefs!$A$3:$D$5,4))),\"\")","v":""},0,0,0]
[null,"Hydraulic Engineering",0,"",{"v":0,"d":"0.0"},"","","",{"v":0,"d":"0.00"},0,1,1,"","",0,0,-1,0,-1,0,"","",{"$f":"IFERROR((VLOOKUP($U149,CalRefs!$A$3:$D$5,4)),\"\")","v":""},"Does Not Map",{"$f":"IFERROR(IF(Input!$B$12=\"Executive / Elected Official\",\"Executive\",(VLOOKUP($V$3,CalRefs!$A$3:$D$5,4))),\"\")","v":""},0,0,0]
[null,"Hydrology",0,"",{"v":0,"d":"0.0"},"","","",{"v":0,"d":"0.00"},0,1,1,"","",0,0,-1,0,-1,0,"","",{"$f":"IFERROR((VLOOKUP($U150,CalRefs!$A$3:$D$5,4)),\"\")","v":""},"Does Not Map",{"$f":"IFERROR(IF(Input!$B$12=\"Executive / Elected Official\",\"Executive\",(VLOOKUP($V$3,CalRefs!$A$3:$D$5,4))),\"\")","v":""},0,0,0]
[null,"Identity Management",0,"",{"v":0,"d":"0.0"},"","","",{"v":0,"d":"0.00"},0,1,1,"","",0,0,-1,0,-1,0,"","",{"$f":"IFERROR((VLOOKUP($U151,CalRefs!$A$3:$D$5,4)),\"\")","v":""},"Does Not Map",{"$f":"IFERROR(IF(Input!$B$12=\"Executive / Elected Official\",\"Executive\",(VLOOKUP($V$3,CalRefs!$A$3:$D$5,4))),\"\")","v":""},0,0,0]
[null,"Incident Management",0,"",{"v":0,"d":"0.0"},"","","",{"v":0,"d":"0.00"},0,1,1,"","",0,0,-1,0,-1,0,"","",{"$f":"IFERROR((VLOOKUP($U152,CalRefs!$A$3:$D$5,4)),\"\")","v":""},"Does Not Map",{"$f":"IFERROR(IF(Input!$B$12=\"Executive / Elected Official\",\"Executive\",(VLOOKUP($V$3,CalRefs!$A$3:$D$5,4))),\"\")","v":""},0,0,0]
[null,"Industrial Equipment Operation",0,"",{"v":0,"d":"0.0"},"","","",{"v":0,"d":"0.00"},0,1,1,"","",0,0,-1,0,-1,0,"","",{"$f":"IFERROR((VLOOKUP($U153,CalRefs!$A$3:$D$5,4)),\"\")","v":""},"Does Not Map",{"$f":"IFERROR(IF(Input!$B$12=\"Executive / Elected Official\",\"Executive\",(VLOOKUP($V$3,CalRefs!$A$3:$D$5,4))),\"\")","v":""},0,0,0]
[null,"Influencing/Negotiating (*)",0,"",{"v":0,"d":"0.0"},"","","",{"v":0,"d":"0.00"},0,1,1,"","",0,0,-1,0,-1,0,"","",{"$f":"IFERROR((VLOOKUP($U154,CalRefs!$A$3:$D$5,4)),\"\")","v":""},"Does Not Map",{"$f":"IFERROR(IF(Input!$B$12=\"Executive / Elected Official\",\"Executive\",(VLOOKUP($V$3,CalRefs!$A$3:$D$5,4))),\"\")","v":""},0,0,0]
[null,"Influencing/Negotiating (‡)",0,"",{"v":0,"d":"0.0"},"","","",{"v":0,"d":"0.00"},0,1,1,"","",0,0,-1,0,-1,0,"","",{"$f":"IFERROR((VLOOKUP($U155,CalRefs!$A$3:$D$5,4)),\"\")","v":""},"Does Not Map",{"$f":"IFERROR(IF(Input!$B$12=\"Executive / Elected Official\",\"Executive\",(VLOOKUP($V$3,CalRefs!$A$3:$D$5,4))),\"\")","v":""},0,0,0]
[null,"Information Assurance",0,"",{"v":0,"d":"0.0"},"","","",{"v":0,"d":"0.00"},0,1,1,"","",0,0,-1,0,-1,0,"","",{"$f":"IFERROR((VLOOKUP($U156,CalRefs!$A$3:$D$5,4)),\"\")","v":""},"Does Not Map",{"$f":"IFERROR(IF(Input!$B$12=\"Executive / Elected Official\",\"Executive\",(VLOOKUP($V$3,CalRefs!$A$3:$D$5,4))),\"\")","v":""},0,0,0]
[null,"Information Management",0,"",{"v":0,"d":"0.0"},"","","",{"v":0,"d":"0.00"},0,1,1,"","",0,0,-1,0,-1,0,"","",{"$f":"IFERROR((VLOOKUP($U157,CalRefs!$A$3:$D$5,4)),\"\")","v":""},"Does Not Map",{"$f":"IFERROR(IF(Input!$B$12=\"Executive / Elected Official\",\"Executive\",(VLOOKUP($V$3,CalRefs!$A$3:$D$5,4))),\"\")","v":""},0,0,0]
[null,"Information Resources Strategy and Planning",0,"",{"v":0,"d":"0.0"},"","","",{"v":0,"d":"0.00"},0,1,1,"","",0,0,-1,0,-1,0,"","",{"$f":"IFERROR((VLOOKUP($U158,CalRefs!$A$3:$D$5,4)),\"\")","v":""},"Does Not Map",{"$f":"IFERROR(IF(Input!$B$12=\"Executive / Elected Official\",\"Executive\",(VLOOKUP($V$3,CalRefs!$A$3:$D$5,4))),\"\")","v":""},0,0,0]
[null,"Information Systems Security Certification",0,"",{"v":0,"d":"0.0"},"","","",{"v":0,"d":"0.00"},0,1,1,"","",0,0,-1,0,-1,0,"","",{"$f":"IFERROR((VLOOKUP($U159,CalRefs!$A$3:$D$5,4)),\"\")","v":""},"Does Not Map",{"$f":"IFERROR(IF(Input!$B$12=\"Executive / Elected Official\",\"Executive\",(VLOOKUP($V$3,CalRefs!$A$3:$D$5,4))),\"\")","v":""},0,0,0]
[null,"Information Systems/Network Security",0,"",{"v":0,"d":"0.0"},"","","",{"v":0,"d":"0.00"},0,1,1,"","",0,0,-1,0,-1,0,"","",{"$f":"IFERROR((VLOOKUP($U160,CalRefs!$A$3:$D$5,4)),\"\")","v":""},"Does Not Map",{"$f":"IFERROR(IF(Input!$B$12=\"Executive / Elected Official\",\"Executive\",(VLOOKUP($V$3,CalRefs!$A$3:$D$5,4))),\"\")","v":""},0,0,0]
[null,"Information Technology Architecture",0,"",{"v":0,"d":"0.0"},"","","",{"v":0,"d":"0.00"},0,1,1,"","",0,0,-1,0,-1,0,"","",{"$f":"IFERROR((VLOOKUP($U161,CalRefs!$A$3:$D$5,4)),\"\")","v":""},"Does Not Map",{"$f":"IFERROR(IF(Input!$B$12=\"Executive / Elected Official\",\"Executive\",(VLOOKUP($V$3,CalRefs!$A$3:$D$5,4))),\"\")","v":""},0,0,0]
[null,"Information Technology Performance Assessment",0,"",{"v":0,"d":"0.0"},"","","",{"v":0,"d":"0.00"},0,1,1,"","",0,0,-1,0,-1,0,"","",{"$f":"IFERROR((VLOOKUP($U162,CalRefs!$A$3:$D$5,4)),\"\")","v":""},"Does Not Map",{"$f":"IFERROR(IF(Input!$B$12=\"Executive / Elected Official\",\"Executive\",(VLOOKUP($V$3,CalRefs!$A$3:$D$5,4))),\"\")","v":""},0,0,0]
[null,"Information Technology Program Management",0,"",{"v":0,"d":"0.0"},"","","",{"v":0,"d":"0.00"},0,1,1,"","",0,0,-1,0,-1,0,"","",{"$f":"IFERROR((VLOOKUP($U163,CalRefs!$A$3:$D$5,4)),\"\")","v":""},"Does Not Map",{"$f":"IFERROR(IF(Input!$B$12=\"Executive / Elected Official\",\"Executive\",(VLOOKUP($V$3,CalRefs!$A$3:$D$5,4))),\"\")","v":""},0,0,0]
[null,"Information Technology Research and Development",0,"",{"v":0,"d":"0.0"},"","","",{"v":0,"d":"0.00"},0,1,1,"","",0,0,-1,0,-1,0,"","",{"$f":"IFERROR((VLOOKUP($U164,CalRefs!$A$3:$D$5,4)),\"\")","v":""},"Does Not Map",{"$f":"IFERROR(IF(Input!$B$12=\"Executive / Elected Official\",\"Executive\",(VLOOKUP($V$3,CalRefs!$A$3:$D$5,4))),\"\")","v":""},0,0,0]
[null,"Infrastructure Design",0,"",{"v":0,"d":"0.0"},"","","",{"v":0,"d":"0.00"},0,1,1,"","",0,0,-1,0,-1,0,"","",{"$f":"IFERROR((VLOOKUP($U165,CalRefs!$A$3:$D$5,4)),\"\")","v":""},"Does Not Map",{"$f":"IFERROR(IF(Input!$B$12=\"Executive / Elected Official\",\"Executive\",(VLOOKUP($V$3,CalRefs!$A$3:$D$5,4))),\"\")","v":""},0,0,0]
[null,"Insurance",0,"",{"v":0,"d":"0.0"},"","","",{"v":0,"d":"0.00"},0,1,1,"","",0,0,-1,0,-1,0,"","",{"$f":"IFERROR((VLOOKUP($U166,CalRefs!$A$3:$D$5,4)),\"\")","v":""},"Does Not Map",{"$f":"IFERROR(IF(Input!$B$12=\"Executive / Elected Official\",\"Executive\",(VLOOKUP($V$3,CalRefs!$A$3:$D$5,4))),\"\")","v":""},0,0,0]
[null,"Integrity/Honesty (*)",0,"",{"v":0,"d":"0.0"},"","","",{"v":0,"d":"0.00"},0,1,1,"","",0,0,-1,0,-1,0,"","",{"$f":"IFERROR((VLOOKUP($U167,CalRefs!$A$3:$D$5,4)),\"\")","v":""},"Does Not Map",{"$f":"IFERROR(IF(Input!$B$12=\"Executive / Elected Official\",\"Executive\",(VLOOKUP($V$3,CalRefs!$A$3:$D$5,4))),\"\")","v":""},0,0,0]
[null,"Integrity/Honesty (‡)",0,"",{"v":0,"d":"0.0"},"","","",{"v":0,"d":"0.00"},0,1,1,"","",0,0,-1,0,-1,0,"","",{"$f":"IFERROR((VLOOKUP($U168,CalRefs!$A$3:$D$5,4)),\"\")","v":""},"Does Not Map",{"$f":"IFERROR(IF(Input!$B$12=\"Executive / Elected Official\",\"Executive\",(VLOOKUP($V$3,CalRefs!$A$3:$D$5,4))),\"\")","v":""},0,0,0]
[null,"Internal Controls",0,"",{"v":0,"d":"0.0"},"","","",{"v":0,"d":"0.00"},0,1,1,"","",0,0,-1,0,-1,0,"","",{"$f":"IFERROR((VLOOKUP($U169,CalRefs!$A$3:$D$5,4)),\"\")","v":""},"Does Not Map",{"$f":"IFERROR(IF(Input!$B$12=\"Executive / Elected Official\",\"Executive\",(VLOOKUP($V$3,CalRefs!$A$3:$D$5,4))),\"\")","v":""},0,0,0]
[null,"Interpersonal Skills (*)",0,"",{"v":0,"d":"0.0"},"","","",{"v":0,"d":"0.00"},0,1,1,"","",0,0,-1,0,-1,0,"","",{"$f":"IFERROR((VLOOKUP($U170,CalRefs!$A$3:$D$5,4)),\"\")","v":""},"Does Not Map",{"$f":"IFERROR(IF(Input!$B$12=\"Executive / Elected Official\",\"Executive\",(VLOOKUP($V$3,CalRefs!$A$3:$D$5,4))),\"\")","v":""},0,0,0]
[null,"Interpersonal Skills (‡)",0,"",{"v":0,"d":"0.0"},"","","",{"v":0,"d":"0.00"},0,1,1,"","",0,0,-1,0,-1,0,"","",{"$f":"IFERROR((VLOOKUP($U171,CalRefs!$A$3:$D$5,4)),\"\")","v":""},"Does Not Map",{"$f":"IFERROR(IF(Input!$B$12=\"Executive / Elected Official\",\"Executive\",(VLOOKUP($V$3,CalRefs!$A$3:$D$5,4))),\"\")","v":""},0,0,0]
[null,"IT Modeling and Simulation",0,"",{"v":0,"d":"0.0"},"","","",{"v":0,"d":"0.00"},0,1,1,"","",0,0,-1,0,-1,0,"","",{"$f":"IFERROR((VLOOKUP($U172,CalRefs!$A$3:$D$5,4)),\"\")","v":""},"Does Not Map",{"$f":"IFERROR(IF(Input!$B$12=\"Executive / Elected Official\",\"Executive\",(VLOOKUP($V$3,CalRefs!$A$3:$D$5,4))),\"\")","v":""},0,0,0]
[null,"Knowledge Management",0,"",{"v":0,"d":"0.0"},"","","",{"v":0,"d":"0.00"},0,1,1,"","",0,0,-1,0,-1,0,"","",{"$f":"IFERROR((VLOOKUP($U173,CalRefs!$A$3:$D$5,4)),\"\")","v":""},"Does Not Map",{"$f":"IFERROR(IF(Input!$B$12=\"Executive / Elected Official\",\"Executive\",(VLOOKUP($V$3,CalRefs!$A$3:$D$5,4))),\"\")","v":""},0,0,0]
[null,"Labor Law",0,"",{"v":0,"d":"0.0"},"","","",{"v":0,"d":"0.00"},0,1,1,"","",0,0,-1,0,-1,0,"","",{"$f":"IFERROR((VLOOKUP($U174,CalRefs!$A$3:$D$5,4)),\"\")","v":""},"Does Not Map",{"$f":"IFERROR(IF(Input!$B$12=\"Executive / Elected Official\",\"Executive\",(VLOOKUP($V$3,CalRefs!$A$3:$D$5,4))),\"\")","v":""},0,0,0]
[null,"Labor Relations",0,"",{"v":0,"d":"0.0"},"","","",{"v":0,"d":"0.00"},0,1,1,"","",0,0,-1,0,-1,0,"","",{"$f":"IFERROR((VLOOKUP($U175,CalRefs!$A$3:$D$5,4)),\"\")","v":""},"Does Not Map",{"$f":"IFERROR(IF(Input!$B$12=\"Executive / Elected Official\",\"Executive\",(VLOOKUP($V$3,CalRefs!$A$3:$D$5,4))),\"\")","v":""},0,0,0]
[null,"Landscape Architecture",0,"",{"v":0,"d":"0.0"},"","","",{"v":0,"d":"0.00"},0,1,1,"","",0,0,-1,0,-1,0,"","",{"$f":"IFERROR((VLOOKUP($U176,CalRefs!$A$3:$D$5,4)),\"\")","v":""},"Does Not Map",{"$f":"IFERROR(IF(Input!$B$12=\"Executive / Elected Official\",\"Executive\",(VLOOKUP($V$3,CalRefs!$A$3:$D$5,4))),\"\")","v":""},0,0,0]
[null,"Leadership",0,"",{"v":0,"d":"0.0"},"","","",{"v":0,"d":"0.00"},0,1,1,"","",0,0,-1,0,-1,0,"","",{"$f":"IFERROR((VLOOKUP($U177,CalRefs!$A$3:$D$5,4)),\"\")","v":""},"Does Not Map",{"$f":"IFERROR(IF(Input!$B$12=\"Executive / Elected Official\",\"Executive\",(VLOOKUP($V$3,CalRefs!$A$3:$D$5,4))),\"\")","v":""},0,0,0]
[null,"Learning",0,"",{"v":0,"d":"0.0"},"","","",{"v":0,"d":"0.00"},0,1,1,"","",0,0,-1,0,-1,0,"","",{"$f":"IFERROR((VLOOKUP($U178,CalRefs!$A$3:$D$5,4)),\"\")","v":""},"Does Not Map",{"$f":"IFERROR(IF(Input!$B$12=\"Executive / Elected Official\",\"Executive\",(VLOOKUP($V$3,CalRefs!$A$3:$D$5,4))),\"\")","v":""},0,0,0]
[null,"Legal, Government, and Jurisprudence",0,"",{"v":0,"d":"0.0"},"","","",{"v":0,"d":"0.00"},0,1,1,"","",0,0,-1,0,-1,0,"","",{"$f":"IFERROR((VLOOKUP($U179,CalRefs!$A$3:$D$5,4)),\"\")","v":""},"Does Not Map",{"$f":"IFERROR(IF(Input!$B$12=\"Executive / Elected Official\",\"Executive\",(VLOOKUP($V$3,CalRefs!$A$3:$D$5,4))),\"\")","v":""},0,0,0]
[null,"Leveraging Diversity",0,"",{"v":0,"d":"0.0"},"","","",{"v":0,"d":"0.00"},0,1,1,"","",0,0,-1,0,-1,0,"","",{"$f":"IFERROR((VLOOKUP($U180,CalRefs!$A$3:$D$5,4)),\"\")","v":""},"Does Not Map",{"$f":"IFERROR(IF(Input!$B$12=\"Executive / Elected Official\",\"Executive\",(VLOOKUP($V$3,CalRefs!$A$3:$D$5,4))),\"\")","v":""},0,0,0]
[null,"Life Sciences and Systems",0,"",{"v":0,"d":"0.0"},"","","",{"v":0,"d":"0.00"},0,1,1,"","",0,0,-1,0,-1,0,"","",{"$f":"IFERROR((VLOOKUP($U181,CalRefs!$A$3:$D$5,4)),\"\")","v":""},"Does Not Map",{"$f":"IFERROR(IF(Input!$B$12=\"Executive / Elected Official\",\"Executive\",(VLOOKUP($V$3,CalRefs!$A$3:$D$5,4))),\"\")","v":""},0,0,0]
[null,"Listening",0,"",{"v":0,"d":"0.0"},"","","",{"v":0,"d":"0.00"},0,1,1,"","",0,0,-1,0,-1,0,"","",{"$f":"IFERROR((VLOOKUP($U182,CalRefs!$A$3:$D$5,4)),\"\")","v":""},"Does Not Map",{"$f":"IFERROR(IF(Input!$B$12=\"Executive / Elected Official\",\"Executive\",(VLOOKUP($V$3,CalRefs!$A$3:$D$5,4))),\"\")","v":""},0,0,0]
[null,"Logical Systems Design",0,"",{"v":0,"d":"0.0"},"","","",{"v":0,"d":"0.00"},0,1,1,"","",0,0,-1,0,-1,0,"","",{"$f":"IFERROR((VLOOKUP($U183,CalRefs!$A$3:$D$5,4)),\"\")","v":""},"Does Not Map",{"$f":"IFERROR(IF(Input!$B$12=\"Executive / Elected Official\",\"Executive\",(VLOOKUP($V$3,CalRefs!$A$3:$D$5,4))),\"\")","v":""},0,0,0]
[null,"Manages and Organizes Information",0,"",{"v":0,"d":"0.0"},"","","",{"v":0,"d":"0.00"},0,1,1,"","",0,0,-1,0,-1,0,"","",{"$f":"IFERROR((VLOOKUP($U184,CalRefs!$A$3:$D$5,4)),\"\")","v":""},"Does Not Map",{"$f":"IFERROR(IF(Input!$B$12=\"Executive / Elected Official\",\"Executive\",(VLOOKUP($V$3,CalRefs!$A$3:$D$5,4))),\"\")","v":""},0,0,0]
[null,"Manages Human Resources",0,"",{"v":0,"d":"0.0"},"","","",{"v":0,"d":"0.00"},0,1,1,"","",0,0,-1,0,-1,0,"","",{"$f":"IFERROR((VLOOKUP($U185,CalRefs!$A$3:$D$5,4)),\"\")","v":""},"Does Not Map",{"$f":"IFERROR(IF(Input!$B$12=\"Executive / Elected Official\",\"Executive\",(VLOOKUP($V$3,CalRefs!$A$3:$D$5,4))),\"\")","v":""},0,0,0]
[null,"Manages Resources",0,"",{"v":0,"d":"0.0"},"","","",{"v":0,"d":"0.00"},0,1,1,"","",0,0,-1,0,-1,0,"","",{"$f":"IFERROR((VLOOKUP($U186,CalRefs!$A$3:$D$5,4)),\"\")","v":""},"Does Not Map",{"$f":"IFERROR(IF(Input!$B$12=\"Executive / Elected Official\",\"Executive\",(VLOOKUP($V$3,CalRefs!$A$3:$D$5,4))),\"\")","v":""},0,0,0]
[null,"Managing Human Resources",0,"",{"v":0,"d":"0.0"},"","","",{"v":0,"d":"0.00"},0,1,1,"","",0,0,-1,0,-1,0,"","",{"$f":"IFERROR((VLOOKUP($U187,CalRefs!$A$3:$D$5,4)),\"\")","v":""},"Does Not Map",{"$f":"IFERROR(IF(Input!$B$12=\"Executive / Elected Official\",\"Executive\",(VLOOKUP($V$3,CalRefs!$A$3:$D$5,4))),\"\")","v":""},0,0,0]
[null,"Manufacturing",0,"",{"v":0,"d":"0.0"},"","","",{"v":0,"d":"0.00"},0,1,1,"","",0,0,-1,0,-1,0,"","",{"$f":"IFERROR((VLOOKUP($U188,CalRefs!$A$3:$D$5,4)),\"\")","v":""},"Does Not Map",{"$f":"IFERROR(IF(Input!$B$12=\"Executive / Elected Official\",\"Executive\",(VLOOKUP($V$3,CalRefs!$A$3:$D$5,4))),\"\")","v":""},0,0,0]
[null,"Materials Engineering",0,"",{"v":0,"d":"0.0"},"","","",{"v":0,"d":"0.00"},0,1,1,"","",0,0,-1,0,-1,0,"","",{"$f":"IFERROR((VLOOKUP($U189,CalRefs!$A$3:$D$5,4)),\"\")","v":""},"Does Not Map",{"$f":"IFERROR(IF(Input!$B$12=\"Executive / Elected Official\",\"Executive\",(VLOOKUP($V$3,CalRefs!$A$3:$D$5,4))),\"\")","v":""},0,0,0]
[null,"Mathematical Reasoning",0,"",{"v":0,"d":"0.0"},"","","",{"v":0,"d":"0.00"},0,1,1,"","",0,0,-1,0,-1,0,"","",{"$f":"IFERROR((VLOOKUP($U190,CalRefs!$A$3:$D$5,4)),\"\")","v":""},"Does Not Map",{"$f":"IFERROR(IF(Input!$B$12=\"Executive / Elected Official\",\"Executive\",(VLOOKUP($V$3,CalRefs!$A$3:$D$5,4))),\"\")","v":""},0,0,0]
[null,"Measurement and Instrumentation",0,"",{"v":0,"d":"0.0"},"","","",{"v":0,"d":"0.00"},0,1,1,"","",0,0,-1,0,-1,0,"","",{"$f":"IFERROR((VLOOKUP($U191,CalRefs!$A$3:$D$5,4)),\"\")","v":""},"Does Not Map",{"$f":"IFERROR(IF(Input!$B$12=\"Executive / Elected Official\",\"Executive\",(VLOOKUP($V$3,CalRefs!$A$3:$D$5,4))),\"\")","v":""},0,0,0]
[null,"Mechanical (*)",0,"",{"v":0,"d":"0.0"},"","","",{"v":0,"d":"0.00"},0,1,1,"","",0,0,-1,0,-1,0,"","",{"$f":"IFERROR((VLOOKUP($U192,CalRefs!$A$3:$D$5,4)),\"\")","v":""},"Does Not Map",{"$f":"IFERROR(IF(Input!$B$12=\"Executive / Elected Official\",\"Executive\",(VLOOKUP($V$3,CalRefs!$A$3:$D$5,4))),\"\")","v":""},0,0,0]
[null,"Mechanical (†)",0,"",{"v":0,"d":"0.0"},"","","",{"v":0,"d":"0.00"},0,1,1,"","",0,0,-1,0,-1,0,"","",{"$f":"IFERROR((VLOOKUP($U193,CalRefs!$A$3:$D$5,4)),\"\")","v":""},"Does Not Map",{"$f":"IFERROR(IF(Input!$B$12=\"Executive / Elected Official\",\"Executive\",(VLOOKUP($V$3,CalRefs!$A$3:$D$5,4))),\"\")","v":""},0,0,0]
[null,"Mechanical Engineering",0,"",{"$f":"SUMIFS(OPM_Complex,OPM_Mosaic,B194)","v":{"v":0,"d":"0.0"}},"","","",{"v":0,"d":"0.00"},0,1,1,"","",0,0,-1,0,-1,0,{"$f":"IFERROR((SUMIFS(OPM_KSA_Total,OPM_Mosaic,$B194)/C194),\"\")","v":""},"",{"$f":"IFERROR((VLOOKUP($U194,CalRefs!$A$3:$D$5,4)),\"\")","v":""},"Does Not Map",{"$f":"IFERROR(IF(Input!$B$12=\"Executive / Elected Official\",\"Executive\",(VLOOKUP($V$3,CalRefs!$A$3:$D$5,4))),\"\")","v":""},{"$f":"IF(ISERROR(Training_Partner),\"\",Training_Partner)","v":0},{"$f":"IF(ISERROR(CourseTitle),\"\",CourseTitle)","v":0},{"$f":"CourseNumber","v":0}]
[null,"Mechanics",{"$f":"IF(ISERROR(COUNTIF(OPM_Mosaic,B195)),\"\",COUNTIF(OPM_Mosaic,B195))","v":0},"",{"v":0,"d":"0.0"},{"$f":"IFERROR(((SUMIFS(OPM_Time,OPM_Mosaic,$B195))/SumCheck),\"\")","v":""},"",{"$f":"IFERROR((INDEX($G$2:$G$327,(MATCH(\"none\",$B$2:$B$327,0)))),\"\")","v":""},{"v":0,"d":"0.00"},0,1,1,"","",0,0,-1,0,-1,0,"","",{"$f":"IFERROR((VLOOKUP($U195,CalRefs!$A$3:$D$5,4)),\"\")","v":""},"Does Not Map",{"$f":"IFERROR(IF(Input!$B$12=\"Executive / Elected Official\",\"Executive\",(VLOOKUP($V$3,CalRefs!$A$3:$D$5,4))),\"\")","v":""},0,0,0]
[null,"Medicine and Dentistry",0,{"$f":"IFERROR((C196/(SUM($C$3:$C$327))),\"\")","v":""},{"v":0,"d":"0.0"},"",{"$f":"IFERROR((($E196*$C196)/SUM($C$3:$C$31)),\"\")","v":""},"",{"$f":"IFERROR((IF(AND(MAX($G$3:$G$35)=H196),LARGE($G$3:$G$35,2),MAX($G$3:$G$35))),\"\")","v":{"v":0,"d":"0.00"}},{"$f":"IFERROR((IF($D196<0.15,1,0)),\"\")","v":0},{"$f":"IFERROR((IF($B196=\"None\",0,1)),\"\")","v":1},{"$f":"IFERROR((IF($D196>=0.15,1,0)),\"\")","v":1},{"$f":"IFERROR((IF($G196*2.5>I196,1,0)),\"\")","v":""},{"$f":"IFERROR((IF(OR(AND(J196=1,$G196*3.5>I196),(AND(M196=0,$G196*3.5>I196)),$G196=I196),1,0)),\"\")","v":""},{"$f":"IFERROR((IF(AND($K196,$L196,$M196=1),1,0)),\"\")","v":0},{"$f":"IFERROR((IF(AND($O196=1,$G196=I196),3,0)),\"\")","v":0},{"$f":"IFERROR((IF(AND($P196=0,$O196=1),1,-1)),\"\")","v":-1},{"$f":"IFERROR((IF(AND(K196,N196=1),1,0)),\"\")","v":0},{"$f":"IFERROR(IF(MAX($G$3:$G$35)=H196,-1,((SUM(R196,P196,Q196)))),\"\")","v":-1},{"$f":"IFERROR((SUMIF($O$3:$O$35,1,$C$3:$C$35)),\"\")","v":0},"",{"$f":"IFERROR((SUMPRODUCT(($O$3:$O$35),($U$3:$U$35),($C$3:$C$35))/T196),\"\")","v":""},{"$f":"IFERROR((VLOOKUP($U196,CalRefs!$A$3:$D$5,4)),\"\")","v":""},{"$f":"IFERROR(IF(OR(MAX($G$3:$G$31)=$H$3,MAX($S$3:$S$31)<>3),\"Does Not Map\",INDEX($B$3:$B$31,MATCH(I196,$G$3:$G$31,0))),\"\")","v":"Does Not Map"},{"$f":"IFERROR(IF(Input!$B$12=\"Executive / Elected Official\",\"Executive\",(VLOOKUP($V$3,CalRefs!$A$3:$D$5,4))),\"\")","v":""},0,0,0]
[null,"Memory",0,"",{"v":0,"d":"0.0"},"","","",{"v":0,"d":"0.00"},0,1,1,"","",0,0,-1,0,-1,0,"","",{"$f":"IFERROR((VLOOKUP($U197,CalRefs!$A$3:$D$5,4)),\"\")","v":""},"Does Not Map",{"$f":"IFERROR(IF(Input!$B$12=\"Executive / Elected Official\",\"Executive\",(VLOOKUP($V$3,CalRefs!$A$3:$D$5,4))),\"\")","v":""},0,0,0]
[null,"Mental Visualization",0,"",{"v":0,"d":"0.0"},"","","",{"v":0,"d":"0.00"},0,1,1,"","",0,0,-1,0,-1,0,"","",{"$f":"IFERROR((VLOOKUP($U198,CalRefs!$A$3:$D$5,4)),\"\")","v":""},"Does Not Map",{"$f":"IFERROR(IF(Input!$B$12=\"Executive / Elected Official\",\"Executive\",(VLOOKUP($V$3,CalRefs!$A$3:$D$5,4))),\"\")","v":""},0,0,0]
[null,"Metal Processing and Metalworking",0,"",{"v":0,"d":"0.0"},"","","",{"v":0,"d":"0.00"},0,1,1,"","",0,0,-1,0,-1,0,"","",{"$f":"IFERROR((VLOOKUP($U199,CalRefs!$A$3:$D$5,4)),\"\")","v":""},"Does Not Map",{"$f":"IFERROR(IF(Input!$B$12=\"Executive / Elected Official\",\"Executive\",(VLOOKUP($V$3,CalRefs!$A$3:$D$5,4))),\"\")","v":""},0,0,0]
[null,"Metallurgy",0,"",{"v":0,"d":"0.0"},"","","",{"v":0,"d":"0.00"},0,1,1,"","",0,0,-1,0,-1,0,"","",{"$f":"IFERROR((VLOOKUP($U200,CalRefs!$A$3:$D$5,4)),\"\")","v":""},"Does Not Map",{"$f":"IFERROR(IF(Input!$B$12=\"Executive / Elected Official\",\"Executive\",(VLOOKUP($V$3,CalRefs!$A$3:$D$5,4))),\"\")","v":""},0,0,0]
[null,"Mine Safety and Health",0,"",{"v":0,"d":"0.0"},"","","",{"v":0,"d":"0.00"},0,1,1,"","",0,0,-1,0,-1,0,"","",{"$f":"IFERROR((VLOOKUP($U201,CalRefs!$A$3:$D$5,4)),\"\")","v":""},"Does Not Map",{"$f":"IFERROR(IF(Input!$B$12=\"Executive / Elected Official\",\"Executive\",(VLOOKUP($V$3,CalRefs!$A$3:$D$5,4))),\"\")","v":""},0,0,0]
[null,"Mining Engineering",0,"",{"v":0,"d":"0.0"},"","","",{"v":0,"d":"0.00"},0,1,1,"","",0,0,-1,0,-1,0,"","",{"$f":"IFERROR((VLOOKUP($U202,CalRefs!$A$3:$D$5,4)),\"\")","v":""},"Does Not Map",{"$f":"IFERROR(IF(Input!$B$12=\"Executive / Elected Official\",\"Executive\",(VLOOKUP($V$3,CalRefs!$A$3:$D$5,4))),\"\")","v":""},0,0,0]
[null,"Modeling and Simulation",0,"",{"v":0,"d":"0.0"},"","","",{"v":0,"d":"0.00"},0,1,1,"","",0,0,-1,0,-1,0,"","",{"$f":"IFERROR((VLOOKUP($U203,CalRefs!$A$3:$D$5,4)),\"\")","v":""},"Does Not Map",{"$f":"IFERROR(IF(Input!$B$12=\"Executive / Elected Official\",\"Executive\",(VLOOKUP($V$3,CalRefs!$A$3:$D$5,4))),\"\")","v":""},0,0,0]
[null,"Multimedia Technologies",0,"",{"v":0,"d":"0.0"},"","","",{"v":0,"d":"0.00"},0,1,1,"","",0,0,-1,0,-1,0,"","",{"$f":"IFERROR((VLOOKUP($U204,CalRefs!$A$3:$D$5,4)),\"\")","v":""},"Does Not Map",{"$f":"IFERROR(IF(Input!$B$12=\"Executive / Elected Official\",\"Executive\",(VLOOKUP($V$3,CalRefs!$A$3:$D$5,4))),\"\")","v":""},0,0,0]
[null,"Negotiation",0,"",{"v":0,"d":"0.0"},"","","",{"v":0,"d":"0.00"},0,1,1,"","",0,0,-1,0,-1,0,"","",{"$f":"IFERROR((VLOOKUP($U205,CalRefs!$A$3:$D$5,4)),\"\")","v":""},"Does Not Map",{"$f":"IFERROR(IF(Input!$B$12=\"Executive / Elected Official\",\"Executive\",(VLOOKUP($V$3,CalRefs!$A$3:$D$5,4))),\"\")","v":""},0,0,0]
[null,"Network Management",0,"",{"v":0,"d":"0.0"},"","","",{"v":0,"d":"0.00"},0,1,1,"","",0,0,-1,0,-1,0,"","",{"$f":"IFERROR((VLOOKUP($U206,CalRefs!$A$3:$D$5,4)),\"\")","v":""},"Does Not Map",{"$f":"IFERROR(IF(Input!$B$12=\"Executive / Elected Official\",\"Executive\",(VLOOKUP($V$3,CalRefs!$A$3:$D$5,4))),\"\")","v":""},0,0,0]
[null,"Nuclear Engineering",0,"",{"v":0,"d":"0.0"},"","","",{"v":0,"d":"0.00"},0,1,1,"","",0,0,-1,0,-1,0,"","",{"$f":"IFERROR((VLOOKUP($U207,CalRefs!$A$3:$D$5,4)),\"\")","v":""},"Does Not Map",{"$f":"IFERROR(IF(Input!$B$12=\"Executive / Elected Official\",\"Executive\",(VLOOKUP($V$3,CalRefs!$A$3:$D$5,4))),\"\")","v":""},0,0,0]
[null,"Nuclear Physics",0,"",{"v":0,"d":"0.0"},"","","",{"v":0,"d":"0.00"},0,1,1,"","",0,0,-1,0,-1,0,"","",{"$f":"IFERROR((VLOOKUP($U208,CalRefs!$A$3:$D$5,4)),\"\")","v":""},"Does Not Map",{"$f":"IFERROR(IF(Input!$B$12=\"Executive / Elected Official\",\"Executive\",(VLOOKUP($V$3,CalRefs!$A$3:$D$5,4))),\"\")","v":""},0,0,0]
[null,"Object Technology",0,"",{"v":0,"d":"0.0"},"","","",{"v":0,"d":"0.00"},0,1,1,"","",0,0,-1,0,-1,0,"","",{"$f":"IFERROR((VLOOKUP($U209,CalRefs!$A$3:$D$5,4)),\"\")","v":""},"Does Not Map",{"$f":"IFERROR(IF(Input!$B$12=\"Executive / Elected Official\",\"Executive\",(VLOOKUP($V$3,CalRefs!$A$3:$D$5,4))),\"\")","v":""},0,0,0]
[null,"Operating Systems",0,"",{"v":0,"d":"0.0"},"","","",{"v":0,"d":"0.00"},0,1,1,"","",0,0,-1,0,-1,0,"","",{"$f":"IFERROR((VLOOKUP($U210,CalRefs!$A$3:$D$5,4)),\"\")","v":""},"Does Not Map",{"$f":"IFERROR(IF(Input!$B$12=\"Executive / Elected Official\",\"Executive\",(VLOOKUP($V$3,CalRefs!$A$3:$D$5,4))),\"\")","v":""},0,0,0]
[null,"Operations",0,"",{"v":0,"d":"0.0"},"","","",{"v":0,"d":"0.00"},0,1,1,"","",0,0,-1,0,-1,0,"","",{"$f":"IFERROR((VLOOKUP($U211,CalRefs!$A$3:$D$5,4)),\"\")","v":""},"Does Not Map",{"$f":"IFERROR(IF(Input!$B$12=\"Executive / Elected Official\",\"Executive\",(VLOOKUP($V$3,CalRefs!$A$3:$D$5,4))),\"\")","v":""},0,0,0]
[null,"Operations Support",0,"",{"v":0,"d":"0.0"},"","","",{"v":0,"d":"0.00"},0,1,1,"","",0,0,-1,0,-1,0,"","",{"$f":"IFERROR((VLOOKUP($U212,CalRefs!$A$3:$D$5,4)),\"\")","v":""},"Does Not Map",{"$f":"IFERROR(IF(Input!$B$12=\"Executive / Elected Official\",\"Executive\",(VLOOKUP($V$3,CalRefs!$A$3:$D$5,4))),\"\")","v":""},0,0,0]
[null,"Oral Communication (*)",0,"",{"v":0,"d":"0.0"},"","","",{"v":0,"d":"0.00"},0,1,1,"","",0,0,-1,0,-1,0,"","",{"$f":"IFERROR((VLOOKUP($U213,CalRefs!$A$3:$D$5,4)),\"\")","v":""},"Does Not Map",{"$f":"IFERROR(IF(Input!$B$12=\"Executive / Elected Official\",\"Executive\",(VLOOKUP($V$3,CalRefs!$A$3:$D$5,4))),\"\")","v":""},0,0,0]
[null,"Oral Communication (‡)",0,"",{"v":0,"d":"0.0"},"","","",{"v":0,"d":"0.00"},0,1,1,"","",0,0,-1,0,-1,0,"","",{"$f":"IFERROR((VLOOKUP($U214,CalRefs!$A$3:$D$5,4)),\"\")","v":""},"Does Not Map",{"$f":"IFERROR(IF(Input!$B$12=\"Executive / Elected Official\",\"Executive\",(VLOOKUP($V$3,CalRefs!$A$3:$D$5,4))),\"\")","v":""},0,0,0]
[null,"Organizational Awareness",0,"",{"v":0,"d":"0.0"},"","","",{"v":0,"d":"0.00"},0,1,1,"","",0,0,-1,0,-1,0,"","",{"$f":"IFERROR((VLOOKUP($U215,CalRefs!$A$3:$D$5,4)),\"\")","v":""},"Does Not Map",{"$f":"IFERROR(IF(Input!$B$12=\"Executive / Elected Official\",\"Executive\",(VLOOKUP($V$3,CalRefs!$A$3:$D$5,4))),\"\")","v":""},0,0,0]
[null,"Organizational Development",0,"",{"v":0,"d":"0.0"},"","","",{"v":0,"d":"0.00"},0,1,1,"","",0,0,-1,0,-1,0,"","",{"$f":"IFERROR((VLOOKUP($U216,CalRefs!$A$3:$D$5,4)),\"\")","v":""},"Does Not Map",{"$f":"IFERROR(IF(Input!$B$12=\"Executive / Elected Official\",\"Executive\",(VLOOKUP($V$3,CalRefs!$A$3:$D$5,4))),\"\")","v":""},0,0,0]
[null,"Organizational Performance Analysis",0,"",{"v":0,"d":"0.0"},"","","",{"v":0,"d":"0.00"},0,1,1,"","",0,0,-1,0,-1,0,"","",{"$f":"IFERROR((VLOOKUP($U217,CalRefs!$A$3:$D$5,4)),\"\")","v":""},"Does Not Map",{"$f":"IFERROR(IF(Input!$B$12=\"Executive / Elected Official\",\"Executive\",(VLOOKUP($V$3,CalRefs!$A$3:$D$5,4))),\"\")","v":""},0,0,0]
[null,"Painting",0,"",{"v":0,"d":"0.0"},"","","",{"v":0,"d":"0.00"},0,1,1,"","",0,0,-1,0,-1,0,"","",{"$f":"IFERROR((VLOOKUP($U218,CalRefs!$A$3:$D$5,4)),\"\")","v":""},"Does Not Map",{"$f":"IFERROR(IF(Input!$B$12=\"Executive / Elected Official\",\"Executive\",(VLOOKUP($V$3,CalRefs!$A$3:$D$5,4))),\"\")","v":""},0,0,0]
[null,"Partnering",0,"",{"v":0,"d":"0.0"},"","","",{"v":0,"d":"0.00"},0,1,1,"","",0,0,-1,0,-1,0,"","",{"$f":"IFERROR((VLOOKUP($U219,CalRefs!$A$3:$D$5,4)),\"\")","v":""},"Does Not Map",{"$f":"IFERROR(IF(Input!$B$12=\"Executive / Elected Official\",\"Executive\",(VLOOKUP($V$3,CalRefs!$A$3:$D$5,4))),\"\")","v":""},0,0,0]
[null,"Pathology",0,"",{"v":0,"d":"0.0"},"","","",{"v":0,"d":"0.00"},0,1,1,"","",0,0,-1,0,-1,0,"","",{"$f":"IFERROR((VLOOKUP($U220,CalRefs!$A$3:$D$5,4)),\"\")","v":""},"Does Not Map",{"$f":"IFERROR(IF(Input!$B$12=\"Executive / Elected Official\",\"Executive\",(VLOOKUP($V$3,CalRefs!$A$3:$D$5,4))),\"\")","v":""},0,0,0]
[null,"Perceptual Speed",0,"",{"v":0,"d":"0.0"},"","","",{"v":0,"d":"0.00"},0,1,1,"","",0,0,-1,0,-1,0,"","",{"$f":"IFERROR((VLOOKUP($U221,CalRefs!$A$3:$D$5,4)),\"\")","v":""},"Does Not Map",{"$f":"IFERROR(IF(Input!$B$12=\"Executive / Elected Official\",\"Executive\",(VLOOKUP($V$3,CalRefs!$A$3:$D$5,4))),\"\")","v":""},0,0,0]
[null,"Performance Management",0,"",{"v":0,"d":"0.0"},"","","",{"v":0,"d":"0.00"},0,1,1,"","",0,0,-1,0,-1,0,"","",{"$f":"IFERROR((VLOOKUP($U222,CalRefs!$A$3:$D$5,4)),\"\")","v":""},"Does Not Map",{"$f":"IFERROR(IF(Input!$B$12=\"Executive / Elected Official\",\"Executive\",(VLOOKUP($V$3,CalRefs!$A$3:$D$5,4))),\"\")","v":""},0,0,0]
[null,"Performance Measurement",0,"",{"v":0,"d":"0.0"},"","","",{"v":0,"d":"0.00"},0,1,1,"","",0,0,-1,0,-1,0,"","",{"$f":"IFERROR((VLOOKUP($U223,CalRefs!$A$3:$D$5,4)),\"\")","v":""},"Does Not Map",{"$f":"IFERROR(IF(Input!$B$12=\"Executive / Elected Official\",\"Executive\",(VLOOKUP($V$3,CalRefs!$A$3:$D$5,4))),\"\")","v":""},0,0,0]
[null,"Peripheral Vision",0,"",{"v":0,"d":"0.0"},"","","",{"v":0,"d":"0.00"},0,1,1,"","",0,0,-1,0,-1,0,"","",{"$f":"IFERROR((VLOOKUP($U224,CalRefs!$A$3:$D$5,4)),\"\")","v":""},"Does Not Map",{"$f":"IFERROR(IF(Input!$B$12=\"Executive / Elected Official\",\"Executive\",(VLOOKUP($V$3,CalRefs!$A$3:$D$5,4))),\"\")","v":""},0,0,0]
[null,"Personnel and Human Resources",0,"",{"v":0,"d":"0.0"},"","","",{"v":0,"d":"0.00"},0,1,1,"","",0,0,-1,0,-1,0,"","",{"$f":"IFERROR((VLOOKUP($U225,CalRefs!$A$3:$D$5,4)),\"\")","v":""},"Does Not Map",{"$f":"IFERROR(IF(Input!$B$12=\"Executive / Elected Official\",\"Executive\",(VLOOKUP($V$3,CalRefs!$A$3:$D$5,4))),\"\")","v":""},0,0,0]
[null,"Personnel Security and Safety",0,"",{"v":0,"d":"0.0"},"","","",{"v":0,"d":"0.00"},0,1,1,"","",0,0,-1,0,-1,0,"","",{"$f":"IFERROR((VLOOKUP($U226,CalRefs!$A$3:$D$5,4)),\"\")","v":""},"Does Not Map",{"$f":"IFERROR(IF(Input!$B$12=\"Executive / Elected Official\",\"Executive\",(VLOOKUP($V$3,CalRefs!$A$3:$D$5,4))),\"\")","v":""},0,0,0]
[null,"Pest Control",0,"",{"v":0,"d":"0.0"},"","","",{"v":0,"d":"0.00"},0,1,1,"","",0,0,-1,0,-1,0,"","",{"$f":"IFERROR((VLOOKUP($U227,CalRefs!$A$3:$D$5,4)),\"\")","v":""},"Does Not Map",{"$f":"IFERROR(IF(Input!$B$12=\"Executive / Elected Official\",\"Executive\",(VLOOKUP($V$3,CalRefs!$A$3:$D$5,4))),\"\")","v":""},0,0,0]
[null,"Petroleum Engineering",0,"",{"v":0,"d":"0.0"},"","","",{"v":0,"d":"0.00"},0,1,1,"","",0,0,-1,0,-1,0,"","",{"$f":"IFERROR((VLOOKUP($U228,CalRefs!$A$3:$D$5,4)),\"\")","v":""},"Does Not Map",{"$f":"IFERROR(IF(Input!$B$12=\"Executive / Elected Official\",\"Executive\",(VLOOKUP($V$3,CalRefs!$A$3:$D$5,4))),\"\")","v":""},0,0,0]
[null,"Philosophy",0,"",{"v":0,"d":"0.0"},"","","",{"v":0,"d":"0.00"},0,1,1,"","",0,0,-1,0,-1,0,"","",{"$f":"IFERROR((VLOOKUP($U229,CalRefs!$A$3:$D$5,4)),\"\")","v":""},"Does Not Map",{"$f":"IFERROR(IF(Input!$B$12=\"Executive / Elected Official\",\"Executive\",(VLOOKUP($V$3,CalRefs!$A$3:$D$5,4))),\"\")","v":""},0,0,0]
[null,"Physical Security",0,"",{"v":0,"d":"0.0"},"","","",{"v":0,"d":"0.00"},0,1,1,"","",0,0,-1,0,-1,0,"","",{"$f":"IFERROR((VLOOKUP($U230,CalRefs!$A$3:$D$5,4)),\"\")","v":""},"Does Not Map",{"$f":"IFERROR(IF(Input!$B$12=\"Executive / Elected Official\",\"Executive\",(VLOOKUP($V$3,CalRefs!$A$3:$D$5,4))),\"\")","v":""},0,0,0]
[null,"Physical Strength",0,"",{"v":0,"d":"0.0"},"","","",{"v":0,"d":"0.00"},0,1,1,"","",0,0,-1,0,-1,0,"","",{"$f":"IFERROR((VLOOKUP($U231,CalRefs!$A$3:$D$5,4)),\"\")","v":""},"Does Not Map",{"$f":"IFERROR(IF(Input!$B$12=\"Executive / Elected Official\",\"Executive\",(VLOOKUP($V$3,CalRefs!$A$3:$D$5,4))),\"\")","v":""},0,0,0]
[null,"Physical Strength and Agility",0,"",{"v":0,"d":"0.0"},"","","",{"v":0,"d":"0.00"},0,1,1,"","",0,0,-1,0,-1,0,"","",{"$f":"IFERROR((VLOOKUP($U232,CalRefs!$A$3:$D$5,4)),\"\")","v":""},"Does Not Map",{"$f":"IFERROR(IF(Input!$B$12=\"Executive / Elected Official\",\"Executive\",(VLOOKUP($V$3,CalRefs!$A$3:$D$5,4))),\"\")","v":""},0,0,0]
[null,"Physics",0,"",{"v":0,"d":"0.0"},"","","",{"v":0,"d":"0.00"},0,1,1,"","",0,0,-1,0,-1,0,"","",{"$f":"IFERROR((VLOOKUP($U233,CalRefs!$A$3:$D$5,4)),\"\")","v":""},"Does Not Map",{"$f":"IFERROR(IF(Input!$B$12=\"Executive / Elected Official\",\"Executive\",(VLOOKUP($V$3,CalRefs!$A$3:$D$5,4))),\"\")","v":""},0,0,0]
[null,"Physical Sciences",0,"",{"v":0,"d":"0.0"},"","","",{"v":0,"d":"0.00"},0,1,1,"","",0,0,-1,0,-1,0,"","",{"$f":"IFERROR((VLOOKUP($U234,CalRefs!$A$3:$D$5,4)),\"\")","v":""},"Does Not Map",{"$f":"IFERROR(IF(Input!$B$12=\"Executive / Elected Official\",\"Executive\",(VLOOKUP($V$3,CalRefs!$A$3:$D$5,4))),\"\")","v":""},0,0,0]
[null,"Planning and Evaluating",0,"",{"v":0,"d":"0.0"},"","","",{"v":0,"d":"0.00"},0,1,1,"","",0,0,-1,0,-1,0,"","",{"$f":"IFERROR((VLOOKUP($U235,CalRefs!$A$3:$D$5,4)),\"\")","v":""},"Does Not Map",{"$f":"IFERROR(IF(Input!$B$12=\"Executive / Elected Official\",\"Executive\",(VLOOKUP($V$3,CalRefs!$A$3:$D$5,4))),\"\")","v":""},0,0,0]
[null,"Plumbing and Pipefitting",0,"",{"v":0,"d":"0.0"},"","","",{"v":0,"d":"0.00"},0,1,1,"","",0,0,-1,0,-1,0,"","",{"$f":"IFERROR((VLOOKUP($U236,CalRefs!$A$3:$D$5,4)),\"\")","v":""},"Does Not Map",{"$f":"IFERROR(IF(Input!$B$12=\"Executive / Elected Official\",\"Executive\",(VLOOKUP($V$3,CalRefs!$A$3:$D$5,4))),\"\")","v":""},0,0,0]
[null,"Political Savvy",0,"",{"v":0,"d":"0.0"},"","","",{"v":0,"d":"0.00"},0,1,1,"","",0,0,-1,0,-1,0,"","",{"$f":"IFERROR((VLOOKUP($U237,CalRefs!$A$3:$D$5,4)),\"\")","v":""},"Does Not Map",{"$f":"IFERROR(IF(Input!$B$12=\"Executive / Elected Official\",\"Executive\",(VLOOKUP($V$3,CalRefs!$A$3:$D$5,4))),\"\")","v":""},0,0,0]
[null,"Principles of Accounting",0,"",{"v":0,"d":"0.0"},"","","",{"v":0,"d":"0.00"},0,1,1,"","",0,0,-1,0,-1,0,"","",{"$f":"IFERROR((VLOOKUP($U238,CalRefs!$A$3:$D$5,4)),\"\")","v":""},"Does Not Map",{"$f":"IFERROR(IF(Input!$B$12=\"Executive / Elected Official\",\"Executive\",(VLOOKUP($V$3,CalRefs!$A$3:$D$5,4))),\"\")","v":""},0,0,0]
[null,"Principles of Finance",0,"",{"v":0,"d":"0.0"},"","","",{"v":0,"d":"0.00"},0,1,1,"","",0,0,-1,0,-1,0,"","",{"$f":"IFERROR((VLOOKUP($U239,CalRefs!$A$3:$D$5,4)),\"\")","v":""},"Does Not Map",{"$f":"IFERROR(IF(Input!$B$12=\"Executive / Elected Official\",\"Executive\",(VLOOKUP($V$3,CalRefs!$A$3:$D$5,4))),\"\")","v":""},0,0,0]
[null,"Problem Solving (*)",0,"",{"v":0,"d":"0.0"},"","","",{"v":0,"d":"0.00"},0,1,1,"","",0,0,-1,0,-1,0,"","",{"$f":"IFERROR((VLOOKUP($U240,CalRefs!$A$3:$D$5,4)),\"\")","v":""},"Does Not Map",{"$f":"IFERROR(IF(Input!$B$12=\"Executive / Elected Official\",\"Executive\",(VLOOKUP($V$3,CalRefs!$A$3:$D$5,4))),\"\")","v":""},0,0,0]
[null,"Problem Solving (‡)",0,"",{"v":0,"d":"0.0"},"","","",{"v":0,"d":"0.00"},0,1,1,"","",0,0,-1,0,-1,0,"","",{"$f":"IFERROR((VLOOKUP($U241,CalRefs!$A$3:$D$5,4)),\"\")","v":""},"Does Not Map",{"$f":"IFERROR(IF(Input!$B$12=\"Executive / Elected Official\",\"Executive\",(VLOOKUP($V$3,CalRefs!$A$3:$D$5,4))),\"\")","v":""},0,0,0]
[null,"Process Control",0,"",{"v":0,"d":"0.0"},"","","",{"v":0,"d":"0.00"},0,1,1,"","",0,0,-1,0,-1,0,"","",{"$f":"IFERROR((VLOOKUP($U242,CalRefs!$A$3:$D$5,4)),\"\")","v":""},"Does Not Map",{"$f":"IFERROR(IF(Input!$B$12=\"Executive / Elected Official\",\"Executive\",(VLOOKUP($V$3,CalRefs!$A$3:$D$5,4))),\"\")","v":""},0,0,0]
[null,"Product Evaluation",0,"",{"v":0,"d":"0.0"},"","","",{"v":0,"d":"0.00"},0,1,1,"","",0,0,-1,0,-1,0,"","",{"$f":"IFERROR((VLOOKUP($U243,CalRefs!$A$3:$D$5,4)),\"\")","v":""},"Does Not Map",{"$f":"IFERROR(IF(Input!$B$12=\"Executive / Elected Official\",\"Executive\",(VLOOKUP($V$3,CalRefs!$A$3:$D$5,4))),\"\")","v":""},0,0,0]
[null,"Production and Processing",0,"",{"v":0,"d":"0.0"},"","","",{"v":0,"d":"0.00"},0,1,1,"","",0,0,-1,0,-1,0,"","",{"$f":"IFERROR((VLOOKUP($U244,CalRefs!$A$3:$D$5,4)),\"\")","v":""},"Does Not Map",{"$f":"IFERROR(IF(Input!$B$12=\"Executive / Elected Official\",\"Executive\",(VLOOKUP($V$3,CalRefs!$A$3:$D$5,4))),\"\")","v":""},0,0,0]
[null,"Project Management",0,"",{"v":0,"d":"0.0"},"","","",{"v":0,"d":"0.00"},0,1,1,"","",0,0,-1,0,-1,0,"","",{"$f":"IFERROR((VLOOKUP($U245,CalRefs!$A$3:$D$5,4)),\"\")","v":""},"Does Not Map",{"$f":"IFERROR(IF(Input!$B$12=\"Executive / Elected Official\",\"Executive\",(VLOOKUP($V$3,CalRefs!$A$3:$D$5,4))),\"\")","v":""},0,0,0]
[null,"Propulsion and Power",0,"",{"v":0,"d":"0.0"},"","","",{"v":0,"d":"0.00"},0,1,1,"","",0,0,-1,0,-1,0,"","",{"$f":"IFERROR((VLOOKUP($U246,CalRefs!$A$3:$D$5,4)),\"\")","v":""},"Does Not Map",{"$f":"IFERROR(IF(Input!$B$12=\"Executive / Elected Official\",\"Executive\",(VLOOKUP($V$3,CalRefs!$A$3:$D$5,4))),\"\")","v":""},0,0,0]
[null,"Psychology",0,"",{"v":0,"d":"0.0"},"","","",{"v":0,"d":"0.00"},0,1,1,"","",0,0,-1,0,-1,0,"","",{"$f":"IFERROR((VLOOKUP($U247,CalRefs!$A$3:$D$5,4)),\"\")","v":""},"Does Not Map",{"$f":"IFERROR(IF(Input!$B$12=\"Executive / Elected Official\",\"Executive\",(VLOOKUP($V$3,CalRefs!$A$3:$D$5,4))),\"\")","v":""},0,0,0]
[null,"Public Planning",0,"",{"v":0,"d":"0.0"},"","","",{"v":0,"d":"0.00"},0,1,1,"","",0,0,-1,0,-1,0,"","",{"$f":"IFERROR((VLOOKUP($U248,CalRefs!$A$3:$D$5,4)),\"\")","v":""},"Does Not Map",{"$f":"IFERROR(IF(Input!$B$12=\"Executive / Elected Official\",\"Executive\",(VLOOKUP($V$3,CalRefs!$A$3:$D$5,4))),\"\")","v":""},0,0,0]
[null,"Public Safety and Security",0,"",{"v":0,"d":"0.0"},"","","",{"v":0,"d":"0.00"},0,1,1,"","",0,0,-1,0,-1,0,"","",{"$f":"IFERROR((VLOOKUP($U249,CalRefs!$A$3:$D$5,4)),\"\")","v":""},"Does Not Map",{"$f":"IFERROR(IF(Input!$B$12=\"Executive / Elected Official\",\"Executive\",(VLOOKUP($V$3,CalRefs!$A$3:$D$5,4))),\"\")","v":""},0,0,0]
[null,"Public Service Motivation",0,"",{"v":0,"d":"0.0"},"","","",{"v":0,"d":"0.00"},0,1,1,"","",0,0,-1,0,-1,0,"","",{"$f":"IFERROR((VLOOKUP($U250,CalRefs!$A$3:$D$5,4)),\"\")","v":""},"Does Not Map",{"$f":"IFERROR(IF(Input!$B$12=\"Executive / Elected Official\",\"Executive\",(VLOOKUP($V$3,CalRefs!$A$3:$D$5,4))),\"\")","v":""},0,0,0]
[null,"Quality Assurance",0,"",{"v":0,"d":"0.0"},"","","",{"v":0,"d":"0.00"},0,1,1,"","",0,0,-1,0,-1,0,"","",{"$f":"IFERROR((VLOOKUP($U251,CalRefs!$A$3:$D$5,4)),\"\")","v":""},"Does Not Map",{"$f":"IFERROR(IF(Input!$B$12=\"Executive / Elected Official\",\"Executive\",(VLOOKUP($V$3,CalRefs!$A$3:$D$5,4))),\"\")","v":""},0,0,0]
[null,"Quality Management",0,"",{"v":0,"d":"0.0"},"","","",{"v":0,"d":"0.00"},0,1,1,"","",0,0,-1,0,-1,0,"","",{"$f":"IFERROR((VLOOKUP($U252,CalRefs!$A$3:$D$5,4)),\"\")","v":""},"Does Not Map",{"$f":"IFERROR(IF(Input!$B$12=\"Executive / Elected Official\",\"Executive\",(VLOOKUP($V$3,CalRefs!$A$3:$D$5,4))),\"\")","v":""},0,0,0]
[null,"Rangeland Management",0,"",{"v":0,"d":"0.0"},"","","",{"v":0,"d":"0.00"},0,1,1,"","",0,0,-1,0,-1,0,"","",{"$f":"IFERROR((VLOOKUP($U253,CalRefs!$A$3:$D$5,4)),\"\")","v":""},"Does Not Map",{"$f":"IFERROR(IF(Input!$B$12=\"Executive / Elected Official\",\"Executive\",(VLOOKUP($V$3,CalRefs!$A$3:$D$5,4))),\"\")","v":""},0,0,0]
[null,"Reading (*)",0,"",{"v":0,"d":"0.0"},"","","",{"v":0,"d":"0.00"},0,1,1,"","",0,0,-1,0,-1,0,"","",{"$f":"IFERROR((VLOOKUP($U254,CalRefs!$A$3:$D$5,4)),\"\")","v":""},"Does Not Map",{"$f":"IFERROR(IF(Input!$B$12=\"Executive / Elected Official\",\"Executive\",(VLOOKUP($V$3,CalRefs!$A$3:$D$5,4))),\"\")","v":""},0,0,0]
[null,"Reading (†)",0,"",{"v":0,"d":"0.0"},"","","",{"v":0,"d":"0.00"},0,1,1,"","",0,0,-1,0,-1,0,"","",{"$f":"IFERROR((VLOOKUP($U255,CalRefs!$A$3:$D$5,4)),\"\")","v":""},"Does Not Map",{"$f":"IFERROR(IF(Input!$B$12=\"Executive / Elected Official\",\"Executive\",(VLOOKUP($V$3,CalRefs!$A$3:$D$5,4))),\"\")","v":""},0,0,0]
[null,"Reading Comprehension",0,"",{"v":0,"d":"0.0"},"","","",{"v":0,"d":"0.00"},0,1,1,"","",0,0,-1,0,-1,0,"","",{"$f":"IFERROR((VLOOKUP($U256,CalRefs!$A$3:$D$5,4)),\"\")","v":""},"Does Not Map",{"$f":"IFERROR(IF(Input!$B$12=\"Executive / Elected Official\",\"Executive\",(VLOOKUP($V$3,CalRefs!$A$3:$D$5,4))),\"\")","v":""},0,0,0]
[null,"Real Estate",0,"",{"v":0,"d":"0.0"},"","","",{"v":0,"d":"0.00"},0,1,1,"","",0,0,-1,0,-1,0,"","",{"$f":"IFERROR((VLOOKUP($U257,CalRefs!$A$3:$D$5,4)),\"\")","v":""},"Does Not Map",{"$f":"IFERROR(IF(Input!$B$12=\"Executive / Elected Official\",\"Executive\",(VLOOKUP($V$3,CalRefs!$A$3:$D$5,4))),\"\")","v":""},0,0,0]
[null,"Reasoning",0,"",{"$f":"SUMIFS(OPM_Complex,OPM_Mosaic,B258)","v":{"v":0,"d":"0.0"}},"","","",{"v":0,"d":"0.00"},0,1,1,"","",0,0,-1,0,-1,0,{"$f":"IFERROR((SUMIFS(OPM_KSA_Total,OPM_Mosaic,$B258)/C258),\"\")","v":""},"",{"$f":"IFERROR((VLOOKUP($U258,CalRefs!$A$3:$D$5,4)),\"\")","v":""},"Does Not Map",{"$f":"IFERROR(IF(Input!$B$12=\"Executive / Elected Official\",\"Executive\",(VLOOKUP($V$3,CalRefs!$A$3:$D$5,4))),\"\")","v":""},{"$f":"IF(ISERROR(Training_Partner),\"\",Training_Partner)","v":0},{"$f":"IF(ISERROR(CourseTitle),\"\",CourseTitle)","v":0},{"$f":"CourseNumber","v":0}]
[null,"Recruitment/Placement",{"$f":"IF(ISERROR(COUNTIF(OPM_Mosaic,B259)),\"\",COUNTIF(OPM_Mosaic,B259))","v":0},"",{"v":0,"d":"0.0"},{"$f":"IFERROR(((SUMIFS(OPM_Time,OPM_Mosaic,$B259))/SumCheck),\"\")","v":""},"",{"$f":"IFERROR((INDEX($G$2:$G$327,(MATCH(\"none\",$B$2:$B$327,0)))),\"\")","v":""},{"v":0,"d":"0.00"},0,1,1,"","",0,0,-1,0,-1,0,"","",{"$f":"IFERROR((VLOOKUP($U259,CalRefs!$A$3:$D$5,4)),\"\")","v":""},"Does Not Map",{"$f":"IFERROR(IF(Input!$B$12=\"Executive / Elected Official\",\"Executive\",(VLOOKUP($V$3,CalRefs!$A$3:$D$5,4))),\"\")","v":""},0,0,0]
[null,"Remote Sensing",0,{"$f":"IFERROR((C260/(SUM($C$3:$C$327))),\"\")","v":""},{"v":0,"d":"0.0"},"",{"$f":"IFERROR((($E260*$C260)/SUM($C$3:$C$31)),\"\")","v":""},"",{"$f":"IFERROR((IF(AND(MAX($G$3:$G$35)=H260),LARGE($G$3:$G$35,2),MAX($G$3:$G$35))),\"\")","v":{"v":0,"d":"0.00"}},{"$f":"IFERROR((IF($D260<0.15,1,0)),\"\")","v":0},{"$f":"IFERROR((IF($B260=\"None\",0,1)),\"\")","v":1},{"$f":"IFERROR((IF($D260>=0.15,1,0)),\"\")","v":1},{"$f":"IFERROR((IF($G260*2.5>I260,1,0)),\"\")","v":""},{"$f":"IFERROR((IF(OR(AND(J260=1,$G260*3.5>I260),(AND(M260=0,$G260*3.5>I260)),$G260=I260),1,0)),\"\")","v":""},{"$f":"IFERROR((IF(AND($K260,$L260,$M260=1),1,0)),\"\")","v":0},{"$f":"IFERROR((IF(AND($O260=1,$G260=I260),3,0)),\"\")","v":0},{"$f":"IFERROR((IF(AND($P260=0,$O260=1),1,-1)),\"\")","v":-1},{"$f":"IFERROR((IF(AND(K260,N260=1),1,0)),\"\")","v":0},{"$f":"IFERROR(IF(MAX($G$3:$G$35)=H260,-1,((SUM(R260,P260,Q260)))),\"\")","v":-1},{"$f":"IFERROR((SUMIF($O$3:$O$35,1,$C$3:$C$35)),\"\")","v":0},"",{"$f":"IFERROR((SUMPRODUCT(($O$3:$O$35),($U$3:$U$35),($C$3:$C$35))/T260),\"\")","v":""},{"$f":"IFERROR((VLOOKUP($U260,CalRefs!$A$3:$D$5,4)),\"\")","v":""},{"$f":"IFERROR(IF(OR(MAX($G$3:$G$31)=$H$3,MAX($S$3:$S$31)<>3),\"Does Not Map\",INDEX($B$3:$B$31,MATCH(I260,$G$3:$G$31,0))),\"\")","v":"Does Not Map"},{"$f":"IFERROR(IF(Input!$B$12=\"Executive / Elected Official\",\"Executive\",(VLOOKUP($V$3,CalRefs!$A$3:$D$5,4))),\"\")","v":""},0,0,0]
[null,"Requirements Analysis",0,"",{"v":0,"d":"0.0"},"","","",{"v":0,"d":"0.00"},0,1,1,"","",0,0,-1,0,-1,0,"","",{"$f":"IFERROR((VLOOKUP($U261,CalRefs!$A$3:$D$5,4)),\"\")","v":""},"Does Not Map",{"$f":"IFERROR(IF(Input!$B$12=\"Executive / Elected Official\",\"Executive\",(VLOOKUP($V$3,CalRefs!$A$3:$D$5,4))),\"\")","v":""},0,0,0]
[null,"Research",0,"",{"v":0,"d":"0.0"},"","","",{"v":0,"d":"0.00"},0,1,1,"","",0,0,-1,0,-1,0,"","",{"$f":"IFERROR((VLOOKUP($U262,CalRefs!$A$3:$D$5,4)),\"\")","v":""},"Does Not Map",{"$f":"IFERROR(IF(Input!$B$12=\"Executive / Elected Official\",\"Executive\",(VLOOKUP($V$3,CalRefs!$A$3:$D$5,4))),\"\")","v":""},0,0,0]
[null,"Resilience",0,"",{"v":0,"d":"0.0"},"","","",{"v":0,"d":"0.00"},0,1,1,"","",0,0,-1,0,-1,0,"","",{"$f":"IFERROR((VLOOKUP($U263,CalRefs!$A$3:$D$5,4)),\"\")","v":""},"Does Not Map",{"$f":"IFERROR(IF(Input!$B$12=\"Executive / Elected Official\",\"Executive\",(VLOOKUP($V$3,CalRefs!$A$3:$D$5,4))),\"\")","v":""},0,0,0]
[null,"Restraint and Self-defense",0,"",{"v":0,"d":"0.0"},"","","",{"v":0,"d":"0.00"},0,1,1,"","",0,0,-1,0,-1,0,"","",{"$f":"IFERROR((VLOOKUP($U264,CalRefs!$A$3:$D$5,4)),\"\")","v":""},"Does Not Map",{"$f":"IFERROR(IF(Input!$B$12=\"Executive / Elected Official\",\"Executive\",(VLOOKUP($V$3,CalRefs!$A$3:$D$5,4))),\"\")","v":""},0,0,0]
[null,"Risk Management",0,"",{"v":0,"d":"0.0"},"","","",{"v":0,"d":"0.00"},0,1,1,"","",0,0,-1,0,-1,0,"","",{"$f":"IFERROR((VLOOKUP($U265,CalRefs!$A$3:$D$5,4)),\"\")","v":""},"Does Not Map",{"$f":"IFERROR(IF(Input!$B$12=\"Executive / Elected Official\",\"Executive\",(VLOOKUP($V$3,CalRefs!$A$3:$D$5,4))),\"\")","v":""},0,0,0]
[null,"Road Work and Pavement",0,"",{"v":0,"d":"0.0"},"","","",{"v":0,"d":"0.00"},0,1,1,"","",0,0,-1,0,-1,0,"","",{"$f":"IFERROR((VLOOKUP($U266,CalRefs!$A$3:$D$5,4)),\"\")","v":""},"Does Not Map",{"$f":"IFERROR(IF(Input!$B$12=\"Executive / Elected Official\",\"Executive\",(VLOOKUP($V$3,CalRefs!$A$3:$D$5,4))),\"\")","v":""},0,0,0]
[null,"Safety Engineering",0,"",{"v":0,"d":"0.0"},"","","",{"v":0,"d":"0.00"},0,1,1,"","",0,0,-1,0,-1,0,"","",{"$f":"IFERROR((VLOOKUP($U267,CalRefs!$A$3:$D$5,4)),\"\")","v":""},"Does Not Map",{"$f":"IFERROR(IF(Input!$B$12=\"Executive / Elected Official\",\"Executive\",(VLOOKUP($V$3,CalRefs!$A$3:$D$5,4))),\"\")","v":""},0,0,0]
[null,"Sales and Marketing",0,"",{"v":0,"d":"0.0"},"","","",{"v":0,"d":"0.00"},0,1,1,"","",0,0,-1,0,-1,0,"","",{"$f":"IFERROR((VLOOKUP($U268,CalRefs!$A$3:$D$5,4)),\"\")","v":""},"Does Not Map",{"$f":"IFERROR(IF(Input!$B$12=\"Executive / Elected Official\",\"Executive\",(VLOOKUP($V$3,CalRefs!$A$3:$D$5,4))),\"\")","v":""},0,0,0]
[null,"Search",0,"",{"v":0,"d":"0.0"},"","","",{"v":0,"d":"0.00"},0,1,1,"","",0,0,-1,0,-1,0,"","",{"$f":"IFERROR((VLOOKUP($U269,CalRefs!$A$3:$D$5,4)),\"\")","v":""},"Does Not Map",{"$f":"IFERROR(IF(Input!$B$12=\"Executive / Elected Official\",\"Executive\",(VLOOKUP($V$3,CalRefs!$A$3:$D$5,4))),\"\")","v":""},0,0,0]
[null,"Security",0,"",{"v":0,"d":"0.0"},"","","",{"v":0,"d":"0.00"},0,1,1,"","",0,0,-1,0,-1,0,"","",{"$f":"IFERROR((VLOOKUP($U270,CalRefs!$A$3:$D$5,4)),\"\")","v":""},"Does Not Map",{"$f":"IFERROR(IF(Input!$B$12=\"Executive / Elected Official\",\"Executive\",(VLOOKUP($V$3,CalRefs!$A$3:$D$5,4))),\"\")","v":""},0,0,0]
[null,"Seizure",0,"",{"v":0,"d":"0.0"},"","","",{"v":0,"d":"0.00"},0,1,1,"","",0,0,-1,0,-1,0,"","",{"$f":"IFERROR((VLOOKUP($U271,CalRefs!$A$3:$D$5,4)),\"\")","v":""},"Does Not Map",{"$f":"IFERROR(IF(Input!$B$12=\"Executive / Elected Official\",\"Executive\",(VLOOKUP($V$3,CalRefs!$A$3:$D$5,4))),\"\")","v":""},0,0,0]
[null,"Self-Esteem (*)",0,"",{"v":0,"d":"0.0"},"","","",{"v":0,"d":"0.00"},0,1,1,"","",0,0,-1,0,-1,0,"","",{"$f":"IFERROR((VLOOKUP($U272,CalRefs!$A$3:$D$5,4)),\"\")","v":""},"Does Not Map",{"$f":"IFERROR(IF(Input!$B$12=\"Executive / Elected Official\",\"Executive\",(VLOOKUP($V$3,CalRefs!$A$3:$D$5,4))),\"\")","v":""},0,0,0]
[null,"Self-Esteem (†)",0,"",{"v":0,"d":"0.0"},"","","",{"v":0,"d":"0.00"},0,1,1,"","",0,0,-1,0,-1,0,"","",{"$f":"IFERROR((VLOOKUP($U273,CalRefs!$A$3:$D$5,4)),\"\")","v":""},"Does Not Map",{"$f":"IFERROR(IF(Input!$B$12=\"Executive / Elected Official\",\"Executive\",(VLOOKUP($V$3,CalRefs!$A$3:$D$5,4))),\"\")","v":""},0,0,0]
[null,"Self-Management",0,"",{"v":0,"d":"0.0"},"","","",{"v":0,"d":"0.00"},0,1,1,"","",0,0,-1,0,-1,0,"","",{"$f":"IFERROR((VLOOKUP($U274,CalRefs!$A$3:$D$5,4)),\"\")","v":""},"Does Not Map",{"$f":"IFERROR(IF(Input!$B$12=\"Executive / Elected Official\",\"Executive\",(VLOOKUP($V$3,CalRefs!$A$3:$D$5,4))),\"\")","v":""},0,0,0]
[null,"Sociology and Anthropology",0,"",{"v":0,"d":"0.0"},"","","",{"v":0,"d":"0.00"},0,1,1,"","",0,0,-1,0,-1,0,"","",{"$f":"IFERROR((VLOOKUP($U275,CalRefs!$A$3:$D$5,4)),\"\")","v":""},"Does Not Map",{"$f":"IFERROR(IF(Input!$B$12=\"Executive / Elected Official\",\"Executive\",(VLOOKUP($V$3,CalRefs!$A$3:$D$5,4))),\"\")","v":""},0,0,0]
[null,"Software Development",0,"",{"v":0,"d":"0.0"},"","","",{"v":0,"d":"0.00"},0,1,1,"","",0,0,-1,0,-1,0,"","",{"$f":"IFERROR((VLOOKUP($U276,CalRefs!$A$3:$D$5,4)),\"\")","v":""},"Does Not Map",{"$f":"IFERROR(IF(Input!$B$12=\"Executive / Elected Official\",\"Executive\",(VLOOKUP($V$3,CalRefs!$A$3:$D$5,4))),\"\")","v":""},0,0,0]
[null,"Software Engineering",0,"",{"v":0,"d":"0.0"},"","","",{"v":0,"d":"0.00"},0,1,1,"","",0,0,-1,0,-1,0,"","",{"$f":"IFERROR((VLOOKUP($U277,CalRefs!$A$3:$D$5,4)),\"\")","v":""},"Does Not Map",{"$f":"IFERROR(IF(Input!$B$12=\"Executive / Elected Official\",\"Executive\",(VLOOKUP($V$3,CalRefs!$A$3:$D$5,4))),\"\")","v":""},0,0,0]
[null,"Software Testing and Evaluation",0,"",{"v":0,"d":"0.0"},"","","",{"v":0,"d":"0.00"},0,1,1,"","",0,0,-1,0,-1,0,"","",{"$f":"IFERROR((VLOOKUP($U278,CalRefs!$A$3:$D$5,4)),\"\")","v":""},"Does Not Map",{"$f":"IFERROR(IF(Input!$B$12=\"Executive / Elected Official\",\"Executive\",(VLOOKUP($V$3,CalRefs!$A$3:$D$5,4))),\"\")","v":""},0,0,0]
[null,"Soil Science",0,"",{"v":0,"d":"0.0"},"","","",{"v":0,"d":"0.00"},0,1,1,"","",0,0,-1,0,-1,0,"","",{"$f":"IFERROR((VLOOKUP($U279,CalRefs!$A$3:$D$5,4)),\"\")","v":""},"Does Not Map",{"$f":"IFERROR(IF(Input!$B$12=\"Executive / Elected Official\",\"Executive\",(VLOOKUP($V$3,CalRefs!$A$3:$D$5,4))),\"\")","v":""},0,0,0]
[null,"Space Science",0,"",{"v":0,"d":"0.0"},"","","",{"v":0,"d":"0.00"},0,1,1,"","",0,0,-1,0,-1,0,"","",{"$f":"IFERROR((VLOOKUP($U280,CalRefs!$A$3:$D$5,4)),\"\")","v":""},"Does Not Map",{"$f":"IFERROR(IF(Input!$B$12=\"Executive / Elected Official\",\"Executive\",(VLOOKUP($V$3,CalRefs!$A$3:$D$5,4))),\"\")","v":""},0,0,0]
[null,"Spatial Orientation",0,"",{"v":0,"d":"0.0"},"","","",{"v":0,"d":"0.00"},0,1,1,"","",0,0,-1,0,-1,0,"","",{"$f":"IFERROR((VLOOKUP($U281,CalRefs!$A$3:$D$5,4)),\"\")","v":""},"Does Not Map",{"$f":"IFERROR(IF(Input!$B$12=\"Executive / Elected Official\",\"Executive\",(VLOOKUP($V$3,CalRefs!$A$3:$D$5,4))),\"\")","v":""},0,0,0]
[null,"Speaking",0,"",{"v":0,"d":"0.0"},"","","",{"v":0,"d":"0.00"},0,1,1,"","",0,0,-1,0,-1,0,"","",{"$f":"IFERROR((VLOOKUP($U282,CalRefs!$A$3:$D$5,4)),\"\")","v":""},"Does Not Map",{"$f":"IFERROR(IF(Input!$B$12=\"Executive / Elected Official\",\"Executive\",(VLOOKUP($V$3,CalRefs!$A$3:$D$5,4))),\"\")","v":""},0,0,0]
[null,"Stakeholder Management",0,"",{"v":0,"d":"0.0"},"","","",{"v":0,"d":"0.00"},0,1,1,"","",0,0,-1,0,-1,0,"","",{"$f":"IFERROR((VLOOKUP($U283,CalRefs!$A$3:$D$5,4)),\"\")","v":""},"Does Not Map",{"$f":"IFERROR(IF(Input!$B$12=\"Executive / Elected Official\",\"Executive\",(VLOOKUP($V$3,CalRefs!$A$3:$D$5,4))),\"\")","v":""},0,0,0]
[null,"Stamina (*)",0,"",{"v":0,"d":"0.0"},"","","",{"v":0,"d":"0.00"},0,1,1,"","",0,0,-1,0,-1,0,"","",{"$f":"IFERROR((VLOOKUP($U284,CalRefs!$A$3:$D$5,4)),\"\")","v":""},"Does Not Map",{"$f":"IFERROR(IF(Input!$B$12=\"Executive / Elected Official\",\"Executive\",(VLOOKUP($V$3,CalRefs!$A$3:$D$5,4))),\"\")","v":""},0,0,0]
[null,"Stamina (†)",0,"",{"v":0,"d":"0.0"},"","","",{"v":0,"d":"0.00"},0,1,1,"","",0,0,-1,0,-1,0,"","",{"$f":"IFERROR((VLOOKUP($U285,CalRefs!$A$3:$D$5,4)),\"\")","v":""},"Does Not Map",{"$f":"IFERROR(IF(Input!$B$12=\"Executive / Elected Official\",\"Executive\",(VLOOKUP($V$3,CalRefs!$A$3:$D$5,4))),\"\")","v":""},0,0,0]
[null,"Standards",0,"",{"v":0,"d":"0.0"},"","","",{"v":0,"d":"0.00"},0,1,1,"","",0,0,-1,0,-1,0,"","",{"$f":"IFERROR((VLOOKUP($U286,CalRefs!$A$3:$D$5,4)),\"\")","v":""},"Does Not Map",{"$f":"IFERROR(IF(Input!$B$12=\"Executive / Elected Official\",\"Executive\",(VLOOKUP($V$3,CalRefs!$A$3:$D$5,4))),\"\")","v":""},0,0,0]
[null,"Strategic Thinking (‡)",0,"",{"v":0,"d":"0.0"},"","","",{"v":0,"d":"0.00"},0,1,1,"","",0,0,-1,0,-1,0,"","",{"$f":"IFERROR((VLOOKUP($U287,CalRefs!$A$3:$D$5,4)),\"\")","v":""},"Does Not Map",{"$f":"IFERROR(IF(Input!$B$12=\"Executive / Elected Official\",\"Executive\",(VLOOKUP($V$3,CalRefs!$A$3:$D$5,4))),\"\")","v":""},0,0,0]
[null,"Strategic Thinking (*)",0,"",{"v":0,"d":"0.0"},"","","",{"v":0,"d":"0.00"},0,1,1,"","",0,0,-1,0,-1,0,"","",{"$f":"IFERROR((VLOOKUP($U288,CalRefs!$A$3:$D$5,4)),\"\")","v":""},"Does Not Map",{"$f":"IFERROR(IF(Input!$B$12=\"Executive / Elected Official\",\"Executive\",(VLOOKUP($V$3,CalRefs!$A$3:$D$5,4))),\"\")","v":""},0,0,0]
[null,"Stress Tolerance",0,"",{"v":0,"d":"0.0"},"","","",{"v":0,"d":"0.00"},0,1,1,"","",0,0,-1,0,-1,0,"","",{"$f":"IFERROR((VLOOKUP($U289,CalRefs!$A$3:$D$5,4)),\"\")","v":""},"Does Not Map",{"$f":"IFERROR(IF(Input!$B$12=\"Executive / Elected Official\",\"Executive\",(VLOOKUP($V$3,CalRefs!$A$3:$D$5,4))),\"\")","v":""},0,0,0]
[null,"Structural Engineering",0,"",{"v":0,"d":"0.0"},"","","",{"v":0,"d":"0.00"},0,1,1,"","",0,0,-1,0,-1,0,"","",{"$f":"IFERROR((VLOOKUP($U290,CalRefs!$A$3:$D$5,4)),\"\")","v":""},"Does Not Map",{"$f":"IFERROR(IF(Input!$B$12=\"Executive / Elected Official\",\"Executive\",(VLOOKUP($V$3,CalRefs!$A$3:$D$5,4))),\"\")","v":""},0,0,0]
[null,"Surveillance",0,"",{"v":0,"d":"0.0"},"","","",{"v":0,"d":"0.00"},0,1,1,"","",0,0,-1,0,-1,0,"","",{"$f":"IFERROR((VLOOKUP($U291,CalRefs!$A$3:$D$5,4)),\"\")","v":""},"Does Not Map",{"$f":"IFERROR(IF(Input!$B$12=\"Executive / Elected Official\",\"Executive\",(VLOOKUP($V$3,CalRefs!$A$3:$D$5,4))),\"\")","v":""},0,0,0]
[null,"Surveying",0,"",{"v":0,"d":"0.0"},"","","",{"v":0,"d":"0.00"},0,1,1,"","",0,0,-1,0,-1,0,"","",{"$f":"IFERROR((VLOOKUP($U292,CalRefs!$A$3:$D$5,4)),\"\")","v":""},"Does Not Map",{"$f":"IFERROR(IF(Input!$B$12=\"Executive / Elected Official\",\"Executive\",(VLOOKUP($V$3,CalRefs!$A$3:$D$5,4))),\"\")","v":""},0,0,0]
[null,"Systems Engineering",0,"",{"v":0,"d":"0.0"},"","","",{"v":0,"d":"0.00"},0,1,1,"","",0,0,-1,0,-1,0,"","",{"$f":"IFERROR((VLOOKUP($U293,CalRefs!$A$3:$D$5,4)),\"\")","v":""},"Does Not Map",{"$f":"IFERROR(IF(Input!$B$12=\"Executive / Elected Official\",\"Executive\",(VLOOKUP($V$3,CalRefs!$A$3:$D$5,4))),\"\")","v":""},0,0,0]
[null,"Systems Integration",0,"",{"v":0,"d":"0.0"},"","","",{"v":0,"d":"0.00"},0,1,1,"","",0,0,-1,0,-1,0,"","",{"$f":"IFERROR((VLOOKUP($U294,CalRefs!$A$3:$D$5,4)),\"\")","v":""},"Does Not Map",{"$f":"IFERROR(IF(Input!$B$12=\"Executive / Elected Official\",\"Executive\",(VLOOKUP($V$3,CalRefs!$A$3:$D$5,4))),\"\")","v":""},0,0,0]
[null,"Systems Life Cycle",0,"",{"v":0,"d":"0.0"},"","","",{"v":0,"d":"0.00"},0,1,1,"","",0,0,-1,0,-1,0,"","",{"$f":"IFERROR((VLOOKUP($U295,CalRefs!$A$3:$D$5,4)),\"\")","v":""},"Does Not Map",{"$f":"IFERROR(IF(Input!$B$12=\"Executive / Elected Official\",\"Executive\",(VLOOKUP($V$3,CalRefs!$A$3:$D$5,4))),\"\")","v":""},0,0,0]
[null,"Systems Testing and Evaluation",0,"",{"v":0,"d":"0.0"},"","","",{"v":0,"d":"0.00"},0,1,1,"","",0,0,-1,0,-1,0,"","",{"$f":"IFERROR((VLOOKUP($U296,CalRefs!$A$3:$D$5,4)),\"\")","v":""},"Does Not Map",{"$f":"IFERROR(IF(Input!$B$12=\"Executive / Elected Official\",\"Executive\",(VLOOKUP($V$3,CalRefs!$A$3:$D$5,4))),\"\")","v":""},0,0,0]
[null,"Tax Law",0,"",{"v":0,"d":"0.0"},"","","",{"v":0,"d":"0.00"},0,1,1,"","",0,0,-1,0,-1,0,"","",{"$f":"IFERROR((VLOOKUP($U297,CalRefs!$A$3:$D$5,4)),\"\")","v":""},"Does Not Map",{"$f":"IFERROR(IF(Input!$B$12=\"Executive / Elected Official\",\"Executive\",(VLOOKUP($V$3,CalRefs!$A$3:$D$5,4))),\"\")","v":""},0,0,0]
[null,"Teaches Others",0,"",{"v":0,"d":"0.0"},"","","",{"v":0,"d":"0.00"},0,1,1,"","",0,0,-1,0,-1,0,"","",{"$f":"IFERROR((VLOOKUP($U298,CalRefs!$A$3:$D$5,4)),\"\")","v":""},"Does Not Map",{"$f":"IFERROR(IF(Input!$B$12=\"Executive / Elected Official\",\"Executive\",(VLOOKUP($V$3,CalRefs!$A$3:$D$5,4))),\"\")","v":""},0,0,0]
[null,"Teaching Others",0,"",{"v":0,"d":"0.0"},"","","",{"v":0,"d":"0.00"},0,1,1,"","",0,0,-1,0,-1,0,"","",{"$f":"IFERROR((VLOOKUP($U299,CalRefs!$A$3:$D$5,4)),\"\")","v":""},"Does Not Map",{"$f":"IFERROR(IF(Input!$B$12=\"Executive / Elected Official\",\"Executive\",(VLOOKUP($V$3,CalRefs!$A$3:$D$5,4))),\"\")","v":""},0,0,0]
[null,"Team Building",0,"",{"v":0,"d":"0.0"},"","","",{"v":0,"d":"0.00"},0,1,1,"","",0,0,-1,0,-1,0,"","",{"$f":"IFERROR((VLOOKUP($U300,CalRefs!$A$3:$D$5,4)),\"\")","v":""},"Does Not Map",{"$f":"IFERROR(IF(Input!$B$12=\"Executive / Elected Official\",\"Executive\",(VLOOKUP($V$3,CalRefs!$A$3:$D$5,4))),\"\")","v":""},0,0,0]
[null,"Teamwork",0,"",{"v":0,"d":"0.0"},"","","",{"v":0,"d":"0.00"},0,1,1,"","",0,0,-1,0,-1,0,"","",{"$f":"IFERROR((VLOOKUP($U301,CalRefs!$A$3:$D$5,4)),\"\")","v":""},"Does Not Map",{"$f":"IFERROR(IF(Input!$B$12=\"Executive / Elected Official\",\"Executive\",(VLOOKUP($V$3,CalRefs!$A$3:$D$5,4))),\"\")","v":""},0,0,0]
[null,"Technical Competence",0,"",{"v":0,"d":"0.0"},"","","",{"v":0,"d":"0.00"},0,1,1,"","",0,0,-1,0,-1,0,"","",{"$f":"IFERROR((VLOOKUP($U302,CalRefs!$A$3:$D$5,4)),\"\")","v":""},"Does Not Map",{"$f":"IFERROR(IF(Input!$B$12=\"Executive / Elected Official\",\"Executive\",(VLOOKUP($V$3,CalRefs!$A$3:$D$5,4))),\"\")","v":""},0,0,0]
[null,"Technical Credibility",0,"",{"v":0,"d":"0.0"},"","","",{"v":0,"d":"0.00"},0,1,1,"","",0,0,-1,0,-1,0,"","",{"$f":"IFERROR((VLOOKUP($U303,CalRefs!$A$3:$D$5,4)),\"\")","v":""},"Does Not Map",{"$f":"IFERROR(IF(Input!$B$12=\"Executive / Elected Official\",\"Executive\",(VLOOKUP($V$3,CalRefs!$A$3:$D$5,4))),\"\")","v":""},0,0,0]
[null,"Technical Documentation",0,"",{"v":0,"d":"0.0"},"","","",{"v":0,"d":"0.00"},0,1,1,"","",0,0,-1,0,-1,0,"","",{"$f":"IFERROR((VLOOKUP($U304,CalRefs!$A$3:$D$5,4)),\"\")","v":""},"Does Not Map",{"$f":"IFERROR(IF(Input!$B$12=\"Executive / Elected Official\",\"Executive\",(VLOOKUP($V$3,CalRefs!$A$3:$D$5,4))),\"\")","v":""},0,0,0]
[null,"Technical Problem Solving",0,"",{"v":0,"d":"0.0"},"","","",{"v":0,"d":"0.00"},0,1,1,"","",0,0,-1,0,-1,0,"","",{"$f":"IFERROR((VLOOKUP($U305,CalRefs!$A$3:$D$5,4)),\"\")","v":""},"Does Not Map",{"$f":"IFERROR(IF(Input!$B$12=\"Executive / Elected Official\",\"Executive\",(VLOOKUP($V$3,CalRefs!$A$3:$D$5,4))),\"\")","v":""},0,0,0]
[null,"Technology Application",0,"",{"v":0,"d":"0.0"},"","","",{"v":0,"d":"0.00"},0,1,1,"","",0,0,-1,0,-1,0,"","",{"$f":"IFERROR((VLOOKUP($U306,CalRefs!$A$3:$D$5,4)),\"\")","v":""},"Does Not Map",{"$f":"IFERROR(IF(Input!$B$12=\"Executive / Elected Official\",\"Executive\",(VLOOKUP($V$3,CalRefs!$A$3:$D$5,4))),\"\")","v":""},0,0,0]
[null,"Technology Awareness",0,"",{"v":0,"d":"0.0"},"","","",{"v":0,"d":"0.00"},0,1,1,"","",0,0,-1,0,-1,0,"","",{"$f":"IFERROR((VLOOKUP($U307,CalRefs!$A$3:$D$5,4)),\"\")","v":""},"Does Not Map",{"$f":"IFERROR(IF(Input!$B$12=\"Executive / Elected Official\",\"Executive\",(VLOOKUP($V$3,CalRefs!$A$3:$D$5,4))),\"\")","v":""},0,0,0]
[null,"Technology Management",0,"",{"v":0,"d":"0.0"},"","","",{"v":0,"d":"0.00"},0,1,1,"","",0,0,-1,0,-1,0,"","",{"$f":"IFERROR((VLOOKUP($U308,CalRefs!$A$3:$D$5,4)),\"\")","v":""},"Does Not Map",{"$f":"IFERROR(IF(Input!$B$12=\"Executive / Elected Official\",\"Executive\",(VLOOKUP($V$3,CalRefs!$A$3:$D$5,4))),\"\")","v":""},0,0,0]
[null,"Telecommunications",0,"",{"v":0,"d":"0.0"},"","","",{"v":0,"d":"0.00"},0,1,1,"","",0,0,-1,0,-1,0,"","",{"$f":"IFERROR((VLOOKUP($U309,CalRefs!$A$3:$D$5,4)),\"\")","v":""},"Does Not Map",{"$f":"IFERROR(IF(Input!$B$12=\"Executive / Elected Official\",\"Executive\",(VLOOKUP($V$3,CalRefs!$A$3:$D$5,4))),\"\")","v":""},0,0,0]
[null,"Textiles",0,"",{"v":0,"d":"0.0"},"","","",{"v":0,"d":"0.00"},0,1,1,"","",0,0,-1,0,-1,0,"","",{"$f":"IFERROR((VLOOKUP($U310,CalRefs!$A$3:$D$5,4)),\"\")","v":""},"Does Not Map",{"$f":"IFERROR(IF(Input!$B$12=\"Executive / Elected Official\",\"Executive\",(VLOOKUP($V$3,CalRefs!$A$3:$D$5,4))),\"\")","v":""},0,0,0]
[null,"Therapy and Counseling",0,"",{"v":0,"d":"0.0"},"","","",{"v":0,"d":"0.00"},0,1,1,"","",0,0,-1,0,-1,0,"","",{"$f":"IFERROR((VLOOKUP($U311,CalRefs!$A$3:$D$5,4)),\"\")","v":""},"Does Not Map",{"$f":"IFERROR(IF(Input!$B$12=\"Executive / Elected Official\",\"Executive\",(VLOOKUP($V$3,CalRefs!$A$3:$D$5,4))),\"\")","v":""},0,0,0]
[null,"Toolmaking",0,"",{"v":0,"d":"0.0"},"","","",{"v":0,"d":"0.00"},0,1,1,"","",0,0,-1,0,-1,0,"","",{"$f":"IFERROR((VLOOKUP($U312,CalRefs!$A$3:$D$5,4)),\"\")","v":""},"Does Not Map",{"$f":"IFERROR(IF(Input!$B$12=\"Executive / Elected Official\",\"Executive\",(VLOOKUP($V$3,CalRefs!$A$3:$D$5,4))),\"\")","v":""},0,0,0]
[null,"Transportation",0,"",{"v":0,"d":"0.0"},"","","",{"v":0,"d":"0.00"},0,1,1,"","",0,0,-1,0,-1,0,"","",{"$f":"IFERROR((VLOOKUP($U313,CalRefs!$A$3:$D$5,4)),\"\")","v":""},"Does Not Map",{"$f":"IFERROR(IF(Input!$B$12=\"Executive / Elected Official\",\"Executive\",(VLOOKUP($V$3,CalRefs!$A$3:$D$5,4))),\"\")","v":""},0,0,0]
[null,"Transportation Engineering",0,"",{"v":0,"d":"0.0"},"","","",{"v":0,"d":"0.00"},0,1,1,"","",0,0,-1,0,-1,0,"","",{"$f":"IFERROR((VLOOKUP($U314,CalRefs!$A$3:$D$5,4)),\"\")","v":""},"Does Not Map",{"$f":"IFERROR(IF(Input!$B$12=\"Executive / Elected Official\",\"Executive\",(VLOOKUP($V$3,CalRefs!$A$3:$D$5,4))),\"\")","v":""},0,0,0]
[null,"Vehicle Maintenance",0,"",{"v":0,"d":"0.0"},"","","",{"v":0,"d":"0.00"},0,1,1,"","",0,0,-1,0,-1,0,"","",{"$f":"IFERROR((VLOOKUP($U315,CalRefs!$A$3:$D$5,4)),\"\")","v":""},"Does Not Map",{"$f":"IFERROR(IF(Input!$B$12=\"Executive / Elected Official\",\"Executive\",(VLOOKUP($V$3,CalRefs!$A$3:$D$5,4))),\"\")","v":""},0,0,0]
[null,"Vehicle Operation",0,"",{"v":0,"d":"0.0"},"","","",{"v":0,"d":"0.00"},0,1,1,"","",0,0,-1,0,-1,0,"","",{"$f":"IFERROR((VLOOKUP($U316,CalRefs!$A$3:$D$5,4)),\"\")","v":""},"Does Not Map",{"$f":"IFERROR(IF(Input!$B$12=\"Executive / Elected Official\",\"Executive\",(VLOOKUP($V$3,CalRefs!$A$3:$D$5,4))),\"\")","v":""},0,0,0]
[null,"Vision (*)",0,"",{"v":0,"d":"0.0"},"","","",{"v":0,"d":"0.00"},0,1,1,"","",0,0,-1,0,-1,0,"","",{"$f":"IFERROR((VLOOKUP($U317,CalRefs!$A$3:$D$5,4)),\"\")","v":""},"Does Not Map",{"$f":"IFERROR(IF(Input!$B$12=\"Executive / Elected Official\",\"Executive\",(VLOOKUP($V$3,CalRefs!$A$3:$D$5,4))),\"\")","v":""},0,0,0]
[null,"Vision (‡)",0,"",{"v":0,"d":"0.0"},"","","",{"v":0,"d":"0.00"},0,1,1,"","",0,0,-1,0,-1,0,"","",{"$f":"IFERROR((VLOOKUP($U318,CalRefs!$A$3:$D$5,4)),\"\")","v":""},"Does Not Map",{"$f":"IFERROR(IF(Input!$B$12=\"Executive / Elected Official\",\"Executive\",(VLOOKUP($V$3,CalRefs!$A$3:$D$5,4))),\"\")","v":""},0,0,0]
[null,"Visual Color Discrimination",0,"",{"v":0,"d":"0.0"},"","","",{"v":0,"d":"0.00"},0,1,1,"","",0,0,-1,0,-1,0,"","",{"$f":"IFERROR((VLOOKUP($U319,CalRefs!$A$3:$D$5,4)),\"\")","v":""},"Does Not Map",{"$f":"IFERROR(IF(Input!$B$12=\"Executive / Elected Official\",\"Executive\",(VLOOKUP($V$3,CalRefs!$A$3:$D$5,4))),\"\")","v":""},0,0,0]
[null,"Visual Identification",0,"",{"v":0,"d":"0.0"},"","","",{"v":0,"d":"0.00"},0,1,1,"","",0,0,-1,0,-1,0,"","",{"$f":"IFERROR((VLOOKUP($U320,CalRefs!$A$3:$D$5,4)),\"\")","v":""},"Does Not Map",{"$f":"IFERROR(IF(Input!$B$12=\"Executive / Elected Official\",\"Executive\",(VLOOKUP($V$3,CalRefs!$A$3:$D$5,4))),\"\")","v":""},0,0,0]
[null,"Vulnerabilities Assessment",0,"",{"v":0,"d":"0.0"},"","","",{"v":0,"d":"0.00"},0,1,1,"","",0,0,-1,0,-1,0,"","",{"$f":"IFERROR((VLOOKUP($U321,CalRefs!$A$3:$D$5,4)),\"\")","v":""},"Does Not Map",{"$f":"IFERROR(IF(Input!$B$12=\"Executive / Elected Official\",\"Executive\",(VLOOKUP($V$3,CalRefs!$A$3:$D$5,4))),\"\")","v":""},0,0,0]
[null,"Web Technology",0,"",{"$f":"SUMIFS(OPM_Complex,OPM_Mosaic,B322)","v":{"v":0,"d":"0.0"}},"","","",{"v":0,"d":"0.00"},0,1,1,"","",0,0,-1,0,-1,0,{"$f":"IFERROR((SUMIFS(OPM_KSA_Total,OPM_Mosaic,$B322)/C322),\"\")","v":""},"",{"$f":"IFERROR((VLOOKUP($U322,CalRefs!$A$3:$D$5,4)),\"\")","v":""},"Does Not Map",{"$f":"IFERROR(IF(Input!$B$12=\"Executive / Elected Official\",\"Executive\",(VLOOKUP($V$3,CalRefs!$A$3:$D$5,4))),\"\")","v":""},{"$f":"IF(ISERROR(Training_Partner),\"\",Training_Partner)","v":0},{"$f":"IF(ISERROR(CourseTitle),\"\",CourseTitle)","v":0},{"$f":"CourseNumber","v":0}]
[null,"Wildlife Biology",{"$f":"IF(ISERROR(COUNTIF(OPM_Mosaic,B323)),\"\",COUNTIF(OPM_Mosaic,B323))","v":0},"",{"v":0,"d":"0.0"},"","",{"$f":"IFERROR((INDEX($G$2:$G$327,(MATCH(\"none\",$B$2:$B$327,0)))),\"\")","v":""},{"v":0,"d":"0.00"},0,1,1,"","",0,0,-1,0,-1,0,"","",{"$f":"IFERROR((VLOOKUP($U323,CalRefs!$A$3:$D$5,4)),\"\")","v":""},"Does Not Map",{"$f":"IFERROR(IF(Input!$B$12=\"Executive / Elected Official\",\"Executive\",(VLOOKUP($V$3,CalRefs!$A$3:$D$5,4))),\"\")","v":""},0,0,0]
[null,"Workforce Planning",0,{"$f":"IFERROR((C324/(SUM($C$3:$C$327))),\"\")","v":""},{"v":0,"d":"0.0"},"",{"$f":"IFERROR((($E324*$C324)/SUM($C$3:$C$31)),\"\")","v":""},"",{"$f":"IFERROR((IF(AND(MAX($G$3:$G$35)=H324),LARGE($G$3:$G$35,2),MAX($G$3:$G$35))),\"\")","v":{"v":0,"d":"0.00"}},{"$f":"IFERROR((IF($D324<0.15,1,0)),\"\")","v":0},{"$f":"IFERROR((IF($B324=\"None\",0,1)),\"\")","v":1},{"$f":"IFERROR((IF($D324>=0.15,1,0)),\"\")","v":1},{"$f":"IFERROR((IF($G324*2.5>I324,1,0)),\"\")","v":""},{"$f":"IFERROR((IF(OR(AND(J324=1,$G324*3.5>I324),(AND(M324=0,$G324*3.5>I324)),$G324=I324),1,0)),\"\")","v":""},{"$f":"IFERROR((IF(AND($K324,$L324,$M324=1),1,0)),\"\")","v":0},{"$f":"IFERROR((IF(AND($O324=1,$G324=I324),3,0)),\"\")","v":0},{"$f":"IFERROR((IF(AND($P324=0,$O324=1),1,-1)),\"\")","v":-1},{"$f":"IFERROR((IF(AND(K324,N324=1),1,0)),\"\")","v":0},{"$f":"IFERROR(IF(MAX($G$3:$G$35)=H324,-1,((SUM(R324,P324,Q324)))),\"\")","v":-1},{"$f":"IFERROR((SUMIF($O$3:$O$35,1,$C$3:$C$35)),\"\")","v":0},"",{"$f":"IFERROR((SUMPRODUCT(($O$3:$O$35),($U$3:$U$35),($C$3:$C$35))/T324),\"\")","v":""},{"$f":"IFERROR((VLOOKUP($U324,CalRefs!$A$3:$D$5,4)),\"\")","v":""},{"$f":"IFERROR(IF(OR(MAX($G$3:$G$31)=$H$3,MAX($S$3:$S$31)<>3),\"Does Not Map\",INDEX($B$3:$B$31,MATCH(I324,$G$3:$G$31,0))),\"\")","v":"Does Not Map"},{"$f":"IFERROR(IF(Input!$B$12=\"Executive / Elected Official\",\"Executive\",(VLOOKUP($V$3,CalRefs!$A$3:$D$5,4))),\"\")","v":""},0,0,0]
[null,"Writing (*)",0,"",{"v":0,"d":"0.0"},"","","",{"v":0,"d":"0.00"},0,1,1,"","",0,0,-1,0,-1,0,"","",{"$f":"IFERROR((VLOOKUP($U325,CalRefs!$A$3:$D$5,4)),\"\")","v":""},"Does Not Map",{"$f":"IFERROR(IF(Input!$B$12=\"Executive / Elected Official\",\"Executive\",(VLOOKUP($V$3,CalRefs!$A$3:$D$5,4))),\"\")","v":""},0,0,0]
[null,"Writing (†)",0,"",{"v":0,"d":"0.0"},"","","",{"v":0,"d":"0.00"},0,1,1,"","",0,0,-1,0,-1,0,"","",{"$f":"IFERROR((VLOOKUP($U326,CalRefs!$A$3:$D$5,4)),\"\")","v":""},"Does Not Map",{"$f":"IFERROR(IF(Input!$B$12=\"Executive / Elected Official\",\"Executive\",(VLOOKUP($V$3,CalRefs!$A$3:$D$5,4))),\"\")","v":""},0,0,0]
[null,"Written Communication",0,"",{"v":0,"d":"0.0"},"","","",{"v":0,"d":"0.00"},0,1,1,"","",0,0,-1,0,-1,0,"","",{"$f":"IFERROR((VLOOKUP($U327,CalRefs!$A$3:$D$5,4)),\"\")","v":""},"Does Not Map",{"$f":"IFERROR(IF(Input!$B$12=\"Executive / Elected Official\",\"Executive\",(VLOOKUP($V$3,CalRefs!$A$3:$D$5,4))),\"\")","v":""},0,0,0]

{"sheet":"Data - FSD","index":14,"n_rows":30,"n_cols":28,"rows_kept":30,"hidden":true,"merged":[[34,3,34,6],[36,3,36,5]]}
["FSD Icon","Federal Statue - Doctrine","Number of EOs by FSD","Percent of EO by FSD","EO Complexity by FSD","Percent of Class Time by FSD","Weighted Average EO Complexity","Value of None FSD Weighted Complexity","Max Complexity Value","LT 15% Content","None Rule","GT 15% Rule","2.5x Rule","3.5x Flag","Mapped FSD","Primary FSD","Secondary FSD","Flag FSD","FSD Icon Alert","Number of Mapped EOs","FSD Avg KSA","Weighted Average KSA of Mapped Federal Statue - Doctrine","Course Level by FSD","Primary OPM","Course Level","Training Provider","Course Title","Course Number"]
[{"$f":"$S$2:$S$30","v":-1},{"$f":"IFERROR(FedStatue[[#This Row],[Federal Statue - Doctrine]],\"   \")","v":"None"},{"$f":"IF(ISERROR(COUNTIF(Doctrine_FSD,B2)),\"\",COUNTIF(Doctrine_FSD,B2))","v":0},{"$f":"IFERROR((C2/(SUM($C$2:$C$30))),\"\")","v":""},{"$f":"IFERROR((SUMIFS(Doctrine_Time,Doctrine_FSD,$B2)),\"\")","v":{"v":0,"d":"0.0"}},{"$f":"IFERROR(((SUMIFS(Doctrine_Time,Doctrine_FSD,$B2))/SumCheck),\"\")","v":""},{"$f":"IFERROR((($E2*$C2)/SUM($C$2:$C$30)),\"\")","v":""},{"$f":"IFERROR((INDEX($G$2:$G$34,(MATCH(\"none\",$B$2:$B$34,0)))),\"\")","v":""},{"$f":"IFERROR((IF(AND(MAX($G$2:$G$34)=H2),LARGE($G$2:$G$34,2),MAX($G$2:$G$34))),\"\")","v":{"v":0,"d":"0.00"}},{"$f":"IFERROR((IF($D2<0.15,1,0)),\"\")","v":0},{"$f":"IFERROR((IF($B2=\"None\",0,1)),\"\")","v":0},{"$f":"IFERROR((IF($D2>=0.15,1,0)),\"\")","v":1},{"$f":"IFERROR((IF($G2*2.5>I2,1,0)),\"\")","v":""},{"$f":"IFERROR((IF(OR(AND(J2=1,$G2*3.5>I2),(AND(M2=0,$G2*3.5>I2)),$G2=I2),1,0)),\"\")","v":""},{"$f":"IFERROR((IF(AND($K2,$L2,$M2=1),1,0)),\"\")","v":0},{"$f":"IFERROR((IF(AND($O2=1,$G2=I2),3,0)),\"\")","v":0},{"$f":"IFERROR((IF(AND($P2=0,$O2=1),1,-1)),\"\")","v":-1},{"$f":"IFERROR((IF(AND(K2,N2=1),1,0)),\"\")","v":0},{"$f":"IFERROR(IF(MAX($G$2:$G$34)=H2,-1,((SUM(R2,P2,Q2)))),\"\")","v":-1},{"$f":"IFERROR((SUMIF($O$2:$O$34,1,$C$2:$C$34)),\"\")","v":0},{"$f":"IFERROR((SUMIFS(Doctrine_Time,Doctrine_FSD,$B2)/C2),\"\")","v":""},{"$f":"IFERROR((SUMPRODUCT(($O$2:$O$34),($U$2:$U$34),($C$2:$C$34))/T2),\"\")","v":""},{"$f":"IFERROR((VLOOKUP($U2,CalRefs!$A$3:$D$5,4)),\"\")","v":""},{"$f":"IFERROR(IF(OR(MAX($G$2:$G$30)=$H$2,MAX($S$2:$S$30)<>3),\"Does Not Map\",INDEX($B$2:$B$30,MATCH(I2,$G$2:$G$30,0))),\"\")","v":"Does Not Map"},{"$f":"IFERROR(IF(Input!$B$12=\"Executive / Elected Official\",\"Executive\",(VLOOKUP($V$2,CalRefs!$A$3:$D$5,4))),\"\")","v":""},{"$f":"IF(ISERROR(Training_Partner),\"\",Training_Partner)","v":0},{"$f":"IF(ISERROR(CourseTitle),\"\",CourseTitle)","v":0},{"$f":"CourseNumber","v":0}]
[-1,{"$f":"IFERROR(FedStatue[[#This Row],[Federal Statue - Doctrine]],\"   \")","v":"9-11 Act"},0,{"$f":"IFERROR((C3/(SUM($C$2:$C$30))),\"\")","v":""},{"$f":"IFERROR((SUMIFS(Doctrine_Time,Doctrine_FSD,$B3)),\"\")","v":{"v":0,"d":"0.0"}},"","","",{"$f":"IFERROR((IF(AND(MAX($G$2:$G$34)=H3),LARGE($G$2:$G$34,2),MAX($G$2:$G$34))),\"\")","v":{"v":0,"d":"0.00"}},0,1,1,{"$f":"IFERROR((IF($G3*2.5>I3,1,0)),\"\")","v":""},{"$f":"IFERROR((IF(OR(AND(J3=1,$G3*3.5>I3),(AND(M3=0,$G3*3.5>I3)),$G3=I3),1,0)),\"\")","v":""},0,0,-1,{"$f":"IFERROR((IF(AND(K3,N3=1),1,0)),\"\")","v":0},{"$f":"IFERROR(IF(MAX($G$2:$G$34)=H3,-1,((SUM(R3,P3,Q3)))),\"\")","v":-1},0,"","",{"$f":"IFERROR((VLOOKUP($U3,CalRefs!$A$3:$D$5,4)),\"\")","v":""},"Does Not Map",{"$f":"IFERROR(IF(Input!$B$12=\"Executive / Elected Official\",\"Executive\",(VLOOKUP($V$2,CalRefs!$A$3:$D$5,4))),\"\")","v":""},0,0,0]
[-1,{"$f":"IFERROR(FedStatue[[#This Row],[Federal Statue - Doctrine]],\"   \")","v":"Americans with Disabilities Act"},0,"",{"v":0,"d":"0.0"},"","","",{"v":0,"d":"0.00"},0,1,1,"","",0,0,-1,0,-1,0,"","",{"$f":"IFERROR((VLOOKUP($U4,CalRefs!$A$3:$D$5,4)),\"\")","v":""},"Does Not Map",{"$f":"IFERROR(IF(Input!$B$12=\"Executive / Elected Official\",\"Executive\",(VLOOKUP($V$2,CalRefs!$A$3:$D$5,4))),\"\")","v":""},0,0,0]
[-1,{"$f":"IFERROR(FedStatue[[#This Row],[Federal Statue - Doctrine]],\"   \")","v":"Executive Order (EO) 13650 - Improving Chemical Facility Safety and Security"},0,"",{"v":0,"d":"0.0"},"","","",{"v":0,"d":"0.00"},0,1,1,"","",0,0,-1,0,-1,0,"","",{"$f":"IFERROR((VLOOKUP($U5,CalRefs!$A$3:$D$5,4)),\"\")","v":""},"Does Not Map",{"$f":"IFERROR(IF(Input!$B$12=\"Executive / Elected Official\",\"Executive\",(VLOOKUP($V$2,CalRefs!$A$3:$D$5,4))),\"\")","v":""},0,0,0]
[-1,{"$f":"IFERROR(FedStatue[[#This Row],[Federal Statue - Doctrine]],\"   \")","v":"Post-Katrina Emergency Management Reform Act"},0,"",{"v":0,"d":"0.0"},"","","",{"v":0,"d":"0.00"},0,1,1,"","",0,0,-1,0,-1,0,"","",{"$f":"IFERROR((VLOOKUP($U6,CalRefs!$A$3:$D$5,4)),\"\")","v":""},"Does Not Map",{"$f":"IFERROR(IF(Input!$B$12=\"Executive / Elected Official\",\"Executive\",(VLOOKUP($V$2,CalRefs!$A$3:$D$5,4))),\"\")","v":""},0,0,0]
[-1,{"$f":"IFERROR(FedStatue[[#This Row],[Federal Statue - Doctrine]],\"   \")","v":"PPD - 17 Countering Improvised Explosive Devices "},0,"",{"v":0,"d":"0.0"},"","","",{"v":0,"d":"0.00"},0,1,1,"","",0,0,-1,0,-1,0,"","",{"$f":"IFERROR((VLOOKUP($U7,CalRefs!$A$3:$D$5,4)),\"\")","v":""},"Does Not Map",{"$f":"IFERROR(IF(Input!$B$12=\"Executive / Elected Official\",\"Executive\",(VLOOKUP($V$2,CalRefs!$A$3:$D$5,4))),\"\")","v":""},0,0,0]
[-1,{"$f":"IFERROR(FedStatue[[#This Row],[Federal Statue - Doctrine]],\"   \")","v":"PPD - 21 Critical Infrastructure Security and Resilience"},0,"",{"v":0,"d":"0.0"},"","","",{"v":0,"d":"0.00"},0,1,1,"","",0,0,-1,0,-1,0,"","",{"$f":"IFERROR((VLOOKUP($U8,CalRefs!$A$3:$D$5,4)),\"\")","v":""},"Does Not Map",{"$f":"IFERROR(IF(Input!$B$12=\"Executive / Elected Official\",\"Executive\",(VLOOKUP($V$2,CalRefs!$A$3:$D$5,4))),\"\")","v":""},0,0,0]
[-1,{"$f":"IFERROR(FedStatue[[#This Row],[Federal Statue - Doctrine]],\"   \")","v":"PPD - 8 National Preparedness"},0,"",{"v":0,"d":"0.0"},"","","",{"v":0,"d":"0.00"},0,1,1,"","",0,0,-1,0,-1,0,"","",{"$f":"IFERROR((VLOOKUP($U9,CalRefs!$A$3:$D$5,4)),\"\")","v":""},"Does Not Map",{"$f":"IFERROR(IF(Input!$B$12=\"Executive / Elected Official\",\"Executive\",(VLOOKUP($V$2,CalRefs!$A$3:$D$5,4))),\"\")","v":""},0,0,0]
[-1,{"$f":"IFERROR(FedStatue[[#This Row],[Federal Statue - Doctrine]],\"   \")","v":"President's Climate Action Plan"},0,"",{"v":0,"d":"0.0"},"","","",{"v":0,"d":"0.00"},0,1,1,"","",0,0,-1,0,-1,0,"","",{"$f":"IFERROR((VLOOKUP($U10,CalRefs!$A$3:$D$5,4)),\"\")","v":""},"Does Not Map",{"$f":"IFERROR(IF(Input!$B$12=\"Executive / Elected Official\",\"Executive\",(VLOOKUP($V$2,CalRefs!$A$3:$D$5,4))),\"\")","v":""},0,0,0]
[-1,{"$f":"IFERROR(FedStatue[[#This Row],[Federal Statue - Doctrine]],\"   \")","v":"Rehabilitation Act"},0,"",{"v":0,"d":"0.0"},"","","",{"v":0,"d":"0.00"},0,1,1,"","",0,0,-1,0,-1,0,"","",{"$f":"IFERROR((VLOOKUP($U11,CalRefs!$A$3:$D$5,4)),\"\")","v":""},"Does Not Map",{"$f":"IFERROR(IF(Input!$B$12=\"Executive / Elected Official\",\"Executive\",(VLOOKUP($V$2,CalRefs!$A$3:$D$5,4))),\"\")","v":""},0,0,0]
[-1,{"$f":"IFERROR(FedStatue[[#This Row],[Federal Statue - Doctrine]],\"   \")","v":"The Robert T. Stafford Disaster Relief and Emergency Assistance Act"},0,"",{"v":0,"d":"0.0"},"","","",{"v":0,"d":"0.00"},0,1,1,"","",0,0,-1,0,-1,0,"","",{"$f":"IFERROR((VLOOKUP($U12,CalRefs!$A$3:$D$5,4)),\"\")","v":""},"Does Not Map",{"$f":"IFERROR(IF(Input!$B$12=\"Executive / Elected Official\",\"Executive\",(VLOOKUP($V$2,CalRefs!$A$3:$D$5,4))),\"\")","v":""},0,0,0]
[-1,{"$f":"IFERROR(FedStatue[[#This Row],[Federal Statue - Doctrine]],\"   \")","v":"2005 Hurricane Season Provisions"},0,"",{"v":0,"d":"0.0"},"","","",{"v":0,"d":"0.00"},0,1,1,"","",0,0,-1,0,-1,0,"","",{"$f":"IFERROR((VLOOKUP($U13,CalRefs!$A$3:$D$5,4)),\"\")","v":""},"Does Not Map",{"$f":"IFERROR(IF(Input!$B$12=\"Executive / Elected Official\",\"Executive\",(VLOOKUP($V$2,CalRefs!$A$3:$D$5,4))),\"\")","v":""},0,0,0]
[-1,{"$f":"IFERROR(FedStatue[[#This Row],[Federal Statue - Doctrine]],\"   \")","v":"Warning, Alert, And Response Network Act"},0,"",{"v":0,"d":"0.0"},"","","",{"v":0,"d":"0.00"},0,1,1,"","",0,0,-1,0,-1,0,"","",{"$f":"IFERROR((VLOOKUP($U14,CalRefs!$A$3:$D$5,4)),\"\")","v":""},"Does Not Map",{"$f":"IFERROR(IF(Input!$B$12=\"Executive / Elected Official\",\"Executive\",(VLOOKUP($V$2,CalRefs!$A$3:$D$5,4))),\"\")","v":""},0,0,0]
[-1,{"$f":"IFERROR(FedStatue[[#This Row],[Federal Statue - Doctrine]],\"   \")","v":"Homeland Security Act of 2002"},0,"",{"v":0,"d":"0.0"},"","","",{"v":0,"d":"0.00"},0,1,1,"","",0,0,-1,0,-1,0,"","",{"$f":"IFERROR((VLOOKUP($U15,CalRefs!$A$3:$D$5,4)),\"\")","v":""},"Does Not Map",{"$f":"IFERROR(IF(Input!$B$12=\"Executive / Elected Official\",\"Executive\",(VLOOKUP($V$2,CalRefs!$A$3:$D$5,4))),\"\")","v":""},0,0,0]
[-1,{"$f":"IFERROR(FedStatue[[#This Row],[Federal Statue - Doctrine]],\"   \")","v":"National Dam Safety Program Act"},0,"",{"v":0,"d":"0.0"},"","","",{"v":0,"d":"0.00"},0,1,1,"","",0,0,-1,0,-1,0,"","",{"$f":"IFERROR((VLOOKUP($U16,CalRefs!$A$3:$D$5,4)),\"\")","v":""},"Does Not Map",{"$f":"IFERROR(IF(Input!$B$12=\"Executive / Elected Official\",\"Executive\",(VLOOKUP($V$2,CalRefs!$A$3:$D$5,4))),\"\")","v":""},0,0,0]
[-1,{"$f":"IFERROR(FedStatue[[#This Row],[Federal Statue - Doctrine]],\"   \")","v":"Fire Prevention And Control Act of 1974"},0,"",{"v":0,"d":"0.0"},"","","",{"v":0,"d":"0.00"},0,1,1,"","",0,0,-1,0,-1,0,"","",{"$f":"IFERROR((VLOOKUP($U17,CalRefs!$A$3:$D$5,4)),\"\")","v":""},"Does Not Map",{"$f":"IFERROR(IF(Input!$B$12=\"Executive / Elected Official\",\"Executive\",(VLOOKUP($V$2,CalRefs!$A$3:$D$5,4))),\"\")","v":""},0,0,0]
[-1,{"$f":"IFERROR(FedStatue[[#This Row],[Federal Statue - Doctrine]],\"   \")","v":"Defense Production Act of 1950"},0,"",{"v":0,"d":"0.0"},"","","",{"v":0,"d":"0.00"},0,1,1,"","",0,0,-1,0,-1,0,"","",{"$f":"IFERROR((VLOOKUP($U18,CalRefs!$A$3:$D$5,4)),\"\")","v":""},"Does Not Map",{"$f":"IFERROR(IF(Input!$B$12=\"Executive / Elected Official\",\"Executive\",(VLOOKUP($V$2,CalRefs!$A$3:$D$5,4))),\"\")","v":""},0,0,0]
[-1,{"$f":"IFERROR(FedStatue[[#This Row],[Federal Statue - Doctrine]],\"   \")","v":"National Flood Insurance Act of 1968"},0,"",{"v":0,"d":"0.0"},"","","",{"v":0,"d":"0.00"},0,1,1,"","",0,0,-1,0,-1,0,"","",{"$f":"IFERROR((VLOOKUP($U19,CalRefs!$A$3:$D$5,4)),\"\")","v":""},"Does Not Map",{"$f":"IFERROR(IF(Input!$B$12=\"Executive / Elected Official\",\"Executive\",(VLOOKUP($V$2,CalRefs!$A$3:$D$5,4))),\"\")","v":""},0,0,0]
[-1,{"$f":"IFERROR(FedStatue[[#This Row],[Federal Statue - Doctrine]],\"   \")","v":"Earthquake Hazards Reduction Act of 1977"},0,"",{"v":0,"d":"0.0"},"","","",{"v":0,"d":"0.00"},0,1,1,"","",0,0,-1,0,-1,0,"","",{"$f":"IFERROR((VLOOKUP($U20,CalRefs!$A$3:$D$5,4)),\"\")","v":""},"Does Not Map",{"$f":"IFERROR(IF(Input!$B$12=\"Executive / Elected Official\",\"Executive\",(VLOOKUP($V$2,CalRefs!$A$3:$D$5,4))),\"\")","v":""},0,0,0]
[-1,{"$f":"IFERROR(FedStatue[[#This Row],[Federal Statue - Doctrine]],\"   \")","v":"Cerro Grande Fire Assistance Act"},0,"",{"v":0,"d":"0.0"},"","","",{"v":0,"d":"0.00"},0,1,1,"","",0,0,-1,0,-1,0,"","",{"$f":"IFERROR((VLOOKUP($U21,CalRefs!$A$3:$D$5,4)),\"\")","v":""},"Does Not Map",{"$f":"IFERROR(IF(Input!$B$12=\"Executive / Elected Official\",\"Executive\",(VLOOKUP($V$2,CalRefs!$A$3:$D$5,4))),\"\")","v":""},0,0,0]
[-1,{"$f":"IFERROR(FedStatue[[#This Row],[Federal Statue - Doctrine]],\"   \")","v":"Sections 107 And 303 of The National Security Act of 1947"},0,"",{"v":0,"d":"0.0"},"","","",{"v":0,"d":"0.00"},0,1,1,"","",0,0,-1,0,-1,0,"","",{"$f":"IFERROR((VLOOKUP($U22,CalRefs!$A$3:$D$5,4)),\"\")","v":""},"Does Not Map",{"$f":"IFERROR(IF(Input!$B$12=\"Executive / Elected Official\",\"Executive\",(VLOOKUP($V$2,CalRefs!$A$3:$D$5,4))),\"\")","v":""},0,0,0]
[-1,{"$f":"IFERROR(FedStatue[[#This Row],[Federal Statue - Doctrine]],\"   \")","v":"National Emergencies Act"},0,"",{"v":0,"d":"0.0"},"","","",{"v":0,"d":"0.00"},0,1,1,"","",0,0,-1,0,-1,0,"","",{"$f":"IFERROR((VLOOKUP($U23,CalRefs!$A$3:$D$5,4)),\"\")","v":""},"Does Not Map",{"$f":"IFERROR(IF(Input!$B$12=\"Executive / Elected Official\",\"Executive\",(VLOOKUP($V$2,CalRefs!$A$3:$D$5,4))),\"\")","v":""},0,0,0]
[-1,{"$f":"IFERROR(FedStatue[[#This Row],[Federal Statue - Doctrine]],\"   \")","v":"Corps of Engineers Emergency Provisions"},0,"",{"v":0,"d":"0.0"},"","","",{"v":0,"d":"0.00"},0,1,1,"","",0,0,-1,0,-1,0,"","",{"$f":"IFERROR((VLOOKUP($U24,CalRefs!$A$3:$D$5,4)),\"\")","v":""},"Does Not Map",{"$f":"IFERROR(IF(Input!$B$12=\"Executive / Elected Official\",\"Executive\",(VLOOKUP($V$2,CalRefs!$A$3:$D$5,4))),\"\")","v":""},0,0,0]
[-1,{"$f":"IFERROR(FedStatue[[#This Row],[Federal Statue - Doctrine]],\"   \")","v":"Section 706 of The Communications Act of 1934"},0,"",{"v":0,"d":"0.0"},"","","",{"v":0,"d":"0.00"},0,1,1,"","",0,0,-1,0,-1,0,"","",{"$f":"IFERROR((VLOOKUP($U25,CalRefs!$A$3:$D$5,4)),\"\")","v":""},"Does Not Map",{"$f":"IFERROR(IF(Input!$B$12=\"Executive / Elected Official\",\"Executive\",(VLOOKUP($V$2,CalRefs!$A$3:$D$5,4))),\"\")","v":""},0,0,0]
[-1,{"$f":"IFERROR(FedStatue[[#This Row],[Federal Statue - Doctrine]],\"   \")","v":"Emergency Food And Shelter Program Provisions"},0,"",{"v":0,"d":"0.0"},"","","",{"v":0,"d":"0.00"},0,1,1,"","",0,0,-1,0,-1,0,"","",{"$f":"IFERROR((VLOOKUP($U26,CalRefs!$A$3:$D$5,4)),\"\")","v":""},"Does Not Map",{"$f":"IFERROR(IF(Input!$B$12=\"Executive / Elected Official\",\"Executive\",(VLOOKUP($V$2,CalRefs!$A$3:$D$5,4))),\"\")","v":""},0,0,0]
[-1,{"$f":"IFERROR(FedStatue[[#This Row],[Federal Statue - Doctrine]],\"   \")","v":"Chemical Stockpile Emergency Preparedness Program Provisions"},0,"",{"v":0,"d":"0.0"},"","","",{"v":0,"d":"0.00"},0,1,1,"","",0,0,-1,0,-1,0,"","",{"$f":"IFERROR((VLOOKUP($U27,CalRefs!$A$3:$D$5,4)),\"\")","v":""},"Does Not Map",{"$f":"IFERROR(IF(Input!$B$12=\"Executive / Elected Official\",\"Executive\",(VLOOKUP($V$2,CalRefs!$A$3:$D$5,4))),\"\")","v":""},0,0,0]
[-1,{"$f":"IFERROR(FedStatue[[#This Row],[Federal Statue - Doctrine]],\"   \")","v":"Radiological Emergency Preparedness Program Provisions"},0,"",{"v":0,"d":"0.0"},"","","",{"v":0,"d":"0.00"},0,1,1,"","",0,0,-1,0,-1,0,"","",{"$f":"IFERROR((VLOOKUP($U28,CalRefs!$A$3:$D$5,4)),\"\")","v":""},"Does Not Map",{"$f":"IFERROR(IF(Input!$B$12=\"Executive / Elected Official\",\"Executive\",(VLOOKUP($V$2,CalRefs!$A$3:$D$5,4))),\"\")","v":""},0,0,0]
[-1,{"$f":"IFERROR(FedStatue[[#This Row],[Federal Statue - Doctrine]],\"   \")","v":"Section 104 of The Comprehensive Environmental Response, Compensation, And Liability Act of 1980"},0,"",{"v":0,"d":"0.0"},"","","",{"v":0,"d":"0.00"},0,1,1,"","",0,0,-1,0,-1,0,"","",{"$f":"IFERROR((VLOOKUP($U29,CalRefs!$A$3:$D$5,4)),\"\")","v":""},"Does Not Map",{"$f":"IFERROR(IF(Input!$B$12=\"Executive / Elected Official\",\"Executive\",(VLOOKUP($V$2,CalRefs!$A$3:$D$5,4))),\"\")","v":""},0,0,0]
[-1,{"$f":"IFERROR(FedStatue[[#This Row],[Federal Statue - Doctrine]],\"   \")","v":"Section 303 of The Emergency Planning And Community Right-To-Know Act of 1986"},0,"",{"v":0,"d":"0.0"},"","","",{"v":0,"d":"0.00"},0,1,1,"","",0,0,-1,0,-1,0,"","",{"$f":"IFERROR((VLOOKUP($U30,CalRefs!$A$3:$D$5,4)),\"\")","v":""},"Does Not Map",{"$f":"IFERROR(IF(Input!$B$12=\"Executive / Elected Official\",\"Executive\",(VLOOKUP($V$2,CalRefs!$A$3:$D$5,4))),\"\")","v":""},0,0,0]

{"sheet":"Data - Exam Questions","index":15,"n_rows":34,"n_cols":20,"rows_kept":34,"hidden":true}
["CC Icon","Core Capability","Number of Required Questions per Objective","Number of Test Questions by CC","Number of EOs by CC","Percent of EO by CC","Percent of Test Questions by CC","Test Question Complexity by CC","EO Complexity by CC","Weighted Average Test Question Complexity","Weighted Average EO Complexity","Test Question Category Level Value - Easy","Test Question Category Level Value - Average","Test Question Category Level Value - Difficult","Number of Easy EOs","Number of Average EOs","Number of Difficult EOs","Number of Required Easy Test Questions","Number of Required Average Test Questions","Number of Required Difficult Test Questions"]
[{"$f":"Data!$S$2:$S$34","v":-1},"None",3,{"$f":"IFERROR((COUNTIF(ExamQ[[#All],[Exam Question Level of Difficulty]],$B2)),\"\")","v":0},{"$f":"Data!C2","v":0},{"$f":"Data!D2","v":""},{"$f":"IFERROR(($D2/(SUM($D$2:$D$34))),\"\")","v":""},{"$f":"IFERROR((SUMIFS(ExamQ[Test Question Complexity],ExamQ[Core Capability of ELO],$B2)),\"\")","v":{"v":0,"d":"0.0"}},{"$f":"Data!E2","v":{"v":0,"d":"0.0"}},{"$f":"IFERROR((($H2*$D2)/SUM($D$2:$D$34)),\"\")","v":""},{"$f":"Data!G2","v":""},{"$f":"$I2/3","v":{"v":0,"d":"0.00"}},{"$f":"L2*2","v":{"v":0,"d":"0.00"}},{"$f":"L2*3","v":{"v":0,"d":"0.00"}},{"$f":"COUNTIFS(Input!$K$23:$K$192,\"<=\"&L2, Input!$L$23:$L$192,$B2)","v":0},{"$f":"COUNTIFS(Input!$K$23:$K$192,\"<=\"&M2,Input!$K$23:$K$192,\">\"&L2, Input!$L$23:$L$192,$B2)","v":0},{"$f":"COUNTIFS(Input!$K$23:$K$192,\"<=\"&N2,Input!$K$23:$K$192,\">\"&M2, Input!$L$23:$L$192,$B2)","v":0},{"$f":"ROUND($C2*$E2*CalRefs!$B$9,0)","v":0},{"$f":"ROUND($C2*$E2*CalRefs!$B$10,0)","v":0},{"$f":"ROUND($C2*$E2*CalRefs!$B$11,0)","v":0}]
[{"$f":"Data!$S$2:$S$34","v":-1},"Access Control and Identity Verification",3,{"$f":"IFERROR((COUNTIF(ExamQ[[#All],[Exam Question Level of Difficulty]],$B3)),\"\")","v":0},{"$f":"Data!C3","v":0},{"$f":"Data!D3","v":""},{"$f":"IFERROR(($D3/(SUM($D$2:$D$34))),\"\")","v":""},{"$f":"IFERROR((SUMIFS(ExamQ[Test Question Complexity],ExamQ[Core Capability of ELO],$B3)),\"\")","v":{"v":0,"d":"0.0"}},{"$f":"Data!E3","v":{"v":0,"d":"0.0"}},"",{"$f":"Data!G3","v":""},{"v":0,"d":"0.00"},{"$f":"L3*2","v":{"v":0,"d":"0.00"}},{"$f":"L3*3","v":{"v":0,"d":"0.00"}},{"$f":"COUNTIFS(Input!$K$23:$K$192,\"<=\"&L3, Input!$L$23:$L$192,$B3)","v":0},{"$f":"COUNTIFS(Input!$K$23:$K$192,\"<=\"&M3,Input!$K$23:$K$192,\">\"&L3, Input!$L$23:$L$192,$B3)","v":0},{"$f":"COUNTIFS(Input!$K$23:$K$192,\"<=\"&N3,Input!$K$23:$K$192,\">\"&M3, Input!$L$23:$L$192,$B3)","v":0},{"$f":"ROUND($C3*$E3*CalRefs!$B$9,0)","v":0},{"$f":"ROUND($C3*$E3*CalRefs!$B$10,0)","v":0},{"$f":"ROUND($C3*$E3*CalRefs!$B$11,0)","v":0}]
[{"$f":"Data!$S$2:$S$34","v":-1},"Community Resilience",3,{"$f":"IFERROR((COUNTIF(ExamQ[[#All],[Exam Question Level of Difficulty]],$B4)),\"\")","v":0},{"$f":"Data!C4","v":0},{"$f":"Data!D4","v":""},"",{"$f":"IFERROR((SUMIFS(ExamQ[Test Question Complexity],ExamQ[Core Capability of ELO],$B4)),\"\")","v":{"v":0,"d":"0.0"}},{"$f":"Data!E4","v":{"v":0,"d":"0.0"}},"",{"$f":"Data!G4","v":""},{"v":0,"d":"0.00"},{"v":0,"d":"0.00"},{"v":0,"d":"0.00"},{"$f":"COUNTIFS(Input!$K$23:$K$192,\"<=\"&L4, Input!$L$23:$L$192,$B4)","v":0},{"$f":"COUNTIFS(Input!$K$23:$K$192,\"<=\"&M4,Input!$K$23:$K$192,\">\"&L4, Input!$L$23:$L$192,$B4)","v":0},{"$f":"COUNTIFS(Input!$K$23:$K$192,\"<=\"&N4,Input!$K$23:$K$192,\">\"&M4, Input!$L$23:$L$192,$B4)","v":0},{"$f":"ROUND($C4*$E4*CalRefs!$B$9,0)","v":0},{"$f":"ROUND($C4*$E4*CalRefs!$B$10,0)","v":0},{"$f":"ROUND($C4*$E4*CalRefs!$B$11,0)","v":0}]
[{"$f":"Data!$S$2:$S$34","v":-1},"Critical Transportation",3,{"$f":"IFERROR((COUNTIF(ExamQ[[#All],[Exam Question Level of Difficulty]],$B5)),\"\")","v":0},{"$f":"Data!C5","v":0},{"$f":"Data!D5","v":""},"",{"$f":"IFERROR((SUMIFS(ExamQ[Test Question Complexity],ExamQ[Core Capability of ELO],$B5)),\"\")","v":{"v":0,"d":"0.0"}},{"$f":"Data!E5","v":{"v":0,"d":"0.0"}},"",{"$f":"Data!G5","v":""},{"v":0,"d":"0.00"},{"v":0,"d":"0.00"},{"v":0,"d":"0.00"},{"$f":"COUNTIFS(Input!$K$23:$K$192,\"<=\"&L5, Input!$L$23:$L$192,$B5)","v":0},{"$f":"COUNTIFS(Input!$K$23:$K$192,\"<=\"&M5,Input!$K$23:$K$192,\">\"&L5, Input!$L$23:$L$192,$B5)","v":0},{"$f":"COUNTIFS(Input!$K$23:$K$192,\"<=\"&N5,Input!$K$23:$K$192,\">\"&M5, Input!$L$23:$L$192,$B5)","v":0},{"$f":"ROUND($C5*$E5*CalRefs!$B$9,0)","v":0},{"$f":"ROUND($C5*$E5*CalRefs!$B$10,0)","v":0},{"$f":"ROUND($C5*$E5*CalRefs!$B$11,0)","v":0}]
[{"$f":"Data!$S$2:$S$34","v":-1},"Cybersecurity",3,{"$f":"IFERROR((COUNTIF(ExamQ[Core Capability of ELO],$B6)),\"\")","v":0},{"$f":"Data!C6","v":0},{"$f":"Data!D6","v":""},"",{"$f":"IFERROR((SUMIFS(ExamQ[Test Question Complexity],ExamQ[Core Capability of ELO],$B6)),\"\")","v":{"v":0,"d":"0.0"}},{"$f":"Data!E6","v":{"v":0,"d":"0.0"}},"",{"$f":"Data!G6","v":""},{"v":0,"d":"0.00"},{"v":0,"d":"0.00"},{"v":0,"d":"0.00"},{"$f":"COUNTIFS(Input!$K$23:$K$192,\"<=\"&L6, Input!$L$23:$L$192,$B6)","v":0},{"$f":"COUNTIFS(Input!$K$23:$K$192,\"<=\"&M6,Input!$K$23:$K$192,\">\"&L6, Input!$L$23:$L$192,$B6)","v":0},{"$f":"COUNTIFS(Input!$K$23:$K$192,\"<=\"&N6,Input!$K$23:$K$192,\">\"&M6, Input!$L$23:$L$192,$B6)","v":0},{"$f":"ROUND($C6*$E6*CalRefs!$B$9,0)","v":0},{"$f":"ROUND($C6*$E6*CalRefs!$B$10,0)","v":0},{"$f":"ROUND($C6*$E6*CalRefs!$B$11,0)","v":0}]
[{"$f":"Data!$S$2:$S$34","v":-1},"Economic Recovery",3,{"$f":"IFERROR((COUNTIF(ExamQ[Core Capability of ELO],$B7)),\"\")","v":0},{"$f":"Data!C7","v":0},{"$f":"Data!D7","v":""},"",{"$f":"IFERROR((SUMIFS(ExamQ[Test Question Complexity],ExamQ[Core Capability of ELO],$B7)),\"\")","v":{"v":0,"d":"0.0"}},{"$f":"Data!E7","v":{"v":0,"d":"0.0"}},"",{"$f":"Data!G7","v":""},{"v":0,"d":"0.00"},{"v":0,"d":"0.00"},{"v":0,"d":"0.00"},{"$f":"COUNTIFS(Input!$K$23:$K$192,\"<=\"&L7, Input!$L$23:$L$192,$B7)","v":0},{"$f":"COUNTIFS(Input!$K$23:$K$192,\"<=\"&M7,Input!$K$23:$K$192,\">\"&L7, Input!$L$23:$L$192,$B7)","v":0},{"$f":"COUNTIFS(Input!$K$23:$K$192,\"<=\"&N7,Input!$K$23:$K$192,\">\"&M7, Input!$L$23:$L$192,$B7)","v":0},{"$f":"ROUND($C7*$E7*CalRefs!$B$9,0)","v":0},{"$f":"ROUND($C7*$E7*CalRefs!$B$10,0)","v":0},{"$f":"ROUND($C7*$E7*CalRefs!$B$11,0)","v":0}]
[{"$f":"Data!$S$2:$S$34","v":-1},"Environmental Response / Health and Safety",3,{"$f":"IFERROR((COUNTIF(ExamQ[Core Capability of ELO],$B8)),\"\")","v":0},{"$f":"Data!C8","v":0},{"$f":"Data!D8","v":""},"",{"$f":"IFERROR((SUMIFS(ExamQ[Test Question Complexity],ExamQ[Core Capability of ELO],$B8)),\"\")","v":{"v":0,"d":"0.0"}},{"$f":"Data!E8","v":{"v":0,"d":"0.0"}},"",{"$f":"Data!G8","v":""},{"v":0,"d":"0.00"},{"v":0,"d":"0.00"},{"v":0,"d":"0.00"},{"$f":"COUNTIFS(Input!$K$23:$K$192,\"<=\"&L8, Input!$L$23:$L$192,$B8)","v":0},{"$f":"COUNTIFS(Input!$K$23:$K$192,\"<=\"&M8,Input!$K$23:$K$192,\">\"&L8, Input!$L$23:$L$192,$B8)","v":0},{"$f":"COUNTIFS(Input!$K$23:$K$192,\"<=\"&N8,Input!$K$23:$K$192,\">\"&M8, Input!$L$23:$L$192,$B8)","v":0},{"$f":"ROUND($C8*$E8*CalRefs!$B$9,0)","v":0},{"$f":"ROUND($C8*$E8*CalRefs!$B$10,0)","v":0},{"$f":"ROUND($C8*$E8*CalRefs!$B$11,0)","v":0}]
[{"$f":"Data!$S$2:$S$34","v":-1},"Fatality Management Services",3,{"$f":"IFERROR((COUNTIF(ExamQ[Core Capability of ELO],$B9)),\"\")","v":0},{"$f":"Data!C9","v":0},{"$f":"Data!D9","v":""},"",{"$f":"IFERROR((SUMIFS(ExamQ[Test Question Complexity],ExamQ[Core Capability of ELO],$B9)),\"\")","v":{"v":0,"d":"0.0"}},{"$f":"Data!E9","v":{"v":0,"d":"0.0"}},"",{"$f":"Data!G9","v":""},{"v":0,"d":"0.00"},{"v":0,"d":"0.00"},{"v":0,"d":"0.00"},{"$f":"COUNTIFS(Input!$K$23:$K$192,\"<=\"&L9, Input!$L$23:$L$192,$B9)","v":0},{"$f":"COUNTIFS(Input!$K$23:$K$192,\"<=\"&M9,Input!$K$23:$K$192,\">\"&L9, Input!$L$23:$L$192,$B9)","v":0},{"$f":"COUNTIFS(Input!$K$23:$K$192,\"<=\"&N9,Input!$K$23:$K$192,\">\"&M9, Input!$L$23:$L$192,$B9)","v":0},{"$f":"ROUND($C9*$E9*CalRefs!$B$9,0)","v":0},{"$f":"ROUND($C9*$E9*CalRefs!$B$10,0)","v":0},{"$f":"ROUND($C9*$E9*CalRefs!$B$11,0)","v":0}]
[{"$f":"Data!$S$2:$S$34","v":-1},"Fire Management and Suppression",3,{"$f":"IFERROR((COUNTIF(ExamQ[Core Capability of ELO],$B10)),\"\")","v":0},{"$f":"Data!C10","v":0},{"$f":"Data!D10","v":""},"",{"$f":"IFERROR((SUMIFS(ExamQ[Test Question Complexity],ExamQ[Core Capability of ELO],$B10)),\"\")","v":{"v":0,"d":"0.0"}},{"$f":"Data!E10","v":{"v":0,"d":"0.0"}},"",{"$f":"Data!G10","v":""},{"v":0,"d":"0.00"},{"v":0,"d":"0.00"},{"v":0,"d":"0.00"},{"$f":"COUNTIFS(Input!$K$23:$K$192,\"<=\"&L10, Input!$L$23:$L$192,$B10)","v":0},{"$f":"COUNTIFS(Input!$K$23:$K$192,\"<=\"&M10,Input!$K$23:$K$192,\">\"&L10, Input!$L$23:$L$192,$B10)","v":0},{"$f":"COUNTIFS(Input!$K$23:$K$192,\"<=\"&N10,Input!$K$23:$K$192,\">\"&M10, Input!$L$23:$L$192,$B10)","v":0},{"$f":"ROUND($C10*$E10*CalRefs!$B$9,0)","v":0},{"$f":"ROUND($C10*$E10*CalRefs!$B$10,0)","v":0},{"$f":"ROUND($C10*$E10*CalRefs!$B$11,0)","v":0}]
[{"$f":"Data!$S$2:$S$34","v":-1},"Forensics and Attribution",3,{"$f":"IFERROR((COUNTIF(ExamQ[Core Capability of ELO],$B11)),\"\")","v":0},{"$f":"Data!C11","v":0},{"$f":"Data!D11","v":""},"",{"$f":"IFERROR((SUMIFS(ExamQ[Test Question Complexity],ExamQ[Core Capability of ELO],$B11)),\"\")","v":{"v":0,"d":"0.0"}},{"$f":"Data!E11","v":{"v":0,"d":"0.0"}},"",{"$f":"Data!G11","v":""},{"v":0,"d":"0.00"},{"v":0,"d":"0.00"},{"v":0,"d":"0.00"},{"$f":"COUNTIFS(Input!$K$23:$K$192,\"<=\"&L11, Input!$L$23:$L$192,$B11)","v":0},{"$f":"COUNTIFS(Input!$K$23:$K$192,\"<=\"&M11,Input!$K$23:$K$192,\">\"&L11, Input!$L$23:$L$192,$B11)","v":0},{"$f":"COUNTIFS(Input!$K$23:$K$192,\"<=\"&N11,Input!$K$23:$K$192,\">\"&M11, Input!$L$23:$L$192,$B11)","v":0},{"$f":"ROUND($C11*$E11*CalRefs!$B$9,0)","v":0},{"$f":"ROUND($C11*$E11*CalRefs!$B$10,0)","v":0},{"$f":"ROUND($C11*$E11*CalRefs!$B$11,0)","v":0}]
[{"$f":"Data!$S$2:$S$34","v":-1},"Health and Social Services",3,{"$f":"IFERROR((COUNTIF(ExamQ[Core Capability of ELO],$B12)),\"\")","v":0},{"$f":"Data!C12","v":0},{"$f":"Data!D12","v":""},"",{"$f":"IFERROR((SUMIFS(ExamQ[Test Question Complexity],ExamQ[Core Capability of ELO],$B12)),\"\")","v":{"v":0,"d":"0.0"}},{"$f":"Data!E12","v":{"v":0,"d":"0.0"}},"",{"$f":"Data!G12","v":""},{"v":0,"d":"0.00"},{"v":0,"d":"0.00"},{"v":0,"d":"0.00"},{"$f":"COUNTIFS(Input!$K$23:$K$192,\"<=\"&L12, Input!$L$23:$L$192,$B12)","v":0},{"$f":"COUNTIFS(Input!$K$23:$K$192,\"<=\"&M12,Input!$K$23:$K$192,\">\"&L12, Input!$L$23:$L$192,$B12)","v":0},{"$f":"COUNTIFS(Input!$K$23:$K$192,\"<=\"&N12,Input!$K$23:$K$192,\">\"&M12, Input!$L$23:$L$192,$B12)","v":0},{"$f":"ROUND($C12*$E12*CalRefs!$B$9,0)","v":0},{"$f":"ROUND($C12*$E12*CalRefs!$B$10,0)","v":0},{"$f":"ROUND($C12*$E12*CalRefs!$B$11,0)","v":0}]
[{"$f":"Data!$S$2:$S$34","v":-1},"Housing",3,{"$f":"IFERROR((COUNTIF(ExamQ[Core Capability of ELO],$B13)),\"\")","v":0},{"$f":"Data!C13","v":0},{"$f":"Data!D13","v":""},"",{"$f":"IFERROR((SUMIFS(ExamQ[Test Question Complexity],ExamQ[Core Capability of ELO],$B13)),\"\")","v":{"v":0,"d":"0.0"}},{"$f":"Data!E13","v":{"v":0,"d":"0.0"}},"",{"$f":"Data!G13","v":""},{"v":0,"d":"0.00"},{"v":0,"d":"0.00"},{"v":0,"d":"0.00"},{"$f":"COUNTIFS(Input!$K$23:$K$192,\"<=\"&L13, Input!$L$23:$L$192,$B13)","v":0},{"$f":"COUNTIFS(Input!$K$23:$K$192,\"<=\"&M13,Input!$K$23:$K$192,\">\"&L13, Input!$L$23:$L$192,$B13)","v":0},{"$f":"COUNTIFS(Input!$K$23:$K$192,\"<=\"&N13,Input!$K$23:$K$192,\">\"&M13, Input!$L$23:$L$192,$B13)","v":0},{"$f":"ROUND($C13*$E13*CalRefs!$B$9,0)","v":0},{"$f":"ROUND($C13*$E13*CalRefs!$B$10,0)","v":0},{"$f":"ROUND($C13*$E13*CalRefs!$B$11,0)","v":0}]
[{"$f":"Data!$S$2:$S$34","v":-1},"Infrastructure Systems",3,{"$f":"IFERROR((COUNTIF(ExamQ[Core Capability of ELO],$B14)),\"\")","v":0},{"$f":"Data!C14","v":0},{"$f":"Data!D14","v":""},"",{"$f":"IFERROR((SUMIFS(ExamQ[Test Question Complexity],ExamQ[Core Capability of ELO],$B14)),\"\")","v":{"v":0,"d":"0.0"}},{"$f":"Data!E14","v":{"v":0,"d":"0.0"}},"",{"$f":"Data!G14","v":""},{"v":0,"d":"0.00"},{"v":0,"d":"0.00"},{"v":0,"d":"0.00"},{"$f":"COUNTIFS(Input!$K$23:$K$192,\"<=\"&L14, Input!$L$23:$L$192,$B14)","v":0},{"$f":"COUNTIFS(Input!$K$23:$K$192,\"<=\"&M14,Input!$K$23:$K$192,\">\"&L14, Input!$L$23:$L$192,$B14)","v":0},{"$f":"COUNTIFS(Input!$K$23:$K$192,\"<=\"&N14,Input!$K$23:$K$192,\">\"&M14, Input!$L$23:$L$192,$B14)","v":0},{"$f":"ROUND($C14*$E14*CalRefs!$B$9,0)","v":0},{"$f":"ROUND($C14*$E14*CalRefs!$B$10,0)","v":0},{"$f":"ROUND($C14*$E14*CalRefs!$B$11,0)","v":0}]
[{"$f":"Data!$S$2:$S$34","v":-1},"Intelligence and Information Sharing",3,{"$f":"IFERROR((COUNTIF(ExamQ[Core Capability of ELO],$B15)),\"\")","v":0},{"$f":"Data!C15","v":0},{"$f":"Data!D15","v":""},"",{"$f":"IFERROR((SUMIFS(ExamQ[Test Question Complexity],ExamQ[Core Capability of ELO],$B15)),\"\")","v":{"v":0,"d":"0.0"}},{"$f":"Data!E15","v":{"v":0,"d":"0.0"}},"",{"$f":"Data!G15","v":""},{"v":0,"d":"0.00"},{"v":0,"d":"0.00"},{"v":0,"d":"0.00"},{"$f":"COUNTIFS(Input!$K$23:$K$192,\"<=\"&L15, Input!$L$23:$L$192,$B15)","v":0},{"$f":"COUNTIFS(Input!$K$23:$K$192,\"<=\"&M15,Input!$K$23:$K$192,\">\"&L15, Input!$L$23:$L$192,$B15)","v":0},{"$f":"COUNTIFS(Input!$K$23:$K$192,\"<=\"&N15,Input!$K$23:$K$192,\">\"&M15, Input!$L$23:$L$192,$B15)","v":0},{"$f":"ROUND($C15*$E15*CalRefs!$B$9,0)","v":0},{"$f":"ROUND($C15*$E15*CalRefs!$B$10,0)","v":0},{"$f":"ROUND($C15*$E15*CalRefs!$B$11,0)","v":0}]
[{"$f":"Data!$S$2:$S$34","v":-1},"Interdiction and Disruption",3,{"$f":"IFERROR((COUNTIF(ExamQ[Core Capability of ELO],$B16)),\"\")","v":0},{"$f":"Data!C16","v":0},{"$f":"Data!D16","v":""},"",{"$f":"IFERROR((SUMIFS(ExamQ[Test Question Complexity],ExamQ[Core Capability of ELO],$B16)),\"\")","v":{"v":0,"d":"0.0"}},{"$f":"Data!E16","v":{"v":0,"d":"0.0"}},"",{"$f":"Data!G16","v":""},{"v":0,"d":"0.00"},{"v":0,"d":"0.00"},{"v":0,"d":"0.00"},{"$f":"COUNTIFS(Input!$K$23:$K$192,\"<=\"&L16, Input!$L$23:$L$192,$B16)","v":0},{"$f":"COUNTIFS(Input!$K$23:$K$192,\"<=\"&M16,Input!$K$23:$K$192,\">\"&L16, Input!$L$23:$L$192,$B16)","v":0},{"$f":"COUNTIFS(Input!$K$23:$K$192,\"<=\"&N16,Input!$K$23:$K$192,\">\"&M16, Input!$L$23:$L$192,$B16)","v":0},{"$f":"ROUND($C16*$E16*CalRefs!$B$9,0)","v":0},{"$f":"ROUND($C16*$E16*CalRefs!$B$10,0)","v":0},{"$f":"ROUND($C16*$E16*CalRefs!$B$11,0)","v":0}]
[{"$f":"Data!$S$2:$S$34","v":-1},"Long-term Vulnerability Reduction",3,{"$f":"IFERROR((COUNTIF(ExamQ[Core Capability of ELO],$B17)),\"\")","v":0},{"$f":"Data!C17","v":0},{"$f":"Data!D17","v":""},"",{"$f":"IFERROR((SUMIFS(ExamQ[Test Question Complexity],ExamQ[Core Capability of ELO],$B17)),\"\")","v":{"v":0,"d":"0.0"}},{"$f":"Data!E17","v":{"v":0,"d":"0.0"}},"",{"$f":"Data!G17","v":""},{"v":0,"d":"0.00"},{"v":0,"d":"0.00"},{"v":0,"d":"0.00"},{"$f":"COUNTIFS(Input!$K$23:$K$192,\"<=\"&L17, Input!$L$23:$L$192,$B17)","v":0},{"$f":"COUNTIFS(Input!$K$23:$K$192,\"<=\"&M17,Input!$K$23:$K$192,\">\"&L17, Input!$L$23:$L$192,$B17)","v":0},{"$f":"COUNTIFS(Input!$K$23:$K$192,\"<=\"&N17,Input!$K$23:$K$192,\">\"&M17, Input!$L$23:$L$192,$B17)","v":0},{"$f":"ROUND($C17*$E17*CalRefs!$B$9,0)","v":0},{"$f":"ROUND($C17*$E17*CalRefs!$B$10,0)","v":0},{"$f":"ROUND($C17*$E17*CalRefs!$B$11,0)","v":0}]
[{"$f":"Data!$S$2:$S$34","v":-1},"Mass Care Services",3,{"$f":"IFERROR((COUNTIF(ExamQ[Core Capability of ELO],$B18)),\"\")","v":0},{"$f":"Data!C18","v":0},{"$f":"Data!D18","v":""},"",{"$f":"IFERROR((SUMIFS(ExamQ[Test Question Complexity],ExamQ[Core Capability of ELO],$B18)),\"\")","v":{"v":0,"d":"0.0"}},{"$f":"Data!E18","v":{"v":0,"d":"0.0"}},"",{"$f":"Data!G18","v":""},{"v":0,"d":"0.00"},{"v":0,"d":"0.00"},{"v":0,"d":"0.00"},{"$f":"COUNTIFS(Input!$K$23:$K$192,\"<=\"&L18, Input!$L$23:$L$192,$B18)","v":0},{"$f":"COUNTIFS(Input!$K$23:$K$192,\"<=\"&M18,Input!$K$23:$K$192,\">\"&L18, Input!$L$23:$L$192,$B18)","v":0},{"$f":"COUNTIFS(Input!$K$23:$K$192,\"<=\"&N18,Input!$K$23:$K$192,\">\"&M18, Input!$L$23:$L$192,$B18)","v":0},{"$f":"ROUND($C18*$E18*CalRefs!$B$9,0)","v":0},{"$f":"ROUND($C18*$E18*CalRefs!$B$10,0)","v":0},{"$f":"ROUND($C18*$E18*CalRefs!$B$11,0)","v":0}]
[{"$f":"Data!$S$2:$S$34","v":-1},"Mass Search and Rescue Operations",3,{"$f":"IFERROR((COUNTIF(ExamQ[Core Capability of ELO],$B19)),\"\")","v":0},{"$f":"Data!C19","v":0},{"$f":"Data!D19","v":""},"",{"$f":"IFERROR((SUMIFS(ExamQ[Test Question Complexity],ExamQ[Core Capability of ELO],$B19)),\"\")","v":{"v":0,"d":"0.0"}},{"$f":"Data!E19","v":{"v":0,"d":"0.0"}},"",{"$f":"Data!G19","v":""},{"v":0,"d":"0.00"},{"v":0,"d":"0.00"},{"v":0,"d":"0.00"},{"$f":"COUNTIFS(Input!$K$23:$K$192,\"<=\"&L19, Input!$L$23:$L$192,$B19)","v":0},{"$f":"COUNTIFS(Input!$K$23:$K$192,\"<=\"&M19,Input!$K$23:$K$192,\">\"&L19, Input!$L$23:$L$192,$B19)","v":0},{"$f":"COUNTIFS(Input!$K$23:$K$192,\"<=\"&N19,Input!$K$23:$K$192,\">\"&M19, Input!$L$23:$L$192,$B19)","v":0},{"$f":"ROUND($C19*$E19*CalRefs!$B$9,0)","v":0},{"$f":"ROUND($C19*$E19*CalRefs!$B$10,0)","v":0},{"$f":"ROUND($C19*$E19*CalRefs!$B$11,0)","v":0}]
[{"$f":"Data!$S$2:$S$34","v":-1},"Natural and Cultural Resources",3,{"$f":"IFERROR((COUNTIF(ExamQ[Core Capability of ELO],$B20)),\"\")","v":0},{"$f":"Data!C20","v":0},{"$f":"Data!D20","v":""},"",{"$f":"IFERROR((SUMIFS(ExamQ[Test Question Complexity],ExamQ[Core Capability of ELO],$B20)),\"\")","v":{"v":0,"d":"0.0"}},{"$f":"Data!E20","v":{"v":0,"d":"0.0"}},"",{"$f":"Data!G20","v":""},{"v":0,"d":"0.00"},{"v":0,"d":"0.00"},{"v":0,"d":"0.00"},{"$f":"COUNTIFS(Input!$K$23:$K$192,\"<=\"&L20, Input!$L$23:$L$192,$B20)","v":0},{"$f":"COUNTIFS(Input!$K$23:$K$192,\"<=\"&M20,Input!$K$23:$K$192,\">\"&L20, Input!$L$23:$L$192,$B20)","v":0},{"$f":"COUNTIFS(Input!$K$23:$K$192,\"<=\"&N20,Input!$K$23:$K$192,\">\"&M20, Input!$L$23:$L$192,$B20)","v":0},{"$f":"ROUND($C20*$E20*CalRefs!$B$9,0)","v":0},{"$f":"ROUND($C20*$E20*CalRefs!$B$10,0)","v":0},{"$f":"ROUND($C20*$E20*CalRefs!$B$11,0)","v":0}]
[{"$f":"Data!$S$2:$S$34","v":-1},"On-scene Security, Protection, and Law Enforcement",3,{"$f":"IFERROR((COUNTIF(ExamQ[Core Capability of ELO],$B21)),\"\")","v":0},{"$f":"Data!C21","v":0},{"$f":"Data!D21","v":""},"",{"$f":"IFERROR((SUMIFS(ExamQ[Test Question Complexity],ExamQ[Core Capability of ELO],$B21)),\"\")","v":{"v":0,"d":"0.0"}},{"$f":"Data!E21","v":{"v":0,"d":"0.0"}},"",{"$f":"Data!G21","v":""},{"v":0,"d":"0.00"},{"v":0,"d":"0.00"},{"v":0,"d":"0.00"},{"$f":"COUNTIFS(Input!$K$23:$K$192,\"<=\"&L21, Input!$L$23:$L$192,$B21)","v":0},{"$f":"COUNTIFS(Input!$K$23:$K$192,\"<=\"&M21,Input!$K$23:$K$192,\">\"&L21, Input!$L$23:$L$192,$B21)","v":0},{"$f":"COUNTIFS(Input!$K$23:$K$192,\"<=\"&N21,Input!$K$23:$K$192,\">\"&M21, Input!$L$23:$L$192,$B21)","v":0},{"$f":"ROUND($C21*$E21*CalRefs!$B$9,0)","v":0},{"$f":"ROUND($C21*$E21*CalRefs!$B$10,0)","v":0},{"$f":"ROUND($C21*$E21*CalRefs!$B$11,0)","v":0}]
[{"$f":"Data!$S$2:$S$34","v":-1},"Operational Communications",3,{"$f":"IFERROR((COUNTIF(ExamQ[Core Capability of ELO],$B22)),\"\")","v":0},{"$f":"Data!C22","v":0},{"$f":"Data!D22","v":""},"",{"$f":"IFERROR((SUMIFS(ExamQ[Test Question Complexity],ExamQ[Core Capability of ELO],$B22)),\"\")","v":{"v":0,"d":"0.0"}},{"$f":"Data!E22","v":{"v":0,"d":"0.0"}},"",{"$f":"Data!G22","v":""},{"v":0,"d":"0.00"},{"v":0,"d":"0.00"},{"v":0,"d":"0.00"},{"$f":"COUNTIFS(Input!$K$23:$K$192,\"<=\"&L22, Input!$L$23:$L$192,$B22)","v":0},{"$f":"COUNTIFS(Input!$K$23:$K$192,\"<=\"&M22,Input!$K$23:$K$192,\">\"&L22, Input!$L$23:$L$192,$B22)","v":0},{"$f":"COUNTIFS(Input!$K$23:$K$192,\"<=\"&N22,Input!$K$23:$K$192,\">\"&M22, Input!$L$23:$L$192,$B22)","v":0},{"$f":"ROUND($C22*$E22*CalRefs!$B$9,0)","v":0},{"$f":"ROUND($C22*$E22*CalRefs!$B$10,0)","v":0},{"$f":"ROUND($C22*$E22*CalRefs!$B$11,0)","v":0}]
[{"$f":"Data!$S$2:$S$34","v":-1},"Operational Coordination",3,{"$f":"IFERROR((COUNTIF(ExamQ[Core Capability of ELO],$B23)),\"\")","v":0},{"$f":"Data!C23","v":0},{"$f":"Data!D23","v":""},"",{"$f":"IFERROR((SUMIFS(ExamQ[Test Question Complexity],ExamQ[Core Capability of ELO],$B23)),\"\")","v":{"v":0,"d":"0.0"}},{"$f":"Data!E23","v":{"v":0,"d":"0.0"}},"",{"$f":"Data!G23","v":""},{"v":0,"d":"0.00"},{"v":0,"d":"0.00"},{"v":0,"d":"0.00"},{"$f":"COUNTIFS(Input!$K$23:$K$192,\"<=\"&L23, Input!$L$23:$L$192,$B23)","v":0},{"$f":"COUNTIFS(Input!$K$23:$K$192,\"<=\"&M23,Input!$K$23:$K$192,\">\"&L23, Input!$L$23:$L$192,$B23)","v":0},{"$f":"COUNTIFS(Input!$K$23:$K$192,\"<=\"&N23,Input!$K$23:$K$192,\">\"&M23, Input!$L$23:$L$192,$B23)","v":0},{"$f":"ROUND($C23*$E23*CalRefs!$B$9,0)","v":0},{"$f":"ROUND($C23*$E23*CalRefs!$B$10,0)","v":0},{"$f":"ROUND($C23*$E23*CalRefs!$B$11,0)","v":0}]
[{"$f":"Data!$S$2:$S$34","v":-1},"Physical Protective Measures",3,{"$f":"IFERROR((COUNTIF(ExamQ[Core Capability of ELO],$B24)),\"\")","v":0},{"$f":"Data!C24","v":0},{"$f":"Data!D24","v":""},"",{"$f":"IFERROR((SUMIFS(ExamQ[Test Question Complexity],ExamQ[Core Capability of ELO],$B24)),\"\")","v":{"v":0,"d":"0.0"}},{"$f":"Data!E24","v":{"v":0,"d":"0.0"}},"",{"$f":"Data!G24","v":""},{"v":0,"d":"0.00"},{"v":0,"d":"0.00"},{"v":0,"d":"0.00"},{"$f":"COUNTIFS(Input!$K$23:$K$192,\"<=\"&L24, Input!$L$23:$L$192,$B24)","v":0},{"$f":"COUNTIFS(Input!$K$23:$K$192,\"<=\"&M24,Input!$K$23:$K$192,\">\"&L24, Input!$L$23:$L$192,$B24)","v":0},{"$f":"COUNTIFS(Input!$K$23:$K$192,\"<=\"&N24,Input!$K$23:$K$192,\">\"&M24, Input!$L$23:$L$192,$B24)","v":0},{"$f":"ROUND($C24*$E24*CalRefs!$B$9,0)","v":0},{"$f":"ROUND($C24*$E24*CalRefs!$B$10,0)","v":0},{"$f":"ROUND($C24*$E24*CalRefs!$B$11,0)","v":0}]
[{"$f":"Data!$S$2:$S$34","v":-1},"Planning",3,{"$f":"IFERROR((COUNTIF(ExamQ[Core Capability of ELO],$B25)),\"\")","v":0},{"$f":"Data!C25","v":0},{"$f":"Data!D25","v":""},"",{"$f":"IFERROR((SUMIFS(ExamQ[Test Question Complexity],ExamQ[Core Capability of ELO],$B25)),\"\")","v":{"v":0,"d":"0.0"}},{"$f":"Data!E25","v":{"v":0,"d":"0.0"}},"",{"$f":"Data!G25","v":""},{"v":0,"d":"0.00"},{"v":0,"d":"0.00"},{"v":0,"d":"0.00"},{"$f":"COUNTIFS(Input!$K$23:$K$192,\"<=\"&L25, Input!$L$23:$L$192,$B25)","v":0},{"$f":"COUNTIFS(Input!$K$23:$K$192,\"<=\"&M25,Input!$K$23:$K$192,\">\"&L25, Input!$L$23:$L$192,$B25)","v":0},{"$f":"COUNTIFS(Input!$K$23:$K$192,\"<=\"&N25,Input!$K$23:$K$192,\">\"&M25, Input!$L$23:$L$192,$B25)","v":0},{"$f":"ROUND($C25*$E25*CalRefs!$B$9,0)","v":0},{"$f":"ROUND($C25*$E25*CalRefs!$B$10,0)","v":0},{"$f":"ROUND($C25*$E25*CalRefs!$B$11,0)","v":0}]
[{"$f":"Data!$S$2:$S$34","v":-1},"Logistics and Supply Chain Management",3,{"$f":"IFERROR((COUNTIF(ExamQ[Core Capability of ELO],$B26)),\"\")","v":0},{"$f":"Data!C26","v":0},{"$f":"Data!D26","v":""},"",{"$f":"IFERROR((SUMIFS(ExamQ[Test Question Complexity],ExamQ[Core Capability of ELO],$B26)),\"\")","v":{"v":0,"d":"0.0"}},{"$f":"Data!E26","v":{"v":0,"d":"0.0"}},"",{"$f":"Data!G26","v":""},{"v":0,"d":"0.00"},{"v":0,"d":"0.00"},{"v":0,"d":"0.00"},{"$f":"COUNTIFS(Input!$K$23:$K$192,\"<=\"&L26, Input!$L$23:$L$192,$B26)","v":0},{"$f":"COUNTIFS(Input!$K$23:$K$192,\"<=\"&M26,Input!$K$23:$K$192,\">\"&L26, Input!$L$23:$L$192,$B26)","v":0},{"$f":"COUNTIFS(Input!$K$23:$K$192,\"<=\"&N26,Input!$K$23:$K$192,\">\"&M26, Input!$L$23:$L$192,$B26)","v":0},{"$f":"ROUND($C26*$E26*CalRefs!$B$9,0)","v":0},{"$f":"ROUND($C26*$E26*CalRefs!$B$10,0)","v":0},{"$f":"ROUND($C26*$E26*CalRefs!$B$11,0)","v":0}]
[{"$f":"Data!$S$2:$S$34","v":-1},"Public Health, Healthcare, and Emergency Medical Services",3,{"$f":"IFERROR((COUNTIF(ExamQ[Core Capability of ELO],$B27)),\"\")","v":0},{"$f":"Data!C27","v":0},{"$f":"Data!D27","v":""},"",{"$f":"IFERROR((SUMIFS(ExamQ[Test Question Complexity],ExamQ[Core Capability of ELO],$B27)),\"\")","v":{"v":0,"d":"0.0"}},{"$f":"Data!E27","v":{"v":0,"d":"0.0"}},"",{"$f":"Data!G27","v":""},{"v":0,"d":"0.00"},{"v":0,"d":"0.00"},{"v":0,"d":"0.00"},{"$f":"COUNTIFS(Input!$K$23:$K$192,\"<=\"&L27, Input!$L$23:$L$192,$B27)","v":0},{"$f":"COUNTIFS(Input!$K$23:$K$192,\"<=\"&M27,Input!$K$23:$K$192,\">\"&L27, Input!$L$23:$L$192,$B27)","v":0},{"$f":"COUNTIFS(Input!$K$23:$K$192,\"<=\"&N27,Input!$K$23:$K$192,\">\"&M27, Input!$L$23:$L$192,$B27)","v":0},{"$f":"ROUND($C27*$E27*CalRefs!$B$9,0)","v":0},{"$f":"ROUND($C27*$E27*CalRefs!$B$10,0)","v":0},{"$f":"ROUND($C27*$E27*CalRefs!$B$11,0)","v":0}]
[{"$f":"Data!$S$2:$S$34","v":-1},"Public Information and Warning",3,{"$f":"IFERROR((COUNTIF(ExamQ[Core Capability of ELO],$B28)),\"\")","v":0},{"$f":"Data!C28","v":0},{"$f":"Data!D28","v":""},"",{"$f":"IFERROR((SUMIFS(ExamQ[Test Question Complexity],ExamQ[Core Capability of ELO],$B28)),\"\")","v":{"v":0,"d":"0.0"}},{"$f":"Data!E28","v":{"v":0,"d":"0.0"}},"",{"$f":"Data!G28","v":""},{"v":0,"d":"0.00"},{"v":0,"d":"0.00"},{"v":0,"d":"0.00"},{"$f":"COUNTIFS(Input!$K$23:$K$192,\"<=\"&L28, Input!$L$23:$L$192,$B28)","v":0},{"$f":"COUNTIFS(Input!$K$23:$K$192,\"<=\"&M28,Input!$K$23:$K$192,\">\"&L28, Input!$L$23:$L$192,$B28)","v":0},{"$f":"COUNTIFS(Input!$K$23:$K$192,\"<=\"&N28,Input!$K$23:$K$192,\">\"&M28, Input!$L$23:$L$192,$B28)","v":0},{"$f":"ROUND($C28*$E28*CalRefs!$B$9,0)","v":0},{"$f":"ROUND($C28*$E28*CalRefs!$B$10,0)","v":0},{"$f":"ROUND($C28*$E28*CalRefs!$B$11,0)","v":0}]
[{"$f":"Data!$S$2:$S$34","v":-1},"Risk and Disaster Resilience Assessment",3,{"$f":"IFERROR((COUNTIF(ExamQ[Core Capability of ELO],$B29)),\"\")","v":0},{"$f":"Data!C29","v":0},{"$f":"Data!D29","v":""},"",{"$f":"IFERROR((SUMIFS(ExamQ[Test Question Complexity],ExamQ[Core Capability of ELO],$B29)),\"\")","v":{"v":0,"d":"0.0"}},{"$f":"Data!E29","v":{"v":0,"d":"0.0"}},"",{"$f":"Data!G29","v":""},{"v":0,"d":"0.00"},{"v":0,"d":"0.00"},{"v":0,"d":"0.00"},{"$f":"COUNTIFS(Input!$K$23:$K$192,\"<=\"&L29, Input!$L$23:$L$192,$B29)","v":0},{"$f":"COUNTIFS(Input!$K$23:$K$192,\"<=\"&M29,Input!$K$23:$K$192,\">\"&L29, Input!$L$23:$L$192,$B29)","v":0},{"$f":"COUNTIFS(Input!$K$23:$K$192,\"<=\"&N29,Input!$K$23:$K$192,\">\"&M29, Input!$L$23:$L$192,$B29)","v":0},{"$f":"ROUND($C29*$E29*CalRefs!$B$9,0)","v":0},{"$f":"ROUND($C29*$E29*CalRefs!$B$10,0)","v":0},{"$f":"ROUND($C29*$E29*CalRefs!$B$11,0)","v":0}]
[{"$f":"Data!$S$2:$S$34","v":-1},"Risk Management for Protection Programs and Activities",3,{"$f":"IFERROR((COUNTIF(ExamQ[Core Capability of ELO],$B30)),\"\")","v":0},{"$f":"Data!C30","v":0},{"$f":"Data!D30","v":""},"",{"$f":"IFERROR((SUMIFS(ExamQ[Test Question Complexity],ExamQ[Core Capability of ELO],$B30)),\"\")","v":{"v":0,"d":"0.0"}},{"$f":"Data!E30","v":{"v":0,"d":"0.0"}},"",{"$f":"Data!G30","v":""},{"v":0,"d":"0.00"},{"v":0,"d":"0.00"},{"v":0,"d":"0.00"},{"$f":"COUNTIFS(Input!$K$23:$K$192,\"<=\"&L30, Input!$L$23:$L$192,$B30)","v":0},{"$f":"COUNTIFS(Input!$K$23:$K$192,\"<=\"&M30,Input!$K$23:$K$192,\">\"&L30, Input!$L$23:$L$192,$B30)","v":0},{"$f":"COUNTIFS(Input!$K$23:$K$192,\"<=\"&N30,Input!$K$23:$K$192,\">\"&M30, Input!$L$23:$L$192,$B30)","v":0},{"$f":"ROUND($C30*$E30*CalRefs!$B$9,0)","v":0},{"$f":"ROUND($C30*$E30*CalRefs!$B$10,0)","v":0},{"$f":"ROUND($C30*$E30*CalRefs!$B$11,0)","v":0}]
[{"$f":"Data!$S$2:$S$34","v":-1},"Screening, Search, and Detection",3,{"$f":"IFERROR((COUNTIF(ExamQ[Core Capability of ELO],$B31)),\"\")","v":0},{"$f":"Data!C31","v":0},{"$f":"Data!D31","v":""},"",{"$f":"IFERROR((SUMIFS(ExamQ[Test Question Complexity],ExamQ[Core Capability of ELO],$B31)),\"\")","v":{"v":0,"d":"0.0"}},{"$f":"Data!E31","v":{"v":0,"d":"0.0"}},"",{"$f":"Data!G31","v":""},{"v":0,"d":"0.00"},{"v":0,"d":"0.00"},{"v":0,"d":"0.00"},{"$f":"COUNTIFS(Input!$K$23:$K$192,\"<=\"&L31, Input!$L$23:$L$192,$B31)","v":0},{"$f":"COUNTIFS(Input!$K$23:$K$192,\"<=\"&M31,Input!$K$23:$K$192,\">\"&L31, Input!$L$23:$L$192,$B31)","v":0},{"$f":"COUNTIFS(Input!$K$23:$K$192,\"<=\"&N31,Input!$K$23:$K$192,\">\"&M31, Input!$L$23:$L$192,$B31)","v":0},{"$f":"ROUND($C31*$E31*CalRefs!$B$9,0)","v":0},{"$f":"ROUND($C31*$E31*CalRefs!$B$10,0)","v":0},{"$f":"ROUND($C31*$E31*CalRefs!$B$11,0)","v":0}]
[{"$f":"Data!$S$2:$S$34","v":-1},"Situational Assessment",3,{"$f":"IFERROR((COUNTIF(ExamQ[Core Capability of ELO],$B32)),\"\")","v":0},{"$f":"Data!C32","v":0},{"$f":"Data!D32","v":""},"",{"$f":"IFERROR((SUMIFS(ExamQ[Test Question Complexity],ExamQ[Core Capability of ELO],$B32)),\"\")","v":{"v":0,"d":"0.0"}},{"$f":"Data!E32","v":{"v":0,"d":"0.0"}},"",{"$f":"Data!G32","v":""},{"v":0,"d":"0.00"},{"v":0,"d":"0.00"},{"v":0,"d":"0.00"},{"$f":"COUNTIFS(Input!$K$23:$K$192,\"<=\"&L32, Input!$L$23:$L$192,$B32)","v":0},{"$f":"COUNTIFS(Input!$K$23:$K$192,\"<=\"&M32,Input!$K$23:$K$192,\">\"&L32, Input!$L$23:$L$192,$B32)","v":0},{"$f":"COUNTIFS(Input!$K$23:$K$192,\"<=\"&N32,Input!$K$23:$K$192,\">\"&M32, Input!$L$23:$L$192,$B32)","v":0},{"$f":"ROUND($C32*$E32*CalRefs!$B$9,0)","v":0},{"$f":"ROUND($C32*$E32*CalRefs!$B$10,0)","v":0},{"$f":"ROUND($C32*$E32*CalRefs!$B$11,0)","v":0}]
[{"$f":"Data!$S$2:$S$34","v":-1},"Supply Chain Integrity and Security",3,{"$f":"IFERROR((COUNTIF(ExamQ[Core Capability of ELO],$B33)),\"\")","v":0},{"$f":"Data!C33","v":0},{"$f":"Data!D33","v":""},"",{"$f":"IFERROR((SUMIFS(ExamQ[Test Question Complexity],ExamQ[Core Capability of ELO],$B33)),\"\")","v":{"v":0,"d":"0.0"}},{"$f":"Data!E33","v":{"v":0,"d":"0.0"}},"",{"$f":"Data!G33","v":""},{"v":0,"d":"0.00"},{"v":0,"d":"0.00"},{"v":0,"d":"0.00"},{"$f":"COUNTIFS(Input!$K$23:$K$192,\"<=\"&L33, Input!$L$23:$L$192,$B33)","v":0},{"$f":"COUNTIFS(Input!$K$23:$K$192,\"<=\"&M33,Input!$K$23:$K$192,\">\"&L33, Input!$L$23:$L$192,$B33)","v":0},{"$f":"COUNTIFS(Input!$K$23:$K$192,\"<=\"&N33,Input!$K$23:$K$192,\">\"&M33, Input!$L$23:$L$192,$B33)","v":0},{"$f":"ROUND($C33*$E33*CalRefs!$B$9,0)","v":0},{"$f":"ROUND($C33*$E33*CalRefs!$B$10,0)","v":0},{"$f":"ROUND($C33*$E33*CalRefs!$B$11,0)","v":0}]
[{"$f":"Data!$S$2:$S$34","v":-1},"Threats and Hazard Identification",3,{"$f":"IFERROR((COUNTIF(ExamQ[Core Capability of ELO],$B34)),\"\")","v":0},{"$f":"Data!C34","v":0},{"$f":"Data!D34","v":""},"",{"$f":"IFERROR((SUMIFS(ExamQ[Test Question Complexity],ExamQ[Core Capability of ELO],$B34)),\"\")","v":{"v":0,"d":"0.0"}},{"$f":"Data!E34","v":{"v":0,"d":"0.0"}},"",{"$f":"Data!G34","v":""},{"v":0,"d":"0.00"},{"v":0,"d":"0.00"},{"v":0,"d":"0.00"},{"$f":"COUNTIFS(Input!$K$23:$K$192,\"<=\"&L34, Input!$L$23:$L$192,$B34)","v":0},{"$f":"COUNTIFS(Input!$K$23:$K$192,\"<=\"&M34,Input!$K$23:$K$192,\">\"&L34, Input!$L$23:$L$192,$B34)","v":0},{"$f":"COUNTIFS(Input!$K$23:$K$192,\"<=\"&N34,Input!$K$23:$K$192,\">\"&M34, Input!$L$23:$L$192,$B34)","v":0},{"$f":"ROUND($C34*$E34*CalRefs!$B$9,0)","v":0},{"$f":"ROUND($C34*$E34*CalRefs!$B$10,0)","v":0},{"$f":"ROUND($C34*$E34*CalRefs!$B$11,0)","v":0}]

{"sheet":"Data - DHSFEMA","index":16,"n_rows":30,"n_cols":29,"rows_kept":30,"hidden":true,"merged":[[34,3,34,6],[36,3,36,5]]}
["DHS/FEMA Icon","DHS/FEMA Doctrine","Number of EOs by DHS/FEMA","Percent of EO by DHS/FEMA","EO Complexity by DHS/FEMA","Percent of Class Time by DHS/FEMA","Weighted Average EO Complexity","Place Holder (Don’t Remove)","Value of None DHS/FEMA Weighted Complexity","Max Complexity Value","LT 15% Content","None Rule","GT 15% Rule","2.5x Rule","3.5x Flag","Mapped DHS/FEMA","Primary DHS/FEMA","Secondary DHS/FEMA","Flag DHS/FEMA","DHS/FEMA Icon Alert","Number of Mapped EOs","DHS/FEMA Avg KSA","Weighted Average KSA of Mapped DHS/FEMA Doctrine","Course Level by DHS/FEMA","Primary DHS/FEMA","Course Level","Training Provider","Course Title","Course Number"]
[{"$f":"$T$2:$T$30","v":-1},{"$f":"IFERROR(FEMADoctrine[[#This Row],[DHS / FEMA Doctrine]], \"   \")","v":"None"},{"$f":"IF(ISERROR(COUNTIF(Doctrine_FEMADHS,B2)),\"\",COUNTIF(Doctrine_FEMADHS,B2))","v":0},{"$f":"IFERROR((C2/(SUM($C$2:$C$30))),\"\")","v":""},{"$f":"IFERROR((SUMIFS(Doctrine_Time,Doctrine_FEMADHS,$B2)),\"\")","v":{"v":0,"d":"0.0"}},{"$f":"IFERROR(((SUMIFS(Doctrine_Time,Doctrine_FEMADHS,$B2))/Input!$L$7),\"\")","v":""},{"$f":"IFERROR((($E2*$C2)/SUM($C$2:$C$30)),\"\")","v":""},null,{"$f":"IFERROR((INDEX($G$2:$G$34,(MATCH(\"none\",$B$2:$B$34,0)))),\"\")","v":""},{"$f":"IFERROR((IF(AND(MAX($G$2:$G$34)=I2),LARGE($G$2:$G$34,2),MAX($G$2:$G$34))),\"\")","v":{"v":0,"d":"0.00"}},{"$f":"IFERROR((IF($D2<0.15,1,0)),\"\")","v":0},{"$f":"IFERROR((IF($B2=\"None\",0,1)),\"\")","v":0},{"$f":"IFERROR((IF($D2>=0.15,1,0)),\"\")","v":1},{"$f":"IFERROR((IF($G2*2.5>J2,1,0)),\"\")","v":""},{"$f":"IFERROR((IF(OR(AND(K2=1,$G2*3.5>J2),(AND(N2=0,$G2*3.5>J2)),$G2=J2),1,0)),\"\")","v":""},{"$f":"IFERROR((IF(AND($L2,$M2,$N2=1),1,0)),\"\")","v":0},{"$f":"IFERROR((IF(AND($P2=1,$G2=J2),3,0)),\"\")","v":0},{"$f":"IFERROR((IF(AND($Q2=0,$P2=1),1,-1)),\"\")","v":-1},{"$f":"IFERROR((IF(AND(L2,O2=1),1,0)),\"\")","v":0},{"$f":"IFERROR(IF(MAX($G$2:$G$34)=I2,-1,((SUM(S2,Q2,R2)))),\"\")","v":-1},{"$f":"IFERROR((SUMIF($P$2:$P$34,1,$C$2:$C$34)),\"\")","v":0},{"$f":"IFERROR((SUMIFS(Doctrine_Time,Doctrine_FEMADHS,$B2)/C2),\"\")","v":""},{"$f":"IFERROR((SUMPRODUCT(($P$2:$P$34),($V$2:$V$34),($C$2:$C$34))/U2),\"\")","v":""},{"$f":"IFERROR((VLOOKUP($V2,CalRefs!$A$3:$D$5,4)),\"\")","v":""},{"$f":"IFERROR(IF(OR(MAX($G$2:$G$30)=$I$2,MAX($T$2:$T$30)<>3),\"Does Not Map\",INDEX($B$2:$B$30,MATCH(J2,$G$2:$G$30,0))),\"\")","v":"Does Not Map"},{"$f":"IFERROR(IF(Input!$B$12=\"Executive / Elected Official\",\"Executive\",(VLOOKUP($W$2,CalRefs!$A$3:$D$5,4))),\"\")","v":""},{"$f":"IF(ISERROR(Input!$B$14),\"\",Input!$B$14)","v":0},{"$f":"IF(ISERROR(Input!$B$3),\"\",Input!$B$3)","v":0},{"$f":"CourseNumber","v":0}]
[-1,{"$f":"IFERROR(FEMADoctrine[[#This Row],[DHS / FEMA Doctrine]], \"   \")","v":"Emergency Support Function #15 – External Affairs Annex"},0,"",{"v":0,"d":"0.0"},{"$f":"IFERROR(((SUMIFS(Doctrine_Time,Doctrine_FEMADHS,$B3))/Input!$L$7),\"\")","v":""},{"$f":"IFERROR((($E3*$C3)/SUM($C$2:$C$30)),\"\")","v":""},null,{"$f":"IFERROR((INDEX($G$2:$G$34,(MATCH(\"none\",$B$2:$B$34,0)))),\"\")","v":""},{"$f":"IFERROR((IF(AND(MAX($G$2:$G$34)=I3),LARGE($G$2:$G$34,2),MAX($G$2:$G$34))),\"\")","v":{"v":0,"d":"0.00"}},{"$f":"IFERROR((IF($D3<0.15,1,0)),\"\")","v":0},{"$f":"IFERROR((IF($B3=\"None\",0,1)),\"\")","v":1},{"$f":"IFERROR((IF($D3>=0.15,1,0)),\"\")","v":1},{"$f":"IFERROR((IF($G3*2.5>J3,1,0)),\"\")","v":""},{"$f":"IFERROR((IF(OR(AND(K3=1,$G3*3.5>J3),(AND(N3=0,$G3*3.5>J3)),$G3=J3),1,0)),\"\")","v":""},{"$f":"IFERROR((IF(AND($L3,$M3,$N3=1),1,0)),\"\")","v":0},{"$f":"IFERROR((IF(AND($P3=1,$G3=J3),3,0)),\"\")","v":0},{"$f":"IFERROR((IF(AND($Q3=0,$P3=1),1,-1)),\"\")","v":-1},{"$f":"IFERROR((IF(AND(L3,O3=1),1,0)),\"\")","v":0},{"$f":"IFERROR(IF(MAX($G$2:$G$34)=I3,-1,((SUM(S3,Q3,R3)))),\"\")","v":-1},{"$f":"IFERROR((SUMIF($P$2:$P$34,1,$C$2:$C$34)),\"\")","v":0},"",{"$f":"IFERROR((SUMPRODUCT(($P$2:$P$34),($V$2:$V$34),($C$2:$C$34))/U3),\"\")","v":""},{"$f":"IFERROR((VLOOKUP($V3,CalRefs!$A$3:$D$5,4)),\"\")","v":""},{"$f":"IFERROR(IF(OR(MAX($G$2:$G$30)=$I$2,MAX($T$2:$T$30)<>3),\"Does Not Map\",INDEX($B$2:$B$30,MATCH(J3,$G$2:$G$30,0))),\"\")","v":"Does Not Map"},{"$f":"IFERROR(IF(Input!$B$12=\"Executive / Elected Official\",\"Executive\",(VLOOKUP($W$2,CalRefs!$A$3:$D$5,4))),\"\")","v":""},{"$f":"IF(ISERROR(Input!$B$14),\"\",Input!$B$14)","v":0},{"$f":"IF(ISERROR(Input!$B$3),\"\",Input!$B$3)","v":0},0]
[-1,{"$f":"IFERROR(FEMADoctrine[[#This Row],[DHS / FEMA Doctrine]], \"   \")","v":"Emergency Support Function #2 – Communications Annex"},0,"",{"v":0,"d":"0.0"},{"$f":"IFERROR(((SUMIFS(Doctrine_Time,Doctrine_FEMADHS,$B4))/Input!$L$7),\"\")","v":""},"",null,"",{"v":0,"d":"0.00"},0,1,1,"","",0,0,-1,0,-1,0,"","",{"$f":"IFERROR((VLOOKUP($V4,CalRefs!$A$3:$D$5,4)),\"\")","v":""},"Does Not Map",{"$f":"IFERROR(IF(Input!$B$12=\"Executive / Elected Official\",\"Executive\",(VLOOKUP($W$2,CalRefs!$A$3:$D$5,4))),\"\")","v":""},{"$f":"IF(ISERROR(Input!$B$14),\"\",Input!$B$14)","v":0},{"$f":"IF(ISERROR(Input!$B$3),\"\",Input!$B$3)","v":0},0]
[-1,{"$f":"IFERROR(FEMADoctrine[[#This Row],[DHS / FEMA Doctrine]], \"   \")","v":"Emergency Support Function #5 - Information and Planning "},0,"",{"v":0,"d":"0.0"},{"$f":"IFERROR(((SUMIFS(Doctrine_Time,Doctrine_FEMADHS,$B5))/Input!$L$7),\"\")","v":""},"",null,"",{"v":0,"d":"0.00"},0,1,1,"","",0,0,-1,0,-1,0,"","",{"$f":"IFERROR((VLOOKUP($V5,CalRefs!$A$3:$D$5,4)),\"\")","v":""},"Does Not Map",{"$f":"IFERROR(IF(Input!$B$12=\"Executive / Elected Official\",\"Executive\",(VLOOKUP($W$2,CalRefs!$A$3:$D$5,4))),\"\")","v":""},{"$f":"IF(ISERROR(Input!$B$14),\"\",Input!$B$14)","v":0},{"$f":"IF(ISERROR(Input!$B$3),\"\",Input!$B$3)","v":0},0]
[-1,{"$f":"IFERROR(FEMADoctrine[[#This Row],[DHS / FEMA Doctrine]], \"   \")","v":"Emergency Support Function #6 – Mass Care, Emergency Assistance, Temporary Housing, and Human Services "},0,"",{"v":0,"d":"0.0"},{"$f":"IFERROR(((SUMIFS(Doctrine_Time,Doctrine_FEMADHS,$B6))/Input!$L$7),\"\")","v":""},"",null,"",{"v":0,"d":"0.00"},0,1,1,"","",0,0,-1,0,-1,0,"","",{"$f":"IFERROR((VLOOKUP($V6,CalRefs!$A$3:$D$5,4)),\"\")","v":""},"Does Not Map",{"$f":"IFERROR(IF(Input!$B$12=\"Executive / Elected Official\",\"Executive\",(VLOOKUP($W$2,CalRefs!$A$3:$D$5,4))),\"\")","v":""},{"$f":"IF(ISERROR(Input!$B$14),\"\",Input!$B$14)","v":0},{"$f":"IF(ISERROR(Input!$B$3),\"\",Input!$B$3)","v":0},0]
[-1,{"$f":"IFERROR(FEMADoctrine[[#This Row],[DHS / FEMA Doctrine]], \"   \")","v":"Emergency Support Function #7 – Logistics Annex"},0,"",{"v":0,"d":"0.0"},{"$f":"IFERROR(((SUMIFS(Doctrine_Time,Doctrine_FEMADHS,$B7))/Input!$L$7),\"\")","v":""},"",null,"",{"v":0,"d":"0.00"},0,1,1,"","",0,0,-1,0,-1,0,"","",{"$f":"IFERROR((VLOOKUP($V7,CalRefs!$A$3:$D$5,4)),\"\")","v":""},"Does Not Map",{"$f":"IFERROR(IF(Input!$B$12=\"Executive / Elected Official\",\"Executive\",(VLOOKUP($W$2,CalRefs!$A$3:$D$5,4))),\"\")","v":""},{"$f":"IF(ISERROR(Input!$B$14),\"\",Input!$B$14)","v":0},{"$f":"IF(ISERROR(Input!$B$3),\"\",Input!$B$3)","v":0},0]
[-1,{"$f":"IFERROR(FEMADoctrine[[#This Row],[DHS / FEMA Doctrine]], \"   \")","v":"Emergency Support Function #9 – Search and Rescue Annex"},0,"",{"v":0,"d":"0.0"},{"$f":"IFERROR(((SUMIFS(Doctrine_Time,Doctrine_FEMADHS,$B8))/Input!$L$7),\"\")","v":""},"",null,"",{"v":0,"d":"0.00"},0,1,1,"","",0,0,-1,0,-1,0,"","",{"$f":"IFERROR((VLOOKUP($V8,CalRefs!$A$3:$D$5,4)),\"\")","v":""},"Does Not Map",{"$f":"IFERROR(IF(Input!$B$12=\"Executive / Elected Official\",\"Executive\",(VLOOKUP($W$2,CalRefs!$A$3:$D$5,4))),\"\")","v":""},{"$f":"IF(ISERROR(Input!$B$14),\"\",Input!$B$14)","v":0},{"$f":"IF(ISERROR(Input!$B$3),\"\",Input!$B$3)","v":0},0]
[-1,{"$f":"IFERROR(FEMADoctrine[[#This Row],[DHS / FEMA Doctrine]], \"   \")","v":"FEMA Publication 1"},0,"",{"v":0,"d":"0.0"},{"$f":"IFERROR(((SUMIFS(Doctrine_Time,Doctrine_FEMADHS,$B9))/Input!$L$7),\"\")","v":""},"",null,"",{"v":0,"d":"0.00"},0,1,1,"","",0,0,-1,0,-1,0,"","",{"$f":"IFERROR((VLOOKUP($V9,CalRefs!$A$3:$D$5,4)),\"\")","v":""},"Does Not Map",{"$f":"IFERROR(IF(Input!$B$12=\"Executive / Elected Official\",\"Executive\",(VLOOKUP($W$2,CalRefs!$A$3:$D$5,4))),\"\")","v":""},{"$f":"IF(ISERROR(Input!$B$14),\"\",Input!$B$14)","v":0},{"$f":"IF(ISERROR(Input!$B$3),\"\",Input!$B$3)","v":0},0]
[-1,{"$f":"IFERROR(FEMADoctrine[[#This Row],[DHS / FEMA Doctrine]], \"   \")","v":"FEMA Stragetic Plan"},0,"",{"v":0,"d":"0.0"},{"$f":"IFERROR(((SUMIFS(Doctrine_Time,Doctrine_FEMADHS,$B10))/Input!$L$7),\"\")","v":""},"",null,"",{"v":0,"d":"0.00"},0,1,1,"","",0,0,-1,0,-1,0,"","",{"$f":"IFERROR((VLOOKUP($V10,CalRefs!$A$3:$D$5,4)),\"\")","v":""},"Does Not Map",{"$f":"IFERROR(IF(Input!$B$12=\"Executive / Elected Official\",\"Executive\",(VLOOKUP($W$2,CalRefs!$A$3:$D$5,4))),\"\")","v":""},{"$f":"IF(ISERROR(Input!$B$14),\"\",Input!$B$14)","v":0},{"$f":"IF(ISERROR(Input!$B$3),\"\",Input!$B$3)","v":0},0]
[-1,{"$f":"IFERROR(FEMADoctrine[[#This Row],[DHS / FEMA Doctrine]], \"   \")","v":"Mitigation Federal Interagency Operational Plan"},0,"",{"v":0,"d":"0.0"},{"$f":"IFERROR(((SUMIFS(Doctrine_Time,Doctrine_FEMADHS,$B11))/Input!$L$7),\"\")","v":""},"",null,"",{"v":0,"d":"0.00"},0,1,1,"","",0,0,-1,0,-1,0,"","",{"$f":"IFERROR((VLOOKUP($V11,CalRefs!$A$3:$D$5,4)),\"\")","v":""},"Does Not Map",{"$f":"IFERROR(IF(Input!$B$12=\"Executive / Elected Official\",\"Executive\",(VLOOKUP($W$2,CalRefs!$A$3:$D$5,4))),\"\")","v":""},{"$f":"IF(ISERROR(Input!$B$14),\"\",Input!$B$14)","v":0},{"$f":"IF(ISERROR(Input!$B$3),\"\",Input!$B$3)","v":0},0]
[-1,{"$f":"IFERROR(FEMADoctrine[[#This Row],[DHS / FEMA Doctrine]], \"   \")","v":"National Incident Management System"},0,"",{"v":0,"d":"0.0"},{"$f":"IFERROR(((SUMIFS(Doctrine_Time,Doctrine_FEMADHS,$B12))/Input!$L$7),\"\")","v":""},"",null,"",{"v":0,"d":"0.00"},0,1,1,"","",0,0,-1,0,-1,0,"","",{"$f":"IFERROR((VLOOKUP($V12,CalRefs!$A$3:$D$5,4)),\"\")","v":""},"Does Not Map",{"$f":"IFERROR(IF(Input!$B$12=\"Executive / Elected Official\",\"Executive\",(VLOOKUP($W$2,CalRefs!$A$3:$D$5,4))),\"\")","v":""},{"$f":"IF(ISERROR(Input!$B$14),\"\",Input!$B$14)","v":0},{"$f":"IF(ISERROR(Input!$B$3),\"\",Input!$B$3)","v":0},0]
[-1,{"$f":"IFERROR(FEMADoctrine[[#This Row],[DHS / FEMA Doctrine]], \"   \")","v":"National Preparedness Goal"},0,"",{"v":0,"d":"0.0"},{"$f":"IFERROR(((SUMIFS(Doctrine_Time,Doctrine_FEMADHS,$B13))/Input!$L$7),\"\")","v":""},"",null,"",{"v":0,"d":"0.00"},0,1,1,"","",0,0,-1,0,-1,0,"","",{"$f":"IFERROR((VLOOKUP($V13,CalRefs!$A$3:$D$5,4)),\"\")","v":""},"Does Not Map",{"$f":"IFERROR(IF(Input!$B$12=\"Executive / Elected Official\",\"Executive\",(VLOOKUP($W$2,CalRefs!$A$3:$D$5,4))),\"\")","v":""},{"$f":"IF(ISERROR(Input!$B$14),\"\",Input!$B$14)","v":0},{"$f":"IF(ISERROR(Input!$B$3),\"\",Input!$B$3)","v":0},0]
[-1,{"$f":"IFERROR(FEMADoctrine[[#This Row],[DHS / FEMA Doctrine]], \"   \")","v":"National Preparedness Report"},0,"",{"v":0,"d":"0.0"},{"$f":"IFERROR(((SUMIFS(Doctrine_Time,Doctrine_FEMADHS,$B14))/Input!$L$7),\"\")","v":""},"",null,"",{"v":0,"d":"0.00"},0,1,1,"","",0,0,-1,0,-1,0,"","",{"$f":"IFERROR((VLOOKUP($V14,CalRefs!$A$3:$D$5,4)),\"\")","v":""},"Does Not Map",{"$f":"IFERROR(IF(Input!$B$12=\"Executive / Elected Official\",\"Executive\",(VLOOKUP($W$2,CalRefs!$A$3:$D$5,4))),\"\")","v":""},{"$f":"IF(ISERROR(Input!$B$14),\"\",Input!$B$14)","v":0},{"$f":"IF(ISERROR(Input!$B$3),\"\",Input!$B$3)","v":0},0]
[-1,{"$f":"IFERROR(FEMADoctrine[[#This Row],[DHS / FEMA Doctrine]], \"   \")","v":"Protection Federal Interagency Operational Plan"},0,"",{"v":0,"d":"0.0"},{"$f":"IFERROR(((SUMIFS(Doctrine_Time,Doctrine_FEMADHS,$B15))/Input!$L$7),\"\")","v":""},"",null,"",{"v":0,"d":"0.00"},0,1,1,"","",0,0,-1,0,-1,0,"","",{"$f":"IFERROR((VLOOKUP($V15,CalRefs!$A$3:$D$5,4)),\"\")","v":""},"Does Not Map",{"$f":"IFERROR(IF(Input!$B$12=\"Executive / Elected Official\",\"Executive\",(VLOOKUP($W$2,CalRefs!$A$3:$D$5,4))),\"\")","v":""},{"$f":"IF(ISERROR(Input!$B$14),\"\",Input!$B$14)","v":0},{"$f":"IF(ISERROR(Input!$B$3),\"\",Input!$B$3)","v":0},0]
[-1,{"$f":"IFERROR(FEMADoctrine[[#This Row],[DHS / FEMA Doctrine]], \"   \")","v":"Recovery Federal Interagency Operational Plan"},0,"",{"v":0,"d":"0.0"},{"$f":"IFERROR(((SUMIFS(Doctrine_Time,Doctrine_FEMADHS,$B16))/Input!$L$7),\"\")","v":""},"",null,"",{"v":0,"d":"0.00"},0,1,1,"","",0,0,-1,0,-1,0,"","",{"$f":"IFERROR((VLOOKUP($V16,CalRefs!$A$3:$D$5,4)),\"\")","v":""},"Does Not Map",{"$f":"IFERROR(IF(Input!$B$12=\"Executive / Elected Official\",\"Executive\",(VLOOKUP($W$2,CalRefs!$A$3:$D$5,4))),\"\")","v":""},{"$f":"IF(ISERROR(Input!$B$14),\"\",Input!$B$14)","v":0},{"$f":"IF(ISERROR(Input!$B$3),\"\",Input!$B$3)","v":0},0]
[-1,{"$f":"IFERROR(FEMADoctrine[[#This Row],[DHS / FEMA Doctrine]], \"   \")","v":"Response Federal Interagency Operational Plan"},0,"",{"v":0,"d":"0.0"},{"$f":"IFERROR(((SUMIFS(Doctrine_Time,Doctrine_FEMADHS,$B17))/Input!$L$7),\"\")","v":""},"",null,"",{"v":0,"d":"0.00"},0,1,1,"","",0,0,-1,0,-1,0,"","",{"$f":"IFERROR((VLOOKUP($V17,CalRefs!$A$3:$D$5,4)),\"\")","v":""},"Does Not Map",{"$f":"IFERROR(IF(Input!$B$12=\"Executive / Elected Official\",\"Executive\",(VLOOKUP($W$2,CalRefs!$A$3:$D$5,4))),\"\")","v":""},{"$f":"IF(ISERROR(Input!$B$14),\"\",Input!$B$14)","v":0},{"$f":"IF(ISERROR(Input!$B$3),\"\",Input!$B$3)","v":0},0]
[-1,{"$f":"IFERROR(FEMADoctrine[[#This Row],[DHS / FEMA Doctrine]], \"   \")","v":"State Preparedness Report"},0,"",{"v":0,"d":"0.0"},{"$f":"IFERROR(((SUMIFS(Doctrine_Time,Doctrine_FEMADHS,$B18))/Input!$L$7),\"\")","v":""},"",null,"",{"v":0,"d":"0.00"},0,1,1,"","",0,0,-1,0,-1,0,"","",{"$f":"IFERROR((VLOOKUP($V18,CalRefs!$A$3:$D$5,4)),\"\")","v":""},"Does Not Map",{"$f":"IFERROR(IF(Input!$B$12=\"Executive / Elected Official\",\"Executive\",(VLOOKUP($W$2,CalRefs!$A$3:$D$5,4))),\"\")","v":""},{"$f":"IF(ISERROR(Input!$B$14),\"\",Input!$B$14)","v":0},{"$f":"IF(ISERROR(Input!$B$3),\"\",Input!$B$3)","v":0},0]
[-1,{"$f":"IFERROR(FEMADoctrine[[#This Row],[DHS / FEMA Doctrine]], \"   \")","v":"Planning Guidance for Protection and Recovery Following Radiological Dispersal Device (RDD) and Improvised Nuclear Device (IND) Incidents"},0,"",{"v":0,"d":"0.0"},{"$f":"IFERROR(((SUMIFS(Doctrine_Time,Doctrine_FEMADHS,$B19))/Input!$L$7),\"\")","v":""},"",null,"",{"v":0,"d":"0.00"},0,1,1,"","",0,0,-1,0,-1,0,"","",{"$f":"IFERROR((VLOOKUP($V19,CalRefs!$A$3:$D$5,4)),\"\")","v":""},"Does Not Map",{"$f":"IFERROR(IF(Input!$B$12=\"Executive / Elected Official\",\"Executive\",(VLOOKUP($W$2,CalRefs!$A$3:$D$5,4))),\"\")","v":""},{"$f":"IF(ISERROR(Input!$B$14),\"\",Input!$B$14)","v":0},{"$f":"IF(ISERROR(Input!$B$3),\"\",Input!$B$3)","v":0},0]
[-1,{"$f":"IFERROR(FEMADoctrine[[#This Row],[DHS / FEMA Doctrine]], \"   \")","v":"Threat and Hazard Identification and Risk Assessment (CPG 201, v2)"},0,"",{"v":0,"d":"0.0"},{"$f":"IFERROR(((SUMIFS(Doctrine_Time,Doctrine_FEMADHS,$B20))/Input!$L$7),\"\")","v":""},"",null,"",{"v":0,"d":"0.00"},0,1,1,"","",0,0,-1,0,-1,0,"","",{"$f":"IFERROR((VLOOKUP($V20,CalRefs!$A$3:$D$5,4)),\"\")","v":""},"Does Not Map",{"$f":"IFERROR(IF(Input!$B$12=\"Executive / Elected Official\",\"Executive\",(VLOOKUP($W$2,CalRefs!$A$3:$D$5,4))),\"\")","v":""},{"$f":"IF(ISERROR(Input!$B$14),\"\",Input!$B$14)","v":0},{"$f":"IF(ISERROR(Input!$B$3),\"\",Input!$B$3)","v":0},0]
[-1,{"$f":"IFERROR(FEMADoctrine[[#This Row],[DHS / FEMA Doctrine]], \"   \")","v":"National Infrastructure Protection Plan"},0,"",{"v":0,"d":"0.0"},{"$f":"IFERROR(((SUMIFS(Doctrine_Time,Doctrine_FEMADHS,$B21))/Input!$L$7),\"\")","v":""},"",null,"",{"v":0,"d":"0.00"},0,1,1,"","",0,0,-1,0,-1,0,"","",{"$f":"IFERROR((VLOOKUP($V21,CalRefs!$A$3:$D$5,4)),\"\")","v":""},"Does Not Map",{"$f":"IFERROR(IF(Input!$B$12=\"Executive / Elected Official\",\"Executive\",(VLOOKUP($W$2,CalRefs!$A$3:$D$5,4))),\"\")","v":""},{"$f":"IF(ISERROR(Input!$B$14),\"\",Input!$B$14)","v":0},{"$f":"IF(ISERROR(Input!$B$3),\"\",Input!$B$3)","v":0},0]
[-1,{"$f":"IFERROR(FEMADoctrine[[#This Row],[DHS / FEMA Doctrine]], \"   \")","v":"National Preparedness System"},0,"",{"v":0,"d":"0.0"},{"$f":"IFERROR(((SUMIFS(Doctrine_Time,Doctrine_FEMADHS,$B22))/Input!$L$7),\"\")","v":""},"",null,"",{"v":0,"d":"0.00"},0,1,1,"","",0,0,-1,0,-1,0,"","",{"$f":"IFERROR((VLOOKUP($V22,CalRefs!$A$3:$D$5,4)),\"\")","v":""},"Does Not Map",{"$f":"IFERROR(IF(Input!$B$12=\"Executive / Elected Official\",\"Executive\",(VLOOKUP($W$2,CalRefs!$A$3:$D$5,4))),\"\")","v":""},{"$f":"IF(ISERROR(Input!$B$14),\"\",Input!$B$14)","v":0},{"$f":"IF(ISERROR(Input!$B$3),\"\",Input!$B$3)","v":0},0]
[-1,{"$f":"IFERROR(FEMADoctrine[[#This Row],[DHS / FEMA Doctrine]], \"   \")","v":"National Prevention Framework"},0,"",{"v":0,"d":"0.0"},{"$f":"IFERROR(((SUMIFS(Doctrine_Time,Doctrine_FEMADHS,$B23))/Input!$L$7),\"\")","v":""},"",null,"",{"v":0,"d":"0.00"},0,1,1,"","",0,0,-1,0,-1,0,"","",{"$f":"IFERROR((VLOOKUP($V23,CalRefs!$A$3:$D$5,4)),\"\")","v":""},"Does Not Map",{"$f":"IFERROR(IF(Input!$B$12=\"Executive / Elected Official\",\"Executive\",(VLOOKUP($W$2,CalRefs!$A$3:$D$5,4))),\"\")","v":""},{"$f":"IF(ISERROR(Input!$B$14),\"\",Input!$B$14)","v":0},{"$f":"IF(ISERROR(Input!$B$3),\"\",Input!$B$3)","v":0},0]
[-1,{"$f":"IFERROR(FEMADoctrine[[#This Row],[DHS / FEMA Doctrine]], \"   \")","v":"National Protection Framework"},0,"",{"v":0,"d":"0.0"},{"$f":"IFERROR(((SUMIFS(Doctrine_Time,Doctrine_FEMADHS,$B24))/Input!$L$7),\"\")","v":""},"",null,"",{"v":0,"d":"0.00"},0,1,1,"","",0,0,-1,0,-1,0,"","",{"$f":"IFERROR((VLOOKUP($V24,CalRefs!$A$3:$D$5,4)),\"\")","v":""},"Does Not Map",{"$f":"IFERROR(IF(Input!$B$12=\"Executive / Elected Official\",\"Executive\",(VLOOKUP($W$2,CalRefs!$A$3:$D$5,4))),\"\")","v":""},{"$f":"IF(ISERROR(Input!$B$14),\"\",Input!$B$14)","v":0},{"$f":"IF(ISERROR(Input!$B$3),\"\",Input!$B$3)","v":0},0]
[-1,{"$f":"IFERROR(FEMADoctrine[[#This Row],[DHS / FEMA Doctrine]], \"   \")","v":"National Response Framework"},0,"",{"v":0,"d":"0.0"},{"$f":"IFERROR(((SUMIFS(Doctrine_Time,Doctrine_FEMADHS,$B25))/Input!$L$7),\"\")","v":""},"",null,"",{"v":0,"d":"0.00"},0,1,1,"","",0,0,-1,0,-1,0,"","",{"$f":"IFERROR((VLOOKUP($V25,CalRefs!$A$3:$D$5,4)),\"\")","v":""},"Does Not Map",{"$f":"IFERROR(IF(Input!$B$12=\"Executive / Elected Official\",\"Executive\",(VLOOKUP($W$2,CalRefs!$A$3:$D$5,4))),\"\")","v":""},{"$f":"IF(ISERROR(Input!$B$14),\"\",Input!$B$14)","v":0},{"$f":"IF(ISERROR(Input!$B$3),\"\",Input!$B$3)","v":0},0]
[-1,{"$f":"IFERROR(FEMADoctrine[[#This Row],[DHS / FEMA Doctrine]], \"   \")","v":"National Mitigation Framework"},0,"",{"v":0,"d":"0.0"},{"$f":"IFERROR(((SUMIFS(Doctrine_Time,Doctrine_FEMADHS,$B26))/Input!$L$7),\"\")","v":""},"",null,"",{"v":0,"d":"0.00"},0,1,1,"","",0,0,-1,0,-1,0,"","",{"$f":"IFERROR((VLOOKUP($V26,CalRefs!$A$3:$D$5,4)),\"\")","v":""},"Does Not Map",{"$f":"IFERROR(IF(Input!$B$12=\"Executive / Elected Official\",\"Executive\",(VLOOKUP($W$2,CalRefs!$A$3:$D$5,4))),\"\")","v":""},{"$f":"IF(ISERROR(Input!$B$14),\"\",Input!$B$14)","v":0},{"$f":"IF(ISERROR(Input!$B$3),\"\",Input!$B$3)","v":0},0]
[-1,{"$f":"IFERROR(FEMADoctrine[[#This Row],[DHS / FEMA Doctrine]], \"   \")","v":"National Disaster Recovery Framework"},0,"",{"v":0,"d":"0.0"},{"$f":"IFERROR(((SUMIFS(Doctrine_Time,Doctrine_FEMADHS,$B27))/Input!$L$7),\"\")","v":""},"",null,"",{"v":0,"d":"0.00"},0,1,1,"","",0,0,-1,0,-1,0,"","",{"$f":"IFERROR((VLOOKUP($V27,CalRefs!$A$3:$D$5,4)),\"\")","v":""},"Does Not Map",{"$f":"IFERROR(IF(Input!$B$12=\"Executive / Elected Official\",\"Executive\",(VLOOKUP($W$2,CalRefs!$A$3:$D$5,4))),\"\")","v":""},{"$f":"IF(ISERROR(Input!$B$14),\"\",Input!$B$14)","v":0},{"$f":"IF(ISERROR(Input!$B$3),\"\",Input!$B$3)","v":0},0]
[-1,{"$f":"IFERROR(FEMADoctrine[[#This Row],[DHS / FEMA Doctrine]], \"   \")","v":"   "},0,"",{"v":0,"d":"0.0"},{"$f":"IFERROR(((SUMIFS(Doctrine_Time,Doctrine_FEMADHS,$B28))/Input!$L$7),\"\")","v":""},"",null,"",{"v":0,"d":"0.00"},0,1,1,"","",0,0,-1,0,-1,0,"","",{"$f":"IFERROR((VLOOKUP($V28,CalRefs!$A$3:$D$5,4)),\"\")","v":""},"Does Not Map",{"$f":"IFERROR(IF(Input!$B$12=\"Executive / Elected Official\",\"Executive\",(VLOOKUP($W$2,CalRefs!$A$3:$D$5,4))),\"\")","v":""},{"$f":"IF(ISERROR(Input!$B$14),\"\",Input!$B$14)","v":0},{"$f":"IF(ISERROR(Input!$B$3),\"\",Input!$B$3)","v":0},0]
[-1,{"$f":"IFERROR(FEMADoctrine[[#This Row],[DHS / FEMA Doctrine]], \"   \")","v":"   "},0,"",{"v":0,"d":"0.0"},{"$f":"IFERROR(((SUMIFS(Doctrine_Time,Doctrine_FEMADHS,$B29))/Input!$L$7),\"\")","v":""},"",null,"",{"v":0,"d":"0.00"},0,1,1,"","",0,0,-1,0,-1,0,"","",{"$f":"IFERROR((VLOOKUP($V29,CalRefs!$A$3:$D$5,4)),\"\")","v":""},"Does Not Map",{"$f":"IFERROR(IF(Input!$B$12=\"Executive / Elected Official\",\"Executive\",(VLOOKUP($W$2,CalRefs!$A$3:$D$5,4))),\"\")","v":""},{"$f":"IF(ISERROR(Input!$B$14),\"\",Input!$B$14)","v":0},{"$f":"IF(ISERROR(Input!$B$3),\"\",Input!$B$3)","v":0},0]
[-1,{"$f":"IFERROR(FEMADoctrine[[#This Row],[DHS / FEMA Doctrine]], \"   \")","v":"   "},0,"",{"v":0,"d":"0.0"},{"$f":"IFERROR(((SUMIFS(Doctrine_Time,Doctrine_FEMADHS,$B30))/Input!$L$7),\"\")","v":""},"",null,"",{"v":0,"d":"0.00"},0,1,1,"","",0,0,-1,0,-1,0,"","",{"$f":"IFERROR((VLOOKUP($V30,CalRefs!$A$3:$D$5,4)),\"\")","v":""},"Does Not Map",{"$f":"IFERROR(IF(Input!$B$12=\"Executive / Elected Official\",\"Executive\",(VLOOKUP($W$2,CalRefs!$A$3:$D$5,4))),\"\")","v":""},{"$f":"IF(ISERROR(Input!$B$14),\"\",Input!$B$14)","v":0},{"$f":"IF(ISERROR(Input!$B$3),\"\",Input!$B$3)","v":0},0]

{"sheet":"Data - IRD","index":17,"n_rows":30,"n_cols":29,"rows_kept":30,"hidden":true,"merged":[[34,3,34,6],[36,3,36,5]]}
["IRD Icon","Interagency Regulation - Doctrine","Number of EOs by IRD","Percent of EO by IRD","EO Complexity by IRD","Percent of Class Time by IRD","Weighted Average EO Complexity","Value of None IRD Weighted Complexity","Max Complexity Value","LT 15% Content","None Rule","GT 15% Rule","2.5x Rule","3.5x Flag","Mapped IRD","Primary IRD","Secondary IRD","Flag IRD","IRD Icon Alert","Number of Mapped EOs","IRD Avg KSA","Weighted Average KSA of Mapped Interagency Regulation - Doctrine","Course Level by IRD","Primary IRD","Course Level","Training Provider","Course Title","Course Number"]
[{"$f":"$S$2:$S$30","v":-1},{"$f":"IFERROR(InterAgency[[#This Row],[Interagency Regulation - Doctrine]],\"   \")","v":"None"},{"$f":"IF(ISERROR(COUNTIF(Doctrine_IA,B2)),\"\",COUNTIF(Doctrine_IA,B2))","v":0},{"$f":"IFERROR((C2/(SUM($C$2:$C$30))),\"\")","v":""},{"$f":"IFERROR((SUMIFS(Doctrine_Time,Doctrine_IA,$B2)),\"\")","v":{"v":0,"d":"0.0"}},{"$f":"IFERROR(((SUMIFS(Doctrine_Time,Doctrine_IA,$B2))/SumCheck),\"\")","v":""},{"$f":"IFERROR((($E2*$C2)/SUM($C$2:$C$30)),\"\")","v":""},{"$f":"IFERROR((INDEX($G$2:$G$34,(MATCH(\"none\",$B$2:$B$34,0)))),\"\")","v":""},{"$f":"IFERROR((IF(AND(MAX($G$2:$G$34)=H2),LARGE($G$2:$G$34,2),MAX($G$2:$G$34))),\"\")","v":{"v":0,"d":"0.00"}},{"$f":"IFERROR((IF($D2<0.15,1,0)),\"\")","v":0},{"$f":"IFERROR((IF($B2=\"None\",0,1)),\"\")","v":0},{"$f":"IFERROR((IF($D2>=0.15,1,0)),\"\")","v":1},{"$f":"IFERROR((IF($G2*2.5>I2,1,0)),\"\")","v":""},{"$f":"IFERROR((IF(OR(AND(J2=1,$G2*3.5>I2),(AND(M2=0,$G2*3.5>I2)),$G2=I2),1,0)),\"\")","v":""},{"$f":"IFERROR((IF(AND($K2,$L2,$M2=1),1,0)),\"\")","v":0},{"$f":"IFERROR((IF(AND($O2=1,$G2=I2),3,0)),\"\")","v":0},{"$f":"IFERROR((IF(AND($P2=0,$O2=1),1,-1)),\"\")","v":-1},{"$f":"IFERROR((IF(AND(K2,N2=1),1,0)),\"\")","v":0},{"$f":"IFERROR(IF(MAX($G$2:$G$34)=H2,-1,((SUM(R2,P2,Q2)))),\"\")","v":-1},{"$f":"IFERROR((SUMIF($O$2:$O$34,1,$C$2:$C$34)),\"\")","v":0},{"$f":"IFERROR((SUMIFS(Doctrine_Time,Doctrine_IA,$B2)/C2),\"\")","v":""},{"$f":"IFERROR((SUMPRODUCT(($O$2:$O$34),($U$2:$U$34),($C$2:$C$34))/T2),\"\")","v":""},{"$f":"IFERROR((VLOOKUP($U2,CalRefs!$A$3:$D$5,4)),\"\")","v":""},{"$f":"IFERROR(IF(OR(MAX($G$2:$G$30)=$H$2,MAX($S$2:$S$30)<>3),\"Does Not Map\",INDEX($B$2:$B$30,MATCH(I2,$G$2:$G$30,0))),\"\")","v":"Does Not Map"},{"$f":"IFERROR(IF(Input!$B$12=\"Executive / Elected Official\",\"Executive\",(VLOOKUP($V$2,CalRefs!$A$3:$D$5,4))),\"\")","v":""},{"$f":"IF(ISERROR(Training_Partner),\"\",Training_Partner)","v":0},{"$f":"IF(ISERROR(CourseTitle),\"\",CourseTitle)","v":0},{"$f":"CourseNumber","v":0},{"$f":"CourseNumber","v":0}]
[-1,{"$f":"IFERROR(InterAgency[[#This Row],[Interagency Regulation - Doctrine]],\"   \")","v":"OSHA Regulations - 29 CFR 1910.120"},0,{"$f":"IFERROR((C3/(SUM($C$2:$C$30))),\"\")","v":""},{"v":0,"d":"0.0"},"","","",{"v":0,"d":"0.00"},0,1,1,"","",0,0,-1,0,-1,0,"","",{"$f":"IFERROR((VLOOKUP($U3,CalRefs!$A$3:$D$5,4)),\"\")","v":""},"Does Not Map",{"$f":"IFERROR(IF(Input!$B$12=\"Executive / Elected Official\",\"Executive\",(VLOOKUP($V$2,CalRefs!$A$3:$D$5,4))),\"\")","v":""},0,0,0,0]
[-1,{"$f":"IFERROR(InterAgency[[#This Row],[Interagency Regulation - Doctrine]],\"   \")","v":"Department of Health and Human Services - Healthcare Preparedness Capabilities: National Guidance for Healthcare System Preparedness"},0,"",{"v":0,"d":"0.0"},"","","",{"v":0,"d":"0.00"},0,1,1,"","",0,0,-1,0,-1,0,"","",{"$f":"IFERROR((VLOOKUP($U4,CalRefs!$A$3:$D$5,4)),\"\")","v":""},"Does Not Map",{"$f":"IFERROR(IF(Input!$B$12=\"Executive / Elected Official\",\"Executive\",(VLOOKUP($V$2,CalRefs!$A$3:$D$5,4))),\"\")","v":""},0,0,0,0]
[-1,{"$f":"IFERROR(InterAgency[[#This Row],[Interagency Regulation - Doctrine]],\"   \")","v":"Department of Health and Human Services - Public Health Preparedness Capabilities: National Standards for State and Local Planning"},0,"",{"v":0,"d":"0.0"},"","","",{"v":0,"d":"0.00"},0,1,1,"","",0,0,-1,0,-1,0,"","",{"$f":"IFERROR((VLOOKUP($U5,CalRefs!$A$3:$D$5,4)),\"\")","v":""},"Does Not Map",{"$f":"IFERROR(IF(Input!$B$12=\"Executive / Elected Official\",\"Executive\",(VLOOKUP($V$2,CalRefs!$A$3:$D$5,4))),\"\")","v":""},0,0,0,0]
[-1,{"$f":"IFERROR(InterAgency[[#This Row],[Interagency Regulation - Doctrine]],\"   \")","v":"US Nuclear Regulatory Commission - Criteria for Preparation and Evaluation of Radiological Emergency Response Plans and Preparedness in Support of Nuclear Power Plants (NUREG-0654/FEMA-REP-1) "},0,"",{"v":0,"d":"0.0"},"","","",{"v":0,"d":"0.00"},0,1,1,"","",0,0,-1,0,-1,0,"","",{"$f":"IFERROR((VLOOKUP($U6,CalRefs!$A$3:$D$5,4)),\"\")","v":""},"Does Not Map",{"$f":"IFERROR(IF(Input!$B$12=\"Executive / Elected Official\",\"Executive\",(VLOOKUP($V$2,CalRefs!$A$3:$D$5,4))),\"\")","v":""},0,0,0,0]
[-1,{"$f":"IFERROR(InterAgency[[#This Row],[Interagency Regulation - Doctrine]],\"   \")","v":"Environmental Protection Agency - Protection Action Guidelines (for radiological emergencies)"},0,"",{"v":0,"d":"0.0"},"","","",{"v":0,"d":"0.00"},0,1,1,"","",0,0,-1,0,-1,0,"","",{"$f":"IFERROR((VLOOKUP($U7,CalRefs!$A$3:$D$5,4)),\"\")","v":""},"Does Not Map",{"$f":"IFERROR(IF(Input!$B$12=\"Executive / Elected Official\",\"Executive\",(VLOOKUP($V$2,CalRefs!$A$3:$D$5,4))),\"\")","v":""},0,0,0,0]
[-1,{"$f":"IFERROR(InterAgency[[#This Row],[Interagency Regulation - Doctrine]],\"   \")","v":"National Institute of Standards and Technology - Cybersecurity Framework"},0,"",{"v":0,"d":"0.0"},"","","",{"v":0,"d":"0.00"},0,1,1,"","",0,0,-1,0,-1,0,"","",{"$f":"IFERROR((VLOOKUP($U8,CalRefs!$A$3:$D$5,4)),\"\")","v":""},"Does Not Map",{"$f":"IFERROR(IF(Input!$B$12=\"Executive / Elected Official\",\"Executive\",(VLOOKUP($V$2,CalRefs!$A$3:$D$5,4))),\"\")","v":""},0,0,0,0]
[-1,{"$f":"IFERROR(InterAgency[[#This Row],[Interagency Regulation - Doctrine]],\"   \")","v":"   "},0,"",{"v":0,"d":"0.0"},"","","",{"v":0,"d":"0.00"},0,1,1,"","",0,0,-1,0,-1,0,"","",{"$f":"IFERROR((VLOOKUP($U9,CalRefs!$A$3:$D$5,4)),\"\")","v":""},"Does Not Map",{"$f":"IFERROR(IF(Input!$B$12=\"Executive / Elected Official\",\"Executive\",(VLOOKUP($V$2,CalRefs!$A$3:$D$5,4))),\"\")","v":""},0,0,0,0]
[-1,{"$f":"IFERROR(InterAgency[[#This Row],[Interagency Regulation - Doctrine]],\"   \")","v":"   "},0,"",{"v":0,"d":"0.0"},"","","",{"v":0,"d":"0.00"},0,1,1,"","",0,0,-1,0,-1,0,"","",{"$f":"IFERROR((VLOOKUP($U10,CalRefs!$A$3:$D$5,4)),\"\")","v":""},"Does Not Map",{"$f":"IFERROR(IF(Input!$B$12=\"Executive / Elected Official\",\"Executive\",(VLOOKUP($V$2,CalRefs!$A$3:$D$5,4))),\"\")","v":""},0,0,0,0]
[-1,{"$f":"IFERROR(InterAgency[[#This Row],[Interagency Regulation - Doctrine]],\"   \")","v":"   "},0,"",{"v":0,"d":"0.0"},"","","",{"v":0,"d":"0.00"},0,1,1,"","",0,0,-1,0,-1,0,"","",{"$f":"IFERROR((VLOOKUP($U11,CalRefs!$A$3:$D$5,4)),\"\")","v":""},"Does Not Map",{"$f":"IFERROR(IF(Input!$B$12=\"Executive / Elected Official\",\"Executive\",(VLOOKUP($V$2,CalRefs!$A$3:$D$5,4))),\"\")","v":""},0,0,0,0]
[-1,{"$f":"IFERROR(InterAgency[[#This Row],[Interagency Regulation - Doctrine]],\"   \")","v":"   "},0,"",{"v":0,"d":"0.0"},"","","",{"v":0,"d":"0.00"},0,1,1,"","",0,0,-1,0,-1,0,"","",{"$f":"IFERROR((VLOOKUP($U12,CalRefs!$A$3:$D$5,4)),\"\")","v":""},"Does Not Map",{"$f":"IFERROR(IF(Input!$B$12=\"Executive / Elected Official\",\"Executive\",(VLOOKUP($V$2,CalRefs!$A$3:$D$5,4))),\"\")","v":""},0,0,0,0]
[-1,{"$f":"IFERROR(InterAgency[[#This Row],[Interagency Regulation - Doctrine]],\"   \")","v":"   "},0,"",{"v":0,"d":"0.0"},"","","",{"v":0,"d":"0.00"},0,1,1,"","",0,0,-1,0,-1,0,"","",{"$f":"IFERROR((VLOOKUP($U13,CalRefs!$A$3:$D$5,4)),\"\")","v":""},"Does Not Map",{"$f":"IFERROR(IF(Input!$B$12=\"Executive / Elected Official\",\"Executive\",(VLOOKUP($V$2,CalRefs!$A$3:$D$5,4))),\"\")","v":""},0,0,0,0]
[-1,{"$f":"IFERROR(InterAgency[[#This Row],[Interagency Regulation - Doctrine]],\"   \")","v":"   "},0,"",{"v":0,"d":"0.0"},"","","",{"v":0,"d":"0.00"},0,1,1,"","",0,0,-1,0,-1,0,"","",{"$f":"IFERROR((VLOOKUP($U14,CalRefs!$A$3:$D$5,4)),\"\")","v":""},"Does Not Map",{"$f":"IFERROR(IF(Input!$B$12=\"Executive / Elected Official\",\"Executive\",(VLOOKUP($V$2,CalRefs!$A$3:$D$5,4))),\"\")","v":""},0,0,0,0]
[-1,{"$f":"IFERROR(InterAgency[[#This Row],[Interagency Regulation - Doctrine]],\"   \")","v":"   "},0,"",{"v":0,"d":"0.0"},"","","",{"v":0,"d":"0.00"},0,1,1,"","",0,0,-1,0,-1,0,"","",{"$f":"IFERROR((VLOOKUP($U15,CalRefs!$A$3:$D$5,4)),\"\")","v":""},"Does Not Map",{"$f":"IFERROR(IF(Input!$B$12=\"Executive / Elected Official\",\"Executive\",(VLOOKUP($V$2,CalRefs!$A$3:$D$5,4))),\"\")","v":""},0,0,0,0]
[-1,{"$f":"IFERROR(InterAgency[[#This Row],[Interagency Regulation - Doctrine]],\"   \")","v":"   "},0,"",{"v":0,"d":"0.0"},"","","",{"v":0,"d":"0.00"},0,1,1,"","",0,0,-1,0,-1,0,"","",{"$f":"IFERROR((VLOOKUP($U16,CalRefs!$A$3:$D$5,4)),\"\")","v":""},"Does Not Map",{"$f":"IFERROR(IF(Input!$B$12=\"Executive / Elected Official\",\"Executive\",(VLOOKUP($V$2,CalRefs!$A$3:$D$5,4))),\"\")","v":""},0,0,0,0]
[-1,{"$f":"IFERROR(InterAgency[[#This Row],[Interagency Regulation - Doctrine]],\"   \")","v":"   "},0,"",{"v":0,"d":"0.0"},"","","",{"v":0,"d":"0.00"},0,1,1,"","",0,0,-1,0,-1,0,"","",{"$f":"IFERROR((VLOOKUP($U17,CalRefs!$A$3:$D$5,4)),\"\")","v":""},"Does Not Map",{"$f":"IFERROR(IF(Input!$B$12=\"Executive / Elected Official\",\"Executive\",(VLOOKUP($V$2,CalRefs!$A$3:$D$5,4))),\"\")","v":""},0,0,0,0]
[-1,{"$f":"IFERROR(InterAgency[[#This Row],[Interagency Regulation - Doctrine]],\"   \")","v":"   "},0,"",{"v":0,"d":"0.0"},"","","",{"v":0,"d":"0.00"},0,1,1,"","",0,0,-1,0,-1,0,"","",{"$f":"IFERROR((VLOOKUP($U18,CalRefs!$A$3:$D$5,4)),\"\")","v":""},"Does Not Map",{"$f":"IFERROR(IF(Input!$B$12=\"Executive / Elected Official\",\"Executive\",(VLOOKUP($V$2,CalRefs!$A$3:$D$5,4))),\"\")","v":""},0,0,0,0]
[-1,{"$f":"IFERROR(InterAgency[[#This Row],[Interagency Regulation - Doctrine]],\"   \")","v":"   "},0,"",{"v":0,"d":"0.0"},"","","",{"v":0,"d":"0.00"},0,1,1,"","",0,0,-1,0,-1,0,"","",{"$f":"IFERROR((VLOOKUP($U19,CalRefs!$A$3:$D$5,4)),\"\")","v":""},"Does Not Map",{"$f":"IFERROR(IF(Input!$B$12=\"Executive / Elected Official\",\"Executive\",(VLOOKUP($V$2,CalRefs!$A$3:$D$5,4))),\"\")","v":""},0,0,0,0]
[-1,{"$f":"IFERROR(InterAgency[[#This Row],[Interagency Regulation - Doctrine]],\"   \")","v":"   "},0,"",{"v":0,"d":"0.0"},"","","",{"v":0,"d":"0.00"},0,1,1,"","",0,0,-1,0,-1,0,"","",{"$f":"IFERROR((VLOOKUP($U20,CalRefs!$A$3:$D$5,4)),\"\")","v":""},"Does Not Map",{"$f":"IFERROR(IF(Input!$B$12=\"Executive / Elected Official\",\"Executive\",(VLOOKUP($V$2,CalRefs!$A$3:$D$5,4))),\"\")","v":""},0,0,0,0]
[-1,{"$f":"IFERROR(InterAgency[[#This Row],[Interagency Regulation - Doctrine]],\"   \")","v":"   "},0,"",{"v":0,"d":"0.0"},"","","",{"v":0,"d":"0.00"},0,1,1,"","",0,0,-1,0,-1,0,"","",{"$f":"IFERROR((VLOOKUP($U21,CalRefs!$A$3:$D$5,4)),\"\")","v":""},"Does Not Map",{"$f":"IFERROR(IF(Input!$B$12=\"Executive / Elected Official\",\"Executive\",(VLOOKUP($V$2,CalRefs!$A$3:$D$5,4))),\"\")","v":""},0,0,0,0]
[-1,{"$f":"IFERROR(InterAgency[[#This Row],[Interagency Regulation - Doctrine]],\"   \")","v":"   "},0,"",{"v":0,"d":"0.0"},"","","",{"v":0,"d":"0.00"},0,1,1,"","",0,0,-1,0,-1,0,"","",{"$f":"IFERROR((VLOOKUP($U22,CalRefs!$A$3:$D$5,4)),\"\")","v":""},"Does Not Map",{"$f":"IFERROR(IF(Input!$B$12=\"Executive / Elected Official\",\"Executive\",(VLOOKUP($V$2,CalRefs!$A$3:$D$5,4))),\"\")","v":""},0,0,0,0]
[-1,{"$f":"IFERROR(InterAgency[[#This Row],[Interagency Regulation - Doctrine]],\"   \")","v":"   "},0,"",{"v":0,"d":"0.0"},"","","",{"v":0,"d":"0.00"},0,1,1,"","",0,0,-1,0,-1,0,"","",{"$f":"IFERROR((VLOOKUP($U23,CalRefs!$A$3:$D$5,4)),\"\")","v":""},"Does Not Map",{"$f":"IFERROR(IF(Input!$B$12=\"Executive / Elected Official\",\"Executive\",(VLOOKUP($V$2,CalRefs!$A$3:$D$5,4))),\"\")","v":""},0,0,0,0]
[-1,{"$f":"IFERROR(InterAgency[[#This Row],[Interagency Regulation - Doctrine]],\"   \")","v":"   "},0,"",{"v":0,"d":"0.0"},"","","",{"v":0,"d":"0.00"},0,1,1,"","",0,0,-1,0,-1,0,"","",{"$f":"IFERROR((VLOOKUP($U24,CalRefs!$A$3:$D$5,4)),\"\")","v":""},"Does Not Map",{"$f":"IFERROR(IF(Input!$B$12=\"Executive / Elected Official\",\"Executive\",(VLOOKUP($V$2,CalRefs!$A$3:$D$5,4))),\"\")","v":""},0,0,0,0]
[-1,{"$f":"IFERROR(InterAgency[[#This Row],[Interagency Regulation - Doctrine]],\"   \")","v":"   "},0,"",{"v":0,"d":"0.0"},"","","",{"v":0,"d":"0.00"},0,1,1,"","",0,0,-1,0,-1,0,"","",{"$f":"IFERROR((VLOOKUP($U25,CalRefs!$A$3:$D$5,4)),\"\")","v":""},"Does Not Map",{"$f":"IFERROR(IF(Input!$B$12=\"Executive / Elected Official\",\"Executive\",(VLOOKUP($V$2,CalRefs!$A$3:$D$5,4))),\"\")","v":""},0,0,0,0]
[-1,{"$f":"IFERROR(InterAgency[[#This Row],[Interagency Regulation - Doctrine]],\"   \")","v":"   "},0,"",{"v":0,"d":"0.0"},"","","",{"v":0,"d":"0.00"},0,1,1,"","",0,0,-1,0,-1,0,"","",{"$f":"IFERROR((VLOOKUP($U26,CalRefs!$A$3:$D$5,4)),\"\")","v":""},"Does Not Map",{"$f":"IFERROR(IF(Input!$B$12=\"Executive / Elected Official\",\"Executive\",(VLOOKUP($V$2,CalRefs!$A$3:$D$5,4))),\"\")","v":""},0,0,0,0]
[-1,{"$f":"IFERROR(InterAgency[[#This Row],[Interagency Regulation - Doctrine]],\"   \")","v":"   "},0,"",{"v":0,"d":"0.0"},"","","",{"v":0,"d":"0.00"},0,1,1,"","",0,0,-1,0,-1,0,"","",{"$f":"IFERROR((VLOOKUP($U27,CalRefs!$A$3:$D$5,4)),\"\")","v":""},"Does Not Map",{"$f":"IFERROR(IF(Input!$B$12=\"Executive / Elected Official\",\"Executive\",(VLOOKUP($V$2,CalRefs!$A$3:$D$5,4))),\"\")","v":""},0,0,0,0]
[-1,{"$f":"IFERROR(InterAgency[[#This Row],[Interagency Regulation - Doctrine]],\"   \")","v":"   "},0,"",{"v":0,"d":"0.0"},"","","",{"v":0,"d":"0.00"},0,1,1,"","",0,0,-1,0,-1,0,"","",{"$f":"IFERROR((VLOOKUP($U28,CalRefs!$A$3:$D$5,4)),\"\")","v":""},"Does Not Map",{"$f":"IFERROR(IF(Input!$B$12=\"Executive / Elected Official\",\"Executive\",(VLOOKUP($V$2,CalRefs!$A$3:$D$5,4))),\"\")","v":""},0,0,0,0]
[-1,{"$f":"IFERROR(InterAgency[[#This Row],[Interagency Regulation - Doctrine]],\"   \")","v":"   "},0,"",{"v":0,"d":"0.0"},"","","",{"v":0,"d":"0.00"},0,1,1,"","",0,0,-1,0,-1,0,"","",{"$f":"IFERROR((VLOOKUP($U29,CalRefs!$A$3:$D$5,4)),\"\")","v":""},"Does Not Map",{"$f":"IFERROR(IF(Input!$B$12=\"Executive / Elected Official\",\"Executive\",(VLOOKUP($V$2,CalRefs!$A$3:$D$5,4))),\"\")","v":""},0,0,0,0]
[-1,{"$f":"IFERROR(InterAgency[[#This Row],[Interagency Regulation - Doctrine]],\"   \")","v":"   "},0,"",{"v":0,"d":"0.0"},"","","",{"v":0,"d":"0.00"},0,1,1,"","",0,0,-1,0,-1,0,"","",{"$f":"IFERROR((VLOOKUP($U30,CalRefs!$A$3:$D$5,4)),\"\")","v":""},"Does Not Map",{"$f":"IFERROR(IF(Input!$B$12=\"Executive / Elected Official\",\"Executive\",(VLOOKUP($V$2,CalRefs!$A$3:$D$5,4))),\"\")","v":""},0,0,0,0]

{"sheet":"Data - ISD","index":18,"n_rows":30,"n_cols":28,"rows_kept":30,"hidden":true,"merged":[[34,3,34,6],[36,3,36,5]]}
["ISD Icon","Industry Standards - Doctrine","Number of EOs by ISD","Percent of EO by ISD","EO Complexity by ISD","Percent of Class Time by ISD","Weighted Average EO Complexity","Value of None ISD Weighted Complexity","Max Complexity Value","LT 15% Content","None Rule","GT 15% Rule","2.5x Rule","3.5x Flag","Mapped ISD","Primary ISD","Secondary ISD","Flag ISD","ISD Icon Alert","Number of Mapped EOs","ISD Avg KSA","Weighted Average KSA of Mapped Industry Standards - Doctrine","Course Level by ISD","Primary ISD","Course Level","Training Provider","Course Title","Course Number"]
[{"$f":"$S$2:$S$30","v":-1},{"$f":"IFERROR(IndustryStand[[#This Row],[Industry Standards - Doctrine]],\"   \")","v":"None"},{"$f":"IF(ISERROR(COUNTIF(Doctrine_ISD,B2)),\"\",COUNTIF(Doctrine_ISD,B2))","v":0},{"$f":"IFERROR((C2/(SUM($C$2:$C$30))),\"\")","v":""},{"$f":"IFERROR((SUMIFS(Doctrine_Time,Doctrine_ISD,$B2)),\"\")","v":{"v":0,"d":"0.0"}},{"$f":"IFERROR(((SUMIFS(Doctrine_Time,Doctrine_ISD,$B2))/SumCheck),\"\")","v":""},{"$f":"IFERROR((($E2*$C2)/SUM($C$2:$C$30)),\"\")","v":""},{"$f":"IFERROR((INDEX($G$2:$G$34,(MATCH(\"none\",$B$2:$B$34,0)))),\"\")","v":""},{"$f":"IFERROR((IF(AND(MAX($G$2:$G$34)=H2),LARGE($G$2:$G$34,2),MAX($G$2:$G$34))),\"\")","v":{"v":0,"d":"0.00"}},{"$f":"IFERROR((IF($D2<0.15,1,0)),\"\")","v":0},{"$f":"IFERROR((IF($B2=\"None\",0,1)),\"\")","v":0},{"$f":"IFERROR((IF($D2>=0.15,1,0)),\"\")","v":1},{"$f":"IFERROR((IF($G2*2.5>I2,1,0)),\"\")","v":""},{"$f":"IFERROR((IF(OR(AND(J2=1,$G2*3.5>I2),(AND(M2=0,$G2*3.5>I2)),$G2=I2),1,0)),\"\")","v":""},{"$f":"IFERROR((IF(AND($K2,$L2,$M2=1),1,0)),\"\")","v":0},{"$f":"IFERROR((IF(AND($O2=1,$G2=I2),3,0)),\"\")","v":0},{"$f":"IFERROR((IF(AND($P2=0,$O2=1),1,-1)),\"\")","v":-1},{"$f":"IFERROR((IF(AND(K2,N2=1),1,0)),\"\")","v":0},{"$f":"IFERROR(IF(MAX($G$2:$G$34)=H2,-1,((SUM(R2,P2,Q2)))),\"\")","v":-1},{"$f":"IFERROR((SUMIF($O$2:$O$34,1,$C$2:$C$34)),\"\")","v":0},{"$f":"IFERROR((SUMIFS(Doctrine_Time,Doctrine_ISD,$B2)/C2),\"\")","v":""},{"$f":"IFERROR((SUMPRODUCT(($O$2:$O$34),($U$2:$U$34),($C$2:$C$34))/T2),\"\")","v":""},{"$f":"IFERROR((VLOOKUP($U2,CalRefs!$A$3:$D$5,4)),\"\")","v":""},{"$f":"IFERROR(IF(OR(MAX($G$2:$G$30)=$H$2,MAX($S$2:$S$30)<>3),\"Does Not Map\",INDEX($B$2:$B$30,MATCH(I2,$G$2:$G$30,0))),\"\")","v":"Does Not Map"},{"$f":"IFERROR(IF(Input!$B$12=\"Executive / Elected Official\",\"Executive\",(VLOOKUP($V$2,CalRefs!$A$3:$D$5,4))),\"\")","v":""},{"$f":"IF(ISERROR(Training_Partner),\"\",Training_Partner)","v":0},{"$f":"IF(ISERROR(CourseTitle),\"\",CourseTitle)","v":0},{"$f":"CourseNumber","v":0}]
[-1,{"$f":"IFERROR(IndustryStand[[#This Row],[Industry Standards - Doctrine]],\"   \")","v":"Joint Commission on Accreditation of Healthcare Organizations"},0,{"$f":"IFERROR((C3/(SUM($C$2:$C$30))),\"\")","v":""},{"v":0,"d":"0.0"},"","","",{"v":0,"d":"0.00"},0,1,1,"","",0,0,-1,0,-1,0,"","",{"$f":"IFERROR((VLOOKUP($U3,CalRefs!$A$3:$D$5,4)),\"\")","v":""},"Does Not Map",{"$f":"IFERROR(IF(Input!$B$12=\"Executive / Elected Official\",\"Executive\",(VLOOKUP($V$2,CalRefs!$A$3:$D$5,4))),\"\")","v":""},0,0,0]
[-1,{"$f":"IFERROR(IndustryStand[[#This Row],[Industry Standards - Doctrine]],\"   \")","v":"National Fire Protection Association - Code 410"},0,"",{"v":0,"d":"0.0"},"","","",{"v":0,"d":"0.00"},0,1,1,"","",0,0,-1,0,-1,0,"","",{"$f":"IFERROR((VLOOKUP($U4,CalRefs!$A$3:$D$5,4)),\"\")","v":""},"Does Not Map",{"$f":"IFERROR(IF(Input!$B$12=\"Executive / Elected Official\",\"Executive\",(VLOOKUP($V$2,CalRefs!$A$3:$D$5,4))),\"\")","v":""},0,0,0]
[-1,{"$f":"IFERROR(IndustryStand[[#This Row],[Industry Standards - Doctrine]],\"   \")","v":"   "},0,"",{"v":0,"d":"0.0"},"","","",{"v":0,"d":"0.00"},0,1,1,"","",0,0,-1,0,-1,0,"","",{"$f":"IFERROR((VLOOKUP($U5,CalRefs!$A$3:$D$5,4)),\"\")","v":""},"Does Not Map",{"$f":"IFERROR(IF(Input!$B$12=\"Executive / Elected Official\",\"Executive\",(VLOOKUP($V$2,CalRefs!$A$3:$D$5,4))),\"\")","v":""},0,0,0]
[-1,{"$f":"IFERROR(IndustryStand[[#This Row],[Industry Standards - Doctrine]],\"   \")","v":"   "},0,"",{"v":0,"d":"0.0"},"","","",{"v":0,"d":"0.00"},0,1,1,"","",0,0,-1,0,-1,0,"","",{"$f":"IFERROR((VLOOKUP($U6,CalRefs!$A$3:$D$5,4)),\"\")","v":""},"Does Not Map",{"$f":"IFERROR(IF(Input!$B$12=\"Executive / Elected Official\",\"Executive\",(VLOOKUP($V$2,CalRefs!$A$3:$D$5,4))),\"\")","v":""},0,0,0]
[-1,{"$f":"IFERROR(IndustryStand[[#This Row],[Industry Standards - Doctrine]],\"   \")","v":"   "},0,"",{"v":0,"d":"0.0"},"","","",{"v":0,"d":"0.00"},0,1,1,"","",0,0,-1,0,-1,0,"","",{"$f":"IFERROR((VLOOKUP($U7,CalRefs!$A$3:$D$5,4)),\"\")","v":""},"Does Not Map",{"$f":"IFERROR(IF(Input!$B$12=\"Executive / Elected Official\",\"Executive\",(VLOOKUP($V$2,CalRefs!$A$3:$D$5,4))),\"\")","v":""},0,0,0]
[-1,{"$f":"IFERROR(IndustryStand[[#This Row],[Industry Standards - Doctrine]],\"   \")","v":"   "},0,"",{"v":0,"d":"0.0"},"","","",{"v":0,"d":"0.00"},0,1,1,"","",0,0,-1,0,-1,0,"","",{"$f":"IFERROR((VLOOKUP($U8,CalRefs!$A$3:$D$5,4)),\"\")","v":""},"Does Not Map",{"$f":"IFERROR(IF(Input!$B$12=\"Executive / Elected Official\",\"Executive\",(VLOOKUP($V$2,CalRefs!$A$3:$D$5,4))),\"\")","v":""},0,0,0]
[-1,{"$f":"IFERROR(IndustryStand[[#This Row],[Industry Standards - Doctrine]],\"   \")","v":"   "},0,"",{"v":0,"d":"0.0"},"","","",{"v":0,"d":"0.00"},0,1,1,"","",0,0,-1,0,-1,0,"","",{"$f":"IFERROR((VLOOKUP($U9,CalRefs!$A$3:$D$5,4)),\"\")","v":""},"Does Not Map",{"$f":"IFERROR(IF(Input!$B$12=\"Executive / Elected Official\",\"Executive\",(VLOOKUP($V$2,CalRefs!$A$3:$D$5,4))),\"\")","v":""},0,0,0]
[-1,{"$f":"IFERROR(IndustryStand[[#This Row],[Industry Standards - Doctrine]],\"   \")","v":"   "},0,"",{"v":0,"d":"0.0"},"","","",{"v":0,"d":"0.00"},0,1,1,"","",0,0,-1,0,-1,0,"","",{"$f":"IFERROR((VLOOKUP($U10,CalRefs!$A$3:$D$5,4)),\"\")","v":""},"Does Not Map",{"$f":"IFERROR(IF(Input!$B$12=\"Executive / Elected Official\",\"Executive\",(VLOOKUP($V$2,CalRefs!$A$3:$D$5,4))),\"\")","v":""},0,0,0]
[-1,{"$f":"IFERROR(IndustryStand[[#This Row],[Industry Standards - Doctrine]],\"   \")","v":"   "},0,"",{"v":0,"d":"0.0"},"","","",{"v":0,"d":"0.00"},0,1,1,"","",0,0,-1,0,-1,0,"","",{"$f":"IFERROR((VLOOKUP($U11,CalRefs!$A$3:$D$5,4)),\"\")","v":""},"Does Not Map",{"$f":"IFERROR(IF(Input!$B$12=\"Executive / Elected Official\",\"Executive\",(VLOOKUP($V$2,CalRefs!$A$3:$D$5,4))),\"\")","v":""},0,0,0]
[-1,{"$f":"IFERROR(IndustryStand[[#This Row],[Industry Standards - Doctrine]],\"   \")","v":"   "},0,"",{"v":0,"d":"0.0"},"","","",{"v":0,"d":"0.00"},0,1,1,"","",0,0,-1,0,-1,0,"","",{"$f":"IFERROR((VLOOKUP($U12,CalRefs!$A$3:$D$5,4)),\"\")","v":""},"Does Not Map",{"$f":"IFERROR(IF(Input!$B$12=\"Executive / Elected Official\",\"Executive\",(VLOOKUP($V$2,CalRefs!$A$3:$D$5,4))),\"\")","v":""},0,0,0]
[-1,{"$f":"IFERROR(IndustryStand[[#This Row],[Industry Standards - Doctrine]],\"   \")","v":"   "},0,"",{"v":0,"d":"0.0"},"","","",{"v":0,"d":"0.00"},0,1,1,"","",0,0,-1,0,-1,0,"","",{"$f":"IFERROR((VLOOKUP($U13,CalRefs!$A$3:$D$5,4)),\"\")","v":""},"Does Not Map",{"$f":"IFERROR(IF(Input!$B$12=\"Executive / Elected Official\",\"Executive\",(VLOOKUP($V$2,CalRefs!$A$3:$D$5,4))),\"\")","v":""},0,0,0]
[-1,{"$f":"IFERROR(IndustryStand[[#This Row],[Industry Standards - Doctrine]],\"   \")","v":"   "},0,"",{"v":0,"d":"0.0"},"","","",{"v":0,"d":"0.00"},0,1,1,"","",0,0,-1,0,-1,0,"","",{"$f":"IFERROR((VLOOKUP($U14,CalRefs!$A$3:$D$5,4)),\"\")","v":""},"Does Not Map",{"$f":"IFERROR(IF(Input!$B$12=\"Executive / Elected Official\",\"Executive\",(VLOOKUP($V$2,CalRefs!$A$3:$D$5,4))),\"\")","v":""},0,0,0]
[-1,{"$f":"IFERROR(IndustryStand[[#This Row],[Industry Standards - Doctrine]],\"   \")","v":"   "},0,"",{"v":0,"d":"0.0"},"","","",{"v":0,"d":"0.00"},0,1,1,"","",0,0,-1,0,-1,0,"","",{"$f":"IFERROR((VLOOKUP($U15,CalRefs!$A$3:$D$5,4)),\"\")","v":""},"Does Not Map",{"$f":"IFERROR(IF(Input!$B$12=\"Executive / Elected Official\",\"Executive\",(VLOOKUP($V$2,CalRefs!$A$3:$D$5,4))),\"\")","v":""},0,0,0]
[-1,{"$f":"IFERROR(IndustryStand[[#This Row],[Industry Standards - Doctrine]],\"   \")","v":"   "},0,"",{"v":0,"d":"0.0"},"","","",{"v":0,"d":"0.00"},0,1,1,"","",0,0,-1,0,-1,0,"","",{"$f":"IFERROR((VLOOKUP($U16,CalRefs!$A$3:$D$5,4)),\"\")","v":""},"Does Not Map",{"$f":"IFERROR(IF(Input!$B$12=\"Executive / Elected Official\",\"Executive\",(VLOOKUP($V$2,CalRefs!$A$3:$D$5,4))),\"\")","v":""},0,0,0]
[-1,{"$f":"IFERROR(IndustryStand[[#This Row],[Industry Standards - Doctrine]],\"   \")","v":"   "},0,"",{"v":0,"d":"0.0"},"","","",{"v":0,"d":"0.00"},0,1,1,"","",0,0,-1,0,-1,0,"","",{"$f":"IFERROR((VLOOKUP($U17,CalRefs!$A$3:$D$5,4)),\"\")","v":""},"Does Not Map",{"$f":"IFERROR(IF(Input!$B$12=\"Executive / Elected Official\",\"Executive\",(VLOOKUP($V$2,CalRefs!$A$3:$D$5,4))),\"\")","v":""},0,0,0]
[-1,{"$f":"IFERROR(IndustryStand[[#This Row],[Industry Standards - Doctrine]],\"   \")","v":"   "},0,"",{"v":0,"d":"0.0"},"","","",{"v":0,"d":"0.00"},0,1,1,"","",0,0,-1,0,-1,0,"","",{"$f":"IFERROR((VLOOKUP($U18,CalRefs!$A$3:$D$5,4)),\"\")","v":""},"Does Not Map",{"$f":"IFERROR(IF(Input!$B$12=\"Executive / Elected Official\",\"Executive\",(VLOOKUP($V$2,CalRefs!$A$3:$D$5,4))),\"\")","v":""},0,0,0]
[-1,{"$f":"IFERROR(IndustryStand[[#This Row],[Industry Standards - Doctrine]],\"   \")","v":"   "},0,"",{"v":0,"d":"0.0"},"","","",{"v":0,"d":"0.00"},0,1,1,"","",0,0,-1,0,-1,0,"","",{"$f":"IFERROR((VLOOKUP($U19,CalRefs!$A$3:$D$5,4)),\"\")","v":""},"Does Not Map",{"$f":"IFERROR(IF(Input!$B$12=\"Executive / Elected Official\",\"Executive\",(VLOOKUP($V$2,CalRefs!$A$3:$D$5,4))),\"\")","v":""},0,0,0]
[-1,{"$f":"IFERROR(IndustryStand[[#This Row],[Industry Standards - Doctrine]],\"   \")","v":"   "},0,"",{"v":0,"d":"0.0"},"","","",{"v":0,"d":"0.00"},0,1,1,"","",0,0,-1,0,-1,0,"","",{"$f":"IFERROR((VLOOKUP($U20,CalRefs!$A$3:$D$5,4)),\"\")","v":""},"Does Not Map",{"$f":"IFERROR(IF(Input!$B$12=\"Executive / Elected Official\",\"Executive\",(VLOOKUP($V$2,CalRefs!$A$3:$D$5,4))),\"\")","v":""},0,0,0]
[-1,{"$f":"IFERROR(IndustryStand[[#This Row],[Industry Standards - Doctrine]],\"   \")","v":"   "},0,"",{"v":0,"d":"0.0"},"","","",{"v":0,"d":"0.00"},0,1,1,"","",0,0,-1,0,-1,0,"","",{"$f":"IFERROR((VLOOKUP($U21,CalRefs!$A$3:$D$5,4)),\"\")","v":""},"Does Not Map",{"$f":"IFERROR(IF(Input!$B$12=\"Executive / Elected Official\",\"Executive\",(VLOOKUP($V$2,CalRefs!$A$3:$D$5,4))),\"\")","v":""},0,0,0]
[-1,{"$f":"IFERROR(IndustryStand[[#This Row],[Industry Standards - Doctrine]],\"   \")","v":"   "},0,"",{"v":0,"d":"0.0"},"","","",{"v":0,"d":"0.00"},0,1,1,"","",0,0,-1,0,-1,0,"","",{"$f":"IFERROR((VLOOKUP($U22,CalRefs!$A$3:$D$5,4)),\"\")","v":""},"Does Not Map",{"$f":"IFERROR(IF(Input!$B$12=\"Executive / Elected Official\",\"Executive\",(VLOOKUP($V$2,CalRefs!$A$3:$D$5,4))),\"\")","v":""},0,0,0]
[-1,{"$f":"IFERROR(IndustryStand[[#This Row],[Industry Standards - Doctrine]],\"   \")","v":"   "},0,"",{"v":0,"d":"0.0"},"","","",{"v":0,"d":"0.00"},0,1,1,"","",0,0,-1,0,-1,0,"","",{"$f":"IFERROR((VLOOKUP($U23,CalRefs!$A$3:$D$5,4)),\"\")","v":""},"Does Not Map",{"$f":"IFERROR(IF(Input!$B$12=\"Executive / Elected Official\",\"Executive\",(VLOOKUP($V$2,CalRefs!$A$3:$D$5,4))),\"\")","v":""},0,0,0]
[-1,{"$f":"IFERROR(IndustryStand[[#This Row],[Industry Standards - Doctrine]],\"   \")","v":"   "},0,"",{"v":0,"d":"0.0"},"","","",{"v":0,"d":"0.00"},0,1,1,"","",0,0,-1,0,-1,0,"","",{"$f":"IFERROR((VLOOKUP($U24,CalRefs!$A$3:$D$5,4)),\"\")","v":""},"Does Not Map",{"$f":"IFERROR(IF(Input!$B$12=\"Executive / Elected Official\",\"Executive\",(VLOOKUP($V$2,CalRefs!$A$3:$D$5,4))),\"\")","v":""},0,0,0]
[-1,{"$f":"IFERROR(IndustryStand[[#This Row],[Industry Standards - Doctrine]],\"   \")","v":"   "},0,"",{"v":0,"d":"0.0"},"","","",{"v":0,"d":"0.00"},0,1,1,"","",0,0,-1,0,-1,0,"","",{"$f":"IFERROR((VLOOKUP($U25,CalRefs!$A$3:$D$5,4)),\"\")","v":""},"Does Not Map",{"$f":"IFERROR(IF(Input!$B$12=\"Executive / Elected Official\",\"Executive\",(VLOOKUP($V$2,CalRefs!$A$3:$D$5,4))),\"\")","v":""},0,0,0]
[-1,{"$f":"IFERROR(IndustryStand[[#This Row],[Industry Standards - Doctrine]],\"   \")","v":"   "},0,"",{"v":0,"d":"0.0"},"","","",{"v":0,"d":"0.00"},0,1,1,"","",0,0,-1,0,-1,0,"","",{"$f":"IFERROR((VLOOKUP($U26,CalRefs!$A$3:$D$5,4)),\"\")","v":""},"Does Not Map",{"$f":"IFERROR(IF(Input!$B$12=\"Executive / Elected Official\",\"Executive\",(VLOOKUP($V$2,CalRefs!$A$3:$D$5,4))),\"\")","v":""},0,0,0]
[-1,{"$f":"IFERROR(IndustryStand[[#This Row],[Industry Standards - Doctrine]],\"   \")","v":"   "},0,"",{"v":0,"d":"0.0"},"","","",{"v":0,"d":"0.00"},0,1,1,"","",0,0,-1,0,-1,0,"","",{"$f":"IFERROR((VLOOKUP($U27,CalRefs!$A$3:$D$5,4)),\"\")","v":""},"Does Not Map",{"$f":"IFERROR(IF(Input!$B$12=\"Executive / Elected Official\",\"Executive\",(VLOOKUP($V$2,CalRefs!$A$3:$D$5,4))),\"\")","v":""},0,0,0]
[-1,{"$f":"IFERROR(IndustryStand[[#This Row],[Industry Standards - Doctrine]],\"   \")","v":"   "},0,"",{"v":0,"d":"0.0"},"","","",{"v":0,"d":"0.00"},0,1,1,"","",0,0,-1,0,-1,0,"","",{"$f":"IFERROR((VLOOKUP($U28,CalRefs!$A$3:$D$5,4)),\"\")","v":""},"Does Not Map",{"$f":"IFERROR(IF(Input!$B$12=\"Executive / Elected Official\",\"Executive\",(VLOOKUP($V$2,CalRefs!$A$3:$D$5,4))),\"\")","v":""},0,0,0]
[-1,{"$f":"IFERROR(IndustryStand[[#This Row],[Industry Standards - Doctrine]],\"   \")","v":"   "},0,"",{"v":0,"d":"0.0"},"","","",{"v":0,"d":"0.00"},0,1,1,"","",0,0,-1,0,-1,0,"","",{"$f":"IFERROR((VLOOKUP($U29,CalRefs!$A$3:$D$5,4)),\"\")","v":""},"Does Not Map",{"$f":"IFERROR(IF(Input!$B$12=\"Executive / Elected Official\",\"Executive\",(VLOOKUP($V$2,CalRefs!$A$3:$D$5,4))),\"\")","v":""},0,0,0]
[-1,{"$f":"IFERROR(IndustryStand[[#This Row],[Industry Standards - Doctrine]],\"   \")","v":"   "},0,"",{"v":0,"d":"0.0"},"","","",{"v":0,"d":"0.00"},0,1,1,"","",0,0,-1,0,-1,0,"","",{"$f":"IFERROR((VLOOKUP($U30,CalRefs!$A$3:$D$5,4)),\"\")","v":""},"Does Not Map",{"$f":"IFERROR(IF(Input!$B$12=\"Executive / Elected Official\",\"Executive\",(VLOOKUP($V$2,CalRefs!$A$3:$D$5,4))),\"\")","v":""},0,0,0]

{"sheet":"CC","index":19,"n_rows":49,"n_cols":14,"rows_kept":49,"hidden":true}
["Core Capability","Core Capability Definition","Preliminary Capability Targets","Mission Areas",null,"None","ALL","PP","RR","Prevention","Protection","Mitigation","Response","Recovery"]
["Access Control and Identity Verification","Apply and support necessary physical, technological, and cyber measures to control admittance to critical locations and systems.","1. Implement and maintain protocols to verify identity and authorize, grant, or deny physical and cyberaccess to specific locations, information, and networks. ","Protection",null,"None","Prevention","Prevention","Response","Prevention","Protection","Mitigation","Response","Recovery"]
["Community Resilience","Enable the recognition, understanding, communication of, and planning for risk and empower individuals and communities to make informed risk management decisions necessary to adapt to, withstand, and quickly recover from future incidents.","1. Maximize the coverage of the U. S.  population that has a localized, risk-informed mitigation plandeveloped through partnerships across the entire community. \n\n2. Empower individuals and communities to make informed decisions to facilitate actions necessary toadapt to, withstand, and quickly recover from future incidents. ","Mitigation",null,null,"Protection","Protection","Recovery"]
["Critical Transportation","Provide transportation (including infrastructure access and accessible transportation services) for response priority objectives, including the evacuation of people and animals, and the delivery of vital response personnel, equipment, and services into the affected areas.","1.  Establish physical access through appropriate transportation corridors and deliver required resources to save lives and to meet the needs of disaster survivors. \n\n2.  Ensure basic human needs are met, stabilize the incident, transition into recovery for an affected area, and restore basic services and community functionality. \n\n3.  Clear debris from any route type, (i. e. , road, rail, airfield, port facility, waterway) to facilitate response operations. ","Response",null,null,"Mitigation"]
["Cybersecurity","Protect (and, if needed, restore) electronic communications systems, information, and services from damage, unauthorized use, and exploitation.","1. Implement risk-informed guidelines, regulations, and standards to ensure the security, reliability,integrity, and availability of critical information, records, and communications systems and servicesthrough collaborative cybersecurity initiatives and efforts. \n\n2. Implement and maintain procedures to detect malicious activity and to conduct technical andinvestigative-based countermeasures, mitigations, and operations against malicious actors to counterexisting and emerging cyber-based threats, consistent with established protocols. \n","Protection",null,null,"Response"]
["Economic Recovery","Return economic and business activities (including food and agriculture) to a healthy state and develop new business and employment opportunities that result in an economically viable community.","1. Conduct a preliminary assessment of economic issues and identify potential inhibitors to fosteringstabilization of the affected communities. \n\n2. Ensure the community recovery and mitigation plan(s) incorporates economic revitalization andremoves governmental inhibitors to post-disaster economic sustainability, while maintaining the civilrights of citizens. \n\n3. Return affected area’s economy within the specified time frame in the recovery plan. ","Recovery",null,null,"Recovery"]
["Environmental Response / Health and Safety","Conduct appropriate measures to ensure the protection of the health and safety of the public and workers, as well as the environment, from all-hazards in support of responder operations and the affected communities.","1.  Identify, assess, and mitigate worker health and safety hazards and disseminate health and safety guidance and resources to response and recovery workers. \n\n2.  Minimize public exposure to environmental hazards through assessment of the hazards and implementation of public protective actions. \n\n3.  Detect, assess, stabilize, and clean up releases of oil and hazardous materials into the environment, including buildings/structures, and properly manage waste. \n\n4.  Identify, evaluate, and implement measures to prevent and minimize impacts to the environment, natural and cultural resources, and historic properties from all-hazard emergencies and response operations. ","Response"]
["Fatality Management Services","Provide fatality management services, including decedent remains recovery and victim identification, working with local, state, tribal, territorial, insular area, and Federal authorities to provide mortuary processes, temporary storage or permanent internment solutions, sharing information with mass care services for the purpose of reunifying family members and caregivers with missing persons/remains, and providing counseling to the bereaved.","1.  Establish and maintain operations to recover a significant number of fatalities over a geographically dispersed area. ","Response"]
["Fire Management and Suppression","Provide structural, wildland, and specialized firefighting capabilities to manage and suppress fires of all types, kinds, and complexities while protecting the lives, property, and the environment in the affected area.","1.  Provide traditional first response or initial attack firefighting services. \n\n2.  Conduct expanded or extended attack firefighting and support operations through coordinated response of fire management and specialized fire suppression resources. \n\n3.  Ensure the coordinated deployment of appropriate local, regional, national, and international fire management and fire suppression resources to reinforce firefighting efforts and maintain an appropriate level of protection for subsequent fires. ","Response"]
["Forensics and Attribution","Conduct forensic analysis and attribute terrorist acts (including the means and methods of terrorism) to their source, to include forensic analysis as well as attribution for an attack and for the preparation for an attack in an effort to prevent initial or follow-on acts and/or swiftly develop counter-options.","1. Prioritize physical evidence collection and analysis to assist in preventing initial or follow-on terroristacts. \n\n2. Prioritize chemical, biological, radiological, nuclear, and explosive (CBRNE) material (bulk and trace)collection and analysis to assist in preventing initial or follow-on terrorist acts. \n\n3. Prioritize biometric collection and analysis to assist in preventing initial or follow-on terrorist acts.  \n\n4. Prioritize digital media, network exploitation, and cyber technical analysis to assist in preventing initialor follow-on terrorist acts. ","Prevention"]
["Health and Social Services","Restore and improve health and social services capabilities and networks to promote the resilience, independence, health (including behavioral health), and well-being of the whole community.","1.  Identify affected populations, groups and key partners in short-term, intermediate, and long-term recovery.  \n\n2.  Complete an assessment of community health and social service needs, and prioritize these needs, including accessibility requirements, based on the whole community's input and participation in the recovery planning process, and develop a comprehensive recovery timeline. \n\n3.  Restore health care (including behavioral health), public health, and social services functions. \n\n4.  Restore and improve the resilience and sustainability of the health care system and social service capabilities and networks to promote the independence and well-being of community members in accordance with the specified recovery timeline. ","Recovery"]
["Housing","Implement housing solutions that effectively support the needs of the whole community and contribute to its sustainability and resilience.","1.  Assess preliminary housing impacts and needs, identify currently available options for temporary housing, and plan for permanent housing. \n\n2.  Ensure community housing recovery plans continue to address interim housing needs, assess options for permanent housing, and define a timeline for achieving a resilient, accessible, and sustainable housing market. \n\n3.  Establish a resilient and sustainable housing market that meets the needs of the community, including the need for accessible housing within the specified time frame in the recovery plan. ","Recovery"]
["Infrastructure Systems","Stabilize critical infrastructure functions, minimize health and safety threats, and efficiently restore and revitalize systems and services to support a viable, resilient community.","1.  Decrease and stabilize immediate infrastructure threats to the affected population, to include survivors in the heavily-damaged zone, nearby communities that may be affected by cascading effects, and mass care support facilities and evacuation processing centers with a focus on life-sustainment and congregate care services. \n\n2.  Re-establish critical infrastructure within the affected areas to support ongoing emergency response operations, life sustainment, community functionality, and a transition to recovery. \n\n3.  Provide for the clearance, removal, and disposal of debris. \n\n4.  Formalize partnerships with governmental and private sector cyber incident or emergency response teams to accept, triage, and collaboratively respond to cascading impacts in an efficient manner. ","RR"]
["Infrastructure Systems","Stabilize critical infrastructure functions, minimize health and safety threats, and efficiently restore and revitalize systems and services to support a viable, resilient community.","1.  Restore and sustain essential services (public and private) to maintain community functionality. \n\n2.  Develop a plan with a specified timeline for redeveloping community infrastructures to contribute to resiliency, accessibility, and sustainability. \n\n3.  Provide systems that meet the community needs while minimizing service disruption during restoration within the specified timeline in the recovery plan. ","RR"]
["Intelligence and Information Sharing","Provide timely, accurate, and actionable information resulting from the planning, direction, collection, exploitation, processing, analysis, production, dissemination, evaluation, and feedback of available information concerning physical and cyber threats to the United States, its people, property, or interests; the development, proliferation, or use of WMDs; or any other matter bearing on U.S. national or homeland security by local, state, tribal, territorial, Federal, and other stakeholders. Information sharing is the ability to exchange intelligence, information, data, or knowledge among government or private sector entities, as appropriate.","1. Anticipate and identify emerging and/or imminent threats through the intelligence cycle. \n\n2. Share relevant, timely, and actionable information and analysis with local, state, tribal, territorial,Federal, private sector, and international partners and develop and disseminate appropriateclassified/unclassified products.  \n\n3. Ensure local, state, tribal, territorial, Federal, and private sector partners possess or have access to amechanism to submit terrorism-related information and/or suspicious activity reports to lawenforcement. ","PP"]
["Intelligence and Information Sharing","Provide timely, accurate, and actionable information resulting from the planning, direction, collection, exploitation, processing, analysis, production, dissemination, evaluation, and feedback of available information concerning threats to the United States, its people, property, or interests; the development, proliferation, or use of WMDs; or any other matter bearing on U.S. national or homeland security by local, state, tribal, territorial, Federal, and other stakeholders. Information sharing is the ability to exchange intelligence, information, data, or knowledge among government or private sector entities, as appropriate.","1. Anticipate and identify emerging and/or imminent threats through the intelligence cycle. \n\n2. Share relevant, timely, and actionable information and analysis with local, state, tribal, territorial,Federal, private sector, and international partners and develop and disseminate appropriateclassified/unclassified products. \n\n3. Provide local, state, tribal, territorial, Federal, and private sector partners with or access to amechanism to submit terrorism-related information and/or suspicious activity reports to lawenforcement. ","PP"]
["Interdiction and Disruption","Delay, divert, intercept, halt, apprehend, or secure threats and/or hazards.","1. Maximize our ability to interdict specific conveyances, cargo, and persons associated with animminent terrorist threat or act in the land, air, and maritime domains to prevent entry into the UnitedStates or to prevent an incident from occurring in the Nation. \n\n2. Conduct operations to render safe and dispose of CBRNE hazards in multiple locations and in allenvironments, consistent with established protocols. \n\n3. Prevent terrorism financial/material support from reaching its target, consistent with establishedprotocols. \n\n4. Prevent terrorist acquisition of and the transfer of CBRNE materials, precursors, and relatedtechnology, consistent with established protocols. \n\n5. Conduct tactical counterterrorism operations in multiple locations and in all environments, consistentwith established protocols. ","PP"]
["Interdiction and Disruption","Delay, divert, intercept, halt, apprehend, or secure threats and/or hazards.","1. Deter, detect, interdict, and protect against domestic and transnational criminal and terrorist activitiesthat threaten the security of the homeland across key operational activities and critical infrastructuresectors. \n\n2. Intercept the malicious movement and acquisition/transfer of CBRNE materials and relatedtechnologies. ","PP"]
["Logistics and Supply Chain Management","Deliver essential commodities, equipment, and services in support of impacted communities and survivors, to include emergency power and fuel support, as well as the coordination of access to community staples. Synchronize logistics capabilities and enable the restoration of impacted supply chains.","1.  Mobilize and deliver governmental, nongovernmental, and private sector resources to save lives, sustain lives, meet basic human needs, stabilize the incident, and transition to recovery, to include moving and delivering resources and services to meet the needs of disaster survivors. \n\n2.  Enhance public and private resource and services support for an affected area. ","Response"]
["Long-term Vulnerability Reduction","Build and sustain resilient systems, communities, and critical infrastructure and key resources lifelines so as to reduce their vulnerability to natural, technological, and human-caused threats and hazards by lessening the likelihood, severity, and duration of the adverse consequences.","1. Achieve a measurable decrease in the long-term vulnerability of the Nation against current baselinesamid a growing population base, changing climate conditions, increasing reliance upon informationtechnology, and expanding infrastructure base. ","Mitigation"]
["Mass Care Services","Provide life-sustaining and human services to the affected population, to include hydration, feeding, sheltering, temporary housing, evacuee support, reunification, and distribution of emergency supplies.","1.  Move and deliver resources and capabilities to meet the needs of disaster survivors, including individuals with access and functional needs. \n\n2.  Establish, staff, and equip emergency shelters and other temporary housing options (including accessible housing) for the affected population. \n\n3.  Move from congregate care to non-congregate care alternatives and provide relocation assistance or interim housing solutions for families unable to return to their pre-disaster homes. ","Response"]
["Mass Search and Rescue Operations","Deliver traditional and atypical search and rescue capabilities, including personnel, services, animals, and assets to survivors in need, with the goal of saving the greatest number of endangered lives in the shortest time possible.","1.  Conduct search and rescue operations to locate and rescue persons in distress. \n\n2.  Initiate community-based search and rescue support operations across a wide geographically dispersed area. \n\n3.  Ensure the synchronized deployment of local, regional, national, and international teams to reinforce ongoing search and rescue efforts and transition to recovery. ","Response"]
["Natural and Cultural Resources","Protect natural and cultural resources and historic properties through appropriate planning, mitigation, response, and recovery actions to preserve, conserve, rehabilitate, and restore them consistent with post-disaster community priorities and best practices and in compliance with applicable environmental and historic preservation laws and executive orders.","1.  Implement measures to protect and stabilize records and culturally significant documents, objects, and structures. \n\n2.  Mitigate the impacts to and stabilize the natural and cultural resources and conduct a preliminary assessment of the impacts that identifies protections that need to be in place during stabilization through recovery. \n\n3.  Complete an assessment of affected natural and cultural resources and develop a timeline for addressing these impacts in a sustainable and resilient manner. \n\n4.  Preserve natural and cultural resources as part of an overall community recovery that is achieved through the coordinated efforts of natural and cultural resource experts and the recovery team in accordance with the specified timeline in the recovery plan. ","Recovery"]
["On-scene Security, Protection, and Law Enforcement","Ensure a safe and secure environment through law enforcement and related security and protection operations for people and communities located within affected areas and also for response personnel engaged in lifesaving and life-sustaining operations.","1.  Establish a safe and secure environment in an affected area. \n\n2.  Provide and maintain on-scene security and meet the protection needs of the affected population over a geographically dispersed area while eliminating or mitigating the risk of further damage to persons, property, and the environment. ","Response"]
["Operational Communications","Ensure the capacity for timely communications in support of security, situational awareness, and operations by any and all means available, among and between affected communities in the impact area and all response forces.","1.  Ensure the capacity to communicate with both the emergency response community and the affected populations and establish interoperable voice and data communications between Federal, tribal, state, and local first responders. \n\n2.  Re-establish sufficient communications infrastructure within the affected areas to support ongoing life-sustaining activities, provide basic human needs, and transition to recovery. \n\n3.  Re-establish critical information networks, including cybersecurity information sharing networks, in order to inform situational awareness, enable incident response, and support the resiliency of key systems. ","Response"]
["Operational Coordination","Establish and maintain a unified and coordinated operational structure and process that appropriately integrates all critical stakeholders and supports the execution of core capabilities.","1. Execute operations with functional and integrated communications among appropriate entities toprevent initial or follow-on terrorist attacks within the United States in accordance with establishedprotocols. ","ALL"]
["Operational Coordination","Establish and maintain a unified and coordinated operational structure and process that appropriately integrates all critical stakeholders and supports the execution of core capabilities.","1. Establish and maintain partnership structures among Protection elements to support networking,planning, and coordination. ","ALL"]
["Operational Coordination","Establish and maintain a unified and coordinated operational structure and process that appropriately integrates all critical stakeholders and supports the execution of core capabilities.","1. Establish protocols to integrate mitigation data elements in support of operations with local, state,tribal, territorial, and insular area partners and in coordination with Federal agencies. ","ALL"]
["Operational Coordination","Establish and maintain a unified and coordinated operational structure and process that appropriately integrates all critical stakeholders and supports the execution of core capabilities.","1.  Mobilize all critical resources and establish command, control, and coordination structures within the affected community and other coordinating bodies in surrounding communities and across the Nation and maintain as needed throughout the duration of an incident. \n2.  Enhance and maintain command, control, and coordination structures, consistent with the National Incident Management System (NIMS), to meet basic human needs, stabilize the incident, and transition to recovery. ","ALL"]
["Operational Coordination","Establish and maintain a unified and coordinated operational structure and process that appropriately integrates all critical stakeholders and supports the execution of core capabilities.","1. Establish tiered, integrated leadership, and inclusive coordinating organizations that operate with aunity of effort and are supported by sufficient assessment and analysis to provide defined structureand decision-making processes for recovery activities. \n\n2. Define the path and timeline for recovery leadership to achieve the jurisdiction’s objectives thateffectively coordinates and uses appropriate local, state, tribal, territorial, insular area, and Federalassistance, as well as nongovernmental and private sector resources.  This plan is to beimplemented within the established timeline. ","ALL"]
["Physical Protective Measures","Implement and maintain risk-informed countermeasures, and policies protecting people, borders, structures, materials, products, and systems associated with key operational activities and critical infrastructure sectors.","1. Identify, assess, and mitigate vulnerabilities to incidents through the deployment of physical protectivemeasures. \n\n2. Deploy protective measures commensurate with the risk of an incident and balanced with thecomplementary aims of enabling commerce and maintaining the civil rights of citizens. ","Protection"]
["Planning","Conduct a systematic process engaging the whole community as appropriate in the development of executable strategic, operational, and/or tactical-level approaches to meet defined objectives.","1.  Identify critical objectives during the planning process, provide a complete and integrated picture ofthe sequence and scope of the tasks to achieve the objectives, and ensure the objectives areimplementable within the time frame contemplated within the plan using available resources forprevention-related plans.  \n\n2. Develop and execute appropriate courses of action in coordination with local, state, tribal, territorial,Federal, and private sector entities in order to prevent an imminent terrorist attack within the UnitedStates. ","ALL"]
["Planning","Conduct a systematic process engaging the whole community, as appropriate, in the development of executable strategic, operational, and/or tactical-level approaches to meet defined objectives.","1. Develop protection plans that identify critical objectives based on planning requirements, provide acomplete and integrated picture of the sequence and scope of the tasks to achieve the planningobjectives, and implement planning requirements within the time frame contemplated within the planusing available resources for protection-related plans. \n\n2. Implement, exercise, and maintain plans to ensure continuity of operations. ","ALL"]
["Planning","Conduct a systematic process engaging the whole community as appropriate in the development of executable strategic, operational, and/or tactical-level approaches to meet defined objectives.","1. Develop approved hazard mitigation plans that address relevant threats/hazards in accordance withthe results of their risk assessment within all local, state, tribal, territorial, and Federal partners. ","ALL"]
["Planning","Conduct a systematic process engaging the whole community as appropriate in the development of executable strategic, operational, and/or tactical-level approaches to meet defined objectives.","1. Develop operational plans that adequately identify critical objectives based on the planningrequirement, provide a complete and integrated picture of the sequence and scope of the tasks toachieve the objectives, and are implementable within the time frame contemplated in the plan usingavailable resources. ","ALL"]
["Planning","Conduct a systematic process engaging the whole community as appropriate in the development of executable strategic, operational, and/or tactical- level approaches to meet defined objectives.","1. Convene the core of an inclusive planning team (identified pre-disaster), which will oversee disasterrecovery planning. \n\n2. Complete an initial recovery plan that provides an overall strategy and timeline, addresses all corecapabilities, and integrates socioeconomic, demographic, accessibility, technology, and riskassessment considerations (including projected climate change impacts), which will be implementedin accordance with the timeline contained in the plan. ","ALL"]
["Public Health, Healthcare, and Emergency Medical Services","Provide lifesaving medical treatment via Emergency Medical Services and related operations and avoid additional disease and injury by providing targeted public health, medical, and behavioral health support, and products to all affected populations.","1.  Deliver medical countermeasures to exposed populations. \n\n2.  Complete triage and initial stabilization of casualties and begin definitive care for those likely to survive their injuries and illness. \n\n3.  Return medical surge resources to pre-incident levels, complete health assessments, and identify recovery processes. ","Response"]
["Public Information and Warning","Deliver coordinated, prompt, reliable, and actionable information to the whole community through the use of clear, consistent, accessible, and culturally and linguistically appropriate methods to effectively relay information regarding any threat or hazard, as well as the actions being taken and the assistance being made available, as appropriate.","1.  Share prompt and actionable messages, to include National Terrorism Advisory System alerts, withthe public and other stakeholders, as appropriate, to aid in the prevention of imminent or follow-onterrorist attacks, consistent with the timelines specified by existing processes and protocols. \n\n2. Provide public awareness information to inform the general public on how to identify and provideterrorism-related information to the appropriate law enforcement authorities, thereby enabling thepublic to act as a force multiplier in the prevention of imminent or follow-on acts of terrorism. ","ALL"]
["Public Information and Warning","Deliver coordinated, prompt, reliable, and actionable information to the whole community through the use of clear, consistent, accessible, and culturally and linguistically appropriate methods to effectively relay information regarding any threat or hazard and, as appropriate, the actions being taken and the assistance being made available.","1. Use effective and accessible indication and warning systems to communicate significant hazards toinvolved operators, security officials, and the public (including alerts, detection capabilities, and othernecessary and appropriate assets). ","ALL"]
["Public Information and Warning","Deliver coordinated, prompt, reliable, and actionable information to the whole community through the use of clear, consistent, accessible, and culturally and linguistically appropriate methods to effectively relay information regarding any threat or hazard and, as appropriate, the actions being taken and the assistance being made available.","1. Communicate appropriate information, in an accessible manner, on the risks faced within acommunity after the conduct of a risk assessment. ","ALL"]
["Public Information and Warning","Deliver coordinated, prompt, reliable, and actionable information to the whole community through the use of clear, consistent, accessible, and culturally and linguistically appropriate methods to effectively relay information regarding any threat or hazard and, as appropriate, the actions being taken and the assistance being made available.","1. Inform all affected segments of society by all means necessary, including accessible tools, of criticallifesaving and life-sustaining information to expedite the delivery of emergency services and aid thepublic to take protective actions.  \n\n2. Deliver credible and actionable messages to inform ongoing emergency services and the public aboutprotective measures and other life-sustaining actions and facilitate the transition to recovery. ","ALL"]
["Public Information and Warning","Deliver coordinated, prompt, reliable, and actionable information to the whole community through the use of clear, consistent, accessible, and culturally and linguistically appropriate methods to effectively relay information regarding any threat or hazard and, as appropriate, the actions being taken and the assistance being made available.","1. Reach all populations within the community with effective actionable recovery-related publicinformation messaging and communications that are accessible to people with disabilities andpeople with limited English proficiency, protect the health and safety of the affected population, helpmanage expectations, and ensure stakeholders have a clear understanding of available assistanceand their roles and responsibilities.  \n\n2. Support affected populations and stakeholders with a system that provides appropriate, currentinformation about any continued assistance, steady state resources for long-term impacts, andmonitoring programs in an effective and accessible manner. ","ALL"]
["Risk and Disaster Resilience Assessment","Assess risk and disaster resilience so that decision makers, responders, and community members can take informed action to reduce their entity’s risk and increase their resilience.","1. Ensure that local, state, tribal, territorial, and insular area governments and the top 100 MetropolitanStatistical Areas (MSAs) complete a risk assessment that defines localized vulnerabilities andconsequences associated with potential natural, technological, and human-caused threats andhazards to their natural, human, physical, cyber, and socioeconomic interests. ","Mitigation"]
["Risk Management for Protection Programs and Activities","Identify, assess, and prioritize risks to inform Protection activities, countermeasures, and investments.","1. Ensure critical infrastructure sectors and Protection elements have and maintain risk assessmentprocesses to identify and prioritize assets, systems, networks, and functions. \n\n2. Ensure operational activities and critical infrastructure sectors have and maintain appropriate threat,vulnerability, and consequence tools to identify and assess threats, vulnerabilities, andconsequences. ","Protection"]
["Screening, Search, and Detection","Identify, discover, or locate threats and/or hazards through active and passive surveillance and search procedures. This may include the use of systematic examinations and assessments, biosurveillance, sensor technologies, or physical investigation and intelligence.","1. Maximize the screening of targeted cargo, conveyances, mail, baggage, and people associated withan imminent terrorist threat or act using technical, non-technical, intrusive, or non-intrusive means. \n\n2. Initiate operations immediately to locate persons and networks associated with an imminent terroristthreat or act. \n\n3. Conduct CBRNE search/detection operations in multiple locations and in all environments, consistentwith established protocols. ","PP"]
["Screening, Search, and Detection","Identify, discover, or locate threats and/or hazards through active and passive surveillance and search procedures. This may include the use of systematic examinations and assessments, biosurveillance, sensor technologies, or physical investigation and intelligence.","1.  Screen cargo, conveyances, mail, baggage, and people using information-based and physical screening technology and processes. \n\n2.  Detect WMD, traditional, and emerging threats and hazards of concern using:\na.  A laboratory diagnostic capability and the capacity for food, agricultural (plant/animal), environmental, medical products, and clinical samples\nb.  Bio-surveillance systems\nc.  CBRNE detection systems\nd.  Trained healthcare, emergency medical, veterinary, and environmental laboratory professionals. ","PP"]
["Situational Assessment","Provide all decision makers with decision-relevant information regarding the nature and extent of the hazard, any cascading effects, and the status of the response.","1. Deliver information sufficient to inform decision making regarding immediate lifesaving and life-sustaining activities and engage governmental, private, and civic sector resources within and outsideof the affected area to meet basic human needs and stabilize the incident. \n\n2. Deliver enhanced information to reinforce ongoing lifesaving and life-sustaining activities, and engagegovernmental, private, and civic sector resources within and outside of the affected area to meetbasic human needs, stabilize the incident, and transition to recovery. ","Response"]
["Supply Chain Integrity and Security","Strengthen the security and resilience of the supply chain.","1.  Secure and make resilient key nodes, methods of transport between nodes, and materials in transit. ","Protection"]
["Threats and Hazards Identification","Identify the threats and hazards that occur in the geographic area; determine the frequency and magnitude; and incorporate this into analysis and planning processes so as to clearly understand the needs of a community or entity.","1. Identify the threats and hazards within and across local, state, tribal, territorial, and insular areagovernments, and the top 100 MSAs, in collaboration with the whole community, against a nationalstandard based on sound science. ","Mitigation"]

{"sheet":"Training Partners","index":20,"n_rows":12,"n_cols":1,"rows_kept":12,"hidden":true}
["Training Partner Names"]
["Center for Domestic Preparedness (CDP)"]
["Emergency Management Institute (EMI)"]
["Louisiana State University (LSU)"]
["National Nuclear Security Administration (NNSA)"]
["New Mexico Tech (NMT)"]
["Rural Domestic Prepardness Consortium (RDPC)"]
["Texas A&M Engineering Extension Service (TEEX)"]
["Transportation Technology Center, Inc. (TTCI)"]
["University of Hawaii (UH)"]
["National Fire Academy (NFA)"]
["New Jersey Office of Homeland Security and Preparedness (NJ OHSP)"]

{"sheet":"Knowledge Verbs","index":21,"n_rows":100,"n_cols":14,"rows_kept":100}
["K1","K2","K3","K4","K5","K6",null,"K1 Out","K2 Out","K3 Out","K4 Out","K5 Out","K6 Out","K Score"]
["Advise","Appraise","Administer","Allocate","Appraise","Adapt",null,1,{"$nulls":5},1]
["Answer","Associate","Apply","Analyze","Approve","Analyze",null,null,2,{"$nulls":4},2]
["Brief","Communicate","Calculate","Arrange","Assess","Annotate",{"$nulls":3},3,{"$nulls":3},3]
["Calculate","Compare","Change","Assign","Compare","Apply",{"$nulls":4},4,null,null,4]
["Count","Compile","Chart","Break down","Conclude","Arrange",{"$nulls":5},5,null,5]
["Define","Compose","Check","Categorize","Contrast","Assemble",{"$nulls":6},6,6]
["Describe","Comprehend","Collect","Classify","Criticize","Build",{"$nulls":7},0]
["Draw","Compute","Complete","Collate","Critique","Categorize"]
["Elaborate","Contrast","Compute","Compare","Decide","Change"]
["Enumerate","Convert","Condense","Confirm","Determine","Combine"]
["Express","Defend","Construct","Consolidate","Defend","Compile"]
["Identify","Describe","Control","Contrast","Describe","Compose"]
["Indicate","Discuss","Delete","Correlate","Discriminate","Conclude"]
["Inform","Distinguish","Demonstrate","Cross-check","Evaluate","Construct"]
["Instruct","Encrypt","Deploy","Deconstruct","Explain","Convert"]
["Know","Estimate","Determine","Designate","Grade","Create"]
["Label","Evaluate","Discover","Diagram","Interpret","Criticize"]
["List","Explains","Edit","Differentiate","Judge","Debug"]
["Mark","Express","Examine","Distinguish","Justify","Decide"]
["Match","Extends","Execute","Divide","Measure","Defend"]
["Name","Extrapolate","Find","Eliminate","Rank","Derive"]
["Outline","Format","Inform","Examine","Rate","Design"]
["Point","Forward","Initiate","Extract","Recommend","Determine"]
["Quote","Generalize","Instruct","Finalize","Relate","Devise"]
["Read","Give an example","Implement","Focus","Select","Diagram"]
["Recall","Infer","Manipulate","Group","Support","Draft"]
["Recite","Interpolate","Modify","Identify","Test","Effect"]
["Recognize","Interpret","Navigate","Illustrate","[BLANK]","Explain"]
["Recommend","Measure","Operate","Infer","[BLANK]","Extend"]
["Record","Outline","Pause","Isolate","[BLANK]","Facilitate"]
["Recount","Paraphrase","Predict","Label","[BLANK]","Find"]
["Repeat","Predict","Prepare","Level","[BLANK]","Formulate"]
["Reproduce","Replace","Present","Match","[BLANK]","Generalize"]
["Select","Restate","Produce","Order","[BLANK]","Generate"]
["Specify","Rewrite","Relate","Organize","[BLANK]","Hypothesize"]
["State","Route","Report","Outline","[BLANK]","Illustrate"]
["Tabulate","Summarize","Resume","Prioritize","[BLANK]","Incorporate"]
["Tell","Translate","Set up","Rank","[BLANK]","Infer"]
["Trace","[BLANK]","Show","Realign","[BLANK]","Integrate"]
["View","[BLANK]","Solve","Redistribute","[BLANK]","Investigate"]
["Write","[BLANK]","Start","Relate","[BLANK]","Locate"]
["[BLANK]","[BLANK]","Stop","Reorganize","[BLANK]","Manipulate"]
["[BLANK]","[BLANK]","Teach","Resolve","[BLANK]","Model"]
["[BLANK]","[BLANK]","Transfer","Restate","[BLANK]","Modify"]
["[BLANK]","[BLANK]","Use","Schedule","[BLANK]","Negotiate"]
["[BLANK]","[BLANK]","Utilize","Select","[BLANK]","Organize"]
["[BLANK]","[BLANK]","[BLANK]","Separate","[BLANK]","Personalize"]
["[BLANK]","[BLANK]","[BLANK]","Sort","[BLANK]","Plan"]
["[BLANK]","[BLANK]","[BLANK]","Subdivide","[BLANK]","Predict"]
["[BLANK]","[BLANK]","[BLANK]","Task","[BLANK]","Prepare"]
["[BLANK]","[BLANK]","[BLANK]","Template","[BLANK]","Produce"]
["[BLANK]","[BLANK]","[BLANK]","Transform","[BLANK]","Project"]
["[BLANK]","[BLANK]","[BLANK]","Translate","[BLANK]","Propose"]
["[BLANK]","[BLANK]","[BLANK]","Tune","[BLANK]","Rearrange"]
["[BLANK]","[BLANK]","[BLANK]","Discriminate","[BLANK]","Reconstruct"]
["[BLANK]","[BLANK]","[BLANK]","Reexamine","[BLANK]","Relate"]
["[BLANK]","[BLANK]","[BLANK]","Distribute","[BLANK]","Reorganize"]
["[BLANK]","[BLANK]","[BLANK]","[BLANK]","[BLANK]","Resolve"]
["[BLANK]","[BLANK]","[BLANK]","[BLANK]","[BLANK]","Restructure"]
["[BLANK]","[BLANK]","[BLANK]","[BLANK]","[BLANK]","Revise"]
["[BLANK]","[BLANK]","[BLANK]","[BLANK]","[BLANK]","Rewrite"]
["[BLANK]","[BLANK]","[BLANK]","[BLANK]","[BLANK]","Search"]
["[BLANK]","[BLANK]","[BLANK]","[BLANK]","[BLANK]","Solve"]
["[BLANK]","[BLANK]","[BLANK]","[BLANK]","[BLANK]","Structure"]
["[BLANK]","[BLANK]","[BLANK]","[BLANK]","[BLANK]","Substitute"]
["[BLANK]","[BLANK]","[BLANK]","[BLANK]","[BLANK]","Summarize"]
["[BLANK]","[BLANK]","[BLANK]","[BLANK]","[BLANK]","Tell"]
["[BLANK]","[BLANK]","[BLANK]","[BLANK]","[BLANK]","Triage"]
["[BLANK]","[BLANK]","[BLANK]","[BLANK]","[BLANK]","Use"]
["[BLANK]","[BLANK]","[BLANK]","[BLANK]","[BLANK]","War game"]
["[BLANK]","[BLANK]","[BLANK]","[BLANK]","[BLANK]","Write"]
["[BLANK]","[BLANK]","[BLANK]","[BLANK]","[BLANK]","Develop"]
["[BLANK]","[BLANK]","[BLANK]","[BLANK]","[BLANK]","Discover"]
["[BLANK]","[BLANK]","[BLANK]","[BLANK]","[BLANK]","[BLANK]"]
["[BLANK]","[BLANK]","[BLANK]","[BLANK]","[BLANK]","[BLANK]"]
["[BLANK]","[BLANK]","[BLANK]","[BLANK]","[BLANK]","[BLANK]"]
["[BLANK]","[BLANK]","[BLANK]","[BLANK]","[BLANK]","[BLANK]"]
["[BLANK]","[BLANK]","[BLANK]","[BLANK]","[BLANK]","[BLANK]"]
["[BLANK]","[BLANK]","[BLANK]","[BLANK]","[BLANK]","[BLANK]"]
["[BLANK]","[BLANK]","[BLANK]","[BLANK]","[BLANK]","[BLANK]"]
["[BLANK]","[BLANK]","[BLANK]","[BLANK]","[BLANK]","[BLANK]"]
["[BLANK]","[BLANK]","[BLANK]","[BLANK]","[BLANK]","[BLANK]"]
["[BLANK]","[BLANK]","[BLANK]","[BLANK]","[BLANK]","[BLANK]"]
["[BLANK]","[BLANK]","[BLANK]","[BLANK]","[BLANK]","[BLANK]"]
["[BLANK]","[BLANK]","[BLANK]","[BLANK]","[BLANK]","[BLANK]"]
["[BLANK]","[BLANK]","[BLANK]","[BLANK]","[BLANK]","[BLANK]"]
["[BLANK]","[BLANK]","[BLANK]","[BLANK]","[BLANK]","[BLANK]"]
["[BLANK]","[BLANK]","[BLANK]","[BLANK]","[BLANK]","[BLANK]"]
["[BLANK]","[BLANK]","[BLANK]","[BLANK]","[BLANK]","[BLANK]"]
["[BLANK]","[BLANK]","[BLANK]","[BLANK]","[BLANK]","[BLANK]"]
["[BLANK]","[BLANK]","[BLANK]","[BLANK]","[BLANK]","[BLANK]"]
["[BLANK]","[BLANK]","[BLANK]","[BLANK]","[BLANK]","[BLANK]"]
["[BLANK]","[BLANK]","[BLANK]","[BLANK]","[BLANK]","[BLANK]"]
["[BLANK]","[BLANK]","[BLANK]","[BLANK]","[BLANK]","[BLANK]"]
["[BLANK]","[BLANK]","[BLANK]","[BLANK]","[BLANK]","[BLANK]"]
["[BLANK]","[BLANK]","[BLANK]","[BLANK]","[BLANK]","[BLANK]"]
["[BLANK]","[BLANK]","[BLANK]","[BLANK]","[BLANK]","[BLANK]"]
["[BLANK]","[BLANK]","[BLANK]","[BLANK]","[BLANK]","[BLANK]"]
["[BLANK]","[BLANK]","[BLANK]","[BLANK]","[BLANK]","[BLANK]"]

{"sheet":"Skill Verbs","index":22,"n_rows":200,"n_cols":16,"rows_kept":200}
["S1","S2","S3","S4","S5","S6","S7",null,"S1 Out","S2 Out","S3 Out","S4 Out","S5 Out","S6 Out","S7 Out","S Score"]
["Choose","Assault","Able","Access","Advance","Acclimatize","Arrange",null,1,{"$nulls":6},1]
["Describe","Begin","Assist","Activate","Assemble","Accommodate","Build",null,null,2,{"$nulls":5},2]
["Detect","Carry","Challenge","Actuate","Build","Adapt","Cause",{"$nulls":3},3,{"$nulls":4},3]
["Differentiate","Creep","Copy","Adjust","Calibrate","Alter","Combine",{"$nulls":4},4,{"$nulls":3},4]
["Distinguish","Depart","Cross","Align","Construct","Ambush","Compose",{"$nulls":5},5,null,null,5]
["Feel","Display","Delay","Apply","Control","Attack","Construct",{"$nulls":6},6,null,6]
["Hear","Explain","Follow","Archive","Dismantle","Bypass","Contrive",{"$nulls":7},7,7]
["Identify","Fall","Guard","Assemble","Display","Change","Correct",{"$nulls":8},0]
["Isolate","Fire","Prepare","Attach","Fasten","Conduct","Create"]
["Relate","Hold","Prime","Balance","Fix","Deploy","Design"]
["Scan","Jump","React","Breach","Follow","Direct","Initiate"]
["See","Lift","Ready","Calibrate","Grind","Draw","Invent"]
["Select","Move","Reproduce","Center","Guide","Evade","Make"]
["Smell","Proceed","Respond","Clean","Heat","Infiltrate","Originate"]
["Taste","Pull","Set","Clear","Hover","Lay","[BLANK]"]
["Visualize","React","Stand to","Close","Land","Lead","[BLANK]"]
["[BLANK]","Run","Trace","Collect","Maneuver","Load","[BLANK]"]
["[BLANK]","Show","[BLANK]","Construct","Manipulate","Map","[BLANK]"]
["[BLANK]","State","[BLANK]","Cover","Measure","Neutralize","[BLANK]"]
["[BLANK]","Stay","[BLANK]","Debrief","Mend","Occupy","[BLANK]"]
["[BLANK]","Swim","[BLANK]","Decontaminate","Mix","Orient","[BLANK]"]
["[BLANK]","Throw","[BLANK]","Deliver","Organize","Pack","[BLANK]"]
["[BLANK]","Turn","[BLANK]","Destroy","Regulate","Patrol","[BLANK]"]
["[BLANK]","Twist","[BLANK]","Diagnose","Sketch","Prevent","[BLANK]"]
["[BLANK]","Volunteer","[BLANK]","Dispatch","Steer","Program","[BLANK]"]
["[BLANK]","Wear","[BLANK]","Display","Take off","Protect","[BLANK]"]
["[BLANK]","[BLANK]","[BLANK]","Dispose","Track","Queue","[BLANK]"]
["[BLANK]","[BLANK]","[BLANK]","Drive","Traverse","Rearrange","[BLANK]"]
["[BLANK]","[BLANK]","[BLANK]","Egress","[BLANK]","Reconcile","[BLANK]"]
["[BLANK]","[BLANK]","[BLANK]","Elevate","[BLANK]","Recover","[BLANK]"]
["[BLANK]","[BLANK]","[BLANK]","Emplace","[BLANK]","Reduce","[BLANK]"]
["[BLANK]","[BLANK]","[BLANK]","Employ","[BLANK]","Relieve","[BLANK]"]
["[BLANK]","[BLANK]","[BLANK]","Engage","[BLANK]","Reorganize","[BLANK]"]
["[BLANK]","[BLANK]","[BLANK]","Energize","[BLANK]","Revise","[BLANK]"]
["[BLANK]","[BLANK]","[BLANK]","Enter","[BLANK]","Suppress","[BLANK]"]
["[BLANK]","[BLANK]","[BLANK]","Exchange","[BLANK]","Tailor","[BLANK]"]
["[BLANK]","[BLANK]","[BLANK]","Fasten","[BLANK]","Temper","[BLANK]"]
["[BLANK]","[BLANK]","[BLANK]","Fill out","[BLANK]","Train","[BLANK]"]
["[BLANK]","[BLANK]","[BLANK]","Fire","[BLANK]","Vary","[BLANK]"]
["[BLANK]","[BLANK]","[BLANK]","Fit","[BLANK]","[BLANK]","[BLANK]"]
["[BLANK]","[BLANK]","[BLANK]","Fix","[BLANK]","[BLANK]","[BLANK]"]
["[BLANK]","[BLANK]","[BLANK]","Fuel","[BLANK]","[BLANK]","[BLANK]"]
["[BLANK]","[BLANK]","[BLANK]","Grind","[BLANK]","[BLANK]","[BLANK]"]
["[BLANK]","[BLANK]","[BLANK]","Ground","[BLANK]","[BLANK]","[BLANK]"]
["[BLANK]","[BLANK]","[BLANK]","Harden","[BLANK]","[BLANK]","[BLANK]"]
["[BLANK]","[BLANK]","[BLANK]","Heat","[BLANK]","[BLANK]","[BLANK]"]
["[BLANK]","[BLANK]","[BLANK]","Initialize","[BLANK]","[BLANK]","[BLANK]"]
["[BLANK]","[BLANK]","[BLANK]","Input","[BLANK]","[BLANK]","[BLANK]"]
["[BLANK]","[BLANK]","[BLANK]","Insert","[BLANK]","[BLANK]","[BLANK]"]
["[BLANK]","[BLANK]","[BLANK]","Inspect","[BLANK]","[BLANK]","[BLANK]"]
["[BLANK]","[BLANK]","[BLANK]","Install","[BLANK]","[BLANK]","[BLANK]"]
["[BLANK]","[BLANK]","[BLANK]","Integrate","[BLANK]","[BLANK]","[BLANK]"]
["[BLANK]","[BLANK]","[BLANK]","Issue","[BLANK]","[BLANK]","[BLANK]"]
["[BLANK]","[BLANK]","[BLANK]","Launch","[BLANK]","[BLANK]","[BLANK]"]
["[BLANK]","[BLANK]","[BLANK]","Log","[BLANK]","[BLANK]","[BLANK]"]
["[BLANK]","[BLANK]","[BLANK]","Lubricate","[BLANK]","[BLANK]","[BLANK]"]
["[BLANK]","[BLANK]","[BLANK]","Maintain","[BLANK]","[BLANK]","[BLANK]"]
["[BLANK]","[BLANK]","[BLANK]","Manage","[BLANK]","[BLANK]","[BLANK]"]
["[BLANK]","[BLANK]","[BLANK]","Manipulate","[BLANK]","[BLANK]","[BLANK]"]
["[BLANK]","[BLANK]","[BLANK]","Measure","[BLANK]","[BLANK]","[BLANK]"]
["[BLANK]","[BLANK]","[BLANK]","Mend","[BLANK]","[BLANK]","[BLANK]"]
["[BLANK]","[BLANK]","[BLANK]","Mix","[BLANK]","[BLANK]","[BLANK]"]
["[BLANK]","[BLANK]","[BLANK]","Mount","[BLANK]","[BLANK]","[BLANK]"]
["[BLANK]","[BLANK]","[BLANK]","Move","[BLANK]","[BLANK]","[BLANK]"]
["[BLANK]","[BLANK]","[BLANK]","Navigate","[BLANK]","[BLANK]","[BLANK]"]
["[BLANK]","[BLANK]","[BLANK]","Obtain","[BLANK]","[BLANK]","[BLANK]"]
["[BLANK]","[BLANK]","[BLANK]","Open","[BLANK]","[BLANK]","[BLANK]"]
["[BLANK]","[BLANK]","[BLANK]","Operate","[BLANK]","[BLANK]","[BLANK]"]
["[BLANK]","[BLANK]","[BLANK]","Order","[BLANK]","[BLANK]","[BLANK]"]
["[BLANK]","[BLANK]","[BLANK]","Organize","[BLANK]","[BLANK]","[BLANK]"]
["[BLANK]","[BLANK]","[BLANK]","Place","[BLANK]","[BLANK]","[BLANK]"]
["[BLANK]","[BLANK]","[BLANK]","Park","[BLANK]","[BLANK]","[BLANK]"]
["[BLANK]","[BLANK]","[BLANK]","Perform","[BLANK]","[BLANK]","[BLANK]"]
["[BLANK]","[BLANK]","[BLANK]","Plot","[BLANK]","[BLANK]","[BLANK]"]
["[BLANK]","[BLANK]","[BLANK]","Police","[BLANK]","[BLANK]","[BLANK]"]
["[BLANK]","[BLANK]","[BLANK]","Position","[BLANK]","[BLANK]","[BLANK]"]
["[BLANK]","[BLANK]","[BLANK]","Post","[BLANK]","[BLANK]","[BLANK]"]
["[BLANK]","[BLANK]","[BLANK]","Press","[BLANK]","[BLANK]","[BLANK]"]
["[BLANK]","[BLANK]","[BLANK]","Pressurize","[BLANK]","[BLANK]","[BLANK]"]
["[BLANK]","[BLANK]","[BLANK]","Process","[BLANK]","[BLANK]","[BLANK]"]
["[BLANK]","[BLANK]","[BLANK]","Procure","[BLANK]","[BLANK]","[BLANK]"]
["[BLANK]","[BLANK]","[BLANK]","Provide","[BLANK]","[BLANK]","[BLANK]"]
["[BLANK]","[BLANK]","[BLANK]","Publish","[BLANK]","[BLANK]","[BLANK]"]
["[BLANK]","[BLANK]","[BLANK]","Raise","[BLANK]","[BLANK]","[BLANK]"]
["[BLANK]","[BLANK]","[BLANK]","Range","[BLANK]","[BLANK]","[BLANK]"]
["[BLANK]","[BLANK]","[BLANK]","Reach","[BLANK]","[BLANK]","[BLANK]"]
["[BLANK]","[BLANK]","[BLANK]","Reestablish","[BLANK]","[BLANK]","[BLANK]"]
["[BLANK]","[BLANK]","[BLANK]","Refuel","[BLANK]","[BLANK]","[BLANK]"]
["[BLANK]","[BLANK]","[BLANK]","Record","[BLANK]","[BLANK]","[BLANK]"]
["[BLANK]","[BLANK]","[BLANK]","Release","[BLANK]","[BLANK]","[BLANK]"]
["[BLANK]","[BLANK]","[BLANK]","Relocate","[BLANK]","[BLANK]","[BLANK]"]
["[BLANK]","[BLANK]","[BLANK]","Remove","[BLANK]","[BLANK]","[BLANK]"]
["[BLANK]","[BLANK]","[BLANK]","Repair","[BLANK]","[BLANK]","[BLANK]"]
["[BLANK]","[BLANK]","[BLANK]","Replace","[BLANK]","[BLANK]","[BLANK]"]
["[BLANK]","[BLANK]","[BLANK]","Return","[BLANK]","[BLANK]","[BLANK]"]
["[BLANK]","[BLANK]","[BLANK]","Reset","[BLANK]","[BLANK]","[BLANK]"]
["[BLANK]","[BLANK]","[BLANK]","Rotate","[BLANK]","[BLANK]","[BLANK]"]
["[BLANK]","[BLANK]","[BLANK]","Save","[BLANK]","[BLANK]","[BLANK]"]
["[BLANK]","[BLANK]","[BLANK]","Secure","[BLANK]","[BLANK]","[BLANK]"]
["[BLANK]","[BLANK]","[BLANK]","Send","[BLANK]","[BLANK]","[BLANK]"]
["[BLANK]","[BLANK]","[BLANK]","Service","[BLANK]","[BLANK]","[BLANK]"]
["[BLANK]","[BLANK]","[BLANK]","Shutdown","[BLANK]","[BLANK]","[BLANK]"]
["[BLANK]","[BLANK]","[BLANK]","Sight","[BLANK]","[BLANK]","[BLANK]"]
["[BLANK]","[BLANK]","[BLANK]","Signal","[BLANK]","[BLANK]","[BLANK]"]
["[BLANK]","[BLANK]","[BLANK]","Sketch","[BLANK]","[BLANK]","[BLANK]"]
["[BLANK]","[BLANK]","[BLANK]","Splint","[BLANK]","[BLANK]","[BLANK]"]
["[BLANK]","[BLANK]","[BLANK]","Squeeze","[BLANK]","[BLANK]","[BLANK]"]
["[BLANK]","[BLANK]","[BLANK]","Store","[BLANK]","[BLANK]","[BLANK]"]
["[BLANK]","[BLANK]","[BLANK]","Stow","[BLANK]","[BLANK]","[BLANK]"]
["[BLANK]","[BLANK]","[BLANK]","Strike","[BLANK]","[BLANK]","[BLANK]"]
["[BLANK]","[BLANK]","[BLANK]","Submit","[BLANK]","[BLANK]","[BLANK]"]
["[BLANK]","[BLANK]","[BLANK]","Sweep","[BLANK]","[BLANK]","[BLANK]"]
["[BLANK]","[BLANK]","[BLANK]","Take","[BLANK]","[BLANK]","[BLANK]"]
["[BLANK]","[BLANK]","[BLANK]","Take charge","[BLANK]","[BLANK]","[BLANK]"]
["[BLANK]","[BLANK]","[BLANK]","Tap","[BLANK]","[BLANK]","[BLANK]"]
["[BLANK]","[BLANK]","[BLANK]","Test","[BLANK]","[BLANK]","[BLANK]"]
["[BLANK]","[BLANK]","[BLANK]","Tighten","[BLANK]","[BLANK]","[BLANK]"]
["[BLANK]","[BLANK]","[BLANK]","Trace","[BLANK]","[BLANK]","[BLANK]"]
["[BLANK]","[BLANK]","[BLANK]","Transfer","[BLANK]","[BLANK]","[BLANK]"]
["[BLANK]","[BLANK]","[BLANK]","Treat","[BLANK]","[BLANK]","[BLANK]"]
["[BLANK]","[BLANK]","[BLANK]","Troubleshoot","[BLANK]","[BLANK]","[BLANK]"]
["[BLANK]","[BLANK]","[BLANK]","Type","[BLANK]","[BLANK]","[BLANK]"]
["[BLANK]","[BLANK]","[BLANK]","Unload","[BLANK]","[BLANK]","[BLANK]"]
["[BLANK]","[BLANK]","[BLANK]","Update","[BLANK]","[BLANK]","[BLANK]"]
["[BLANK]","[BLANK]","[BLANK]","Write","[BLANK]","[BLANK]","[BLANK]"]
["[BLANK]","[BLANK]","[BLANK]","Zero","[BLANK]","[BLANK]","[BLANK]"]
["[BLANK]","[BLANK]","[BLANK]","Disassemble","[BLANK]","[BLANK]","[BLANK]"]
["[BLANK]","[BLANK]","[BLANK]","Disconnect","[BLANK]","[BLANK]","[BLANK]"]
["[BLANK]","[BLANK]","[BLANK]","Disengage","[BLANK]","[BLANK]","[BLANK]"]
["[BLANK]","[BLANK]","[BLANK]","Dismantle","[BLANK]","[BLANK]","[BLANK]"]
["[BLANK]","[BLANK]","[BLANK]","Disseminate","[BLANK]","[BLANK]","[BLANK]"]
["[BLANK]","[BLANK]","[BLANK]","Stockpile","[BLANK]","[BLANK]","[BLANK]"]
["[BLANK]","[BLANK]","[BLANK]","Supervise","[BLANK]","[BLANK]","[BLANK]"]
["[BLANK]","[BLANK]","[BLANK]","Support","[BLANK]","[BLANK]","[BLANK]"]
["[BLANK]","[BLANK]","[BLANK]","Utilize","[BLANK]","[BLANK]","[BLANK]"]
["[BLANK]","[BLANK]","[BLANK]","Transmit","[BLANK]","[BLANK]","[BLANK]"]
["[BLANK]","[BLANK]","[BLANK]","Transport","[BLANK]","[BLANK]","[BLANK]"]
["[BLANK]","[BLANK]","[BLANK]","Intercept","[BLANK]","[BLANK]","[BLANK]"]
["[BLANK]","[BLANK]","[BLANK]","Isolate","[BLANK]","[BLANK]","[BLANK]"]
["[BLANK]","[BLANK]","[BLANK]","Connect","[BLANK]","[BLANK]","[BLANK]"]
["[BLANK]","[BLANK]","[BLANK]","Camouflage","[BLANK]","[BLANK]","[BLANK]"]
["[BLANK]","[BLANK]","[BLANK]","Administer","[BLANK]","[BLANK]","[BLANK]"]
["[BLANK]","[BLANK]","[BLANK]","Establish","[BLANK]","[BLANK]","[BLANK]"]
["[BLANK]","[BLANK]","[BLANK]","Evacuate","[BLANK]","[BLANK]","[BLANK]"]
["[BLANK]","[BLANK]","[BLANK]","Replenish","[BLANK]","[BLANK]","[BLANK]"]
["[BLANK]","[BLANK]","[BLANK]","Retrieve","[BLANK]","[BLANK]","[BLANK]"]
["[BLANK]","[BLANK]","[BLANK]","[BLANK]","[BLANK]","[BLANK]","[BLANK]"]
["[BLANK]","[BLANK]","[BLANK]","[BLANK]","[BLANK]","[BLANK]","[BLANK]"]
["[BLANK]","[BLANK]","[BLANK]","[BLANK]","[BLANK]","[BLANK]","[BLANK]"]
["[BLANK]","[BLANK]","[BLANK]","[BLANK]","[BLANK]","[BLANK]","[BLANK]"]
["[BLANK]","[BLANK]","[BLANK]","[BLANK]","[BLANK]","[BLANK]","[BLANK]"]
["[BLANK]","[BLANK]","[BLANK]","[BLANK]","[BLANK]","[BLANK]","[BLANK]"]
["[BLANK]","[BLANK]","[BLANK]","[BLANK]","[BLANK]","[BLANK]","[BLANK]"]
["[BLANK]","[BLANK]","[BLANK]","[BLANK]","[BLANK]","[BLANK]","[BLANK]"]
["[BLANK]","[BLANK]","[BLANK]","[BLANK]","[BLANK]","[BLANK]","[BLANK]"]
["[BLANK]","[BLANK]","[BLANK]","[BLANK]","[BLANK]","[BLANK]","[BLANK]"]
["[BLANK]","[BLANK]","[BLANK]","[BLANK]","[BLANK]","[BLANK]","[BLANK]"]
["[BLANK]","[BLANK]","[BLANK]","[BLANK]","[BLANK]","[BLANK]","[BLANK]"]
["[BLANK]","[BLANK]","[BLANK]","[BLANK]","[BLANK]","[BLANK]","[BLANK]"]
["[BLANK]","[BLANK]","[BLANK]","[BLANK]","[BLANK]","[BLANK]","[BLANK]"]
["[BLANK]","[BLANK]","[BLANK]","[BLANK]","[BLANK]","[BLANK]","[BLANK]"]
["[BLANK]","[BLANK]","[BLANK]","[BLANK]","[BLANK]","[BLANK]","[BLANK]"]
["[BLANK]","[BLANK]","[BLANK]","[BLANK]","[BLANK]","[BLANK]","[BLANK]"]
["[BLANK]","[BLANK]","[BLANK]","[BLANK]","[BLANK]","[BLANK]","[BLANK]"]
["[BLANK]","[BLANK]","[BLANK]","[BLANK]","[BLANK]","[BLANK]","[BLANK]"]
["[BLANK]","[BLANK]","[BLANK]","[BLANK]","[BLANK]","[BLANK]","[BLANK]"]
["[BLANK]","[BLANK]","[BLANK]","[BLANK]","[BLANK]","[BLANK]","[BLANK]"]
["[BLANK]","[BLANK]","[BLANK]","[BLANK]","[BLANK]","[BLANK]","[BLANK]"]
["[BLANK]","[BLANK]","[BLANK]","[BLANK]","[BLANK]","[BLANK]","[BLANK]"]
["[BLANK]","[BLANK]","[BLANK]","[BLANK]","[BLANK]","[BLANK]","[BLANK]"]
["[BLANK]","[BLANK]","[BLANK]","[BLANK]","[BLANK]","[BLANK]","[BLANK]"]
["[BLANK]","[BLANK]","[BLANK]","[BLANK]","[BLANK]","[BLANK]","[BLANK]"]
["[BLANK]","[BLANK]","[BLANK]","[BLANK]","[BLANK]","[BLANK]","[BLANK]"]
["[BLANK]","[BLANK]","[BLANK]","[BLANK]","[BLANK]","[BLANK]","[BLANK]"]
["[BLANK]","[BLANK]","[BLANK]","[BLANK]","[BLANK]","[BLANK]","[BLANK]"]
["[BLANK]","[BLANK]","[BLANK]","[BLANK]","[BLANK]","[BLANK]","[BLANK]"]
["[BLANK]","[BLANK]","[BLANK]","[BLANK]","[BLANK]","[BLANK]","[BLANK]"]
["[BLANK]","[BLANK]","[BLANK]","[BLANK]","[BLANK]","[BLANK]","[BLANK]"]
["[BLANK]","[BLANK]","[BLANK]","[BLANK]","[BLANK]","[BLANK]","[BLANK]"]
["[BLANK]","[BLANK]","[BLANK]","[BLANK]","[BLANK]","[BLANK]","[BLANK]"]
["[BLANK]","[BLANK]","[BLANK]","[BLANK]","[BLANK]","[BLANK]","[BLANK]"]
["[BLANK]","[BLANK]","[BLANK]","[BLANK]","[BLANK]","[BLANK]","[BLANK]"]
["[BLANK]","[BLANK]","[BLANK]","[BLANK]","[BLANK]","[BLANK]","[BLANK]"]
["[BLANK]","[BLANK]","[BLANK]","[BLANK]","[BLANK]","[BLANK]","[BLANK]"]
["[BLANK]","[BLANK]","[BLANK]","[BLANK]","[BLANK]","[BLANK]","[BLANK]"]
["[BLANK]","[BLANK]","[BLANK]","[BLANK]","[BLANK]","[BLANK]","[BLANK]"]
["[BLANK]","[BLANK]","[BLANK]","[BLANK]","[BLANK]","[BLANK]","[BLANK]"]
["[BLANK]","[BLANK]","[BLANK]","[BLANK]","[BLANK]","[BLANK]","[BLANK]"]
["[BLANK]","[BLANK]","[BLANK]","[BLANK]","[BLANK]","[BLANK]","[BLANK]"]
["[BLANK]","[BLANK]","[BLANK]","[BLANK]","[BLANK]","[BLANK]","[BLANK]"]
["[BLANK]","[BLANK]","[BLANK]","[BLANK]","[BLANK]","[BLANK]","[BLANK]"]
["[BLANK]","[BLANK]","[BLANK]","[BLANK]","[BLANK]","[BLANK]","[BLANK]"]
["[BLANK]","[BLANK]","[BLANK]","[BLANK]","[BLANK]","[BLANK]","[BLANK]"]
["[BLANK]","[BLANK]","[BLANK]","[BLANK]","[BLANK]","[BLANK]","[BLANK]"]
["[BLANK]","[BLANK]","[BLANK]","[BLANK]","[BLANK]","[BLANK]","[BLANK]"]
["[BLANK]","[BLANK]","[BLANK]","[BLANK]","[BLANK]","[BLANK]","[BLANK]"]
["[BLANK]","[BLANK]","[BLANK]","[BLANK]","[BLANK]","[BLANK]","[BLANK]"]
["[BLANK]","[BLANK]","[BLANK]","[BLANK]","[BLANK]","[BLANK]","[BLANK]"]
["[BLANK]","[BLANK]","[BLANK]","[BLANK]","[BLANK]","[BLANK]","[BLANK]"]

{"sheet":"AA Verbs","index":23,"n_rows":100,"n_cols":12,"rows_kept":100}
["AA1","AA2","AA3","AA4","AA5",null,"AA1 Out","AA2 Out","AA3 Out","AA4 Out","AA5 Out","AA Score"]
["Ask","Accomplish","Alert","Adhere","Act",null,1,{"$nulls":4},1]
["Attend closely","Achieve","Appreciate","Allow","Conceive",null,null,2,{"$nulls":3},2]
["Choose","Acknowledge","Approve","Alter","Devise",{"$nulls":3},3,null,null,3]
["Describe","Aid","Assess","Arrange","Discriminate",{"$nulls":4},4,null,4]
["Erect","Announce","Authenticate","Assume","Display",{"$nulls":5},5,5]
["Follow","Answer","Believe","Combine","Formulate",{"$nulls":6},0]
["Give","Ask","Cancel","Command","Imagine"]
["Hold","Assist","Choose","Compare","Influence"]
["Identify","Communicate","Complete","Complete","Innovate"]
["Listen","Comply","Differentiate","Coordinate","Listen"]
["Listen attentively","Conform","Explain","Defend","Modify"]
["Locate","Demonstrate","Follow","Enforce","Perform"]
["Monitor","Describe","Form","Ensure","Practice"]
["Name","Discuss","Initiate","Explain","Propose"]
["Observe","Encode","Invite","Formulate","Qualify"]
["Perceive","Execute","Join","Generalize","Question"]
["Point to","Give","Judge","Identify","Revise"]
["Recognize","Greet","Justify","Influence","Serve"]
["Reconnoiter","Help","Prioritize","Integrate","Solve"]
["Reply","Indicate","Qualify","Modify","Verify"]
["Select","Interpret","Read","Order","Conjecture"]
["Show awareness","Label","Reassess","Organize","Develop"]
["Show sensitivity","Notify","Report","Prepare","[BLANK]"]
["Sit","Obey rules","Review","Prescribe","[BLANK]"]
["Use","Perform","Select","Relate","[BLANK]"]
["Wait","Practice","Share","Serve","[BLANK]"]
["[BLANK]","Present","Study","Synthesize","[BLANK]"]
["[BLANK]","React","Validate","[BLANK]","[BLANK]"]
["[BLANK]","Read","Verify","[BLANK]","[BLANK]"]
["[BLANK]","Recite","Work","[BLANK]","[BLANK]"]
["[BLANK]","Report","Demonstrate","[BLANK]","[BLANK]"]
["[BLANK]","Request","Propose","[BLANK]","[BLANK]"]
["[BLANK]","Respond","[BLANK]","[BLANK]","[BLANK]"]
["[BLANK]","Resume","[BLANK]","[BLANK]","[BLANK]"]
["[BLANK]","Select","[BLANK]","[BLANK]","[BLANK]"]
["[BLANK]","Show","[BLANK]","[BLANK]","[BLANK]"]
["[BLANK]","Tell","[BLANK]","[BLANK]","[BLANK]"]
["[BLANK]","Write","[BLANK]","[BLANK]","[BLANK]"]
["[BLANK]","Complete","[BLANK]","[BLANK]","[BLANK]"]
["[BLANK]","[BLANK]","[BLANK]","[BLANK]","[BLANK]"]
["[BLANK]","[BLANK]","[BLANK]","[BLANK]","[BLANK]"]
["[BLANK]","[BLANK]","[BLANK]","[BLANK]","[BLANK]"]
["[BLANK]","[BLANK]","[BLANK]","[BLANK]","[BLANK]"]
["[BLANK]","[BLANK]","[BLANK]","[BLANK]","[BLANK]"]
["[BLANK]","[BLANK]","[BLANK]","[BLANK]","[BLANK]"]
["[BLANK]","[BLANK]","[BLANK]","[BLANK]","[BLANK]"]
["[BLANK]","[BLANK]","[BLANK]","[BLANK]","[BLANK]"]
["[BLANK]","[BLANK]","[BLANK]","[BLANK]","[BLANK]"]
["[BLANK]","[BLANK]","[BLANK]","[BLANK]","[BLANK]"]
["[BLANK]","[BLANK]","[BLANK]","[BLANK]","[BLANK]"]
["[BLANK]","[BLANK]","[BLANK]","[BLANK]","[BLANK]"]
["[BLANK]","[BLANK]","[BLANK]","[BLANK]","[BLANK]"]
["[BLANK]","[BLANK]","[BLANK]","[BLANK]","[BLANK]"]
["[BLANK]","[BLANK]","[BLANK]","[BLANK]","[BLANK]"]
["[BLANK]","[BLANK]","[BLANK]","[BLANK]","[BLANK]"]
["[BLANK]","[BLANK]","[BLANK]","[BLANK]","[BLANK]"]
["[BLANK]","[BLANK]","[BLANK]","[BLANK]","[BLANK]"]
["[BLANK]","[BLANK]","[BLANK]","[BLANK]","[BLANK]"]
["[BLANK]","[BLANK]","[BLANK]","[BLANK]","[BLANK]"]
["[BLANK]","[BLANK]","[BLANK]","[BLANK]","[BLANK]"]
["[BLANK]","[BLANK]","[BLANK]","[BLANK]","[BLANK]"]
["[BLANK]","[BLANK]","[BLANK]","[BLANK]","[BLANK]"]
["[BLANK]","[BLANK]","[BLANK]","[BLANK]","[BLANK]"]
["[BLANK]","[BLANK]","[BLANK]","[BLANK]","[BLANK]"]
["[BLANK]","[BLANK]","[BLANK]","[BLANK]","[BLANK]"]
["[BLANK]","[BLANK]","[BLANK]","[BLANK]","[BLANK]"]
["[BLANK]","[BLANK]","[BLANK]","[BLANK]","[BLANK]"]
["[BLANK]","[BLANK]","[BLANK]","[BLANK]","[BLANK]"]
["[BLANK]","[BLANK]","[BLANK]","[BLANK]","[BLANK]"]
["[BLANK]","[BLANK]","[BLANK]","[BLANK]","[BLANK]"]
["[BLANK]","[BLANK]","[BLANK]","[BLANK]","[BLANK]"]
["[BLANK]","[BLANK]","[BLANK]","[BLANK]","[BLANK]"]
["[BLANK]","[BLANK]","[BLANK]","[BLANK]","[BLANK]"]
["[BLANK]","[BLANK]","[BLANK]","[BLANK]","[BLANK]"]
["[BLANK]","[BLANK]","[BLANK]","[BLANK]","[BLANK]"]
["[BLANK]","[BLANK]","[BLANK]","[BLANK]","[BLANK]"]
["[BLANK]","[BLANK]","[BLANK]","[BLANK]","[BLANK]"]
["[BLANK]","[BLANK]","[BLANK]","[BLANK]","[BLANK]"]
["[BLANK]","[BLANK]","[BLANK]","[BLANK]","[BLANK]"]
["[BLANK]","[BLANK]","[BLANK]","[BLANK]","[BLANK]"]
["[BLANK]","[BLANK]","[BLANK]","[BLANK]","[BLANK]"]
["[BLANK]","[BLANK]","[BLANK]","[BLANK]","[BLANK]"]
["[BLANK]","[BLANK]","[BLANK]","[BLANK]","[BLANK]"]
["[BLANK]","[BLANK]","[BLANK]","[BLANK]","[BLANK]"]
["[BLANK]","[BLANK]","[BLANK]","[BLANK]","[BLANK]"]
["[BLANK]","[BLANK]","[BLANK]","[BLANK]","[BLANK]"]
["[BLANK]","[BLANK]","[BLANK]","[BLANK]","[BLANK]"]
["[BLANK]","[BLANK]","[BLANK]","[BLANK]","[BLANK]"]
["[BLANK]","[BLANK]","[BLANK]","[BLANK]","[BLANK]"]
["[BLANK]","[BLANK]","[BLANK]","[BLANK]","[BLANK]"]
["[BLANK]","[BLANK]","[BLANK]","[BLANK]","[BLANK]"]
["[BLANK]","[BLANK]","[BLANK]","[BLANK]","[BLANK]"]
["[BLANK]","[BLANK]","[BLANK]","[BLANK]","[BLANK]"]
["[BLANK]","[BLANK]","[BLANK]","[BLANK]","[BLANK]"]
["[BLANK]","[BLANK]","[BLANK]","[BLANK]","[BLANK]"]
["[BLANK]","[BLANK]","[BLANK]","[BLANK]","[BLANK]"]
["[BLANK]","[BLANK]","[BLANK]","[BLANK]","[BLANK]"]
["[BLANK]","[BLANK]","[BLANK]","[BLANK]","[BLANK]"]
["[BLANK]","[BLANK]","[BLANK]","[BLANK]","[BLANK]"]

{"sheet":"Core Capabilities Definitions","index":24,"n_rows":49,"n_cols":4,"rows_kept":49}
["Core Capability","Core Capability Definition","Preliminary Targets","Mission Areas"]
["Access Control and Identity Verification","Apply and support necessary physical, technological, and cyber measures to control admittance to critical locations and systems.","1. Implement and maintain protocols to verify identity and authorize, grant, or deny physical and cyberaccess to specific locations, information, and networks. ","Protection"]
["Community Resilience","Enable the recognition, understanding, communication of, and planning for risk and empower individuals and communities to make informed risk management decisions necessary to adapt to, withstand, and quickly recover from future incidents.","1. Maximize the coverage of the U. S. population that has a localized, risk-informed mitigation plandeveloped through partnerships across the entire community. \n\n2. Empower individuals and communities to make informed decisions to facilitate actions necessary toadapt to, withstand, and quickly recover from future incidents. ","Mitigation"]
["Critical Transportation","Provide transportation (including infrastructure access and accessible transportation services) for response priority objectives, including the evacuation of people and animals, and the delivery of vital response personnel, equipment, and services into the affected areas.","1. Establish physical access through appropriate transportation corridors and deliver required resources to save lives and to meet the needs of disaster survivors. \n\n2. Ensure basic human needs are met, stabilize the incident, transition into recovery for an affected area, and restore basic services and community functionality. \n\n3. Clear debris from any route type, (i. e. , road, rail, airfield, port facility, waterway) to facilitate response operations. ","Response"]
["Cybersecurity","Protect (and, if needed, restore) electronic communications systems, information, and services from damage, unauthorized use, and exploitation.","1. Implement risk-informed guidelines, regulations, and standards to ensure the security, reliability,integrity, and availability of critical information, records, and communications systems and servicesthrough collaborative cybersecurity initiatives and efforts. \n\n2. Implement and maintain procedures to detect malicious activity and to conduct technical andinvestigative-based countermeasures, mitigations, and operations against malicious actors to counterexisting and emerging cyber-based threats, consistent with established protocols. ","Protection"]
["Economic Recovery","Return economic and business activities (including food and agriculture) to a healthy state and develop new business and employment opportunities that result in an economically viable community.","1. Conduct a preliminary assessment of economic issues and identify potential inhibitors to fosteringstabilization of the affected communities. \n\n2. Ensure the community recovery and mitigation plan(s) incorporates economic revitalization andremoves governmental inhibitors to post-disaster economic sustainability, while maintaining the civilrights of citizens. \n\n3. Return affected area’s economy within the specified time frame in the recovery plan. ","Recovery"]
["Environmental Response/ Health and Safety","Conduct appropriate measures to ensure the protection of the health and safety of the public and workers, as well as the environment, from all-hazards in support of responder operations and the affected communities.","1. Identify, assess, and mitigate worker health and safety hazards and disseminate health and safety guidance and resources to response and recovery workers. \n\n2. Minimize public exposure to environmental hazards through assessment of the hazards and implementation of public protective actions. \n\n3. Detect, assess, stabilize, and clean up releases of oil and hazardous materials into the environment, including buildings/structures, and properly manage waste. \n\n4. Identify, evaluate, and implement measures to prevent and minimize impacts to the environment, natural and cultural resources, and historic properties from all-hazard emergencies and response operations. ","Response"]
["Fatality Management Services","Provide fatality management services, including decedent remains recovery and victim identification, working with local, state, tribal, territorial, insular area, and Federal authorities to provide mortuary processes, temporary storage or permanent internment solutions, sharing information with mass care services for the purpose of reunifying family members and caregivers with missing persons/remains, and providing counseling to the bereaved.","1. Establish and maintain operations to recover a significant number of fatalities over a geographically dispersed area. ","Response"]
["Fire Management and Suppression","Provide structural, wildland, and specialized firefighting capabilities to manage and suppress fires of all types, kinds, and complexities while protecting the lives, property, and the environment in the affected area.","1. Provide traditional first response or initial attack firefighting services. \n\n2. Conduct expanded or extended attack firefighting and support operations through coordinated response of fire management and specialized fire suppression resources. \n\n3. Ensure the coordinated deployment of appropriate local, regional, national, and international fire management and fire suppression resources to reinforce firefighting efforts and maintain an appropriate level of protection for subsequent fires. ","Response"]
["Forensics and Attribution","Conduct forensic analysis and attribute terrorist acts (including the means and methods of terrorism) to their source, to include forensic analysis as well as attribution for an attack and for the preparation for an attack in an effort to prevent initial or follow-on acts and/or swiftly develop counter-options.","1. Prioritize physical evidence collection and analysis to assist in preventing initial or follow-on terroristacts. \n\n2. Prioritize chemical, biological, radiological, nuclear, and explosive (CBRNE) material (bulk and trace)collection and analysis to assist in preventing initial or follow-on terrorist acts. \n\n3. Prioritize biometric collection and analysis to assist in preventing initial or follow-on terrorist acts. \n\n4. Prioritize digital media, network exploitation, and cyber technical analysis to assist in preventing initialor follow-on terrorist acts. ","Prevention"]
["Health and Social Services","Restore and improve health and social services capabilities and networks to promote the resilience, independence, health (including behavioral health), and well-being of the whole community.","1. Identify affected populations, groups and key partners in short-term, intermediate, and long-term recovery. \n\n2. Complete an assessment of community health and social service needs, and prioritize these needs, including accessibility requirements, based on the whole community's input and participation in the recovery planning process, and develop a comprehensive recovery timeline. \n\n3. Restore health care (including behavioral health), public health, and social services functions. \n\n4. Restore and improve the resilience and sustainability of the health care system and social service capabilities and networks to promote the independence and well-being of community members in accordance with the specified recovery timeline. ","Recovery"]
["Housing","Implement housing solutions that effectively support the needs of the whole community and contribute to its sustainability and resilience.","1. Assess preliminary housing impacts and needs, identify currently available options for temporary housing, and plan for permanent housing. \n\n2. Ensure community housing recovery plans continue to address interim housing needs, assess options for permanent housing, and define a timeline for achieving a resilient, accessible, and sustainable housing market. \n\n3. Establish a resilient and sustainable housing market that meets the needs of the community, including the need for accessible housing within the specified time frame in the recovery plan. ","Recovery"]
["Infrastructure Systems","Stabilize critical infrastructure functions, minimize health and safety threats, and efficiently restore and revitalize systems and services to support a viable, resilient community.","1. Restore and sustain essential services (public and private) to maintain community functionality. \n\n2. Develop a plan with a specified timeline for redeveloping community infrastructures to contribute to resiliency, accessibility, and sustainability. \n\n3. Provide systems that meet the community needs while minimizing service disruption during restoration within the specified timeline in the recovery plan. ","Recovery"]
["Infrastructure Systems","Stabilize critical infrastructure functions, minimize health and safety threats, and efficiently restore and revitalize systems and services to support a viable, resilient community.","1. Decrease and stabilize immediate infrastructure threats to the affected population, to include survivors in the heavily-damaged zone, nearby communities that may be affected by cascading effects, and mass care support facilities and evacuation processing centers with a focus on life-sustainment and congregate care services. \n\n2. Re-establish critical infrastructure within the affected areas to support ongoing emergency response operations, life sustainment, community functionality, and a transition to recovery. \n\n3. Provide for the clearance, removal, and disposal of debris. \n\n4. Formalize partnerships with governmental and private sector cyber incident or emergency response teams to accept, triage, and collaboratively respond to cascading impacts in an efficient manner. ","Response"]
["Intelligence and Information Sharing","Provide timely, accurate, and actionable information resulting from the planning, direction, collection, exploitation, processing, analysis, production, dissemination, evaluation, and feedback of available information concerning physical and cyber threats to the United States, its people, property, or interests; the development, proliferation, or use of WMDs; or any other matter bearing on U.S. national or homeland security by local, state, tribal, territorial, Federal, and other stakeholders. Information sharing is the ability to exchange intelligence, information, data, or knowledge among government or private sector entities, as appropriate.","1. Anticipate and identify emerging and/or imminent threats through the intelligence cycle. \n\n2. Share relevant, timely, and actionable information and analysis with local, state, tribal, territorial,Federal, private sector, and international partners and develop and disseminate appropriateclassified/unclassified products. \n\n3. Ensure local, state, tribal, territorial, Federal, and private sector partners possess or have access to amechanism to submit terrorism-related information and/or suspicious activity reports to lawenforcement. ","Prevention"]
["Intelligence and Information Sharing","Provide timely, accurate, and actionable information resulting from the planning, direction, collection, exploitation, processing, analysis, production, dissemination, evaluation, and feedback of available information concerning threats to the United States, its people, property, or interests; the development, proliferation, or use of WMDs; or any other matter bearing on U.S. national or homeland security by local, state, tribal, territorial, Federal, and other stakeholders. Information sharing is the ability to exchange intelligence, information, data, or knowledge among government or private sector entities, as appropriate.","1. Anticipate and identify emerging and/or imminent threats through the intelligence cycle. \n\n2. Share relevant, timely, and actionable information and analysis with local, state, tribal, territorial,Federal, private sector, and international partners and develop and disseminate appropriateclassified/unclassified products. \n\n3. Provide local, state, tribal, territorial, Federal, and private sector partners with or access to amechanism to submit terrorism-related information and/or suspicious activity reports to lawenforcement. ","Protection"]
["Interdiction and Disruption","Delay, divert, intercept, halt, apprehend, or secure threats and/or hazards.","1. Maximize our ability to interdict specific conveyances, cargo, and persons associated with animminent terrorist threat or act in the land, air, and maritime domains to prevent entry into the UnitedStates or to prevent an incident from occurring in the Nation. \n\n2. Conduct operations to render safe and dispose of CBRNE hazards in multiple locations and in allenvironments, consistent with established protocols. \n\n3. Prevent terrorism financial/material support from reaching its target, consistent with establishedprotocols. \n\n4. Prevent terrorist acquisition of and the transfer of CBRNE materials, precursors, and relatedtechnology, consistent with established protocols. \n\n5. Conduct tactical counterterrorism operations in multiple locations and in all environments, consistentwith established protocols. ","Prevention"]
["Interdiction and Disruption","Delay, divert, intercept, halt, apprehend, or secure threats and/or hazards.","1. Deter, detect, interdict, and protect against domestic and transnational criminal and terrorist activitiesthat threaten the security of the homeland across key operational activities and critical infrastructuresectors. \n\n2. Intercept the malicious movement and acquisition/transfer of CBRNE materials and relatedtechnologies. ","Protection"]
["Logistics and Supply Chain Management","Deliver essential commodities, equipment, and services in support of impacted communities and survivors, to include emergency power and fuel support, as well as the coordination of access to community staples. Synchronize logistics capabilities and enable the restoration of impacted supply chains.","1. Mobilize and deliver governmental, nongovernmental, and private sector resources to save lives, sustain lives, meet basic human needs, stabilize the incident, and transition to recovery, to include moving and delivering resources and services to meet the needs of disaster survivors. \n\n2. Enhance public and private resource and services support for an affected area. ","Response"]
["Long-term Vulnerability Reduction","Build and sustain resilient systems, communities, and critical infrastructure and key resources lifelines so as to reduce their vulnerability to natural, technological, and human-caused threats and hazards by lessening the likelihood, severity, and duration of the adverse consequences.","1. Achieve a measurable decrease in the long-term vulnerability of the Nation against current baselinesamid a growing population base, changing climate conditions, increasing reliance upon informationtechnology, and expanding infrastructure base. ","Mitigation"]
["Mass Care Services","Provide life-sustaining and human services to the affected population, to include hydration, feeding, sheltering, temporary housing, evacuee support, reunification, and distribution of emergency supplies.","1. Move and deliver resources and capabilities to meet the needs of disaster survivors, including individuals with access and functional needs. \n\n2. Establish, staff, and equip emergency shelters and other temporary housing options (including accessible housing) for the affected population. \n\n3. Move from congregate care to non-congregate care alternatives and provide relocation assistance or interim housing solutions for families unable to return to their pre-disaster homes. ","Response"]
["Mass Search and Rescue Operations","Deliver traditional and atypical search and rescue capabilities, including personnel, services, animals, and assets to survivors in need, with the goal of saving the greatest number of endangered lives in the shortest time possible.","1. Conduct search and rescue operations to locate and rescue persons in distress. \n\n2. Initiate community-based search and rescue support operations across a wide geographically dispersed area. \n\n3. Ensure the synchronized deployment of local, regional, national, and international teams to reinforce ongoing search and rescue efforts and transition to recovery. ","Response"]
["Natural and Cultural Resources","Protect natural and cultural resources and historic properties through appropriate planning, mitigation, response, and recovery actions to preserve, conserve, rehabilitate, and restore them consistent with post-disaster community priorities and best practices and in compliance with applicable environmental and historic preservation laws and executive orders.","1. Implement measures to protect and stabilize records and culturally significant documents, objects, and structures. \n\n2. Mitigate the impacts to and stabilize the natural and cultural resources and conduct a preliminary assessment of the impacts that identifies protections that need to be in place during stabilization through recovery. \n\n3. Complete an assessment of affected natural and cultural resources and develop a timeline for addressing these impacts in a sustainable and resilient manner. \n\n4. Preserve natural and cultural resources as part of an overall community recovery that is achieved through the coordinated efforts of natural and cultural resource experts and the recovery team in accordance with the specified timeline in the recovery plan. ","Recovery"]
["On-scene Security, Protection, and Law Enforcement","Ensure a safe and secure environment through law enforcement and related security and protection operations for people and communities located within affected areas and also for response personnel engaged in lifesaving and life-sustaining operations.","1. Establish a safe and secure environment in an affected area. \n\n2. Provide and maintain on-scene security and meet the protection needs of the affected population over a geographically dispersed area while eliminating or mitigating the risk of further damage to persons, property, and the environment. ","Response"]
["Operational Communications","Ensure the capacity for timely communications in support of security, situational awareness, and operations by any and all means available, among and between affected communities in the impact area and all response forces.","1. Ensure the capacity to communicate with both the emergency response community and the affected populations and establish interoperable voice and data communications between Federal, tribal, state, and local first responders. \n\n2. Re-establish sufficient communications infrastructure within the affected areas to support ongoing life-sustaining activities, provide basic human needs, and transition to recovery. \n\n3. Re-establish critical information networks, including cybersecurity information sharing networks, in order to inform situational awareness, enable incident response, and support the resiliency of key systems. ","Response"]
["Operational Coordination","Establish and maintain a unified and coordinated operational structure and process that appropriately integrates all critical stakeholders and supports the execution of core capabilities.","1. Establish protocols to integrate mitigation data elements in support of operations with local, state,tribal, territorial, and insular area partners and in coordination with Federal agencies. ","Mitigation"]
["Operational Coordination","Establish and maintain a unified and coordinated operational structure and process that appropriately integrates all critical stakeholders and supports the execution of core capabilities.","1. Execute operations with functional and integrated communications among appropriate entities toprevent initial or follow-on terrorist attacks within the United States in accordance with establishedprotocols. ","Prevention"]
["Operational Coordination","Establish and maintain a unified and coordinated operational structure and process that appropriately integrates all critical stakeholders and supports the execution of core capabilities.","1. Establish and maintain partnership structures among Protection elements to support networking,planning, and coordination. ","Protection"]
["Operational Coordination","Establish and maintain a unified and coordinated operational structure and process that appropriately integrates all critical stakeholders and supports the execution of core capabilities.","1. Establish tiered, integrated leadership, and inclusive coordinating organizations that operate with aunity of effort and are supported by sufficient assessment and analysis to provide defined structureand decision-making processes for recovery activities. \n\n2. Define the path and timeline for recovery leadership to achieve the jurisdiction’s objectives thateffectively coordinates and uses appropriate local, state, tribal, territorial, insular area, and Federalassistance, as well as nongovernmental and private sector resources. This plan is to beimplemented within the established timeline. ","Recovery"]
["Operational Coordination","Establish and maintain a unified and coordinated operational structure and process that appropriately integrates all critical stakeholders and supports the execution of core capabilities.","1. Mobilize all critical resources and establish command, control, and coordination structures within the affected community and other coordinating bodies in surrounding communities and across the Nation and maintain as needed throughout the duration of an incident. \n\n2. Enhance and maintain command, control, and coordination structures, consistent with the National Incident Management System (NIMS), to meet basic human needs, stabilize the incident, and transition to recovery. ","Response"]
["Physical Protective Measures","Implement and maintain risk-informed countermeasures, and policies protecting people, borders, structures, materials, products, and systems associated with key operational activities and critical infrastructure sectors.","1. Identify, assess, and mitigate vulnerabilities to incidents through the deployment of physical protectivemeasures. \n\n2. Deploy protective measures commensurate with the risk of an incident and balanced with thecomplementary aims of enabling commerce and maintaining the civil rights of citizens. ","Protection"]
["Planning","Conduct a systematic process engaging the whole community as appropriate in the development of executable strategic, operational, and/or tactical-level approaches to meet defined objectives.","1. Develop approved hazard mitigation plans that address relevant threats/hazards in accordance withthe results of their risk assessment within all local, state, tribal, territorial, and Federal partners. ","Mitigation"]
["Planning","Conduct a systematic process engaging the whole community as appropriate in the development of executable strategic, operational, and/or tactical-level approaches to meet defined objectives.","1. Identify critical objectives during the planning process, provide a complete and integrated picture ofthe sequence and scope of the tasks to achieve the objectives, and ensure the objectives areimplementable within the time frame contemplated within the plan using available resources forprevention-related plans. \n\n2. Develop and execute appropriate courses of action in coordination with local, state, tribal, territorial,Federal, and private sector entities in order to prevent an imminent terrorist attack within the UnitedStates. ","Prevention"]
["Planning","Conduct a systematic process engaging the whole community, as appropriate, in the development of executable strategic, operational, and/or tactical-level approaches to meet defined objectives.","1. Develop protection plans that identify critical objectives based on planning requirements, provide acomplete and integrated picture of the sequence and scope of the tasks to achieve the planningobjectives, and implement planning requirements within the time frame contemplated within the planusing available resources for protection-related plans. \n\n2. Implement, exercise, and maintain plans to ensure continuity of operations. ","Protection"]
["Planning","Conduct a systematic process engaging the whole community as appropriate in the development of executable strategic, operational, and/or tactical- level approaches to meet defined objectives.","1. Convene the core of an inclusive planning team (identified pre-disaster), which will oversee disasterrecovery planning. \n\n2. Complete an initial recovery plan that provides an overall strategy and timeline, addresses all corecapabilities, and integrates socioeconomic, demographic, accessibility, technology, and riskassessment considerations (including projected climate change impacts), which will be implementedin accordance with the timeline contained in the plan. ","Recovery"]
["Planning","Conduct a systematic process engaging the whole community as appropriate in the development of executable strategic, operational, and/or tactical-level approaches to meet defined objectives.","1. Develop operational plans that adequately identify critical objectives based on the planningrequirement, provide a complete and integrated picture of the sequence and scope of the tasks toachieve the objectives, and are implementable within the time frame contemplated in the plan usingavailable resources. ","Response"]
["Public Health, Healthcare, and Emergency Medical Services","Provide lifesaving medical treatment via Emergency Medical Services and related operations and avoid additional disease and injury by providing targeted public health, medical, and behavioral health support, and products to all affected populations.","1. Deliver medical countermeasures to exposed populations. \n\n2. Complete triage and initial stabilization of casualties and begin definitive care for those likely to survive their injuries and illness. \n\n3. Return medical surge resources to pre-incident levels, complete health assessments, and identify recovery processes. ","Response"]
["Public Information and Warning","Deliver coordinated, prompt, reliable, and actionable information to the whole community through the use of clear, consistent, accessible, and culturally and linguistically appropriate methods to effectively relay information regarding any threat or hazard and, as appropriate, the actions being taken and the assistance being made available.","1. Communicate appropriate information, in an accessible manner, on the risks faced within acommunity after the conduct of a risk assessment. ","Mitigation"]
["Public Information and Warning","Deliver coordinated, prompt, reliable, and actionable information to the whole community through the use of clear, consistent, accessible, and culturally and linguistically appropriate methods to effectively relay information regarding any threat or hazard, as well as the actions being taken and the assistance being made available, as appropriate.","1. Share prompt and actionable messages, to include National Terrorism Advisory System alerts, withthe public and other stakeholders, as appropriate, to aid in the prevention of imminent or follow-onterrorist attacks, consistent with the timelines specified by existing processes and protocols. \n\n2. Provide public awareness information to inform the general public on how to identify and provideterrorism-related information to the appropriate law enforcement authorities, thereby enabling thepublic to act as a force multiplier in the prevention of imminent or follow-on acts of terrorism. ","Prevention"]
["Public Information and Warning","Deliver coordinated, prompt, reliable, and actionable information to the whole community through the use of clear, consistent, accessible, and culturally and linguistically appropriate methods to effectively relay information regarding any threat or hazard and, as appropriate, the actions being taken and the assistance being made available.","1. Use effective and accessible indication and warning systems to communicate significant hazards toinvolved operators, security officials, and the public (including alerts, detection capabilities, and othernecessary and appropriate assets). ","Protection"]
["Public Information and Warning","Deliver coordinated, prompt, reliable, and actionable information to the whole community through the use of clear, consistent, accessible, and culturally and linguistically appropriate methods to effectively relay information regarding any threat or hazard and, as appropriate, the actions being taken and the assistance being made available.","1. Reach all populations within the community with effective actionable recovery-related publicinformation messaging and communications that are accessible to people with disabilities andpeople with limited English proficiency, protect the health and safety of the affected population, helpmanage expectations, and ensure stakeholders have a clear understanding of available assistanceand their roles and responsibilities. \n\n2. Support affected populations and stakeholders with a system that provides appropriate, currentinformation about any continued assistance, steady state resources for long-term impacts, andmonitoring programs in an effective and accessible manner. ","Recovery"]
["Public Information and Warning","Deliver coordinated, prompt, reliable, and actionable information to the whole community through the use of clear, consistent, accessible, and culturally and linguistically appropriate methods to effectively relay information regarding any threat or hazard and, as appropriate, the actions being taken and the assistance being made available.","1. Inform all affected segments of society by all means necessary, including accessible tools, of criticallifesaving and life-sustaining information to expedite the delivery of emergency services and aid thepublic to take protective actions. \n\n2. Deliver credible and actionable messages to inform ongoing emergency services and the public aboutprotective measures and other life-sustaining actions and facilitate the transition to recovery. ","Response"]
["Risk and Disaster Resilience Assessment ","Assess risk and disaster resilience so that decision makers, responders, and community members can take informed action to reduce their entity’s risk and increase their resilience.","1. Ensure that local, state, tribal, territorial, and insular area governments and the top 100 MetropolitanStatistical Areas (MSAs) complete a risk assessment that defines localized vulnerabilities andconsequences associated with potential natural, technological, and human-caused threats andhazards to their natural, human, physical, cyber, and socioeconomic interests. ","Mitigation"]
["Risk Management for Protection Programs and Activities","Identify, assess, and prioritize risks to inform Protection activities, countermeasures, and investments.","1. Ensure critical infrastructure sectors and Protection elements have and maintain risk assessmentprocesses to identify and prioritize assets, systems, networks, and functions. \n\n2. Ensure operational activities and critical infrastructure sectors have and maintain appropriate threat,vulnerability, and consequence tools to identify and assess threats, vulnerabilities, andconsequences. ","Protection"]
["Screening, Search, and Detection","Identify, discover, or locate threats and/or hazards through active and passive surveillance and search procedures. This may include the use of systematic examinations and assessments, biosurveillance, sensor technologies, or physical investigation and intelligence.","1. Maximize the screening of targeted cargo, conveyances, mail, baggage, and people associated withan imminent terrorist threat or act using technical, non-technical, intrusive, or non-intrusive means. \n\n2. Initiate operations immediately to locate persons and networks associated with an imminent terroristthreat or act. \n\n3. Conduct CBRNE search/detection operations in multiple locations and in all environments, consistentwith established protocols. ","Prevention"]
["Screening, Search, and Detection","Identify, discover, or locate threats and/or hazards through active and passive surveillance and search procedures. This may include the use of systematic examinations and assessments, biosurveillance, sensor technologies, or physical investigation and intelligence.","1. Screen cargo, conveyances, mail, baggage, and people using information-based and physical screening technology and processes. \n\n2. Detect WMD, traditional, and emerging threats and hazards of concern using:\n\na. A laboratory diagnostic capability and the capacity for food, agricultural (plant/animal), environmental, medical products, and clinical samples\nb. Bio-surveillance systems\nc. CBRNE detection systems\nd. Trained healthcare, emergency medical, veterinary, and environmental laboratory professionals. ","Protection"]
["Situational Assessment","Provide all decision makers with decision-relevant information regarding the nature and extent of the hazard, any cascading effects, and the status of the response.","1. Deliver information sufficient to inform decision making regarding immediate lifesaving and life-sustaining activities and engage governmental, private, and civic sector resources within and outsideof the affected area to meet basic human needs and stabilize the incident. \n\n2. Deliver enhanced information to reinforce ongoing lifesaving and life-sustaining activities, and engagegovernmental, private, and civic sector resources within and outside of the affected area to meetbasic human needs, stabilize the incident, and transition to recovery. ","Response"]
["Supply Chain Integrity and Security","Strengthen the security and resilience of the supply chain.","1. Secure and make resilient key nodes, methods of transport between nodes, and materials in transit. ","Protection"]
["Threats and Hazards Identification","Identify the threats and hazards that occur in the geographic area; determine the frequency and magnitude; and incorporate this into analysis and planning processes so as to clearly understand the needs of a community or entity.","1. Identify the threats and hazards within and across local, state, tribal, territorial, and insular areagovernments, and the top 100 MSAs, in collaboration with the whole community, against a nationalstandard based on sound science. ","Mitigation"]

{"sheet":"Doctrine Documents","index":25,"n_rows":41,"n_cols":5,"rows_kept":41,"hidden":true}
["DHS / FEMA Doctrine","Federal Statue - Doctrine","Interagency Regulation - Doctrine","Industry Standards - Doctrine","OPM Leadership Competencies"]
["None","None","None","None","None"]
["Emergency Support Function #15 – External Affairs Annex","9-11 Act","OSHA Regulations - 29 CFR 1910.120","Joint Commission on Accreditation of Healthcare Organizations","Accountability"]
["Emergency Support Function #2 – Communications Annex","Americans with Disabilities Act","Department of Health and Human Services - Healthcare Preparedness Capabilities: National Guidance for Healthcare System Preparedness","National Fire Protection Association - Code 410","Conflict Management"]
["Emergency Support Function #5 - Information and Planning ","Executive Order (EO) 13650 - Improving Chemical Facility Safety and Security","Department of Health and Human Services - Public Health Preparedness Capabilities: National Standards for State and Local Planning",null,"Continual Learning"]
["Emergency Support Function #6 – Mass Care, Emergency Assistance, Temporary Housing, and Human Services ","Post-Katrina Emergency Management Reform Act","US Nuclear Regulatory Commission - Criteria for Preparation and Evaluation of Radiological Emergency Response Plans and Preparedness in Support of Nuclear Power Plants (NUREG-0654/FEMA-REP-1) ",null,"Creativity and Innovation"]
["Emergency Support Function #7 – Logistics Annex","PPD - 17 Countering Improvised Explosive Devices ","Environmental Protection Agency - Protection Action Guidelines (for radiological emergencies)",null,"Customer Service"]
["Emergency Support Function #9 – Search and Rescue Annex","PPD - 21 Critical Infrastructure Security and Resilience","National Institute of Standards and Technology - Cybersecurity Framework",null,"Decisiveness"]
["FEMA Publication 1","PPD - 8 National Preparedness",null,null,"Developing Others"]
["FEMA Stragetic Plan","President's Climate Action Plan",null,null,"Entrepreneurship"]
["Mitigation Federal Interagency Operational Plan","Rehabilitation Act",null,null,"External Awareness"]
["National Incident Management System","The Robert T. Stafford Disaster Relief and Emergency Assistance Act",null,null,"Financial Management"]
["National Preparedness Goal","2005 Hurricane Season Provisions",null,null,"Flexibility"]
["National Preparedness Report","Warning, Alert, And Response Network Act",null,null,"Human Capital Management"]
["Protection Federal Interagency Operational Plan","Homeland Security Act of 2002",null,null,"Influencing / Negotiating"]
["Recovery Federal Interagency Operational Plan","National Dam Safety Program Act",null,null,"Integrity / Honesty"]
["Response Federal Interagency Operational Plan","Fire Prevention And Control Act of 1974",null,null,"Interpersonal Skills"]
["State Preparedness Report","Defense Production Act of 1950",null,null,"Leveraging Divesity"]
["Planning Guidance for Protection and Recovery Following Radiological Dispersal Device (RDD) and Improvised Nuclear Device (IND) Incidents","National Flood Insurance Act of 1968",null,null,"Oral Communication"]
["Threat and Hazard Identification and Risk Assessment (CPG 201, v2)","Earthquake Hazards Reduction Act of 1977",null,null,"Partnering"]
["National Infrastructure Protection Plan","Cerro Grande Fire Assistance Act",null,null,"Political Savvy"]
["National Preparedness System","Sections 107 And 303 of The National Security Act of 1947",null,null,"Problem Solving"]
["National Prevention Framework","National Emergencies Act",null,null,"Public Service Motivation"]
["National Protection Framework","Corps of Engineers Emergency Provisions",null,null,"Resilience"]
["National Response Framework","Section 706 of The Communications Act of 1934",null,null,"Strategic Thinking"]
["National Mitigation Framework","Emergency Food And Shelter Program Provisions",null,null,"Team Building"]
["National Disaster Recovery Framework","Chemical Stockpile Emergency Preparedness Program Provisions",null,null,"Technical Credibility"]
[null,"Radiological Emergency Preparedness Program Provisions",null,null,"Technology Management"]
[null,"Section 104 of The Comprehensive Environmental Response, Compensation, And Liability Act of 1980",null,null,"Vision"]
[null,"Section 303 of The Emergency Planning And Community Right-To-Know Act of 1986",null,null,"Written Communication"]
[null,"Hazardous Materials Transportation Provisions"]
[null,"Selected Provisions of The Implementing Recommendations of The 9/11 Commission Act of 2007"]
[null,"Small Business Disaster Response And Loan Improvements Act of 2008"]
[null,"Sections 601 And 602 of The American Recovery And Reinvestment Act of 2009"]
[null,"Section 125 of Title 23, United States Code"]
[null,"Sandy Recovery Improvement Act of 2013"]
[null,"Biggert-Waters Flood Insurance Reform Act of 2012"]
[null,"Homeowner Flood Insurance Affordability Act of 2014"]
[null,"Directing Dollars To Disaster Relief Act of 2015"]
[null,"Integrated Public Alert And Warning System Modernization Act of 2015"]
[null,"Selected Provisions of The Consolidated Appropriations Act, 2016"]

{"sheet":"Exam Questions","index":26,"n_rows":179,"n_cols":46,"rows_kept":179,"hidden":true}
["Test Question Number","Test Question Supports ELO #","Module #","Module ELO\n#","Type of Test Question","Slide Number and/or\n Page Number in Student Manual for Answer to Test Question","Action Verb to Use for Evaluation of Exam Question","Test Question","Knowledge                (0 - 6 scale)","Skill                    (0 - 7 scale) ","Attitude              (0 -5 scale)","Test Question KSA Total                (0 - 18)","Amount of Class Time Spent on ELO","Test Question Complexity","ELO Complexity","Error","Exam Question Level of Difficulty","Core Capability of ELO","K0","K1","K2","K3","K4","K5","K6","K Score","S0","S1","S2","S3","S4","S5","S6","S7","S Score","AA0","AA1","AA2","AA3","AA4","AA5","AA Score","K_Total","S_Total","A_Total","KSA_SUM"]
[1,null,{"$f":"IFERROR(INDEX(Input!$B$23:$B$192,MATCH(B2,Input!$A$23:$A$192,FALSE),1),\"\")","v":""},{"$f":"IFERROR(INDEX(Input!$C$23:$C$192,MATCH(B2,Input!$A$23:$A$192,FALSE),1),\"\")","v":""},{"$nulls":7},{"$f":"IF(B2<>\"\",SUM(I2:K2),\"\")","v":""},{"$f":"IFERROR(INDEX(Input!$F$23:$F$192,MATCH(B2,Input!$A$23:$A$192,FALSE),1),\"\")","v":""},{"$f":"IFERROR(L2*M2,\"\")","v":""},{"$f":"IFERROR(INDEX(Input!$K$23:$K$192,MATCH(B2,Input!$A$23:$A$192,FALSE),1),\"\")","v":""},{"$f":"IF(N2>O2,1,0)","v":0},{"$f":"IFERROR(VLOOKUP(ExamQ[[#This Row],[Test Question Complexity]],#REF!,3),\"\")","v":""},{"$f":"IFERROR(INDEX(Input!$L$23:$L$192,MATCH(B2,Input!$A$23:$A$192,FALSE),1),\"\")","v":""},0,{"$f":"IF(SUMPRODUCT(--ISNUMBER(SEARCH(K_A,$G2)))>0,1,\"\")","v":""},{"$f":"IF(SUMPRODUCT(--ISNUMBER(SEARCH(K_B,$G2)))>0,2,\"\")","v":""},{"$f":"IF(SUMPRODUCT(--ISNUMBER(SEARCH(K_C,$G2)))>0,3,\"\")","v":""},{"$f":"IF(SUMPRODUCT(--ISNUMBER(SEARCH(K_D,$G2)))>0,4,\"\")","v":""},{"$f":"IF(SUMPRODUCT(--ISNUMBER(SEARCH(K_E,$G2)))>0,5,\"\")","v":""},{"$f":"IF(SUMPRODUCT(--ISNUMBER(SEARCH(K_F,$G2)))>0,6,\"\")","v":""},{"$f":"IFERROR(INDEX(KSR,MATCH(1,(($T2=K1Out)*($U2=K2Out)*($V2=K3Out)*($W2=K4Out)*($X2=K5Out)*($Y2=K6Out)),0)),0)","v":0},0,{"$f":"IF(SUMPRODUCT(--ISNUMBER(SEARCH(S_A,$G2)))>0,1,\"\")","v":""},{"$f":"IF(SUMPRODUCT(--ISNUMBER(SEARCH(S_B,$G2)))>0, 2,\"\")","v":""},{"$f":"IF(SUMPRODUCT(--ISNUMBER(SEARCH(S_C,$G2)))>0,3,\"\")","v":""},{"$f":"IF(SUMPRODUCT(--ISNUMBER(SEARCH(S_D,$G2)))>0,4,\"\")","v":""},{"$f":"IF(SUMPRODUCT(--ISNUMBER(SEARCH(S_E,$G2)))>0,5,\"\")","v":""},{"$f":"IF(SUMPRODUCT(--ISNUMBER(SEARCH(S_F,$G2)))>0,6,\"\")","v":""},{"$f":"IF(SUMPRODUCT(--ISNUMBER(SEARCH(S_G,$G2)))>0,7,\"\")","v":""},{"$f":"IFERROR(INDEX(SSR,MATCH(1,((AB2=S1Out)*($AC2=S2Out)*($AD2=S3Out)*($AE2=S4Out)*($AF2=S5Out)*($AG2=S6Out)*($AH2=S7Out)),0)),0)","v":0},0,{"$f":"IF(SUMPRODUCT(--ISNUMBER(SEARCH(AA_A,$G2)))>0,1,\"\")","v":""},{"$f":"IF(SUMPRODUCT(--ISNUMBER(SEARCH(AA_B,$G2)))>0,2,\"\")","v":""},{"$f":"IF(SUMPRODUCT(--ISNUMBER(SEARCH(AA_C,$G2)))>0,3,\"\")","v":""},{"$f":"IF(SUMPRODUCT(--ISNUMBER(SEARCH(AA_D,$G2)))>0,4,\"\")","v":""},{"$f":"IF(SUMPRODUCT(--ISNUMBER(SEARCH(AA_F,$G2)))>0,5,\"\")","v":""},{"$f":"IFERROR(INDEX(AASR,MATCH(1,(($AK2=AA1Out)*($AL2=AA2Out)*($AM2=AA3Out)*($AN2=AA4Out)*($AO2=AA5Out)),0)),0)","v":0},{"$f":"(IF(ISNUMBER(S2) = FALSE, 0, S2) + IF(ISNUMBER(T2) = FALSE, 0, T2)+ IF(ISNUMBER(U2) = FALSE, 0, U2) + IF(ISNUMBER(V2) = FALSE, 0, V2) + IF(ISNUMBER(W2) = FALSE, 0, W2) + IF(ISNUMBER(X2) = FALSE, 0, X2)) + IF(ISNUMBER(Y2) = FALSE, 0, Y2)","v":0},{"$f":"(IF(ISNUMBER(AA2) = FALSE, 0, AA2) + IF(ISNUMBER(AB2) = FALSE, 0, AB2)+ IF(ISNUMBER(AC2) = FALSE, 0, AC2) + IF(ISNUMBER(AD2) = FALSE, 0, AD2) + IF(ISNUMBER(AE2) = FALSE, 0, AE2) + IF(ISNUMBER(AF2) = FALSE, 0, AF2)) + IF(ISNUMBER(AG2) = FALSE, 0, AG2) + IF(ISNUMBER(AH2) = FALSE, 0, AH2)","v":0},{"$f":"(IF(ISNUMBER(AJ2) = FALSE, 0, AJ2) + IF(ISNUMBER(AK2) = FALSE, 0, AK2)+ IF(ISNUMBER(AL2) = FALSE, 0, AL2) + IF(ISNUMBER(AM2) = FALSE, 0, AM2) + IF(ISNUMBER(AN2) = FALSE, 0, AN2)+ IF(ISNUMBER(AO2) = FALSE, 0,AO2))","v":0},{"$f":"IF(G2 = \"\", \"BLANK\",IF((AQ2+AR2+AS2) = 0, \"A\", AQ2 + AR2 + AS2))","v":"BLANK"}]
[2,null,{"$f":"IFERROR(INDEX(Input!$B$23:$B$192,MATCH(B3,Input!$A$23:$A$192,FALSE),1),\"\")","v":""},{"$f":"IFERROR(INDEX(Input!$C$23:$C$192,MATCH(B3,Input!$A$23:$A$192,FALSE),1),\"\")","v":""},{"$nulls":7},"",{"$f":"IFERROR(INDEX(Input!$F$23:$F$192,MATCH(B3,Input!$A$23:$A$192,FALSE),1),\"\")","v":""},"",{"$f":"IFERROR(INDEX(Input!$K$23:$K$192,MATCH(B3,Input!$A$23:$A$192,FALSE),1),\"\")","v":""},0,{"$f":"IFERROR(VLOOKUP(ExamQ[[#This Row],[Test Question Complexity]],#REF!,3),\"\")","v":""},{"$f":"IFERROR(INDEX(Input!$L$23:$L$192,MATCH(B3,Input!$A$23:$A$192,FALSE),1),\"\")","v":""},0,"","","","","","",{"$f":"IFERROR(INDEX(KSR,MATCH(1,(($T3=K1Out)*($U3=K2Out)*($V3=K3Out)*($W3=K4Out)*($X3=K5Out)*($Y3=K6Out)),0)),0)","v":0},0,"","","","","","","",{"$f":"IFERROR(INDEX(SSR,MATCH(1,((AB3=S1Out)*($AC3=S2Out)*($AD3=S3Out)*($AE3=S4Out)*($AF3=S5Out)*($AG3=S6Out)*($AH3=S7Out)),0)),0)","v":0},0,"","","","",{"$f":"IF(SUMPRODUCT(--ISNUMBER(SEARCH(AA_F,$G3)))>0,5,\"\")","v":""},{"$f":"IFERROR(INDEX(AASR,MATCH(1,(($AK3=AA1Out)*($AL3=AA2Out)*($AM3=AA3Out)*($AN3=AA4Out)*($AO3=AA5Out)),0)),0)","v":0},{"$f":"(IF(ISNUMBER(S3) = FALSE, 0, S3) + IF(ISNUMBER(T3) = FALSE, 0, T3)+ IF(ISNUMBER(U3) = FALSE, 0, U3) + IF(ISNUMBER(V3) = FALSE, 0, V3) + IF(ISNUMBER(W3) = FALSE, 0, W3) + IF(ISNUMBER(X3) = FALSE, 0, X3)) + IF(ISNUMBER(Y3) = FALSE, 0, Y3)","v":0},{"$f":"(IF(ISNUMBER(AA3) = FALSE, 0, AA3) + IF(ISNUMBER(AB3) = FALSE, 0, AB3)+ IF(ISNUMBER(AC3) = FALSE, 0, AC3) + IF(ISNUMBER(AD3) = FALSE, 0, AD3) + IF(ISNUMBER(AE3) = FALSE, 0, AE3) + IF(ISNUMBER(AF3) = FALSE, 0, AF3)) + IF(ISNUMBER(AG3) = FALSE, 0, AG3) + IF(ISNUMBER(AH3) = FALSE, 0, AH3)","v":0},{"$f":"(IF(ISNUMBER(AJ3) = FALSE, 0, AJ3) + IF(ISNUMBER(AK3) = FALSE, 0, AK3)+ IF(ISNUMBER(AL3) = FALSE, 0, AL3) + IF(ISNUMBER(AM3) = FALSE, 0, AM3) + IF(ISNUMBER(AN3) = FALSE, 0, AN3)+ IF(ISNUMBER(AO3) = FALSE, 0,AO3))","v":0},{"$f":"IF(G3 = \"\", \"BLANK\",IF((AQ3+AR3+AS3) = 0, \"A\", AQ3 + AR3 + AS3))","v":"BLANK"}]
[3,null,{"$f":"IFERROR(INDEX(Input!$B$23:$B$192,MATCH(B4,Input!$A$23:$A$192,FALSE),1),\"\")","v":""},{"$f":"IFERROR(INDEX(Input!$C$23:$C$192,MATCH(B4,Input!$A$23:$A$192,FALSE),1),\"\")","v":""},{"$nulls":7},"",{"$f":"IFERROR(INDEX(Input!$F$23:$F$192,MATCH(B4,Input!$A$23:$A$192,FALSE),1),\"\")","v":""},"",{"$f":"IFERROR(INDEX(Input!$K$23:$K$192,MATCH(B4,Input!$A$23:$A$192,FALSE),1),\"\")","v":""},0,{"$f":"IFERROR(VLOOKUP(ExamQ[[#This Row],[Test Question Complexity]],#REF!,3),\"\")","v":""},{"$f":"IFERROR(INDEX(Input!$L$23:$L$192,MATCH(B4,Input!$A$23:$A$192,FALSE),1),\"\")","v":""},0,"","","","","","",{"$f":"IFERROR(INDEX(KSR,MATCH(1,(($T4=K1Out)*($U4=K2Out)*($V4=K3Out)*($W4=K4Out)*($X4=K5Out)*($Y4=K6Out)),0)),0)","v":0},0,"","","","","","","",{"$f":"IFERROR(INDEX(SSR,MATCH(1,((AB4=S1Out)*($AC4=S2Out)*($AD4=S3Out)*($AE4=S4Out)*($AF4=S5Out)*($AG4=S6Out)*($AH4=S7Out)),0)),0)","v":0},0,"","","","",{"$f":"IF(SUMPRODUCT(--ISNUMBER(SEARCH(AA_F,$G4)))>0,5,\"\")","v":""},{"$f":"IFERROR(INDEX(AASR,MATCH(1,(($AK4=AA1Out)*($AL4=AA2Out)*($AM4=AA3Out)*($AN4=AA4Out)*($AO4=AA5Out)),0)),0)","v":0},0,0,0,"BLANK"]
[4,null,{"$f":"IFERROR(INDEX(Input!$B$23:$B$192,MATCH(B5,Input!$A$23:$A$192,FALSE),1),\"\")","v":""},{"$f":"IFERROR(INDEX(Input!$C$23:$C$192,MATCH(B5,Input!$A$23:$A$192,FALSE),1),\"\")","v":""},{"$nulls":7},"",{"$f":"IFERROR(INDEX(Input!$F$23:$F$192,MATCH(B5,Input!$A$23:$A$192,FALSE),1),\"\")","v":""},"",{"$f":"IFERROR(INDEX(Input!$K$23:$K$192,MATCH(B5,Input!$A$23:$A$192,FALSE),1),\"\")","v":""},0,{"$f":"IFERROR(VLOOKUP(ExamQ[[#This Row],[Test Question Complexity]],#REF!,3),\"\")","v":""},{"$f":"IFERROR(INDEX(Input!$L$23:$L$192,MATCH(B5,Input!$A$23:$A$192,FALSE),1),\"\")","v":""},0,"","","","","","",{"$f":"IFERROR(INDEX(KSR,MATCH(1,(($T5=K1Out)*($U5=K2Out)*($V5=K3Out)*($W5=K4Out)*($X5=K5Out)*($Y5=K6Out)),0)),0)","v":0},0,"","","","","","","",{"$f":"IFERROR(INDEX(SSR,MATCH(1,((AB5=S1Out)*($AC5=S2Out)*($AD5=S3Out)*($AE5=S4Out)*($AF5=S5Out)*($AG5=S6Out)*($AH5=S7Out)),0)),0)","v":0},0,"","","","",{"$f":"IF(SUMPRODUCT(--ISNUMBER(SEARCH(AA_F,$G5)))>0,5,\"\")","v":""},{"$f":"IFERROR(INDEX(AASR,MATCH(1,(($AK5=AA1Out)*($AL5=AA2Out)*($AM5=AA3Out)*($AN5=AA4Out)*($AO5=AA5Out)),0)),0)","v":0},0,0,0,"BLANK"]
[5,null,{"$f":"IFERROR(INDEX(Input!$B$23:$B$192,MATCH(B6,Input!$A$23:$A$192,FALSE),1),\"\")","v":""},{"$f":"IFERROR(INDEX(Input!$C$23:$C$192,MATCH(B6,Input!$A$23:$A$192,FALSE),1),\"\")","v":""},{"$nulls":7},"",{"$f":"IFERROR(INDEX(Input!$F$23:$F$192,MATCH(B6,Input!$A$23:$A$192,FALSE),1),\"\")","v":""},"",{"$f":"IFERROR(INDEX(Input!$K$23:$K$192,MATCH(B6,Input!$A$23:$A$192,FALSE),1),\"\")","v":""},0,{"$f":"IFERROR(VLOOKUP(ExamQ[[#This Row],[Test Question Complexity]],#REF!,3),\"\")","v":""},{"$f":"IFERROR(INDEX(Input!$L$23:$L$192,MATCH(B6,Input!$A$23:$A$192,FALSE),1),\"\")","v":""},0,"","","","","","",{"$f":"IFERROR(INDEX(KSR,MATCH(1,(($T6=K1Out)*($U6=K2Out)*($V6=K3Out)*($W6=K4Out)*($X6=K5Out)*($Y6=K6Out)),0)),0)","v":0},0,"","","","","","","",{"$f":"IFERROR(INDEX(SSR,MATCH(1,((AB6=S1Out)*($AC6=S2Out)*($AD6=S3Out)*($AE6=S4Out)*($AF6=S5Out)*($AG6=S6Out)*($AH6=S7Out)),0)),0)","v":0},0,"","","","",{"$f":"IF(SUMPRODUCT(--ISNUMBER(SEARCH(AA_F,$G6)))>0,5,\"\")","v":""},{"$f":"IFERROR(INDEX(AASR,MATCH(1,(($AK6=AA1Out)*($AL6=AA2Out)*($AM6=AA3Out)*($AN6=AA4Out)*($AO6=AA5Out)),0)),0)","v":0},0,0,0,"BLANK"]
[6,null,{"$f":"IFERROR(INDEX(Input!$B$23:$B$192,MATCH(B7,Input!$A$23:$A$192,FALSE),1),\"\")","v":""},{"$f":"IFERROR(INDEX(Input!$C$23:$C$192,MATCH(B7,Input!$A$23:$A$192,FALSE),1),\"\")","v":""},{"$nulls":7},"",{"$f":"IFERROR(INDEX(Input!$F$23:$F$192,MATCH(B7,Input!$A$23:$A$192,FALSE),1),\"\")","v":""},"",{"$f":"IFERROR(INDEX(Input!$K$23:$K$192,MATCH(B7,Input!$A$23:$A$192,FALSE),1),\"\")","v":""},0,{"$f":"IFERROR(VLOOKUP(ExamQ[[#This Row],[Test Question Complexity]],#REF!,3),\"\")","v":""},{"$f":"IFERROR(INDEX(Input!$L$23:$L$192,MATCH(B7,Input!$A$23:$A$192,FALSE),1),\"\")","v":""},0,"","","","","","",{"$f":"IFERROR(INDEX(KSR,MATCH(1,(($T7=K1Out)*($U7=K2Out)*($V7=K3Out)*($W7=K4Out)*($X7=K5Out)*($Y7=K6Out)),0)),0)","v":0},0,"","","","","","","",{"$f":"IFERROR(INDEX(SSR,MATCH(1,((AB7=S1Out)*($AC7=S2Out)*($AD7=S3Out)*($AE7=S4Out)*($AF7=S5Out)*($AG7=S6Out)*($AH7=S7Out)),0)),0)","v":0},0,"","","","",{"$f":"IF(SUMPRODUCT(--ISNUMBER(SEARCH(AA_F,$G7)))>0,5,\"\")","v":""},{"$f":"IFERROR(INDEX(AASR,MATCH(1,(($AK7=AA1Out)*($AL7=AA2Out)*($AM7=AA3Out)*($AN7=AA4Out)*($AO7=AA5Out)),0)),0)","v":0},0,0,0,"BLANK"]
[7,null,{"$f":"IFERROR(INDEX(Input!$B$23:$B$192,MATCH(B8,Input!$A$23:$A$192,FALSE),1),\"\")","v":""},{"$f":"IFERROR(INDEX(Input!$C$23:$C$192,MATCH(B8,Input!$A$23:$A$192,FALSE),1),\"\")","v":""},{"$nulls":7},"",{"$f":"IFERROR(INDEX(Input!$F$23:$F$192,MATCH(B8,Input!$A$23:$A$192,FALSE),1),\"\")","v":""},"",{"$f":"IFERROR(INDEX(Input!$K$23:$K$192,MATCH(B8,Input!$A$23:$A$192,FALSE),1),\"\")","v":""},0,{"$f":"IFERROR(VLOOKUP(ExamQ[[#This Row],[Test Question Complexity]],#REF!,3),\"\")","v":""},{"$f":"IFERROR(INDEX(Input!$L$23:$L$192,MATCH(B8,Input!$A$23:$A$192,FALSE),1),\"\")","v":""},0,"","","","","","",{"$f":"IFERROR(INDEX(KSR,MATCH(1,(($T8=K1Out)*($U8=K2Out)*($V8=K3Out)*($W8=K4Out)*($X8=K5Out)*($Y8=K6Out)),0)),0)","v":0},0,"","","","","","","",{"$f":"IFERROR(INDEX(SSR,MATCH(1,((AB8=S1Out)*($AC8=S2Out)*($AD8=S3Out)*($AE8=S4Out)*($AF8=S5Out)*($AG8=S6Out)*($AH8=S7Out)),0)),0)","v":0},0,"","","","",{"$f":"IF(SUMPRODUCT(--ISNUMBER(SEARCH(AA_F,$G8)))>0,5,\"\")","v":""},{"$f":"IFERROR(INDEX(AASR,MATCH(1,(($AK8=AA1Out)*($AL8=AA2Out)*($AM8=AA3Out)*($AN8=AA4Out)*($AO8=AA5Out)),0)),0)","v":0},0,0,0,"BLANK"]
[8,null,{"$f":"IFERROR(INDEX(Input!$B$23:$B$192,MATCH(B9,Input!$A$23:$A$192,FALSE),1),\"\")","v":""},{"$f":"IFERROR(INDEX(Input!$C$23:$C$192,MATCH(B9,Input!$A$23:$A$192,FALSE),1),\"\")","v":""},{"$nulls":7},"",{"$f":"IFERROR(INDEX(Input!$F$23:$F$192,MATCH(B9,Input!$A$23:$A$192,FALSE),1),\"\")","v":""},"",{"$f":"IFERROR(INDEX(Input!$K$23:$K$192,MATCH(B9,Input!$A$23:$A$192,FALSE),1),\"\")","v":""},0,{"$f":"IFERROR(VLOOKUP(ExamQ[[#This Row],[Test Question Complexity]],#REF!,3),\"\")","v":""},{"$f":"IFERROR(INDEX(Input!$L$23:$L$192,MATCH(B9,Input!$A$23:$A$192,FALSE),1),\"\")","v":""},0,"","","","","","",{"$f":"IFERROR(INDEX(KSR,MATCH(1,(($T9=K1Out)*($U9=K2Out)*($V9=K3Out)*($W9=K4Out)*($X9=K5Out)*($Y9=K6Out)),0)),0)","v":0},0,"","","","","","","",{"$f":"IFERROR(INDEX(SSR,MATCH(1,((AB9=S1Out)*($AC9=S2Out)*($AD9=S3Out)*($AE9=S4Out)*($AF9=S5Out)*($AG9=S6Out)*($AH9=S7Out)),0)),0)","v":0},0,"","","","",{"$f":"IF(SUMPRODUCT(--ISNUMBER(SEARCH(AA_F,$G9)))>0,5,\"\")","v":""},{"$f":"IFERROR(INDEX(AASR,MATCH(1,(($AK9=AA1Out)*($AL9=AA2Out)*($AM9=AA3Out)*($AN9=AA4Out)*($AO9=AA5Out)),0)),0)","v":0},0,0,0,"BLANK"]
[9,null,{"$f":"IFERROR(INDEX(Input!$B$23:$B$192,MATCH(B10,Input!$A$23:$A$192,FALSE),1),\"\")","v":""},{"$f":"IFERROR(INDEX(Input!$C$23:$C$192,MATCH(B10,Input!$A$23:$A$192,FALSE),1),\"\")","v":""},{"$nulls":7},"",{"$f":"IFERROR(INDEX(Input!$F$23:$F$192,MATCH(B10,Input!$A$23:$A$192,FALSE),1),\"\")","v":""},"",{"$f":"IFERROR(INDEX(Input!$K$23:$K$192,MATCH(B10,Input!$A$23:$A$192,FALSE),1),\"\")","v":""},0,{"$f":"IFERROR(VLOOKUP(ExamQ[[#This Row],[Test Question Complexity]],#REF!,3),\"\")","v":""},{"$f":"IFERROR(INDEX(Input!$L$23:$L$192,MATCH(B10,Input!$A$23:$A$192,FALSE),1),\"\")","v":""},0,"","","","","","",{"$f":"IFERROR(INDEX(KSR,MATCH(1,(($T10=K1Out)*($U10=K2Out)*($V10=K3Out)*($W10=K4Out)*($X10=K5Out)*($Y10=K6Out)),0)),0)","v":0},0,"","","","","","","",{"$f":"IFERROR(INDEX(SSR,MATCH(1,((AB10=S1Out)*($AC10=S2Out)*($AD10=S3Out)*($AE10=S4Out)*($AF10=S5Out)*($AG10=S6Out)*($AH10=S7Out)),0)),0)","v":0},0,"","","","",{"$f":"IF(SUMPRODUCT(--ISNUMBER(SEARCH(AA_F,$G10)))>0,5,\"\")","v":""},{"$f":"IFERROR(INDEX(AASR,MATCH(1,(($AK10=AA1Out)*($AL10=AA2Out)*($AM10=AA3Out)*($AN10=AA4Out)*($AO10=AA5Out)),0)),0)","v":0},0,0,0,"BLANK"]
[10,null,{"$f":"IFERROR(INDEX(Input!$B$23:$B$192,MATCH(B11,Input!$A$23:$A$192,FALSE),1),\"\")","v":""},{"$f":"IFERROR(INDEX(Input!$C$23:$C$192,MATCH(B11,Input!$A$23:$A$192,FALSE),1),\"\")","v":""},{"$nulls":7},"",{"$f":"IFERROR(INDEX(Input!$F$23:$F$192,MATCH(B11,Input!$A$23:$A$192,FALSE),1),\"\")","v":""},"",{"$f":"IFERROR(INDEX(Input!$K$23:$K$192,MATCH(B11,Input!$A$23:$A$192,FALSE),1),\"\")","v":""},0,{"$f":"IFERROR(VLOOKUP(ExamQ[[#This Row],[Test Question Complexity]],#REF!,3),\"\")","v":""},{"$f":"IFERROR(INDEX(Input!$L$23:$L$192,MATCH(B11,Input!$A$23:$A$192,FALSE),1),\"\")","v":""},0,"","","","","","",{"$f":"IFERROR(INDEX(KSR,MATCH(1,(($T11=K1Out)*($U11=K2Out)*($V11=K3Out)*($W11=K4Out)*($X11=K5Out)*($Y11=K6Out)),0)),0)","v":0},0,"","","","","","","",{"$f":"IFERROR(INDEX(SSR,MATCH(1,((AB11=S1Out)*($AC11=S2Out)*($AD11=S3Out)*($AE11=S4Out)*($AF11=S5Out)*($AG11=S6Out)*($AH11=S7Out)),0)),0)","v":0},0,"","","","",{"$f":"IF(SUMPRODUCT(--ISNUMBER(SEARCH(AA_F,$G11)))>0,5,\"\")","v":""},{"$f":"IFERROR(INDEX(AASR,MATCH(1,(($AK11=AA1Out)*($AL11=AA2Out)*($AM11=AA3Out)*($AN11=AA4Out)*($AO11=AA5Out)),0)),0)","v":0},0,0,0,"BLANK"]
[11,null,{"$f":"IFERROR(INDEX(Input!$B$23:$B$192,MATCH(B12,Input!$A$23:$A$192,FALSE),1),\"\")","v":""},{"$f":"IFERROR(INDEX(Input!$C$23:$C$192,MATCH(B12,Input!$A$23:$A$192,FALSE),1),\"\")","v":""},{"$nulls":7},"",{"$f":"IFERROR(INDEX(Input!$F$23:$F$192,MATCH(B12,Input!$A$23:$A$192,FALSE),1),\"\")","v":""},"",{"$f":"IFERROR(INDEX(Input!$K$23:$K$192,MATCH(B12,Input!$A$23:$A$192,FALSE),1),\"\")","v":""},0,{"$f":"IFERROR(VLOOKUP(ExamQ[[#This Row],[Test Question Complexity]],#REF!,3),\"\")","v":""},{"$f":"IFERROR(INDEX(Input!$L$23:$L$192,MATCH(B12,Input!$A$23:$A$192,FALSE),1),\"\")","v":""},0,"","","","","","",{"$f":"IFERROR(INDEX(KSR,MATCH(1,(($T12=K1Out)*($U12=K2Out)*($V12=K3Out)*($W12=K4Out)*($X12=K5Out)*($Y12=K6Out)),0)),0)","v":0},0,"","","","","","","",{"$f":"IFERROR(INDEX(SSR,MATCH(1,((AB12=S1Out)*($AC12=S2Out)*($AD12=S3Out)*($AE12=S4Out)*($AF12=S5Out)*($AG12=S6Out)*($AH12=S7Out)),0)),0)","v":0},0,"","","","",{"$f":"IF(SUMPRODUCT(--ISNUMBER(SEARCH(AA_F,$G12)))>0,5,\"\")","v":""},{"$f":"IFERROR(INDEX(AASR,MATCH(1,(($AK12=AA1Out)*($AL12=AA2Out)*($AM12=AA3Out)*($AN12=AA4Out)*($AO12=AA5Out)),0)),0)","v":0},0,0,0,"BLANK"]
[12,null,{"$f":"IFERROR(INDEX(Input!$B$23:$B$192,MATCH(B13,Input!$A$23:$A$192,FALSE),1),\"\")","v":""},{"$f":"IFERROR(INDEX(Input!$C$23:$C$192,MATCH(B13,Input!$A$23:$A$192,FALSE),1),\"\")","v":""},{"$nulls":7},"",{"$f":"IFERROR(INDEX(Input!$F$23:$F$192,MATCH(B13,Input!$A$23:$A$192,FALSE),1),\"\")","v":""},"",{"$f":"IFERROR(INDEX(Input!$K$23:$K$192,MATCH(B13,Input!$A$23:$A$192,FALSE),1),\"\")","v":""},0,{"$f":"IFERROR(VLOOKUP(ExamQ[[#This Row],[Test Question Complexity]],#REF!,3),\"\")","v":""},{"$f":"IFERROR(INDEX(Input!$L$23:$L$192,MATCH(B13,Input!$A$23:$A$192,FALSE),1),\"\")","v":""},0,"","","","","","",{"$f":"IFERROR(INDEX(KSR,MATCH(1,(($T13=K1Out)*($U13=K2Out)*($V13=K3Out)*($W13=K4Out)*($X13=K5Out)*($Y13=K6Out)),0)),0)","v":0},0,"","","","","","","",{"$f":"IFERROR(INDEX(SSR,MATCH(1,((AB13=S1Out)*($AC13=S2Out)*($AD13=S3Out)*($AE13=S4Out)*($AF13=S5Out)*($AG13=S6Out)*($AH13=S7Out)),0)),0)","v":0},0,"","","","",{"$f":"IF(SUMPRODUCT(--ISNUMBER(SEARCH(AA_F,$G13)))>0,5,\"\")","v":""},{"$f":"IFERROR(INDEX(AASR,MATCH(1,(($AK13=AA1Out)*($AL13=AA2Out)*($AM13=AA3Out)*($AN13=AA4Out)*($AO13=AA5Out)),0)),0)","v":0},0,0,0,"BLANK"]
[13,null,{"$f":"IFERROR(INDEX(Input!$B$23:$B$192,MATCH(B14,Input!$A$23:$A$192,FALSE),1),\"\")","v":""},{"$f":"IFERROR(INDEX(Input!$C$23:$C$192,MATCH(B14,Input!$A$23:$A$192,FALSE),1),\"\")","v":""},{"$nulls":7},"",{"$f":"IFERROR(INDEX(Input!$F$23:$F$192,MATCH(B14,Input!$A$23:$A$192,FALSE),1),\"\")","v":""},"",{"$f":"IFERROR(INDEX(Input!$K$23:$K$192,MATCH(B14,Input!$A$23:$A$192,FALSE),1),\"\")","v":""},0,{"$f":"IFERROR(VLOOKUP(ExamQ[[#This Row],[Test Question Complexity]],#REF!,3),\"\")","v":""},{"$f":"IFERROR(INDEX(Input!$L$23:$L$192,MATCH(B14,Input!$A$23:$A$192,FALSE),1),\"\")","v":""},0,"","","","","","",{"$f":"IFERROR(INDEX(KSR,MATCH(1,(($T14=K1Out)*($U14=K2Out)*($V14=K3Out)*($W14=K4Out)*($X14=K5Out)*($Y14=K6Out)),0)),0)","v":0},0,"","","","","","","",{"$f":"IFERROR(INDEX(SSR,MATCH(1,((AB14=S1Out)*($AC14=S2Out)*($AD14=S3Out)*($AE14=S4Out)*($AF14=S5Out)*($AG14=S6Out)*($AH14=S7Out)),0)),0)","v":0},0,"","","","",{"$f":"IF(SUMPRODUCT(--ISNUMBER(SEARCH(AA_F,$G14)))>0,5,\"\")","v":""},{"$f":"IFERROR(INDEX(AASR,MATCH(1,(($AK14=AA1Out)*($AL14=AA2Out)*($AM14=AA3Out)*($AN14=AA4Out)*($AO14=AA5Out)),0)),0)","v":0},0,0,0,"BLANK"]
[14,null,{"$f":"IFERROR(INDEX(Input!$B$23:$B$192,MATCH(B15,Input!$A$23:$A$192,FALSE),1),\"\")","v":""},{"$f":"IFERROR(INDEX(Input!$C$23:$C$192,MATCH(B15,Input!$A$23:$A$192,FALSE),1),\"\")","v":""},{"$nulls":7},"",{"$f":"IFERROR(INDEX(Input!$F$23:$F$192,MATCH(B15,Input!$A$23:$A$192,FALSE),1),\"\")","v":""},"",{"$f":"IFERROR(INDEX(Input!$K$23:$K$192,MATCH(B15,Input!$A$23:$A$192,FALSE),1),\"\")","v":""},0,{"$f":"IFERROR(VLOOKUP(ExamQ[[#This Row],[Test Question Complexity]],#REF!,3),\"\")","v":""},{"$f":"IFERROR(INDEX(Input!$L$23:$L$192,MATCH(B15,Input!$A$23:$A$192,FALSE),1),\"\")","v":""},0,"","","","","","",{"$f":"IFERROR(INDEX(KSR,MATCH(1,(($T15=K1Out)*($U15=K2Out)*($V15=K3Out)*($W15=K4Out)*($X15=K5Out)*($Y15=K6Out)),0)),0)","v":0},0,"","","","","","","",{"$f":"IFERROR(INDEX(SSR,MATCH(1,((AB15=S1Out)*($AC15=S2Out)*($AD15=S3Out)*($AE15=S4Out)*($AF15=S5Out)*($AG15=S6Out)*($AH15=S7Out)),0)),0)","v":0},0,"","","","",{"$f":"IF(SUMPRODUCT(--ISNUMBER(SEARCH(AA_F,$G15)))>0,5,\"\")","v":""},{"$f":"IFERROR(INDEX(AASR,MATCH(1,(($AK15=AA1Out)*($AL15=AA2Out)*($AM15=AA3Out)*($AN15=AA4Out)*($AO15=AA5Out)),0)),0)","v":0},0,0,0,"BLANK"]
[15,null,{"$f":"IFERROR(INDEX(Input!$B$23:$B$192,MATCH(B16,Input!$A$23:$A$192,FALSE),1),\"\")","v":""},{"$f":"IFERROR(INDEX(Input!$C$23:$C$192,MATCH(B16,Input!$A$23:$A$192,FALSE),1),\"\")","v":""},{"$nulls":7},"",{"$f":"IFERROR(INDEX(Input!$F$23:$F$192,MATCH(B16,Input!$A$23:$A$192,FALSE),1),\"\")","v":""},"",{"$f":"IFERROR(INDEX(Input!$K$23:$K$192,MATCH(B16,Input!$A$23:$A$192,FALSE),1),\"\")","v":""},0,{"$f":"IFERROR(VLOOKUP(ExamQ[[#This Row],[Test Question Complexity]],#REF!,3),\"\")","v":""},{"$f":"IFERROR(INDEX(Input!$L$23:$L$192,MATCH(B16,Input!$A$23:$A$192,FALSE),1),\"\")","v":""},0,"","","","","","",{"$f":"IFERROR(INDEX(KSR,MATCH(1,(($T16=K1Out)*($U16=K2Out)*($V16=K3Out)*($W16=K4Out)*($X16=K5Out)*($Y16=K6Out)),0)),0)","v":0},0,"","","","","","","",{"$f":"IFERROR(INDEX(SSR,MATCH(1,((AB16=S1Out)*($AC16=S2Out)*($AD16=S3Out)*($AE16=S4Out)*($AF16=S5Out)*($AG16=S6Out)*($AH16=S7Out)),0)),0)","v":0},0,"","","","",{"$f":"IF(SUMPRODUCT(--ISNUMBER(SEARCH(AA_F,$G16)))>0,5,\"\")","v":""},{"$f":"IFERROR(INDEX(AASR,MATCH(1,(($AK16=AA1Out)*($AL16=AA2Out)*($AM16=AA3Out)*($AN16=AA4Out)*($AO16=AA5Out)),0)),0)","v":0},0,0,0,"BLANK"]
[16,null,{"$f":"IFERROR(INDEX(Input!$B$23:$B$192,MATCH(B17,Input!$A$23:$A$192,FALSE),1),\"\")","v":""},{"$f":"IFERROR(INDEX(Input!$C$23:$C$192,MATCH(B17,Input!$A$23:$A$192,FALSE),1),\"\")","v":""},{"$nulls":7},"",{"$f":"IFERROR(INDEX(Input!$F$23:$F$192,MATCH(B17,Input!$A$23:$A$192,FALSE),1),\"\")","v":""},"",{"$f":"IFERROR(INDEX(Input!$K$23:$K$192,MATCH(B17,Input!$A$23:$A$192,FALSE),1),\"\")","v":""},0,{"$f":"IFERROR(VLOOKUP(ExamQ[[#This Row],[Test Question Complexity]],#REF!,3),\"\")","v":""},{"$f":"IFERROR(INDEX(Input!$L$23:$L$192,MATCH(B17,Input!$A$23:$A$192,FALSE),1),\"\")","v":""},0,"","","","","","",{"$f":"IFERROR(INDEX(KSR,MATCH(1,(($T17=K1Out)*($U17=K2Out)*($V17=K3Out)*($W17=K4Out)*($X17=K5Out)*($Y17=K6Out)),0)),0)","v":0},0,"","","","","","","",{"$f":"IFERROR(INDEX(SSR,MATCH(1,((AB17=S1Out)*($AC17=S2Out)*($AD17=S3Out)*($AE17=S4Out)*($AF17=S5Out)*($AG17=S6Out)*($AH17=S7Out)),0)),0)","v":0},0,"","","","",{"$f":"IF(SUMPRODUCT(--ISNUMBER(SEARCH(AA_F,$G17)))>0,5,\"\")","v":""},{"$f":"IFERROR(INDEX(AASR,MATCH(1,(($AK17=AA1Out)*($AL17=AA2Out)*($AM17=AA3Out)*($AN17=AA4Out)*($AO17=AA5Out)),0)),0)","v":0},0,0,0,"BLANK"]
[17,null,{"$f":"IFERROR(INDEX(Input!$B$23:$B$192,MATCH(B18,Input!$A$23:$A$192,FALSE),1),\"\")","v":""},{"$f":"IFERROR(INDEX(Input!$C$23:$C$192,MATCH(B18,Input!$A$23:$A$192,FALSE),1),\"\")","v":""},{"$nulls":7},"",{"$f":"IFERROR(INDEX(Input!$F$23:$F$192,MATCH(B18,Input!$A$23:$A$192,FALSE),1),\"\")","v":""},"",{"$f":"IFERROR(INDEX(Input!$K$23:$K$192,MATCH(B18,Input!$A$23:$A$192,FALSE),1),\"\")","v":""},0,{"$f":"IFERROR(VLOOKUP(ExamQ[[#This Row],[Test Question Complexity]],#REF!,3),\"\")","v":""},{"$f":"IFERROR(INDEX(Input!$L$23:$L$192,MATCH(B18,Input!$A$23:$A$192,FALSE),1),\"\")","v":""},0,"","","","","","",{"$f":"IFERROR(INDEX(KSR,MATCH(1,(($T18=K1Out)*($U18=K2Out)*($V18=K3Out)*($W18=K4Out)*($X18=K5Out)*($Y18=K6Out)),0)),0)","v":0},0,"","","","","","","",{"$f":"IFERROR(INDEX(SSR,MATCH(1,((AB18=S1Out)*($AC18=S2Out)*($AD18=S3Out)*($AE18=S4Out)*($AF18=S5Out)*($AG18=S6Out)*($AH18=S7Out)),0)),0)","v":0},0,"","","","",{"$f":"IF(SUMPRODUCT(--ISNUMBER(SEARCH(AA_F,$G18)))>0,5,\"\")","v":""},{"$f":"IFERROR(INDEX(AASR,MATCH(1,(($AK18=AA1Out)*($AL18=AA2Out)*($AM18=AA3Out)*($AN18=AA4Out)*($AO18=AA5Out)),0)),0)","v":0},0,0,0,"BLANK"]
[18,null,{"$f":"IFERROR(INDEX(Input!$B$23:$B$192,MATCH(B19,Input!$A$23:$A$192,FALSE),1),\"\")","v":""},{"$f":"IFERROR(INDEX(Input!$C$23:$C$192,MATCH(B19,Input!$A$23:$A$192,FALSE),1),\"\")","v":""},{"$nulls":7},"",{"$f":"IFERROR(INDEX(Input!$F$23:$F$192,MATCH(B19,Input!$A$23:$A$192,FALSE),1),\"\")","v":""},"",{"$f":"IFERROR(INDEX(Input!$K$23:$K$192,MATCH(B19,Input!$A$23:$A$192,FALSE),1),\"\")","v":""},0,{"$f":"IFERROR(VLOOKUP(ExamQ[[#This Row],[Test Question Complexity]],#REF!,3),\"\")","v":""},{"$f":"IFERROR(INDEX(Input!$L$23:$L$192,MATCH(B19,Input!$A$23:$A$192,FALSE),1),\"\")","v":""},0,"","","","","","",{"$f":"IFERROR(INDEX(KSR,MATCH(1,(($T19=K1Out)*($U19=K2Out)*($V19=K3Out)*($W19=K4Out)*($X19=K5Out)*($Y19=K6Out)),0)),0)","v":0},0,"","","","","","","",{"$f":"IFERROR(INDEX(SSR,MATCH(1,((AB19=S1Out)*($AC19=S2Out)*($AD19=S3Out)*($AE19=S4Out)*($AF19=S5Out)*($AG19=S6Out)*($AH19=S7Out)),0)),0)","v":0},0,"","","","",{"$f":"IF(SUMPRODUCT(--ISNUMBER(SEARCH(AA_F,$G19)))>0,5,\"\")","v":""},{"$f":"IFERROR(INDEX(AASR,MATCH(1,(($AK19=AA1Out)*($AL19=AA2Out)*($AM19=AA3Out)*($AN19=AA4Out)*($AO19=AA5Out)),0)),0)","v":0},0,0,0,"BLANK"]
[19,null,{"$f":"IFERROR(INDEX(Input!$B$23:$B$192,MATCH(B20,Input!$A$23:$A$192,FALSE),1),\"\")","v":""},{"$f":"IFERROR(INDEX(Input!$C$23:$C$192,MATCH(B20,Input!$A$23:$A$192,FALSE),1),\"\")","v":""},{"$nulls":7},"",{"$f":"IFERROR(INDEX(Input!$F$23:$F$192,MATCH(B20,Input!$A$23:$A$192,FALSE),1),\"\")","v":""},"",{"$f":"IFERROR(INDEX(Input!$K$23:$K$192,MATCH(B20,Input!$A$23:$A$192,FALSE),1),\"\")","v":""},0,{"$f":"IFERROR(VLOOKUP(ExamQ[[#This Row],[Test Question Complexity]],#REF!,3),\"\")","v":""},{"$f":"IFERROR(INDEX(Input!$L$23:$L$192,MATCH(B20,Input!$A$23:$A$192,FALSE),1),\"\")","v":""},0,"","","","","","",{"$f":"IFERROR(INDEX(KSR,MATCH(1,(($T20=K1Out)*($U20=K2Out)*($V20=K3Out)*($W20=K4Out)*($X20=K5Out)*($Y20=K6Out)),0)),0)","v":0},0,"","","","","","","",{"$f":"IFERROR(INDEX(SSR,MATCH(1,((AB20=S1Out)*($AC20=S2Out)*($AD20=S3Out)*($AE20=S4Out)*($AF20=S5Out)*($AG20=S6Out)*($AH20=S7Out)),0)),0)","v":0},0,"","","","",{"$f":"IF(SUMPRODUCT(--ISNUMBER(SEARCH(AA_F,$G20)))>0,5,\"\")","v":""},{"$f":"IFERROR(INDEX(AASR,MATCH(1,(($AK20=AA1Out)*($AL20=AA2Out)*($AM20=AA3Out)*($AN20=AA4Out)*($AO20=AA5Out)),0)),0)","v":0},0,0,0,"BLANK"]
[20,null,{"$f":"IFERROR(INDEX(Input!$B$23:$B$192,MATCH(B21,Input!$A$23:$A$192,FALSE),1),\"\")","v":""},{"$f":"IFERROR(INDEX(Input!$C$23:$C$192,MATCH(B21,Input!$A$23:$A$192,FALSE),1),\"\")","v":""},{"$nulls":7},"",{"$f":"IFERROR(INDEX(Input!$F$23:$F$192,MATCH(B21,Input!$A$23:$A$192,FALSE),1),\"\")","v":""},"",{"$f":"IFERROR(INDEX(Input!$K$23:$K$192,MATCH(B21,Input!$A$23:$A$192,FALSE),1),\"\")","v":""},0,{"$f":"IFERROR(VLOOKUP(ExamQ[[#This Row],[Test Question Complexity]],#REF!,3),\"\")","v":""},{"$f":"IFERROR(INDEX(Input!$L$23:$L$192,MATCH(B21,Input!$A$23:$A$192,FALSE),1),\"\")","v":""},0,"","","","","","",{"$f":"IFERROR(INDEX(KSR,MATCH(1,(($T21=K1Out)*($U21=K2Out)*($V21=K3Out)*($W21=K4Out)*($X21=K5Out)*($Y21=K6Out)),0)),0)","v":0},0,"","","","","","","",{"$f":"IFERROR(INDEX(SSR,MATCH(1,((AB21=S1Out)*($AC21=S2Out)*($AD21=S3Out)*($AE21=S4Out)*($AF21=S5Out)*($AG21=S6Out)*($AH21=S7Out)),0)),0)","v":0},0,"","","","",{"$f":"IF(SUMPRODUCT(--ISNUMBER(SEARCH(AA_F,$G21)))>0,5,\"\")","v":""},{"$f":"IFERROR(INDEX(AASR,MATCH(1,(($AK21=AA1Out)*($AL21=AA2Out)*($AM21=AA3Out)*($AN21=AA4Out)*($AO21=AA5Out)),0)),0)","v":0},0,0,0,"BLANK"]
[21,null,{"$f":"IFERROR(INDEX(Input!$B$23:$B$192,MATCH(B22,Input!$A$23:$A$192,FALSE),1),\"\")","v":""},{"$f":"IFERROR(INDEX(Input!$C$23:$C$192,MATCH(B22,Input!$A$23:$A$192,FALSE),1),\"\")","v":""},{"$nulls":7},"",{"$f":"IFERROR(INDEX(Input!$F$23:$F$192,MATCH(B22,Input!$A$23:$A$192,FALSE),1),\"\")","v":""},"",{"$f":"IFERROR(INDEX(Input!$K$23:$K$192,MATCH(B22,Input!$A$23:$A$192,FALSE),1),\"\")","v":""},0,{"$f":"IFERROR(VLOOKUP(ExamQ[[#This Row],[Test Question Complexity]],#REF!,3),\"\")","v":""},{"$f":"IFERROR(INDEX(Input!$L$23:$L$192,MATCH(B22,Input!$A$23:$A$192,FALSE),1),\"\")","v":""},0,"","","","","","",{"$f":"IFERROR(INDEX(KSR,MATCH(1,(($T22=K1Out)*($U22=K2Out)*($V22=K3Out)*($W22=K4Out)*($X22=K5Out)*($Y22=K6Out)),0)),0)","v":0},0,"","","","","","","",{"$f":"IFERROR(INDEX(SSR,MATCH(1,((AB22=S1Out)*($AC22=S2Out)*($AD22=S3Out)*($AE22=S4Out)*($AF22=S5Out)*($AG22=S6Out)*($AH22=S7Out)),0)),0)","v":0},0,"","","","",{"$f":"IF(SUMPRODUCT(--ISNUMBER(SEARCH(AA_F,$G22)))>0,5,\"\")","v":""},{"$f":"IFERROR(INDEX(AASR,MATCH(1,(($AK22=AA1Out)*($AL22=AA2Out)*($AM22=AA3Out)*($AN22=AA4Out)*($AO22=AA5Out)),0)),0)","v":0},0,0,0,"BLANK"]
[22,null,{"$f":"IFERROR(INDEX(Input!$B$23:$B$192,MATCH(B23,Input!$A$23:$A$192,FALSE),1),\"\")","v":""},{"$f":"IFERROR(INDEX(Input!$C$23:$C$192,MATCH(B23,Input!$A$23:$A$192,FALSE),1),\"\")","v":""},{"$nulls":7},"",{"$f":"IFERROR(INDEX(Input!$F$23:$F$192,MATCH(B23,Input!$A$23:$A$192,FALSE),1),\"\")","v":""},"",{"$f":"IFERROR(INDEX(Input!$K$23:$K$192,MATCH(B23,Input!$A$23:$A$192,FALSE),1),\"\")","v":""},0,{"$f":"IFERROR(VLOOKUP(ExamQ[[#This Row],[Test Question Complexity]],#REF!,3),\"\")","v":""},{"$f":"IFERROR(INDEX(Input!$L$23:$L$192,MATCH(B23,Input!$A$23:$A$192,FALSE),1),\"\")","v":""},0,"","","","","","",{"$f":"IFERROR(INDEX(KSR,MATCH(1,(($T23=K1Out)*($U23=K2Out)*($V23=K3Out)*($W23=K4Out)*($X23=K5Out)*($Y23=K6Out)),0)),0)","v":0},0,"","","","","","","",{"$f":"IFERROR(INDEX(SSR,MATCH(1,((AB23=S1Out)*($AC23=S2Out)*($AD23=S3Out)*($AE23=S4Out)*($AF23=S5Out)*($AG23=S6Out)*($AH23=S7Out)),0)),0)","v":0},0,"","","","",{"$f":"IF(SUMPRODUCT(--ISNUMBER(SEARCH(AA_F,$G23)))>0,5,\"\")","v":""},{"$f":"IFERROR(INDEX(AASR,MATCH(1,(($AK23=AA1Out)*($AL23=AA2Out)*($AM23=AA3Out)*($AN23=AA4Out)*($AO23=AA5Out)),0)),0)","v":0},0,0,0,"BLANK"]
[23,null,{"$f":"IFERROR(INDEX(Input!$B$23:$B$192,MATCH(B24,Input!$A$23:$A$192,FALSE),1),\"\")","v":""},{"$f":"IFERROR(INDEX(Input!$C$23:$C$192,MATCH(B24,Input!$A$23:$A$192,FALSE),1),\"\")","v":""},{"$nulls":7},"",{"$f":"IFERROR(INDEX(Input!$F$23:$F$192,MATCH(B24,Input!$A$23:$A$192,FALSE),1),\"\")","v":""},"",{"$f":"IFERROR(INDEX(Input!$K$23:$K$192,MATCH(B24,Input!$A$23:$A$192,FALSE),1),\"\")","v":""},0,{"$f":"IFERROR(VLOOKUP(ExamQ[[#This Row],[Test Question Complexity]],#REF!,3),\"\")","v":""},{"$f":"IFERROR(INDEX(Input!$L$23:$L$192,MATCH(B24,Input!$A$23:$A$192,FALSE),1),\"\")","v":""},0,"","","","","","",{"$f":"IFERROR(INDEX(KSR,MATCH(1,(($T24=K1Out)*($U24=K2Out)*($V24=K3Out)*($W24=K4Out)*($X24=K5Out)*($Y24=K6Out)),0)),0)","v":0},0,"","","","","","","",{"$f":"IFERROR(INDEX(SSR,MATCH(1,((AB24=S1Out)*($AC24=S2Out)*($AD24=S3Out)*($AE24=S4Out)*($AF24=S5Out)*($AG24=S6Out)*($AH24=S7Out)),0)),0)","v":0},0,"","","","",{"$f":"IF(SUMPRODUCT(--ISNUMBER(SEARCH(AA_F,$G24)))>0,5,\"\")","v":""},{"$f":"IFERROR(INDEX(AASR,MATCH(1,(($AK24=AA1Out)*($AL24=AA2Out)*($AM24=AA3Out)*($AN24=AA4Out)*($AO24=AA5Out)),0)),0)","v":0},0,0,0,"BLANK"]
[24,null,{"$f":"IFERROR(INDEX(Input!$B$23:$B$192,MATCH(B25,Input!$A$23:$A$192,FALSE),1),\"\")","v":""},{"$f":"IFERROR(INDEX(Input!$C$23:$C$192,MATCH(B25,Input!$A$23:$A$192,FALSE),1),\"\")","v":""},{"$nulls":7},"",{"$f":"IFERROR(INDEX(Input!$F$23:$F$192,MATCH(B25,Input!$A$23:$A$192,FALSE),1),\"\")","v":""},"",{"$f":"IFERROR(INDEX(Input!$K$23:$K$192,MATCH(B25,Input!$A$23:$A$192,FALSE),1),\"\")","v":""},0,{"$f":"IFERROR(VLOOKUP(ExamQ[[#This Row],[Test Question Complexity]],#REF!,3),\"\")","v":""},{"$f":"IFERROR(INDEX(Input!$L$23:$L$192,MATCH(B25,Input!$A$23:$A$192,FALSE),1),\"\")","v":""},0,"","","","","","",{"$f":"IFERROR(INDEX(KSR,MATCH(1,(($T25=K1Out)*($U25=K2Out)*($V25=K3Out)*($W25=K4Out)*($X25=K5Out)*($Y25=K6Out)),0)),0)","v":0},0,"","","","","","","",{"$f":"IFERROR(INDEX(SSR,MATCH(1,((AB25=S1Out)*($AC25=S2Out)*($AD25=S3Out)*($AE25=S4Out)*($AF25=S5Out)*($AG25=S6Out)*($AH25=S7Out)),0)),0)","v":0},0,"","","","",{"$f":"IF(SUMPRODUCT(--ISNUMBER(SEARCH(AA_F,$G25)))>0,5,\"\")","v":""},{"$f":"IFERROR(INDEX(AASR,MATCH(1,(($AK25=AA1Out)*($AL25=AA2Out)*($AM25=AA3Out)*($AN25=AA4Out)*($AO25=AA5Out)),0)),0)","v":0},0,0,0,"BLANK"]
[25,null,{"$f":"IFERROR(INDEX(Input!$B$23:$B$192,MATCH(B26,Input!$A$23:$A$192,FALSE),1),\"\")","v":""},{"$f":"IFERROR(INDEX(Input!$C$23:$C$192,MATCH(B26,Input!$A$23:$A$192,FALSE),1),\"\")","v":""},{"$nulls":7},"",{"$f":"IFERROR(INDEX(Input!$F$23:$F$192,MATCH(B26,Input!$A$23:$A$192,FALSE),1),\"\")","v":""},"",{"$f":"IFERROR(INDEX(Input!$K$23:$K$192,MATCH(B26,Input!$A$23:$A$192,FALSE),1),\"\")","v":""},0,{"$f":"IFERROR(VLOOKUP(ExamQ[[#This Row],[Test Question Complexity]],#REF!,3),\"\")","v":""},{"$f":"IFERROR(INDEX(Input!$L$23:$L$192,MATCH(B26,Input!$A$23:$A$192,FALSE),1),\"\")","v":""},0,"","","","","","",{"$f":"IFERROR(INDEX(KSR,MATCH(1,(($T26=K1Out)*($U26=K2Out)*($V26=K3Out)*($W26=K4Out)*($X26=K5Out)*($Y26=K6Out)),0)),0)","v":0},0,"","","","","","","",{"$f":"IFERROR(INDEX(SSR,MATCH(1,((AB26=S1Out)*($AC26=S2Out)*($AD26=S3Out)*($AE26=S4Out)*($AF26=S5Out)*($AG26=S6Out)*($AH26=S7Out)),0)),0)","v":0},0,"","","","",{"$f":"IF(SUMPRODUCT(--ISNUMBER(SEARCH(AA_F,$G26)))>0,5,\"\")","v":""},{"$f":"IFERROR(INDEX(AASR,MATCH(1,(($AK26=AA1Out)*($AL26=AA2Out)*($AM26=AA3Out)*($AN26=AA4Out)*($AO26=AA5Out)),0)),0)","v":0},0,0,0,"BLANK"]
[26,null,{"$f":"IFERROR(INDEX(Input!$B$23:$B$192,MATCH(B27,Input!$A$23:$A$192,FALSE),1),\"\")","v":""},{"$f":"IFERROR(INDEX(Input!$C$23:$C$192,MATCH(B27,Input!$A$23:$A$192,FALSE),1),\"\")","v":""},{"$nulls":7},"",{"$f":"IFERROR(INDEX(Input!$F$23:$F$192,MATCH(B27,Input!$A$23:$A$192,FALSE),1),\"\")","v":""},"",{"$f":"IFERROR(INDEX(Input!$K$23:$K$192,MATCH(B27,Input!$A$23:$A$192,FALSE),1),\"\")","v":""},0,{"$f":"IFERROR(VLOOKUP(ExamQ[[#This Row],[Test Question Complexity]],#REF!,3),\"\")","v":""},{"$f":"IFERROR(INDEX(Input!$L$23:$L$192,MATCH(B27,Input!$A$23:$A$192,FALSE),1),\"\")","v":""},0,"","","","","","",{"$f":"IFERROR(INDEX(KSR,MATCH(1,(($T27=K1Out)*($U27=K2Out)*($V27=K3Out)*($W27=K4Out)*($X27=K5Out)*($Y27=K6Out)),0)),0)","v":0},0,"","","","","","","",{"$f":"IFERROR(INDEX(SSR,MATCH(1,((AB27=S1Out)*($AC27=S2Out)*($AD27=S3Out)*($AE27=S4Out)*($AF27=S5Out)*($AG27=S6Out)*($AH27=S7Out)),0)),0)","v":0},0,"","","","",{"$f":"IF(SUMPRODUCT(--ISNUMBER(SEARCH(AA_F,$G27)))>0,5,\"\")","v":""},{"$f":"IFERROR(INDEX(AASR,MATCH(1,(($AK27=AA1Out)*($AL27=AA2Out)*($AM27=AA3Out)*($AN27=AA4Out)*($AO27=AA5Out)),0)),0)","v":0},0,0,0,"BLANK"]
[27,null,{"$f":"IFERROR(INDEX(Input!$B$23:$B$192,MATCH(B28,Input!$A$23:$A$192,FALSE),1),\"\")","v":""},{"$f":"IFERROR(INDEX(Input!$C$23:$C$192,MATCH(B28,Input!$A$23:$A$192,FALSE),1),\"\")","v":""},{"$nulls":7},"",{"$f":"IFERROR(INDEX(Input!$F$23:$F$192,MATCH(B28,Input!$A$23:$A$192,FALSE),1),\"\")","v":""},"",{"$f":"IFERROR(INDEX(Input!$K$23:$K$192,MATCH(B28,Input!$A$23:$A$192,FALSE),1),\"\")","v":""},0,{"$f":"IFERROR(VLOOKUP(ExamQ[[#This Row],[Test Question Complexity]],#REF!,3),\"\")","v":""},{"$f":"IFERROR(INDEX(Input!$L$23:$L$192,MATCH(B28,Input!$A$23:$A$192,FALSE),1),\"\")","v":""},0,"","","","","","",{"$f":"IFERROR(INDEX(KSR,MATCH(1,(($T28=K1Out)*($U28=K2Out)*($V28=K3Out)*($W28=K4Out)*($X28=K5Out)*($Y28=K6Out)),0)),0)","v":0},0,"","","","","","","",{"$f":"IFERROR(INDEX(SSR,MATCH(1,((AB28=S1Out)*($AC28=S2Out)*($AD28=S3Out)*($AE28=S4Out)*($AF28=S5Out)*($AG28=S6Out)*($AH28=S7Out)),0)),0)","v":0},0,"","","","",{"$f":"IF(SUMPRODUCT(--ISNUMBER(SEARCH(AA_F,$G28)))>0,5,\"\")","v":""},{"$f":"IFERROR(INDEX(AASR,MATCH(1,(($AK28=AA1Out)*($AL28=AA2Out)*($AM28=AA3Out)*($AN28=AA4Out)*($AO28=AA5Out)),0)),0)","v":0},0,0,0,"BLANK"]
[28,null,{"$f":"IFERROR(INDEX(Input!$B$23:$B$192,MATCH(B29,Input!$A$23:$A$192,FALSE),1),\"\")","v":""},{"$f":"IFERROR(INDEX(Input!$C$23:$C$192,MATCH(B29,Input!$A$23:$A$192,FALSE),1),\"\")","v":""},{"$nulls":7},"",{"$f":"IFERROR(INDEX(Input!$F$23:$F$192,MATCH(B29,Input!$A$23:$A$192,FALSE),1),\"\")","v":""},"",{"$f":"IFERROR(INDEX(Input!$K$23:$K$192,MATCH(B29,Input!$A$23:$A$192,FALSE),1),\"\")","v":""},0,{"$f":"IFERROR(VLOOKUP(ExamQ[[#This Row],[Test Question Complexity]],#REF!,3),\"\")","v":""},{"$f":"IFERROR(INDEX(Input!$L$23:$L$192,MATCH(B29,Input!$A$23:$A$192,FALSE),1),\"\")","v":""},0,"","","","","","",{"$f":"IFERROR(INDEX(KSR,MATCH(1,(($T29=K1Out)*($U29=K2Out)*($V29=K3Out)*($W29=K4Out)*($X29=K5Out)*($Y29=K6Out)),0)),0)","v":0},0,"","","","","","","",{"$f":"IFERROR(INDEX(SSR,MATCH(1,((AB29=S1Out)*($AC29=S2Out)*($AD29=S3Out)*($AE29=S4Out)*($AF29=S5Out)*($AG29=S6Out)*($AH29=S7Out)),0)),0)","v":0},0,"","","","",{"$f":"IF(SUMPRODUCT(--ISNUMBER(SEARCH(AA_F,$G29)))>0,5,\"\")","v":""},{"$f":"IFERROR(INDEX(AASR,MATCH(1,(($AK29=AA1Out)*($AL29=AA2Out)*($AM29=AA3Out)*($AN29=AA4Out)*($AO29=AA5Out)),0)),0)","v":0},0,0,0,"BLANK"]
[29,null,{"$f":"IFERROR(INDEX(Input!$B$23:$B$192,MATCH(B30,Input!$A$23:$A$192,FALSE),1),\"\")","v":""},{"$f":"IFERROR(INDEX(Input!$C$23:$C$192,MATCH(B30,Input!$A$23:$A$192,FALSE),1),\"\")","v":""},{"$nulls":7},"",{"$f":"IFERROR(INDEX(Input!$F$23:$F$192,MATCH(B30,Input!$A$23:$A$192,FALSE),1),\"\")","v":""},"",{"$f":"IFERROR(INDEX(Input!$K$23:$K$192,MATCH(B30,Input!$A$23:$A$192,FALSE),1),\"\")","v":""},0,{"$f":"IFERROR(VLOOKUP(ExamQ[[#This Row],[Test Question Complexity]],#REF!,3),\"\")","v":""},{"$f":"IFERROR(INDEX(Input!$L$23:$L$192,MATCH(B30,Input!$A$23:$A$192,FALSE),1),\"\")","v":""},0,"","","","","","",{"$f":"IFERROR(INDEX(KSR,MATCH(1,(($T30=K1Out)*($U30=K2Out)*($V30=K3Out)*($W30=K4Out)*($X30=K5Out)*($Y30=K6Out)),0)),0)","v":0},0,"","","","","","","",{"$f":"IFERROR(INDEX(SSR,MATCH(1,((AB30=S1Out)*($AC30=S2Out)*($AD30=S3Out)*($AE30=S4Out)*($AF30=S5Out)*($AG30=S6Out)*($AH30=S7Out)),0)),0)","v":0},0,"","","","",{"$f":"IF(SUMPRODUCT(--ISNUMBER(SEARCH(AA_F,$G30)))>0,5,\"\")","v":""},{"$f":"IFERROR(INDEX(AASR,MATCH(1,(($AK30=AA1Out)*($AL30=AA2Out)*($AM30=AA3Out)*($AN30=AA4Out)*($AO30=AA5Out)),0)),0)","v":0},0,0,0,"BLANK"]
[30,null,{"$f":"IFERROR(INDEX(Input!$B$23:$B$192,MATCH(B31,Input!$A$23:$A$192,FALSE),1),\"\")","v":""},{"$f":"IFERROR(INDEX(Input!$C$23:$C$192,MATCH(B31,Input!$A$23:$A$192,FALSE),1),\"\")","v":""},{"$nulls":7},"",{"$f":"IFERROR(INDEX(Input!$F$23:$F$192,MATCH(B31,Input!$A$23:$A$192,FALSE),1),\"\")","v":""},"",{"$f":"IFERROR(INDEX(Input!$K$23:$K$192,MATCH(B31,Input!$A$23:$A$192,FALSE),1),\"\")","v":""},0,{"$f":"IFERROR(VLOOKUP(ExamQ[[#This Row],[Test Question Complexity]],#REF!,3),\"\")","v":""},{"$f":"IFERROR(INDEX(Input!$L$23:$L$192,MATCH(B31,Input!$A$23:$A$192,FALSE),1),\"\")","v":""},0,"","","","","","",{"$f":"IFERROR(INDEX(KSR,MATCH(1,(($T31=K1Out)*($U31=K2Out)*($V31=K3Out)*($W31=K4Out)*($X31=K5Out)*($Y31=K6Out)),0)),0)","v":0},0,"","","","","","","",{"$f":"IFERROR(INDEX(SSR,MATCH(1,((AB31=S1Out)*($AC31=S2Out)*($AD31=S3Out)*($AE31=S4Out)*($AF31=S5Out)*($AG31=S6Out)*($AH31=S7Out)),0)),0)","v":0},0,"","","","",{"$f":"IF(SUMPRODUCT(--ISNUMBER(SEARCH(AA_F,$G31)))>0,5,\"\")","v":""},{"$f":"IFERROR(INDEX(AASR,MATCH(1,(($AK31=AA1Out)*($AL31=AA2Out)*($AM31=AA3Out)*($AN31=AA4Out)*($AO31=AA5Out)),0)),0)","v":0},0,0,0,"BLANK"]
[31,null,{"$f":"IFERROR(INDEX(Input!$B$23:$B$192,MATCH(B32,Input!$A$23:$A$192,FALSE),1),\"\")","v":""},{"$f":"IFERROR(INDEX(Input!$C$23:$C$192,MATCH(B32,Input!$A$23:$A$192,FALSE),1),\"\")","v":""},{"$nulls":7},"",{"$f":"IFERROR(INDEX(Input!$F$23:$F$192,MATCH(B32,Input!$A$23:$A$192,FALSE),1),\"\")","v":""},"",{"$f":"IFERROR(INDEX(Input!$K$23:$K$192,MATCH(B32,Input!$A$23:$A$192,FALSE),1),\"\")","v":""},0,{"$f":"IFERROR(VLOOKUP(ExamQ[[#This Row],[Test Question Complexity]],#REF!,3),\"\")","v":""},{"$f":"IFERROR(INDEX(Input!$L$23:$L$192,MATCH(B32,Input!$A$23:$A$192,FALSE),1),\"\")","v":""},0,"","","","","","",{"$f":"IFERROR(INDEX(KSR,MATCH(1,(($T32=K1Out)*($U32=K2Out)*($V32=K3Out)*($W32=K4Out)*($X32=K5Out)*($Y32=K6Out)),0)),0)","v":0},0,"","","","","","","",{"$f":"IFERROR(INDEX(SSR,MATCH(1,((AB32=S1Out)*($AC32=S2Out)*($AD32=S3Out)*($AE32=S4Out)*($AF32=S5Out)*($AG32=S6Out)*($AH32=S7Out)),0)),0)","v":0},0,"","","","",{"$f":"IF(SUMPRODUCT(--ISNUMBER(SEARCH(AA_F,$G32)))>0,5,\"\")","v":""},{"$f":"IFERROR(INDEX(AASR,MATCH(1,(($AK32=AA1Out)*($AL32=AA2Out)*($AM32=AA3Out)*($AN32=AA4Out)*($AO32=AA5Out)),0)),0)","v":0},0,0,0,"BLANK"]
[32,null,{"$f":"IFERROR(INDEX(Input!$B$23:$B$192,MATCH(B33,Input!$A$23:$A$192,FALSE),1),\"\")","v":""},{"$f":"IFERROR(INDEX(Input!$C$23:$C$192,MATCH(B33,Input!$A$23:$A$192,FALSE),1),\"\")","v":""},{"$nulls":7},"",{"$f":"IFERROR(INDEX(Input!$F$23:$F$192,MATCH(B33,Input!$A$23:$A$192,FALSE),1),\"\")","v":""},"",{"$f":"IFERROR(INDEX(Input!$K$23:$K$192,MATCH(B33,Input!$A$23:$A$192,FALSE),1),\"\")","v":""},0,{"$f":"IFERROR(VLOOKUP(ExamQ[[#This Row],[Test Question Complexity]],#REF!,3),\"\")","v":""},{"$f":"IFERROR(INDEX(Input!$L$23:$L$192,MATCH(B33,Input!$A$23:$A$192,FALSE),1),\"\")","v":""},0,"","","","","","",{"$f":"IFERROR(INDEX(KSR,MATCH(1,(($T33=K1Out)*($U33=K2Out)*($V33=K3Out)*($W33=K4Out)*($X33=K5Out)*($Y33=K6Out)),0)),0)","v":0},0,"","","","","","","",{"$f":"IFERROR(INDEX(SSR,MATCH(1,((AB33=S1Out)*($AC33=S2Out)*($AD33=S3Out)*($AE33=S4Out)*($AF33=S5Out)*($AG33=S6Out)*($AH33=S7Out)),0)),0)","v":0},0,"","","","",{"$f":"IF(SUMPRODUCT(--ISNUMBER(SEARCH(AA_F,$G33)))>0,5,\"\")","v":""},{"$f":"IFERROR(INDEX(AASR,MATCH(1,(($AK33=AA1Out)*($AL33=AA2Out)*($AM33=AA3Out)*($AN33=AA4Out)*($AO33=AA5Out)),0)),0)","v":0},0,0,0,"BLANK"]
[33,null,{"$f":"IFERROR(INDEX(Input!$B$23:$B$192,MATCH(B34,Input!$A$23:$A$192,FALSE),1),\"\")","v":""},{"$f":"IFERROR(INDEX(Input!$C$23:$C$192,MATCH(B34,Input!$A$23:$A$192,FALSE),1),\"\")","v":""},{"$nulls":7},{"$f":"IF(B34<>\"\",SUM(I34:K34),\"\")","v":""},{"$f":"IFERROR(INDEX(Input!$F$23:$F$192,MATCH(B34,Input!$A$23:$A$192,FALSE),1),\"\")","v":""},{"$f":"IFERROR(L34*M34,\"\")","v":""},{"$f":"IFERROR(INDEX(Input!$K$23:$K$192,MATCH(B34,Input!$A$23:$A$192,FALSE),1),\"\")","v":""},{"$f":"IF(N34>O34,1,0)","v":0},{"$f":"IFERROR(VLOOKUP(ExamQ[[#This Row],[Test Question Complexity]],#REF!,3),\"\")","v":""},{"$f":"IFERROR(INDEX(Input!$L$23:$L$192,MATCH(B34,Input!$A$23:$A$192,FALSE),1),\"\")","v":""},0,{"$f":"IF(SUMPRODUCT(--ISNUMBER(SEARCH(K_A,$G34)))>0,1,\"\")","v":""},{"$f":"IF(SUMPRODUCT(--ISNUMBER(SEARCH(K_B,$G34)))>0,2,\"\")","v":""},{"$f":"IF(SUMPRODUCT(--ISNUMBER(SEARCH(K_C,$G34)))>0,3,\"\")","v":""},{"$f":"IF(SUMPRODUCT(--ISNUMBER(SEARCH(K_D,$G34)))>0,4,\"\")","v":""},{"$f":"IF(SUMPRODUCT(--ISNUMBER(SEARCH(K_E,$G34)))>0,5,\"\")","v":""},{"$f":"IF(SUMPRODUCT(--ISNUMBER(SEARCH(K_F,$G34)))>0,6,\"\")","v":""},{"$f":"IFERROR(INDEX(KSR,MATCH(1,(($T34=K1Out)*($U34=K2Out)*($V34=K3Out)*($W34=K4Out)*($X34=K5Out)*($Y34=K6Out)),0)),0)","v":0},0,{"$f":"IF(SUMPRODUCT(--ISNUMBER(SEARCH(S_A,$G34)))>0,1,\"\")","v":""},{"$f":"IF(SUMPRODUCT(--ISNUMBER(SEARCH(S_B,$G34)))>0, 2,\"\")","v":""},{"$f":"IF(SUMPRODUCT(--ISNUMBER(SEARCH(S_C,$G34)))>0,3,\"\")","v":""},{"$f":"IF(SUMPRODUCT(--ISNUMBER(SEARCH(S_D,$G34)))>0,4,\"\")","v":""},{"$f":"IF(SUMPRODUCT(--ISNUMBER(SEARCH(S_E,$G34)))>0,5,\"\")","v":""},{"$f":"IF(SUMPRODUCT(--ISNUMBER(SEARCH(S_F,$G34)))>0,6,\"\")","v":""},{"$f":"IF(SUMPRODUCT(--ISNUMBER(SEARCH(S_G,$G34)))>0,7,\"\")","v":""},{"$f":"IFERROR(INDEX(SSR,MATCH(1,((AB34=S1Out)*($AC34=S2Out)*($AD34=S3Out)*($AE34=S4Out)*($AF34=S5Out)*($AG34=S6Out)*($AH34=S7Out)),0)),0)","v":0},0,{"$f":"IF(SUMPRODUCT(--ISNUMBER(SEARCH(AA_A,$G34)))>0,1,\"\")","v":""},{"$f":"IF(SUMPRODUCT(--ISNUMBER(SEARCH(AA_B,$G34)))>0,2,\"\")","v":""},{"$f":"IF(SUMPRODUCT(--ISNUMBER(SEARCH(AA_C,$G34)))>0,3,\"\")","v":""},{"$f":"IF(SUMPRODUCT(--ISNUMBER(SEARCH(AA_D,$G34)))>0,4,\"\")","v":""},{"$f":"IF(SUMPRODUCT(--ISNUMBER(SEARCH(AA_F,$G34)))>0,5,\"\")","v":""},{"$f":"IFERROR(INDEX(AASR,MATCH(1,(($AK34=AA1Out)*($AL34=AA2Out)*($AM34=AA3Out)*($AN34=AA4Out)*($AO34=AA5Out)),0)),0)","v":0},0,0,0,"BLANK"]
[34,null,{"$f":"IFERROR(INDEX(Input!$B$23:$B$192,MATCH(B35,Input!$A$23:$A$192,FALSE),1),\"\")","v":""},{"$f":"IFERROR(INDEX(Input!$C$23:$C$192,MATCH(B35,Input!$A$23:$A$192,FALSE),1),\"\")","v":""},{"$nulls":7},"",{"$f":"IFERROR(INDEX(Input!$F$23:$F$192,MATCH(B35,Input!$A$23:$A$192,FALSE),1),\"\")","v":""},"",{"$f":"IFERROR(INDEX(Input!$K$23:$K$192,MATCH(B35,Input!$A$23:$A$192,FALSE),1),\"\")","v":""},0,{"$f":"IFERROR(VLOOKUP(ExamQ[[#This Row],[Test Question Complexity]],#REF!,3),\"\")","v":""},{"$f":"IFERROR(INDEX(Input!$L$23:$L$192,MATCH(B35,Input!$A$23:$A$192,FALSE),1),\"\")","v":""},0,"","","","","","",{"$f":"IFERROR(INDEX(KSR,MATCH(1,(($T35=K1Out)*($U35=K2Out)*($V35=K3Out)*($W35=K4Out)*($X35=K5Out)*($Y35=K6Out)),0)),0)","v":0},0,"","","","","","","",{"$f":"IFERROR(INDEX(SSR,MATCH(1,((AB35=S1Out)*($AC35=S2Out)*($AD35=S3Out)*($AE35=S4Out)*($AF35=S5Out)*($AG35=S6Out)*($AH35=S7Out)),0)),0)","v":0},0,"","","","",{"$f":"IF(SUMPRODUCT(--ISNUMBER(SEARCH(AA_F,$G35)))>0,5,\"\")","v":""},{"$f":"IFERROR(INDEX(AASR,MATCH(1,(($AK35=AA1Out)*($AL35=AA2Out)*($AM35=AA3Out)*($AN35=AA4Out)*($AO35=AA5Out)),0)),0)","v":0},0,0,0,"BLANK"]
[35,null,{"$f":"IFERROR(INDEX(Input!$B$23:$B$192,MATCH(B36,Input!$A$23:$A$192,FALSE),1),\"\")","v":""},{"$f":"IFERROR(INDEX(Input!$C$23:$C$192,MATCH(B36,Input!$A$23:$A$192,FALSE),1),\"\")","v":""},{"$nulls":7},"",{"$f":"IFERROR(INDEX(Input!$F$23:$F$192,MATCH(B36,Input!$A$23:$A$192,FALSE),1),\"\")","v":""},"",{"$f":"IFERROR(INDEX(Input!$K$23:$K$192,MATCH(B36,Input!$A$23:$A$192,FALSE),1),\"\")","v":""},0,{"$f":"IFERROR(VLOOKUP(ExamQ[[#This Row],[Test Question Complexity]],#REF!,3),\"\")","v":""},{"$f":"IFERROR(INDEX(Input!$L$23:$L$192,MATCH(B36,Input!$A$23:$A$192,FALSE),1),\"\")","v":""},0,"","","","","","",{"$f":"IFERROR(INDEX(KSR,MATCH(1,(($T36=K1Out)*($U36=K2Out)*($V36=K3Out)*($W36=K4Out)*($X36=K5Out)*($Y36=K6Out)),0)),0)","v":0},0,"","","","","","","",{"$f":"IFERROR(INDEX(SSR,MATCH(1,((AB36=S1Out)*($AC36=S2Out)*($AD36=S3Out)*($AE36=S4Out)*($AF36=S5Out)*($AG36=S6Out)*($AH36=S7Out)),0)),0)","v":0},0,"","","","",{"$f":"IF(SUMPRODUCT(--ISNUMBER(SEARCH(AA_F,$G36)))>0,5,\"\")","v":""},{"$f":"IFERROR(INDEX(AASR,MATCH(1,(($AK36=AA1Out)*($AL36=AA2Out)*($AM36=AA3Out)*($AN36=AA4Out)*($AO36=AA5Out)),0)),0)","v":0},0,0,0,"BLANK"]
[36,null,{"$f":"IFERROR(INDEX(Input!$B$23:$B$192,MATCH(B37,Input!$A$23:$A$192,FALSE),1),\"\")","v":""},{"$f":"IFERROR(INDEX(Input!$C$23:$C$192,MATCH(B37,Input!$A$23:$A$192,FALSE),1),\"\")","v":""},{"$nulls":7},"",{"$f":"IFERROR(INDEX(Input!$F$23:$F$192,MATCH(B37,Input!$A$23:$A$192,FALSE),1),\"\")","v":""},"",{"$f":"IFERROR(INDEX(Input!$K$23:$K$192,MATCH(B37,Input!$A$23:$A$192,FALSE),1),\"\")","v":""},0,{"$f":"IFERROR(VLOOKUP(ExamQ[[#This Row],[Test Question Complexity]],#REF!,3),\"\")","v":""},{"$f":"IFERROR(INDEX(Input!$L$23:$L$192,MATCH(B37,Input!$A$23:$A$192,FALSE),1),\"\")","v":""},0,"","","","","","",{"$f":"IFERROR(INDEX(KSR,MATCH(1,(($T37=K1Out)*($U37=K2Out)*($V37=K3Out)*($W37=K4Out)*($X37=K5Out)*($Y37=K6Out)),0)),0)","v":0},0,"","","","","","","",{"$f":"IFERROR(INDEX(SSR,MATCH(1,((AB37=S1Out)*($AC37=S2Out)*($AD37=S3Out)*($AE37=S4Out)*($AF37=S5Out)*($AG37=S6Out)*($AH37=S7Out)),0)),0)","v":0},0,"","","","",{"$f":"IF(SUMPRODUCT(--ISNUMBER(SEARCH(AA_F,$G37)))>0,5,\"\")","v":""},{"$f":"IFERROR(INDEX(AASR,MATCH(1,(($AK37=AA1Out)*($AL37=AA2Out)*($AM37=AA3Out)*($AN37=AA4Out)*($AO37=AA5Out)),0)),0)","v":0},0,0,0,"BLANK"]
[37,null,{"$f":"IFERROR(INDEX(Input!$B$23:$B$192,MATCH(B38,Input!$A$23:$A$192,FALSE),1),\"\")","v":""},{"$f":"IFERROR(INDEX(Input!$C$23:$C$192,MATCH(B38,Input!$A$23:$A$192,FALSE),1),\"\")","v":""},{"$nulls":7},"",{"$f":"IFERROR(INDEX(Input!$F$23:$F$192,MATCH(B38,Input!$A$23:$A$192,FALSE),1),\"\")","v":""},"",{"$f":"IFERROR(INDEX(Input!$K$23:$K$192,MATCH(B38,Input!$A$23:$A$192,FALSE),1),\"\")","v":""},0,{"$f":"IFERROR(VLOOKUP(ExamQ[[#This Row],[Test Question Complexity]],#REF!,3),\"\")","v":""},{"$f":"IFERROR(INDEX(Input!$L$23:$L$192,MATCH(B38,Input!$A$23:$A$192,FALSE),1),\"\")","v":""},0,"","","","","","",{"$f":"IFERROR(INDEX(KSR,MATCH(1,(($T38=K1Out)*($U38=K2Out)*($V38=K3Out)*($W38=K4Out)*($X38=K5Out)*($Y38=K6Out)),0)),0)","v":0},0,"","","","","","","",{"$f":"IFERROR(INDEX(SSR,MATCH(1,((AB38=S1Out)*($AC38=S2Out)*($AD38=S3Out)*($AE38=S4Out)*($AF38=S5Out)*($AG38=S6Out)*($AH38=S7Out)),0)),0)","v":0},0,"","","","",{"$f":"IF(SUMPRODUCT(--ISNUMBER(SEARCH(AA_F,$G38)))>0,5,\"\")","v":""},{"$f":"IFERROR(INDEX(AASR,MATCH(1,(($AK38=AA1Out)*($AL38=AA2Out)*($AM38=AA3Out)*($AN38=AA4Out)*($AO38=AA5Out)),0)),0)","v":0},0,0,0,"BLANK"]
[38,null,{"$f":"IFERROR(INDEX(Input!$B$23:$B$192,MATCH(B39,Input!$A$23:$A$192,FALSE),1),\"\")","v":""},{"$f":"IFERROR(INDEX(Input!$C$23:$C$192,MATCH(B39,Input!$A$23:$A$192,FALSE),1),\"\")","v":""},{"$nulls":7},"",{"$f":"IFERROR(INDEX(Input!$F$23:$F$192,MATCH(B39,Input!$A$23:$A$192,FALSE),1),\"\")","v":""},"",{"$f":"IFERROR(INDEX(Input!$K$23:$K$192,MATCH(B39,Input!$A$23:$A$192,FALSE),1),\"\")","v":""},0,{"$f":"IFERROR(VLOOKUP(ExamQ[[#This Row],[Test Question Complexity]],#REF!,3),\"\")","v":""},{"$f":"IFERROR(INDEX(Input!$L$23:$L$192,MATCH(B39,Input!$A$23:$A$192,FALSE),1),\"\")","v":""},0,"","","","","","",{"$f":"IFERROR(INDEX(KSR,MATCH(1,(($T39=K1Out)*($U39=K2Out)*($V39=K3Out)*($W39=K4Out)*($X39=K5Out)*($Y39=K6Out)),0)),0)","v":0},0,"","","","","","","",{"$f":"IFERROR(INDEX(SSR,MATCH(1,((AB39=S1Out)*($AC39=S2Out)*($AD39=S3Out)*($AE39=S4Out)*($AF39=S5Out)*($AG39=S6Out)*($AH39=S7Out)),0)),0)","v":0},0,"","","","",{"$f":"IF(SUMPRODUCT(--ISNUMBER(SEARCH(AA_F,$G39)))>0,5,\"\")","v":""},{"$f":"IFERROR(INDEX(AASR,MATCH(1,(($AK39=AA1Out)*($AL39=AA2Out)*($AM39=AA3Out)*($AN39=AA4Out)*($AO39=AA5Out)),0)),0)","v":0},0,0,0,"BLANK"]
[39,null,{"$f":"IFERROR(INDEX(Input!$B$23:$B$192,MATCH(B40,Input!$A$23:$A$192,FALSE),1),\"\")","v":""},{"$f":"IFERROR(INDEX(Input!$C$23:$C$192,MATCH(B40,Input!$A$23:$A$192,FALSE),1),\"\")","v":""},{"$nulls":7},"",{"$f":"IFERROR(INDEX(Input!$F$23:$F$192,MATCH(B40,Input!$A$23:$A$192,FALSE),1),\"\")","v":""},"",{"$f":"IFERROR(INDEX(Input!$K$23:$K$192,MATCH(B40,Input!$A$23:$A$192,FALSE),1),\"\")","v":""},0,{"$f":"IFERROR(VLOOKUP(ExamQ[[#This Row],[Test Question Complexity]],#REF!,3),\"\")","v":""},{"$f":"IFERROR(INDEX(Input!$L$23:$L$192,MATCH(B40,Input!$A$23:$A$192,FALSE),1),\"\")","v":""},0,"","","","","","",{"$f":"IFERROR(INDEX(KSR,MATCH(1,(($T40=K1Out)*($U40=K2Out)*($V40=K3Out)*($W40=K4Out)*($X40=K5Out)*($Y40=K6Out)),0)),0)","v":0},0,"","","","","","","",{"$f":"IFERROR(INDEX(SSR,MATCH(1,((AB40=S1Out)*($AC40=S2Out)*($AD40=S3Out)*($AE40=S4Out)*($AF40=S5Out)*($AG40=S6Out)*($AH40=S7Out)),0)),0)","v":0},0,"","","","",{"$f":"IF(SUMPRODUCT(--ISNUMBER(SEARCH(AA_F,$G40)))>0,5,\"\")","v":""},{"$f":"IFERROR(INDEX(AASR,MATCH(1,(($AK40=AA1Out)*($AL40=AA2Out)*($AM40=AA3Out)*($AN40=AA4Out)*($AO40=AA5Out)),0)),0)","v":0},0,0,0,"BLANK"]
[40,null,{"$f":"IFERROR(INDEX(Input!$B$23:$B$192,MATCH(B41,Input!$A$23:$A$192,FALSE),1),\"\")","v":""},{"$f":"IFERROR(INDEX(Input!$C$23:$C$192,MATCH(B41,Input!$A$23:$A$192,FALSE),1),\"\")","v":""},{"$nulls":7},"",{"$f":"IFERROR(INDEX(Input!$F$23:$F$192,MATCH(B41,Input!$A$23:$A$192,FALSE),1),\"\")","v":""},"",{"$f":"IFERROR(INDEX(Input!$K$23:$K$192,MATCH(B41,Input!$A$23:$A$192,FALSE),1),\"\")","v":""},0,{"$f":"IFERROR(VLOOKUP(ExamQ[[#This Row],[Test Question Complexity]],#REF!,3),\"\")","v":""},{"$f":"IFERROR(INDEX(Input!$L$23:$L$192,MATCH(B41,Input!$A$23:$A$192,FALSE),1),\"\")","v":""},0,"","","","","","",{"$f":"IFERROR(INDEX(KSR,MATCH(1,(($T41=K1Out)*($U41=K2Out)*($V41=K3Out)*($W41=K4Out)*($X41=K5Out)*($Y41=K6Out)),0)),0)","v":0},0,"","","","","","","",{"$f":"IFERROR(INDEX(SSR,MATCH(1,((AB41=S1Out)*($AC41=S2Out)*($AD41=S3Out)*($AE41=S4Out)*($AF41=S5Out)*($AG41=S6Out)*($AH41=S7Out)),0)),0)","v":0},0,"","","","",{"$f":"IF(SUMPRODUCT(--ISNUMBER(SEARCH(AA_F,$G41)))>0,5,\"\")","v":""},{"$f":"IFERROR(INDEX(AASR,MATCH(1,(($AK41=AA1Out)*($AL41=AA2Out)*($AM41=AA3Out)*($AN41=AA4Out)*($AO41=AA5Out)),0)),0)","v":0},0,0,0,"BLANK"]
[41,null,{"$f":"IFERROR(INDEX(Input!$B$23:$B$192,MATCH(B42,Input!$A$23:$A$192,FALSE),1),\"\")","v":""},{"$f":"IFERROR(INDEX(Input!$C$23:$C$192,MATCH(B42,Input!$A$23:$A$192,FALSE),1),\"\")","v":""},{"$nulls":7},"",{"$f":"IFERROR(INDEX(Input!$F$23:$F$192,MATCH(B42,Input!$A$23:$A$192,FALSE),1),\"\")","v":""},"",{"$f":"IFERROR(INDEX(Input!$K$23:$K$192,MATCH(B42,Input!$A$23:$A$192,FALSE),1),\"\")","v":""},0,{"$f":"IFERROR(VLOOKUP(ExamQ[[#This Row],[Test Question Complexity]],#REF!,3),\"\")","v":""},{"$f":"IFERROR(INDEX(Input!$L$23:$L$192,MATCH(B42,Input!$A$23:$A$192,FALSE),1),\"\")","v":""},0,"","","","","","",{"$f":"IFERROR(INDEX(KSR,MATCH(1,(($T42=K1Out)*($U42=K2Out)*($V42=K3Out)*($W42=K4Out)*($X42=K5Out)*($Y42=K6Out)),0)),0)","v":0},0,"","","","","","","",{"$f":"IFERROR(INDEX(SSR,MATCH(1,((AB42=S1Out)*($AC42=S2Out)*($AD42=S3Out)*($AE42=S4Out)*($AF42=S5Out)*($AG42=S6Out)*($AH42=S7Out)),0)),0)","v":0},0,"","","","",{"$f":"IF(SUMPRODUCT(--ISNUMBER(SEARCH(AA_F,$G42)))>0,5,\"\")","v":""},{"$f":"IFERROR(INDEX(AASR,MATCH(1,(($AK42=AA1Out)*($AL42=AA2Out)*($AM42=AA3Out)*($AN42=AA4Out)*($AO42=AA5Out)),0)),0)","v":0},0,0,0,"BLANK"]
[42,null,{"$f":"IFERROR(INDEX(Input!$B$23:$B$192,MATCH(B43,Input!$A$23:$A$192,FALSE),1),\"\")","v":""},{"$f":"IFERROR(INDEX(Input!$C$23:$C$192,MATCH(B43,Input!$A$23:$A$192,FALSE),1),\"\")","v":""},{"$nulls":7},"",{"$f":"IFERROR(INDEX(Input!$F$23:$F$192,MATCH(B43,Input!$A$23:$A$192,FALSE),1),\"\")","v":""},"",{"$f":"IFERROR(INDEX(Input!$K$23:$K$192,MATCH(B43,Input!$A$23:$A$192,FALSE),1),\"\")","v":""},0,{"$f":"IFERROR(VLOOKUP(ExamQ[[#This Row],[Test Question Complexity]],#REF!,3),\"\")","v":""},{"$f":"IFERROR(INDEX(Input!$L$23:$L$192,MATCH(B43,Input!$A$23:$A$192,FALSE),1),\"\")","v":""},0,"","","","","","",{"$f":"IFERROR(INDEX(KSR,MATCH(1,(($T43=K1Out)*($U43=K2Out)*($V43=K3Out)*($W43=K4Out)*($X43=K5Out)*($Y43=K6Out)),0)),0)","v":0},0,"","","","","","","",{"$f":"IFERROR(INDEX(SSR,MATCH(1,((AB43=S1Out)*($AC43=S2Out)*($AD43=S3Out)*($AE43=S4Out)*($AF43=S5Out)*($AG43=S6Out)*($AH43=S7Out)),0)),0)","v":0},0,"","","","",{"$f":"IF(SUMPRODUCT(--ISNUMBER(SEARCH(AA_F,$G43)))>0,5,\"\")","v":""},{"$f":"IFERROR(INDEX(AASR,MATCH(1,(($AK43=AA1Out)*($AL43=AA2Out)*($AM43=AA3Out)*($AN43=AA4Out)*($AO43=AA5Out)),0)),0)","v":0},0,0,0,"BLANK"]
[43,null,{"$f":"IFERROR(INDEX(Input!$B$23:$B$192,MATCH(B44,Input!$A$23:$A$192,FALSE),1),\"\")","v":""},{"$f":"IFERROR(INDEX(Input!$C$23:$C$192,MATCH(B44,Input!$A$23:$A$192,FALSE),1),\"\")","v":""},{"$nulls":7},"",{"$f":"IFERROR(INDEX(Input!$F$23:$F$192,MATCH(B44,Input!$A$23:$A$192,FALSE),1),\"\")","v":""},"",{"$f":"IFERROR(INDEX(Input!$K$23:$K$192,MATCH(B44,Input!$A$23:$A$192,FALSE),1),\"\")","v":""},0,{"$f":"IFERROR(VLOOKUP(ExamQ[[#This Row],[Test Question Complexity]],#REF!,3),\"\")","v":""},{"$f":"IFERROR(INDEX(Input!$L$23:$L$192,MATCH(B44,Input!$A$23:$A$192,FALSE),1),\"\")","v":""},0,"","","","","","",{"$f":"IFERROR(INDEX(KSR,MATCH(1,(($T44=K1Out)*($U44=K2Out)*($V44=K3Out)*($W44=K4Out)*($X44=K5Out)*($Y44=K6Out)),0)),0)","v":0},0,"","","","","","","",{"$f":"IFERROR(INDEX(SSR,MATCH(1,((AB44=S1Out)*($AC44=S2Out)*($AD44=S3Out)*($AE44=S4Out)*($AF44=S5Out)*($AG44=S6Out)*($AH44=S7Out)),0)),0)","v":0},0,"","","","",{"$f":"IF(SUMPRODUCT(--ISNUMBER(SEARCH(AA_F,$G44)))>0,5,\"\")","v":""},{"$f":"IFERROR(INDEX(AASR,MATCH(1,(($AK44=AA1Out)*($AL44=AA2Out)*($AM44=AA3Out)*($AN44=AA4Out)*($AO44=AA5Out)),0)),0)","v":0},0,0,0,"BLANK"]
[44,null,{"$f":"IFERROR(INDEX(Input!$B$23:$B$192,MATCH(B45,Input!$A$23:$A$192,FALSE),1),\"\")","v":""},{"$f":"IFERROR(INDEX(Input!$C$23:$C$192,MATCH(B45,Input!$A$23:$A$192,FALSE),1),\"\")","v":""},{"$nulls":7},"",{"$f":"IFERROR(INDEX(Input!$F$23:$F$192,MATCH(B45,Input!$A$23:$A$192,FALSE),1),\"\")","v":""},"",{"$f":"IFERROR(INDEX(Input!$K$23:$K$192,MATCH(B45,Input!$A$23:$A$192,FALSE),1),\"\")","v":""},0,{"$f":"IFERROR(VLOOKUP(ExamQ[[#This Row],[Test Question Complexity]],#REF!,3),\"\")","v":""},{"$f":"IFERROR(INDEX(Input!$L$23:$L$192,MATCH(B45,Input!$A$23:$A$192,FALSE),1),\"\")","v":""},0,"","","","","","",{"$f":"IFERROR(INDEX(KSR,MATCH(1,(($T45=K1Out)*($U45=K2Out)*($V45=K3Out)*($W45=K4Out)*($X45=K5Out)*($Y45=K6Out)),0)),0)","v":0},0,"","","","","","","",{"$f":"IFERROR(INDEX(SSR,MATCH(1,((AB45=S1Out)*($AC45=S2Out)*($AD45=S3Out)*($AE45=S4Out)*($AF45=S5Out)*($AG45=S6Out)*($AH45=S7Out)),0)),0)","v":0},0,"","","","",{"$f":"IF(SUMPRODUCT(--ISNUMBER(SEARCH(AA_F,$G45)))>0,5,\"\")","v":""},{"$f":"IFERROR(INDEX(AASR,MATCH(1,(($AK45=AA1Out)*($AL45=AA2Out)*($AM45=AA3Out)*($AN45=AA4Out)*($AO45=AA5Out)),0)),0)","v":0},0,0,0,"BLANK"]
[45,null,{"$f":"IFERROR(INDEX(Input!$B$23:$B$192,MATCH(B46,Input!$A$23:$A$192,FALSE),1),\"\")","v":""},{"$f":"IFERROR(INDEX(Input!$C$23:$C$192,MATCH(B46,Input!$A$23:$A$192,FALSE),1),\"\")","v":""},{"$nulls":7},"",{"$f":"IFERROR(INDEX(Input!$F$23:$F$192,MATCH(B46,Input!$A$23:$A$192,FALSE),1),\"\")","v":""},"",{"$f":"IFERROR(INDEX(Input!$K$23:$K$192,MATCH(B46,Input!$A$23:$A$192,FALSE),1),\"\")","v":""},0,{"$f":"IFERROR(VLOOKUP(ExamQ[[#This Row],[Test Question Complexity]],#REF!,3),\"\")","v":""},{"$f":"IFERROR(INDEX(Input!$L$23:$L$192,MATCH(B46,Input!$A$23:$A$192,FALSE),1),\"\")","v":""},0,"","","","","","",{"$f":"IFERROR(INDEX(KSR,MATCH(1,(($T46=K1Out)*($U46=K2Out)*($V46=K3Out)*($W46=K4Out)*($X46=K5Out)*($Y46=K6Out)),0)),0)","v":0},0,"","","","","","","",{"$f":"IFERROR(INDEX(SSR,MATCH(1,((AB46=S1Out)*($AC46=S2Out)*($AD46=S3Out)*($AE46=S4Out)*($AF46=S5Out)*($AG46=S6Out)*($AH46=S7Out)),0)),0)","v":0},0,"","","","",{"$f":"IF(SUMPRODUCT(--ISNUMBER(SEARCH(AA_F,$G46)))>0,5,\"\")","v":""},{"$f":"IFERROR(INDEX(AASR,MATCH(1,(($AK46=AA1Out)*($AL46=AA2Out)*($AM46=AA3Out)*($AN46=AA4Out)*($AO46=AA5Out)),0)),0)","v":0},0,0,0,"BLANK"]
[46,null,{"$f":"IFERROR(INDEX(Input!$B$23:$B$192,MATCH(B47,Input!$A$23:$A$192,FALSE),1),\"\")","v":""},{"$f":"IFERROR(INDEX(Input!$C$23:$C$192,MATCH(B47,Input!$A$23:$A$192,FALSE),1),\"\")","v":""},{"$nulls":7},"",{"$f":"IFERROR(INDEX(Input!$F$23:$F$192,MATCH(B47,Input!$A$23:$A$192,FALSE),1),\"\")","v":""},"",{"$f":"IFERROR(INDEX(Input!$K$23:$K$192,MATCH(B47,Input!$A$23:$A$192,FALSE),1),\"\")","v":""},0,{"$f":"IFERROR(VLOOKUP(ExamQ[[#This Row],[Test Question Complexity]],#REF!,3),\"\")","v":""},{"$f":"IFERROR(INDEX(Input!$L$23:$L$192,MATCH(B47,Input!$A$23:$A$192,FALSE),1),\"\")","v":""},0,"","","","","","",{"$f":"IFERROR(INDEX(KSR,MATCH(1,(($T47=K1Out)*($U47=K2Out)*($V47=K3Out)*($W47=K4Out)*($X47=K5Out)*($Y47=K6Out)),0)),0)","v":0},0,"","","","","","","",{"$f":"IFERROR(INDEX(SSR,MATCH(1,((AB47=S1Out)*($AC47=S2Out)*($AD47=S3Out)*($AE47=S4Out)*($AF47=S5Out)*($AG47=S6Out)*($AH47=S7Out)),0)),0)","v":0},0,"","","","",{"$f":"IF(SUMPRODUCT(--ISNUMBER(SEARCH(AA_F,$G47)))>0,5,\"\")","v":""},{"$f":"IFERROR(INDEX(AASR,MATCH(1,(($AK47=AA1Out)*($AL47=AA2Out)*($AM47=AA3Out)*($AN47=AA4Out)*($AO47=AA5Out)),0)),0)","v":0},0,0,0,"BLANK"]
[47,null,{"$f":"IFERROR(INDEX(Input!$B$23:$B$192,MATCH(B48,Input!$A$23:$A$192,FALSE),1),\"\")","v":""},{"$f":"IFERROR(INDEX(Input!$C$23:$C$192,MATCH(B48,Input!$A$23:$A$192,FALSE),1),\"\")","v":""},{"$nulls":7},"",{"$f":"IFERROR(INDEX(Input!$F$23:$F$192,MATCH(B48,Input!$A$23:$A$192,FALSE),1),\"\")","v":""},"",{"$f":"IFERROR(INDEX(Input!$K$23:$K$192,MATCH(B48,Input!$A$23:$A$192,FALSE),1),\"\")","v":""},0,{"$f":"IFERROR(VLOOKUP(ExamQ[[#This Row],[Test Question Complexity]],#REF!,3),\"\")","v":""},{"$f":"IFERROR(INDEX(Input!$L$23:$L$192,MATCH(B48,Input!$A$23:$A$192,FALSE),1),\"\")","v":""},0,"","","","","","",{"$f":"IFERROR(INDEX(KSR,MATCH(1,(($T48=K1Out)*($U48=K2Out)*($V48=K3Out)*($W48=K4Out)*($X48=K5Out)*($Y48=K6Out)),0)),0)","v":0},0,"","","","","","","",{"$f":"IFERROR(INDEX(SSR,MATCH(1,((AB48=S1Out)*($AC48=S2Out)*($AD48=S3Out)*($AE48=S4Out)*($AF48=S5Out)*($AG48=S6Out)*($AH48=S7Out)),0)),0)","v":0},0,"","","","",{"$f":"IF(SUMPRODUCT(--ISNUMBER(SEARCH(AA_F,$G48)))>0,5,\"\")","v":""},{"$f":"IFERROR(INDEX(AASR,MATCH(1,(($AK48=AA1Out)*($AL48=AA2Out)*($AM48=AA3Out)*($AN48=AA4Out)*($AO48=AA5Out)),0)),0)","v":0},0,0,0,"BLANK"]
[48,null,{"$f":"IFERROR(INDEX(Input!$B$23:$B$192,MATCH(B49,Input!$A$23:$A$192,FALSE),1),\"\")","v":""},{"$f":"IFERROR(INDEX(Input!$C$23:$C$192,MATCH(B49,Input!$A$23:$A$192,FALSE),1),\"\")","v":""},{"$nulls":7},"",{"$f":"IFERROR(INDEX(Input!$F$23:$F$192,MATCH(B49,Input!$A$23:$A$192,FALSE),1),\"\")","v":""},"",{"$f":"IFERROR(INDEX(Input!$K$23:$K$192,MATCH(B49,Input!$A$23:$A$192,FALSE),1),\"\")","v":""},0,{"$f":"IFERROR(VLOOKUP(ExamQ[[#This Row],[Test Question Complexity]],#REF!,3),\"\")","v":""},{"$f":"IFERROR(INDEX(Input!$L$23:$L$192,MATCH(B49,Input!$A$23:$A$192,FALSE),1),\"\")","v":""},0,"","","","","","",{"$f":"IFERROR(INDEX(KSR,MATCH(1,(($T49=K1Out)*($U49=K2Out)*($V49=K3Out)*($W49=K4Out)*($X49=K5Out)*($Y49=K6Out)),0)),0)","v":0},0,"","","","","","","",{"$f":"IFERROR(INDEX(SSR,MATCH(1,((AB49=S1Out)*($AC49=S2Out)*($AD49=S3Out)*($AE49=S4Out)*($AF49=S5Out)*($AG49=S6Out)*($AH49=S7Out)),0)),0)","v":0},0,"","","","",{"$f":"IF(SUMPRODUCT(--ISNUMBER(SEARCH(AA_F,$G49)))>0,5,\"\")","v":""},{"$f":"IFERROR(INDEX(AASR,MATCH(1,(($AK49=AA1Out)*($AL49=AA2Out)*($AM49=AA3Out)*($AN49=AA4Out)*($AO49=AA5Out)),0)),0)","v":0},0,0,0,"BLANK"]
[49,null,{"$f":"IFERROR(INDEX(Input!$B$23:$B$192,MATCH(B50,Input!$A$23:$A$192,FALSE),1),\"\")","v":""},{"$f":"IFERROR(INDEX(Input!$C$23:$C$192,MATCH(B50,Input!$A$23:$A$192,FALSE),1),\"\")","v":""},{"$nulls":7},"",{"$f":"IFERROR(INDEX(Input!$F$23:$F$192,MATCH(B50,Input!$A$23:$A$192,FALSE),1),\"\")","v":""},"",{"$f":"IFERROR(INDEX(Input!$K$23:$K$192,MATCH(B50,Input!$A$23:$A$192,FALSE),1),\"\")","v":""},0,{"$f":"IFERROR(VLOOKUP(ExamQ[[#This Row],[Test Question Complexity]],#REF!,3),\"\")","v":""},{"$f":"IFERROR(INDEX(Input!$L$23:$L$192,MATCH(B50,Input!$A$23:$A$192,FALSE),1),\"\")","v":""},0,"","","","","","",{"$f":"IFERROR(INDEX(KSR,MATCH(1,(($T50=K1Out)*($U50=K2Out)*($V50=K3Out)*($W50=K4Out)*($X50=K5Out)*($Y50=K6Out)),0)),0)","v":0},0,"","","","","","","",{"$f":"IFERROR(INDEX(SSR,MATCH(1,((AB50=S1Out)*($AC50=S2Out)*($AD50=S3Out)*($AE50=S4Out)*($AF50=S5Out)*($AG50=S6Out)*($AH50=S7Out)),0)),0)","v":0},0,"","","","",{"$f":"IF(SUMPRODUCT(--ISNUMBER(SEARCH(AA_F,$G50)))>0,5,\"\")","v":""},{"$f":"IFERROR(INDEX(AASR,MATCH(1,(($AK50=AA1Out)*($AL50=AA2Out)*($AM50=AA3Out)*($AN50=AA4Out)*($AO50=AA5Out)),0)),0)","v":0},0,0,0,"BLANK"]
[50,null,{"$f":"IFERROR(INDEX(Input!$B$23:$B$192,MATCH(B51,Input!$A$23:$A$192,FALSE),1),\"\")","v":""},{"$f":"IFERROR(INDEX(Input!$C$23:$C$192,MATCH(B51,Input!$A$23:$A$192,FALSE),1),\"\")","v":""},{"$nulls":7},"",{"$f":"IFERROR(INDEX(Input!$F$23:$F$192,MATCH(B51,Input!$A$23:$A$192,FALSE),1),\"\")","v":""},"",{"$f":"IFERROR(INDEX(Input!$K$23:$K$192,MATCH(B51,Input!$A$23:$A$192,FALSE),1),\"\")","v":""},0,{"$f":"IFERROR(VLOOKUP(ExamQ[[#This Row],[Test Question Complexity]],#REF!,3),\"\")","v":""},{"$f":"IFERROR(INDEX(Input!$L$23:$L$192,MATCH(B51,Input!$A$23:$A$192,FALSE),1),\"\")","v":""},0,"","","","","","",{"$f":"IFERROR(INDEX(KSR,MATCH(1,(($T51=K1Out)*($U51=K2Out)*($V51=K3Out)*($W51=K4Out)*($X51=K5Out)*($Y51=K6Out)),0)),0)","v":0},0,"","","","","","","",{"$f":"IFERROR(INDEX(SSR,MATCH(1,((AB51=S1Out)*($AC51=S2Out)*($AD51=S3Out)*($AE51=S4Out)*($AF51=S5Out)*($AG51=S6Out)*($AH51=S7Out)),0)),0)","v":0},0,"","","","",{"$f":"IF(SUMPRODUCT(--ISNUMBER(SEARCH(AA_F,$G51)))>0,5,\"\")","v":""},{"$f":"IFERROR(INDEX(AASR,MATCH(1,(($AK51=AA1Out)*($AL51=AA2Out)*($AM51=AA3Out)*($AN51=AA4Out)*($AO51=AA5Out)),0)),0)","v":0},0,0,0,"BLANK"]
[51,null,{"$f":"IFERROR(INDEX(Input!$B$23:$B$192,MATCH(B52,Input!$A$23:$A$192,FALSE),1),\"\")","v":""},{"$f":"IFERROR(INDEX(Input!$C$23:$C$192,MATCH(B52,Input!$A$23:$A$192,FALSE),1),\"\")","v":""},{"$nulls":7},"",{"$f":"IFERROR(INDEX(Input!$F$23:$F$192,MATCH(B52,Input!$A$23:$A$192,FALSE),1),\"\")","v":""},"",{"$f":"IFERROR(INDEX(Input!$K$23:$K$192,MATCH(B52,Input!$A$23:$A$192,FALSE),1),\"\")","v":""},0,{"$f":"IFERROR(VLOOKUP(ExamQ[[#This Row],[Test Question Complexity]],#REF!,3),\"\")","v":""},{"$f":"IFERROR(INDEX(Input!$L$23:$L$192,MATCH(B52,Input!$A$23:$A$192,FALSE),1),\"\")","v":""},0,"","","","","","",{"$f":"IFERROR(INDEX(KSR,MATCH(1,(($T52=K1Out)*($U52=K2Out)*($V52=K3Out)*($W52=K4Out)*($X52=K5Out)*($Y52=K6Out)),0)),0)","v":0},0,"","","","","","","",{"$f":"IFERROR(INDEX(SSR,MATCH(1,((AB52=S1Out)*($AC52=S2Out)*($AD52=S3Out)*($AE52=S4Out)*($AF52=S5Out)*($AG52=S6Out)*($AH52=S7Out)),0)),0)","v":0},0,"","","","",{"$f":"IF(SUMPRODUCT(--ISNUMBER(SEARCH(AA_F,$G52)))>0,5,\"\")","v":""},{"$f":"IFERROR(INDEX(AASR,MATCH(1,(($AK52=AA1Out)*($AL52=AA2Out)*($AM52=AA3Out)*($AN52=AA4Out)*($AO52=AA5Out)),0)),0)","v":0},0,0,0,"BLANK"]
[52,null,{"$f":"IFERROR(INDEX(Input!$B$23:$B$192,MATCH(B53,Input!$A$23:$A$192,FALSE),1),\"\")","v":""},{"$f":"IFERROR(INDEX(Input!$C$23:$C$192,MATCH(B53,Input!$A$23:$A$192,FALSE),1),\"\")","v":""},{"$nulls":7},"",{"$f":"IFERROR(INDEX(Input!$F$23:$F$192,MATCH(B53,Input!$A$23:$A$192,FALSE),1),\"\")","v":""},"",{"$f":"IFERROR(INDEX(Input!$K$23:$K$192,MATCH(B53,Input!$A$23:$A$192,FALSE),1),\"\")","v":""},0,{"$f":"IFERROR(VLOOKUP(ExamQ[[#This Row],[Test Question Complexity]],#REF!,3),\"\")","v":""},{"$f":"IFERROR(INDEX(Input!$L$23:$L$192,MATCH(B53,Input!$A$23:$A$192,FALSE),1),\"\")","v":""},0,"","","","","","",{"$f":"IFERROR(INDEX(KSR,MATCH(1,(($T53=K1Out)*($U53=K2Out)*($V53=K3Out)*($W53=K4Out)*($X53=K5Out)*($Y53=K6Out)),0)),0)","v":0},0,"","","","","","","",{"$f":"IFERROR(INDEX(SSR,MATCH(1,((AB53=S1Out)*($AC53=S2Out)*($AD53=S3Out)*($AE53=S4Out)*($AF53=S5Out)*($AG53=S6Out)*($AH53=S7Out)),0)),0)","v":0},0,"","","","",{"$f":"IF(SUMPRODUCT(--ISNUMBER(SEARCH(AA_F,$G53)))>0,5,\"\")","v":""},{"$f":"IFERROR(INDEX(AASR,MATCH(1,(($AK53=AA1Out)*($AL53=AA2Out)*($AM53=AA3Out)*($AN53=AA4Out)*($AO53=AA5Out)),0)),0)","v":0},0,0,0,"BLANK"]
[53,null,{"$f":"IFERROR(INDEX(Input!$B$23:$B$192,MATCH(B54,Input!$A$23:$A$192,FALSE),1),\"\")","v":""},{"$f":"IFERROR(INDEX(Input!$C$23:$C$192,MATCH(B54,Input!$A$23:$A$192,FALSE),1),\"\")","v":""},{"$nulls":7},"",{"$f":"IFERROR(INDEX(Input!$F$23:$F$192,MATCH(B54,Input!$A$23:$A$192,FALSE),1),\"\")","v":""},"",{"$f":"IFERROR(INDEX(Input!$K$23:$K$192,MATCH(B54,Input!$A$23:$A$192,FALSE),1),\"\")","v":""},0,{"$f":"IFERROR(VLOOKUP(ExamQ[[#This Row],[Test Question Complexity]],#REF!,3),\"\")","v":""},{"$f":"IFERROR(INDEX(Input!$L$23:$L$192,MATCH(B54,Input!$A$23:$A$192,FALSE),1),\"\")","v":""},0,"","","","","","",{"$f":"IFERROR(INDEX(KSR,MATCH(1,(($T54=K1Out)*($U54=K2Out)*($V54=K3Out)*($W54=K4Out)*($X54=K5Out)*($Y54=K6Out)),0)),0)","v":0},0,"","","","","","","",{"$f":"IFERROR(INDEX(SSR,MATCH(1,((AB54=S1Out)*($AC54=S2Out)*($AD54=S3Out)*($AE54=S4Out)*($AF54=S5Out)*($AG54=S6Out)*($AH54=S7Out)),0)),0)","v":0},0,"","","","",{"$f":"IF(SUMPRODUCT(--ISNUMBER(SEARCH(AA_F,$G54)))>0,5,\"\")","v":""},{"$f":"IFERROR(INDEX(AASR,MATCH(1,(($AK54=AA1Out)*($AL54=AA2Out)*($AM54=AA3Out)*($AN54=AA4Out)*($AO54=AA5Out)),0)),0)","v":0},0,0,0,"BLANK"]
[54,null,{"$f":"IFERROR(INDEX(Input!$B$23:$B$192,MATCH(B55,Input!$A$23:$A$192,FALSE),1),\"\")","v":""},{"$f":"IFERROR(INDEX(Input!$C$23:$C$192,MATCH(B55,Input!$A$23:$A$192,FALSE),1),\"\")","v":""},{"$nulls":7},"",{"$f":"IFERROR(INDEX(Input!$F$23:$F$192,MATCH(B55,Input!$A$23:$A$192,FALSE),1),\"\")","v":""},"",{"$f":"IFERROR(INDEX(Input!$K$23:$K$192,MATCH(B55,Input!$A$23:$A$192,FALSE),1),\"\")","v":""},0,{"$f":"IFERROR(VLOOKUP(ExamQ[[#This Row],[Test Question Complexity]],#REF!,3),\"\")","v":""},{"$f":"IFERROR(INDEX(Input!$L$23:$L$192,MATCH(B55,Input!$A$23:$A$192,FALSE),1),\"\")","v":""},0,"","","","","","",{"$f":"IFERROR(INDEX(KSR,MATCH(1,(($T55=K1Out)*($U55=K2Out)*($V55=K3Out)*($W55=K4Out)*($X55=K5Out)*($Y55=K6Out)),0)),0)","v":0},0,"","","","","","","",{"$f":"IFERROR(INDEX(SSR,MATCH(1,((AB55=S1Out)*($AC55=S2Out)*($AD55=S3Out)*($AE55=S4Out)*($AF55=S5Out)*($AG55=S6Out)*($AH55=S7Out)),0)),0)","v":0},0,"","","","",{"$f":"IF(SUMPRODUCT(--ISNUMBER(SEARCH(AA_F,$G55)))>0,5,\"\")","v":""},{"$f":"IFERROR(INDEX(AASR,MATCH(1,(($AK55=AA1Out)*($AL55=AA2Out)*($AM55=AA3Out)*($AN55=AA4Out)*($AO55=AA5Out)),0)),0)","v":0},0,0,0,"BLANK"]
[55,null,{"$f":"IFERROR(INDEX(Input!$B$23:$B$192,MATCH(B56,Input!$A$23:$A$192,FALSE),1),\"\")","v":""},{"$f":"IFERROR(INDEX(Input!$C$23:$C$192,MATCH(B56,Input!$A$23:$A$192,FALSE),1),\"\")","v":""},{"$nulls":7},"",{"$f":"IFERROR(INDEX(Input!$F$23:$F$192,MATCH(B56,Input!$A$23:$A$192,FALSE),1),\"\")","v":""},"",{"$f":"IFERROR(INDEX(Input!$K$23:$K$192,MATCH(B56,Input!$A$23:$A$192,FALSE),1),\"\")","v":""},0,{"$f":"IFERROR(VLOOKUP(ExamQ[[#This Row],[Test Question Complexity]],#REF!,3),\"\")","v":""},{"$f":"IFERROR(INDEX(Input!$L$23:$L$192,MATCH(B56,Input!$A$23:$A$192,FALSE),1),\"\")","v":""},0,"","","","","","",{"$f":"IFERROR(INDEX(KSR,MATCH(1,(($T56=K1Out)*($U56=K2Out)*($V56=K3Out)*($W56=K4Out)*($X56=K5Out)*($Y56=K6Out)),0)),0)","v":0},0,"","","","","","","",{"$f":"IFERROR(INDEX(SSR,MATCH(1,((AB56=S1Out)*($AC56=S2Out)*($AD56=S3Out)*($AE56=S4Out)*($AF56=S5Out)*($AG56=S6Out)*($AH56=S7Out)),0)),0)","v":0},0,"","","","",{"$f":"IF(SUMPRODUCT(--ISNUMBER(SEARCH(AA_F,$G56)))>0,5,\"\")","v":""},{"$f":"IFERROR(INDEX(AASR,MATCH(1,(($AK56=AA1Out)*($AL56=AA2Out)*($AM56=AA3Out)*($AN56=AA4Out)*($AO56=AA5Out)),0)),0)","v":0},0,0,0,"BLANK"]
[56,null,{"$f":"IFERROR(INDEX(Input!$B$23:$B$192,MATCH(B57,Input!$A$23:$A$192,FALSE),1),\"\")","v":""},{"$f":"IFERROR(INDEX(Input!$C$23:$C$192,MATCH(B57,Input!$A$23:$A$192,FALSE),1),\"\")","v":""},{"$nulls":7},"",{"$f":"IFERROR(INDEX(Input!$F$23:$F$192,MATCH(B57,Input!$A$23:$A$192,FALSE),1),\"\")","v":""},"",{"$f":"IFERROR(INDEX(Input!$K$23:$K$192,MATCH(B57,Input!$A$23:$A$192,FALSE),1),\"\")","v":""},0,{"$f":"IFERROR(VLOOKUP(ExamQ[[#This Row],[Test Question Complexity]],#REF!,3),\"\")","v":""},{"$f":"IFERROR(INDEX(Input!$L$23:$L$192,MATCH(B57,Input!$A$23:$A$192,FALSE),1),\"\")","v":""},0,"","","","","","",{"$f":"IFERROR(INDEX(KSR,MATCH(1,(($T57=K1Out)*($U57=K2Out)*($V57=K3Out)*($W57=K4Out)*($X57=K5Out)*($Y57=K6Out)),0)),0)","v":0},0,"","","","","","","",{"$f":"IFERROR(INDEX(SSR,MATCH(1,((AB57=S1Out)*($AC57=S2Out)*($AD57=S3Out)*($AE57=S4Out)*($AF57=S5Out)*($AG57=S6Out)*($AH57=S7Out)),0)),0)","v":0},0,"","","","",{"$f":"IF(SUMPRODUCT(--ISNUMBER(SEARCH(AA_F,$G57)))>0,5,\"\")","v":""},{"$f":"IFERROR(INDEX(AASR,MATCH(1,(($AK57=AA1Out)*($AL57=AA2Out)*($AM57=AA3Out)*($AN57=AA4Out)*($AO57=AA5Out)),0)),0)","v":0},0,0,0,"BLANK"]
[57,null,{"$f":"IFERROR(INDEX(Input!$B$23:$B$192,MATCH(B58,Input!$A$23:$A$192,FALSE),1),\"\")","v":""},{"$f":"IFERROR(INDEX(Input!$C$23:$C$192,MATCH(B58,Input!$A$23:$A$192,FALSE),1),\"\")","v":""},{"$nulls":7},"",{"$f":"IFERROR(INDEX(Input!$F$23:$F$192,MATCH(B58,Input!$A$23:$A$192,FALSE),1),\"\")","v":""},"",{"$f":"IFERROR(INDEX(Input!$K$23:$K$192,MATCH(B58,Input!$A$23:$A$192,FALSE),1),\"\")","v":""},0,{"$f":"IFERROR(VLOOKUP(ExamQ[[#This Row],[Test Question Complexity]],#REF!,3),\"\")","v":""},{"$f":"IFERROR(INDEX(Input!$L$23:$L$192,MATCH(B58,Input!$A$23:$A$192,FALSE),1),\"\")","v":""},0,"","","","","","",{"$f":"IFERROR(INDEX(KSR,MATCH(1,(($T58=K1Out)*($U58=K2Out)*($V58=K3Out)*($W58=K4Out)*($X58=K5Out)*($Y58=K6Out)),0)),0)","v":0},0,"","","","","","","",{"$f":"IFERROR(INDEX(SSR,MATCH(1,((AB58=S1Out)*($AC58=S2Out)*($AD58=S3Out)*($AE58=S4Out)*($AF58=S5Out)*($AG58=S6Out)*($AH58=S7Out)),0)),0)","v":0},0,"","","","",{"$f":"IF(SUMPRODUCT(--ISNUMBER(SEARCH(AA_F,$G58)))>0,5,\"\")","v":""},{"$f":"IFERROR(INDEX(AASR,MATCH(1,(($AK58=AA1Out)*($AL58=AA2Out)*($AM58=AA3Out)*($AN58=AA4Out)*($AO58=AA5Out)),0)),0)","v":0},0,0,0,"BLANK"]
[58,null,{"$f":"IFERROR(INDEX(Input!$B$23:$B$192,MATCH(B59,Input!$A$23:$A$192,FALSE),1),\"\")","v":""},{"$f":"IFERROR(INDEX(Input!$C$23:$C$192,MATCH(B59,Input!$A$23:$A$192,FALSE),1),\"\")","v":""},{"$nulls":7},"",{"$f":"IFERROR(INDEX(Input!$F$23:$F$192,MATCH(B59,Input!$A$23:$A$192,FALSE),1),\"\")","v":""},"",{"$f":"IFERROR(INDEX(Input!$K$23:$K$192,MATCH(B59,Input!$A$23:$A$192,FALSE),1),\"\")","v":""},0,{"$f":"IFERROR(VLOOKUP(ExamQ[[#This Row],[Test Question Complexity]],#REF!,3),\"\")","v":""},{"$f":"IFERROR(INDEX(Input!$L$23:$L$192,MATCH(B59,Input!$A$23:$A$192,FALSE),1),\"\")","v":""},0,"","","","","","",{"$f":"IFERROR(INDEX(KSR,MATCH(1,(($T59=K1Out)*($U59=K2Out)*($V59=K3Out)*($W59=K4Out)*($X59=K5Out)*($Y59=K6Out)),0)),0)","v":0},0,"","","","","","","",{"$f":"IFERROR(INDEX(SSR,MATCH(1,((AB59=S1Out)*($AC59=S2Out)*($AD59=S3Out)*($AE59=S4Out)*($AF59=S5Out)*($AG59=S6Out)*($AH59=S7Out)),0)),0)","v":0},0,"","","","",{"$f":"IF(SUMPRODUCT(--ISNUMBER(SEARCH(AA_F,$G59)))>0,5,\"\")","v":""},{"$f":"IFERROR(INDEX(AASR,MATCH(1,(($AK59=AA1Out)*($AL59=AA2Out)*($AM59=AA3Out)*($AN59=AA4Out)*($AO59=AA5Out)),0)),0)","v":0},0,0,0,"BLANK"]
[59,null,{"$f":"IFERROR(INDEX(Input!$B$23:$B$192,MATCH(B60,Input!$A$23:$A$192,FALSE),1),\"\")","v":""},{"$f":"IFERROR(INDEX(Input!$C$23:$C$192,MATCH(B60,Input!$A$23:$A$192,FALSE),1),\"\")","v":""},{"$nulls":7},"",{"$f":"IFERROR(INDEX(Input!$F$23:$F$192,MATCH(B60,Input!$A$23:$A$192,FALSE),1),\"\")","v":""},"",{"$f":"IFERROR(INDEX(Input!$K$23:$K$192,MATCH(B60,Input!$A$23:$A$192,FALSE),1),\"\")","v":""},0,{"$f":"IFERROR(VLOOKUP(ExamQ[[#This Row],[Test Question Complexity]],#REF!,3),\"\")","v":""},{"$f":"IFERROR(INDEX(Input!$L$23:$L$192,MATCH(B60,Input!$A$23:$A$192,FALSE),1),\"\")","v":""},0,"","","","","","",{"$f":"IFERROR(INDEX(KSR,MATCH(1,(($T60=K1Out)*($U60=K2Out)*($V60=K3Out)*($W60=K4Out)*($X60=K5Out)*($Y60=K6Out)),0)),0)","v":0},0,"","","","","","","",{"$f":"IFERROR(INDEX(SSR,MATCH(1,((AB60=S1Out)*($AC60=S2Out)*($AD60=S3Out)*($AE60=S4Out)*($AF60=S5Out)*($AG60=S6Out)*($AH60=S7Out)),0)),0)","v":0},0,"","","","",{"$f":"IF(SUMPRODUCT(--ISNUMBER(SEARCH(AA_F,$G60)))>0,5,\"\")","v":""},{"$f":"IFERROR(INDEX(AASR,MATCH(1,(($AK60=AA1Out)*($AL60=AA2Out)*($AM60=AA3Out)*($AN60=AA4Out)*($AO60=AA5Out)),0)),0)","v":0},0,0,0,"BLANK"]
[60,null,{"$f":"IFERROR(INDEX(Input!$B$23:$B$192,MATCH(B61,Input!$A$23:$A$192,FALSE),1),\"\")","v":""},{"$f":"IFERROR(INDEX(Input!$C$23:$C$192,MATCH(B61,Input!$A$23:$A$192,FALSE),1),\"\")","v":""},{"$nulls":7},"",{"$f":"IFERROR(INDEX(Input!$F$23:$F$192,MATCH(B61,Input!$A$23:$A$192,FALSE),1),\"\")","v":""},"",{"$f":"IFERROR(INDEX(Input!$K$23:$K$192,MATCH(B61,Input!$A$23:$A$192,FALSE),1),\"\")","v":""},0,{"$f":"IFERROR(VLOOKUP(ExamQ[[#This Row],[Test Question Complexity]],#REF!,3),\"\")","v":""},{"$f":"IFERROR(INDEX(Input!$L$23:$L$192,MATCH(B61,Input!$A$23:$A$192,FALSE),1),\"\")","v":""},0,"","","","","","",{"$f":"IFERROR(INDEX(KSR,MATCH(1,(($T61=K1Out)*($U61=K2Out)*($V61=K3Out)*($W61=K4Out)*($X61=K5Out)*($Y61=K6Out)),0)),0)","v":0},0,"","","","","","","",{"$f":"IFERROR(INDEX(SSR,MATCH(1,((AB61=S1Out)*($AC61=S2Out)*($AD61=S3Out)*($AE61=S4Out)*($AF61=S5Out)*($AG61=S6Out)*($AH61=S7Out)),0)),0)","v":0},0,"","","","",{"$f":"IF(SUMPRODUCT(--ISNUMBER(SEARCH(AA_F,$G61)))>0,5,\"\")","v":""},{"$f":"IFERROR(INDEX(AASR,MATCH(1,(($AK61=AA1Out)*($AL61=AA2Out)*($AM61=AA3Out)*($AN61=AA4Out)*($AO61=AA5Out)),0)),0)","v":0},0,0,0,"BLANK"]
[61,null,{"$f":"IFERROR(INDEX(Input!$B$23:$B$192,MATCH(B62,Input!$A$23:$A$192,FALSE),1),\"\")","v":""},{"$f":"IFERROR(INDEX(Input!$C$23:$C$192,MATCH(B62,Input!$A$23:$A$192,FALSE),1),\"\")","v":""},{"$nulls":7},"",{"$f":"IFERROR(INDEX(Input!$F$23:$F$192,MATCH(B62,Input!$A$23:$A$192,FALSE),1),\"\")","v":""},"",{"$f":"IFERROR(INDEX(Input!$K$23:$K$192,MATCH(B62,Input!$A$23:$A$192,FALSE),1),\"\")","v":""},0,{"$f":"IFERROR(VLOOKUP(ExamQ[[#This Row],[Test Question Complexity]],#REF!,3),\"\")","v":""},{"$f":"IFERROR(INDEX(Input!$L$23:$L$192,MATCH(B62,Input!$A$23:$A$192,FALSE),1),\"\")","v":""},0,"","","","","","",{"$f":"IFERROR(INDEX(KSR,MATCH(1,(($T62=K1Out)*($U62=K2Out)*($V62=K3Out)*($W62=K4Out)*($X62=K5Out)*($Y62=K6Out)),0)),0)","v":0},0,"","","","","","","",{"$f":"IFERROR(INDEX(SSR,MATCH(1,((AB62=S1Out)*($AC62=S2Out)*($AD62=S3Out)*($AE62=S4Out)*($AF62=S5Out)*($AG62=S6Out)*($AH62=S7Out)),0)),0)","v":0},0,"","","","",{"$f":"IF(SUMPRODUCT(--ISNUMBER(SEARCH(AA_F,$G62)))>0,5,\"\")","v":""},{"$f":"IFERROR(INDEX(AASR,MATCH(1,(($AK62=AA1Out)*($AL62=AA2Out)*($AM62=AA3Out)*($AN62=AA4Out)*($AO62=AA5Out)),0)),0)","v":0},0,0,0,"BLANK"]
[62,null,{"$f":"IFERROR(INDEX(Input!$B$23:$B$192,MATCH(B63,Input!$A$23:$A$192,FALSE),1),\"\")","v":""},{"$f":"IFERROR(INDEX(Input!$C$23:$C$192,MATCH(B63,Input!$A$23:$A$192,FALSE),1),\"\")","v":""},{"$nulls":7},"",{"$f":"IFERROR(INDEX(Input!$F$23:$F$192,MATCH(B63,Input!$A$23:$A$192,FALSE),1),\"\")","v":""},"",{"$f":"IFERROR(INDEX(Input!$K$23:$K$192,MATCH(B63,Input!$A$23:$A$192,FALSE),1),\"\")","v":""},0,{"$f":"IFERROR(VLOOKUP(ExamQ[[#This Row],[Test Question Complexity]],#REF!,3),\"\")","v":""},{"$f":"IFERROR(INDEX(Input!$L$23:$L$192,MATCH(B63,Input!$A$23:$A$192,FALSE),1),\"\")","v":""},0,"","","","","","",{"$f":"IFERROR(INDEX(KSR,MATCH(1,(($T63=K1Out)*($U63=K2Out)*($V63=K3Out)*($W63=K4Out)*($X63=K5Out)*($Y63=K6Out)),0)),0)","v":0},0,"","","","","","","",{"$f":"IFERROR(INDEX(SSR,MATCH(1,((AB63=S1Out)*($AC63=S2Out)*($AD63=S3Out)*($AE63=S4Out)*($AF63=S5Out)*($AG63=S6Out)*($AH63=S7Out)),0)),0)","v":0},0,"","","","",{"$f":"IF(SUMPRODUCT(--ISNUMBER(SEARCH(AA_F,$G63)))>0,5,\"\")","v":""},{"$f":"IFERROR(INDEX(AASR,MATCH(1,(($AK63=AA1Out)*($AL63=AA2Out)*($AM63=AA3Out)*($AN63=AA4Out)*($AO63=AA5Out)),0)),0)","v":0},0,0,0,"BLANK"]
[63,null,{"$f":"IFERROR(INDEX(Input!$B$23:$B$192,MATCH(B64,Input!$A$23:$A$192,FALSE),1),\"\")","v":""},{"$f":"IFERROR(INDEX(Input!$C$23:$C$192,MATCH(B64,Input!$A$23:$A$192,FALSE),1),\"\")","v":""},{"$nulls":7},"",{"$f":"IFERROR(INDEX(Input!$F$23:$F$192,MATCH(B64,Input!$A$23:$A$192,FALSE),1),\"\")","v":""},"",{"$f":"IFERROR(INDEX(Input!$K$23:$K$192,MATCH(B64,Input!$A$23:$A$192,FALSE),1),\"\")","v":""},0,{"$f":"IFERROR(VLOOKUP(ExamQ[[#This Row],[Test Question Complexity]],#REF!,3),\"\")","v":""},{"$f":"IFERROR(INDEX(Input!$L$23:$L$192,MATCH(B64,Input!$A$23:$A$192,FALSE),1),\"\")","v":""},0,"","","","","","",{"$f":"IFERROR(INDEX(KSR,MATCH(1,(($T64=K1Out)*($U64=K2Out)*($V64=K3Out)*($W64=K4Out)*($X64=K5Out)*($Y64=K6Out)),0)),0)","v":0},0,"","","","","","","",{"$f":"IFERROR(INDEX(SSR,MATCH(1,((AB64=S1Out)*($AC64=S2Out)*($AD64=S3Out)*($AE64=S4Out)*($AF64=S5Out)*($AG64=S6Out)*($AH64=S7Out)),0)),0)","v":0},0,"","","","",{"$f":"IF(SUMPRODUCT(--ISNUMBER(SEARCH(AA_F,$G64)))>0,5,\"\")","v":""},{"$f":"IFERROR(INDEX(AASR,MATCH(1,(($AK64=AA1Out)*($AL64=AA2Out)*($AM64=AA3Out)*($AN64=AA4Out)*($AO64=AA5Out)),0)),0)","v":0},0,0,0,"BLANK"]
[64,null,{"$f":"IFERROR(INDEX(Input!$B$23:$B$192,MATCH(B65,Input!$A$23:$A$192,FALSE),1),\"\")","v":""},{"$f":"IFERROR(INDEX(Input!$C$23:$C$192,MATCH(B65,Input!$A$23:$A$192,FALSE),1),\"\")","v":""},{"$nulls":7},"",{"$f":"IFERROR(INDEX(Input!$F$23:$F$192,MATCH(B65,Input!$A$23:$A$192,FALSE),1),\"\")","v":""},"",{"$f":"IFERROR(INDEX(Input!$K$23:$K$192,MATCH(B65,Input!$A$23:$A$192,FALSE),1),\"\")","v":""},0,{"$f":"IFERROR(VLOOKUP(ExamQ[[#This Row],[Test Question Complexity]],#REF!,3),\"\")","v":""},{"$f":"IFERROR(INDEX(Input!$L$23:$L$192,MATCH(B65,Input!$A$23:$A$192,FALSE),1),\"\")","v":""},0,"","","","","","",{"$f":"IFERROR(INDEX(KSR,MATCH(1,(($T65=K1Out)*($U65=K2Out)*($V65=K3Out)*($W65=K4Out)*($X65=K5Out)*($Y65=K6Out)),0)),0)","v":0},0,"","","","","","","",{"$f":"IFERROR(INDEX(SSR,MATCH(1,((AB65=S1Out)*($AC65=S2Out)*($AD65=S3Out)*($AE65=S4Out)*($AF65=S5Out)*($AG65=S6Out)*($AH65=S7Out)),0)),0)","v":0},0,"","","","",{"$f":"IF(SUMPRODUCT(--ISNUMBER(SEARCH(AA_F,$G65)))>0,5,\"\")","v":""},{"$f":"IFERROR(INDEX(AASR,MATCH(1,(($AK65=AA1Out)*($AL65=AA2Out)*($AM65=AA3Out)*($AN65=AA4Out)*($AO65=AA5Out)),0)),0)","v":0},0,0,0,"BLANK"]
[65,null,{"$f":"IFERROR(INDEX(Input!$B$23:$B$192,MATCH(B66,Input!$A$23:$A$192,FALSE),1),\"\")","v":""},{"$f":"IFERROR(INDEX(Input!$C$23:$C$192,MATCH(B66,Input!$A$23:$A$192,FALSE),1),\"\")","v":""},{"$nulls":7},{"$f":"IF(B66<>\"\",SUM(I66:K66),\"\")","v":""},{"$f":"IFERROR(INDEX(Input!$F$23:$F$192,MATCH(B66,Input!$A$23:$A$192,FALSE),1),\"\")","v":""},{"$f":"IFERROR(L66*M66,\"\")","v":""},{"$f":"IFERROR(INDEX(Input!$K$23:$K$192,MATCH(B66,Input!$A$23:$A$192,FALSE),1),\"\")","v":""},{"$f":"IF(N66>O66,1,0)","v":0},{"$f":"IFERROR(VLOOKUP(ExamQ[[#This Row],[Test Question Complexity]],#REF!,3),\"\")","v":""},{"$f":"IFERROR(INDEX(Input!$L$23:$L$192,MATCH(B66,Input!$A$23:$A$192,FALSE),1),\"\")","v":""},0,{"$f":"IF(SUMPRODUCT(--ISNUMBER(SEARCH(K_A,$G66)))>0,1,\"\")","v":""},{"$f":"IF(SUMPRODUCT(--ISNUMBER(SEARCH(K_B,$G66)))>0,2,\"\")","v":""},{"$f":"IF(SUMPRODUCT(--ISNUMBER(SEARCH(K_C,$G66)))>0,3,\"\")","v":""},{"$f":"IF(SUMPRODUCT(--ISNUMBER(SEARCH(K_D,$G66)))>0,4,\"\")","v":""},{"$f":"IF(SUMPRODUCT(--ISNUMBER(SEARCH(K_E,$G66)))>0,5,\"\")","v":""},{"$f":"IF(SUMPRODUCT(--ISNUMBER(SEARCH(K_F,$G66)))>0,6,\"\")","v":""},{"$f":"IFERROR(INDEX(KSR,MATCH(1,(($T66=K1Out)*($U66=K2Out)*($V66=K3Out)*($W66=K4Out)*($X66=K5Out)*($Y66=K6Out)),0)),0)","v":0},0,{"$f":"IF(SUMPRODUCT(--ISNUMBER(SEARCH(S_A,$G66)))>0,1,\"\")","v":""},{"$f":"IF(SUMPRODUCT(--ISNUMBER(SEARCH(S_B,$G66)))>0, 2,\"\")","v":""},{"$f":"IF(SUMPRODUCT(--ISNUMBER(SEARCH(S_C,$G66)))>0,3,\"\")","v":""},{"$f":"IF(SUMPRODUCT(--ISNUMBER(SEARCH(S_D,$G66)))>0,4,\"\")","v":""},{"$f":"IF(SUMPRODUCT(--ISNUMBER(SEARCH(S_E,$G66)))>0,5,\"\")","v":""},{"$f":"IF(SUMPRODUCT(--ISNUMBER(SEARCH(S_F,$G66)))>0,6,\"\")","v":""},{"$f":"IF(SUMPRODUCT(--ISNUMBER(SEARCH(S_G,$G66)))>0,7,\"\")","v":""},{"$f":"IFERROR(INDEX(SSR,MATCH(1,((AB66=S1Out)*($AC66=S2Out)*($AD66=S3Out)*($AE66=S4Out)*($AF66=S5Out)*($AG66=S6Out)*($AH66=S7Out)),0)),0)","v":0},0,{"$f":"IF(SUMPRODUCT(--ISNUMBER(SEARCH(AA_A,$G66)))>0,1,\"\")","v":""},{"$f":"IF(SUMPRODUCT(--ISNUMBER(SEARCH(AA_B,$G66)))>0,2,\"\")","v":""},{"$f":"IF(SUMPRODUCT(--ISNUMBER(SEARCH(AA_C,$G66)))>0,3,\"\")","v":""},{"$f":"IF(SUMPRODUCT(--ISNUMBER(SEARCH(AA_D,$G66)))>0,4,\"\")","v":""},{"$f":"IF(SUMPRODUCT(--ISNUMBER(SEARCH(AA_F,$G66)))>0,5,\"\")","v":""},{"$f":"IFERROR(INDEX(AASR,MATCH(1,(($AK66=AA1Out)*($AL66=AA2Out)*($AM66=AA3Out)*($AN66=AA4Out)*($AO66=AA5Out)),0)),0)","v":0},0,0,0,"BLANK"]
[66,null,{"$f":"IFERROR(INDEX(Input!$B$23:$B$192,MATCH(B67,Input!$A$23:$A$192,FALSE),1),\"\")","v":""},{"$f":"IFERROR(INDEX(Input!$C$23:$C$192,MATCH(B67,Input!$A$23:$A$192,FALSE),1),\"\")","v":""},{"$nulls":7},"",{"$f":"IFERROR(INDEX(Input!$F$23:$F$192,MATCH(B67,Input!$A$23:$A$192,FALSE),1),\"\")","v":""},"",{"$f":"IFERROR(INDEX(Input!$K$23:$K$192,MATCH(B67,Input!$A$23:$A$192,FALSE),1),\"\")","v":""},0,{"$f":"IFERROR(VLOOKUP(ExamQ[[#This Row],[Test Question Complexity]],#REF!,3),\"\")","v":""},{"$f":"IFERROR(INDEX(Input!$L$23:$L$192,MATCH(B67,Input!$A$23:$A$192,FALSE),1),\"\")","v":""},0,"","","","","","",{"$f":"IFERROR(INDEX(KSR,MATCH(1,(($T67=K1Out)*($U67=K2Out)*($V67=K3Out)*($W67=K4Out)*($X67=K5Out)*($Y67=K6Out)),0)),0)","v":0},0,"","","","","","","",{"$f":"IFERROR(INDEX(SSR,MATCH(1,((AB67=S1Out)*($AC67=S2Out)*($AD67=S3Out)*($AE67=S4Out)*($AF67=S5Out)*($AG67=S6Out)*($AH67=S7Out)),0)),0)","v":0},0,"","","","",{"$f":"IF(SUMPRODUCT(--ISNUMBER(SEARCH(AA_F,$G67)))>0,5,\"\")","v":""},{"$f":"IFERROR(INDEX(AASR,MATCH(1,(($AK67=AA1Out)*($AL67=AA2Out)*($AM67=AA3Out)*($AN67=AA4Out)*($AO67=AA5Out)),0)),0)","v":0},{"$f":"(IF(ISNUMBER(S67) = FALSE, 0, S67) + IF(ISNUMBER(T67) = FALSE, 0, T67)+ IF(ISNUMBER(U67) = FALSE, 0, U67) + IF(ISNUMBER(V67) = FALSE, 0, V67) + IF(ISNUMBER(W67) = FALSE, 0, W67) + IF(ISNUMBER(X67) = FALSE, 0, X67)) + IF(ISNUMBER(Y67) = FALSE, 0, Y67)","v":0},{"$f":"(IF(ISNUMBER(AA67) = FALSE, 0, AA67) + IF(ISNUMBER(AB67) = FALSE, 0, AB67)+ IF(ISNUMBER(AC67) = FALSE, 0, AC67) + IF(ISNUMBER(AD67) = FALSE, 0, AD67) + IF(ISNUMBER(AE67) = FALSE, 0, AE67) + IF(ISNUMBER(AF67) = FALSE, 0, AF67)) + IF(ISNUMBER(AG67) = FALSE, 0, AG67) + IF(ISNUMBER(AH67) = FALSE, 0, AH67)","v":0},{"$f":"(IF(ISNUMBER(AJ67) = FALSE, 0, AJ67) + IF(ISNUMBER(AK67) = FALSE, 0, AK67)+ IF(ISNUMBER(AL67) = FALSE, 0, AL67) + IF(ISNUMBER(AM67) = FALSE, 0, AM67) + IF(ISNUMBER(AN67) = FALSE, 0, AN67)+ IF(ISNUMBER(AO67) = FALSE, 0,AO67))","v":0},{"$f":"IF(G67 = \"\", \"BLANK\",IF((AQ67+AR67+AS67) = 0, \"A\", AQ67 + AR67 + AS67))","v":"BLANK"}]
[67,null,{"$f":"IFERROR(INDEX(Input!$B$23:$B$192,MATCH(B68,Input!$A$23:$A$192,FALSE),1),\"\")","v":""},{"$f":"IFERROR(INDEX(Input!$C$23:$C$192,MATCH(B68,Input!$A$23:$A$192,FALSE),1),\"\")","v":""},{"$nulls":7},"",{"$f":"IFERROR(INDEX(Input!$F$23:$F$192,MATCH(B68,Input!$A$23:$A$192,FALSE),1),\"\")","v":""},"",{"$f":"IFERROR(INDEX(Input!$K$23:$K$192,MATCH(B68,Input!$A$23:$A$192,FALSE),1),\"\")","v":""},0,{"$f":"IFERROR(VLOOKUP(ExamQ[[#This Row],[Test Question Complexity]],#REF!,3),\"\")","v":""},{"$f":"IFERROR(INDEX(Input!$L$23:$L$192,MATCH(B68,Input!$A$23:$A$192,FALSE),1),\"\")","v":""},0,"","","","","","",{"$f":"IFERROR(INDEX(KSR,MATCH(1,(($T68=K1Out)*($U68=K2Out)*($V68=K3Out)*($W68=K4Out)*($X68=K5Out)*($Y68=K6Out)),0)),0)","v":0},0,"","","","","","","",{"$f":"IFERROR(INDEX(SSR,MATCH(1,((AB68=S1Out)*($AC68=S2Out)*($AD68=S3Out)*($AE68=S4Out)*($AF68=S5Out)*($AG68=S6Out)*($AH68=S7Out)),0)),0)","v":0},0,"","","","",{"$f":"IF(SUMPRODUCT(--ISNUMBER(SEARCH(AA_F,$G68)))>0,5,\"\")","v":""},{"$f":"IFERROR(INDEX(AASR,MATCH(1,(($AK68=AA1Out)*($AL68=AA2Out)*($AM68=AA3Out)*($AN68=AA4Out)*($AO68=AA5Out)),0)),0)","v":0},0,0,0,"BLANK"]
[68,null,{"$f":"IFERROR(INDEX(Input!$B$23:$B$192,MATCH(B69,Input!$A$23:$A$192,FALSE),1),\"\")","v":""},{"$f":"IFERROR(INDEX(Input!$C$23:$C$192,MATCH(B69,Input!$A$23:$A$192,FALSE),1),\"\")","v":""},{"$nulls":7},"",{"$f":"IFERROR(INDEX(Input!$F$23:$F$192,MATCH(B69,Input!$A$23:$A$192,FALSE),1),\"\")","v":""},"",{"$f":"IFERROR(INDEX(Input!$K$23:$K$192,MATCH(B69,Input!$A$23:$A$192,FALSE),1),\"\")","v":""},0,{"$f":"IFERROR(VLOOKUP(ExamQ[[#This Row],[Test Question Complexity]],#REF!,3),\"\")","v":""},{"$f":"IFERROR(INDEX(Input!$L$23:$L$192,MATCH(B69,Input!$A$23:$A$192,FALSE),1),\"\")","v":""},0,"","","","","","",{"$f":"IFERROR(INDEX(KSR,MATCH(1,(($T69=K1Out)*($U69=K2Out)*($V69=K3Out)*($W69=K4Out)*($X69=K5Out)*($Y69=K6Out)),0)),0)","v":0},0,"","","","","","","",{"$f":"IFERROR(INDEX(SSR,MATCH(1,((AB69=S1Out)*($AC69=S2Out)*($AD69=S3Out)*($AE69=S4Out)*($AF69=S5Out)*($AG69=S6Out)*($AH69=S7Out)),0)),0)","v":0},0,"","","","",{"$f":"IF(SUMPRODUCT(--ISNUMBER(SEARCH(AA_F,$G69)))>0,5,\"\")","v":""},{"$f":"IFERROR(INDEX(AASR,MATCH(1,(($AK69=AA1Out)*($AL69=AA2Out)*($AM69=AA3Out)*($AN69=AA4Out)*($AO69=AA5Out)),0)),0)","v":0},0,0,0,"BLANK"]
[69,null,{"$f":"IFERROR(INDEX(Input!$B$23:$B$192,MATCH(B70,Input!$A$23:$A$192,FALSE),1),\"\")","v":""},{"$f":"IFERROR(INDEX(Input!$C$23:$C$192,MATCH(B70,Input!$A$23:$A$192,FALSE),1),\"\")","v":""},{"$nulls":7},"",{"$f":"IFERROR(INDEX(Input!$F$23:$F$192,MATCH(B70,Input!$A$23:$A$192,FALSE),1),\"\")","v":""},"",{"$f":"IFERROR(INDEX(Input!$K$23:$K$192,MATCH(B70,Input!$A$23:$A$192,FALSE),1),\"\")","v":""},0,{"$f":"IFERROR(VLOOKUP(ExamQ[[#This Row],[Test Question Complexity]],#REF!,3),\"\")","v":""},{"$f":"IFERROR(INDEX(Input!$L$23:$L$192,MATCH(B70,Input!$A$23:$A$192,FALSE),1),\"\")","v":""},0,"","","","","","",{"$f":"IFERROR(INDEX(KSR,MATCH(1,(($T70=K1Out)*($U70=K2Out)*($V70=K3Out)*($W70=K4Out)*($X70=K5Out)*($Y70=K6Out)),0)),0)","v":0},0,"","","","","","","",{"$f":"IFERROR(INDEX(SSR,MATCH(1,((AB70=S1Out)*($AC70=S2Out)*($AD70=S3Out)*($AE70=S4Out)*($AF70=S5Out)*($AG70=S6Out)*($AH70=S7Out)),0)),0)","v":0},0,"","","","",{"$f":"IF(SUMPRODUCT(--ISNUMBER(SEARCH(AA_F,$G70)))>0,5,\"\")","v":""},{"$f":"IFERROR(INDEX(AASR,MATCH(1,(($AK70=AA1Out)*($AL70=AA2Out)*($AM70=AA3Out)*($AN70=AA4Out)*($AO70=AA5Out)),0)),0)","v":0},0,0,0,"BLANK"]
[70,null,{"$f":"IFERROR(INDEX(Input!$B$23:$B$192,MATCH(B71,Input!$A$23:$A$192,FALSE),1),\"\")","v":""},{"$f":"IFERROR(INDEX(Input!$C$23:$C$192,MATCH(B71,Input!$A$23:$A$192,FALSE),1),\"\")","v":""},{"$nulls":7},"",{"$f":"IFERROR(INDEX(Input!$F$23:$F$192,MATCH(B71,Input!$A$23:$A$192,FALSE),1),\"\")","v":""},"",{"$f":"IFERROR(INDEX(Input!$K$23:$K$192,MATCH(B71,Input!$A$23:$A$192,FALSE),1),\"\")","v":""},0,{"$f":"IFERROR(VLOOKUP(ExamQ[[#This Row],[Test Question Complexity]],#REF!,3),\"\")","v":""},{"$f":"IFERROR(INDEX(Input!$L$23:$L$192,MATCH(B71,Input!$A$23:$A$192,FALSE),1),\"\")","v":""},0,"","","","","","",{"$f":"IFERROR(INDEX(KSR,MATCH(1,(($T71=K1Out)*($U71=K2Out)*($V71=K3Out)*($W71=K4Out)*($X71=K5Out)*($Y71=K6Out)),0)),0)","v":0},0,"","","","","","","",{"$f":"IFERROR(INDEX(SSR,MATCH(1,((AB71=S1Out)*($AC71=S2Out)*($AD71=S3Out)*($AE71=S4Out)*($AF71=S5Out)*($AG71=S6Out)*($AH71=S7Out)),0)),0)","v":0},0,"","","","",{"$f":"IF(SUMPRODUCT(--ISNUMBER(SEARCH(AA_F,$G71)))>0,5,\"\")","v":""},{"$f":"IFERROR(INDEX(AASR,MATCH(1,(($AK71=AA1Out)*($AL71=AA2Out)*($AM71=AA3Out)*($AN71=AA4Out)*($AO71=AA5Out)),0)),0)","v":0},0,0,0,"BLANK"]
[71,null,{"$f":"IFERROR(INDEX(Input!$B$23:$B$192,MATCH(B72,Input!$A$23:$A$192,FALSE),1),\"\")","v":""},{"$f":"IFERROR(INDEX(Input!$C$23:$C$192,MATCH(B72,Input!$A$23:$A$192,FALSE),1),\"\")","v":""},{"$nulls":7},"",{"$f":"IFERROR(INDEX(Input!$F$23:$F$192,MATCH(B72,Input!$A$23:$A$192,FALSE),1),\"\")","v":""},"",{"$f":"IFERROR(INDEX(Input!$K$23:$K$192,MATCH(B72,Input!$A$23:$A$192,FALSE),1),\"\")","v":""},0,{"$f":"IFERROR(VLOOKUP(ExamQ[[#This Row],[Test Question Complexity]],#REF!,3),\"\")","v":""},{"$f":"IFERROR(INDEX(Input!$L$23:$L$192,MATCH(B72,Input!$A$23:$A$192,FALSE),1),\"\")","v":""},0,"","","","","","",{"$f":"IFERROR(INDEX(KSR,MATCH(1,(($T72=K1Out)*($U72=K2Out)*($V72=K3Out)*($W72=K4Out)*($X72=K5Out)*($Y72=K6Out)),0)),0)","v":0},0,"","","","","","","",{"$f":"IFERROR(INDEX(SSR,MATCH(1,((AB72=S1Out)*($AC72=S2Out)*($AD72=S3Out)*($AE72=S4Out)*($AF72=S5Out)*($AG72=S6Out)*($AH72=S7Out)),0)),0)","v":0},0,"","","","",{"$f":"IF(SUMPRODUCT(--ISNUMBER(SEARCH(AA_F,$G72)))>0,5,\"\")","v":""},{"$f":"IFERROR(INDEX(AASR,MATCH(1,(($AK72=AA1Out)*($AL72=AA2Out)*($AM72=AA3Out)*($AN72=AA4Out)*($AO72=AA5Out)),0)),0)","v":0},0,0,0,"BLANK"]
[72,null,{"$f":"IFERROR(INDEX(Input!$B$23:$B$192,MATCH(B73,Input!$A$23:$A$192,FALSE),1),\"\")","v":""},{"$f":"IFERROR(INDEX(Input!$C$23:$C$192,MATCH(B73,Input!$A$23:$A$192,FALSE),1),\"\")","v":""},{"$nulls":7},"",{"$f":"IFERROR(INDEX(Input!$F$23:$F$192,MATCH(B73,Input!$A$23:$A$192,FALSE),1),\"\")","v":""},"",{"$f":"IFERROR(INDEX(Input!$K$23:$K$192,MATCH(B73,Input!$A$23:$A$192,FALSE),1),\"\")","v":""},0,{"$f":"IFERROR(VLOOKUP(ExamQ[[#This Row],[Test Question Complexity]],#REF!,3),\"\")","v":""},{"$f":"IFERROR(INDEX(Input!$L$23:$L$192,MATCH(B73,Input!$A$23:$A$192,FALSE),1),\"\")","v":""},0,"","","","","","",{"$f":"IFERROR(INDEX(KSR,MATCH(1,(($T73=K1Out)*($U73=K2Out)*($V73=K3Out)*($W73=K4Out)*($X73=K5Out)*($Y73=K6Out)),0)),0)","v":0},0,"","","","","","","",{"$f":"IFERROR(INDEX(SSR,MATCH(1,((AB73=S1Out)*($AC73=S2Out)*($AD73=S3Out)*($AE73=S4Out)*($AF73=S5Out)*($AG73=S6Out)*($AH73=S7Out)),0)),0)","v":0},0,"","","","",{"$f":"IF(SUMPRODUCT(--ISNUMBER(SEARCH(AA_F,$G73)))>0,5,\"\")","v":""},{"$f":"IFERROR(INDEX(AASR,MATCH(1,(($AK73=AA1Out)*($AL73=AA2Out)*($AM73=AA3Out)*($AN73=AA4Out)*($AO73=AA5Out)),0)),0)","v":0},0,0,0,"BLANK"]
[73,null,{"$f":"IFERROR(INDEX(Input!$B$23:$B$192,MATCH(B74,Input!$A$23:$A$192,FALSE),1),\"\")","v":""},{"$f":"IFERROR(INDEX(Input!$C$23:$C$192,MATCH(B74,Input!$A$23:$A$192,FALSE),1),\"\")","v":""},{"$nulls":7},"",{"$f":"IFERROR(INDEX(Input!$F$23:$F$192,MATCH(B74,Input!$A$23:$A$192,FALSE),1),\"\")","v":""},"",{"$f":"IFERROR(INDEX(Input!$K$23:$K$192,MATCH(B74,Input!$A$23:$A$192,FALSE),1),\"\")","v":""},0,{"$f":"IFERROR(VLOOKUP(ExamQ[[#This Row],[Test Question Complexity]],#REF!,3),\"\")","v":""},{"$f":"IFERROR(INDEX(Input!$L$23:$L$192,MATCH(B74,Input!$A$23:$A$192,FALSE),1),\"\")","v":""},0,"","","","","","",{"$f":"IFERROR(INDEX(KSR,MATCH(1,(($T74=K1Out)*($U74=K2Out)*($V74=K3Out)*($W74=K4Out)*($X74=K5Out)*($Y74=K6Out)),0)),0)","v":0},0,"","","","","","","",{"$f":"IFERROR(INDEX(SSR,MATCH(1,((AB74=S1Out)*($AC74=S2Out)*($AD74=S3Out)*($AE74=S4Out)*($AF74=S5Out)*($AG74=S6Out)*($AH74=S7Out)),0)),0)","v":0},0,"","","","",{"$f":"IF(SUMPRODUCT(--ISNUMBER(SEARCH(AA_F,$G74)))>0,5,\"\")","v":""},{"$f":"IFERROR(INDEX(AASR,MATCH(1,(($AK74=AA1Out)*($AL74=AA2Out)*($AM74=AA3Out)*($AN74=AA4Out)*($AO74=AA5Out)),0)),0)","v":0},0,0,0,"BLANK"]
[74,null,{"$f":"IFERROR(INDEX(Input!$B$23:$B$192,MATCH(B75,Input!$A$23:$A$192,FALSE),1),\"\")","v":""},{"$f":"IFERROR(INDEX(Input!$C$23:$C$192,MATCH(B75,Input!$A$23:$A$192,FALSE),1),\"\")","v":""},{"$nulls":7},"",{"$f":"IFERROR(INDEX(Input!$F$23:$F$192,MATCH(B75,Input!$A$23:$A$192,FALSE),1),\"\")","v":""},"",{"$f":"IFERROR(INDEX(Input!$K$23:$K$192,MATCH(B75,Input!$A$23:$A$192,FALSE),1),\"\")","v":""},0,{"$f":"IFERROR(VLOOKUP(ExamQ[[#This Row],[Test Question Complexity]],#REF!,3),\"\")","v":""},{"$f":"IFERROR(INDEX(Input!$L$23:$L$192,MATCH(B75,Input!$A$23:$A$192,FALSE),1),\"\")","v":""},0,"","","","","","",{"$f":"IFERROR(INDEX(KSR,MATCH(1,(($T75=K1Out)*($U75=K2Out)*($V75=K3Out)*($W75=K4Out)*($X75=K5Out)*($Y75=K6Out)),0)),0)","v":0},0,"","","","","","","",{"$f":"IFERROR(INDEX(SSR,MATCH(1,((AB75=S1Out)*($AC75=S2Out)*($AD75=S3Out)*($AE75=S4Out)*($AF75=S5Out)*($AG75=S6Out)*($AH75=S7Out)),0)),0)","v":0},0,"","","","",{"$f":"IF(SUMPRODUCT(--ISNUMBER(SEARCH(AA_F,$G75)))>0,5,\"\")","v":""},{"$f":"IFERROR(INDEX(AASR,MATCH(1,(($AK75=AA1Out)*($AL75=AA2Out)*($AM75=AA3Out)*($AN75=AA4Out)*($AO75=AA5Out)),0)),0)","v":0},0,0,0,"BLANK"]
[75,null,{"$f":"IFERROR(INDEX(Input!$B$23:$B$192,MATCH(B76,Input!$A$23:$A$192,FALSE),1),\"\")","v":""},{"$f":"IFERROR(INDEX(Input!$C$23:$C$192,MATCH(B76,Input!$A$23:$A$192,FALSE),1),\"\")","v":""},{"$nulls":7},"",{"$f":"IFERROR(INDEX(Input!$F$23:$F$192,MATCH(B76,Input!$A$23:$A$192,FALSE),1),\"\")","v":""},"",{"$f":"IFERROR(INDEX(Input!$K$23:$K$192,MATCH(B76,Input!$A$23:$A$192,FALSE),1),\"\")","v":""},0,{"$f":"IFERROR(VLOOKUP(ExamQ[[#This Row],[Test Question Complexity]],#REF!,3),\"\")","v":""},{"$f":"IFERROR(INDEX(Input!$L$23:$L$192,MATCH(B76,Input!$A$23:$A$192,FALSE),1),\"\")","v":""},0,"","","","","","",{"$f":"IFERROR(INDEX(KSR,MATCH(1,(($T76=K1Out)*($U76=K2Out)*($V76=K3Out)*($W76=K4Out)*($X76=K5Out)*($Y76=K6Out)),0)),0)","v":0},0,"","","","","","","",{"$f":"IFERROR(INDEX(SSR,MATCH(1,((AB76=S1Out)*($AC76=S2Out)*($AD76=S3Out)*($AE76=S4Out)*($AF76=S5Out)*($AG76=S6Out)*($AH76=S7Out)),0)),0)","v":0},0,"","","","",{"$f":"IF(SUMPRODUCT(--ISNUMBER(SEARCH(AA_F,$G76)))>0,5,\"\")","v":""},{"$f":"IFERROR(INDEX(AASR,MATCH(1,(($AK76=AA1Out)*($AL76=AA2Out)*($AM76=AA3Out)*($AN76=AA4Out)*($AO76=AA5Out)),0)),0)","v":0},0,0,0,"BLANK"]
[76,null,{"$f":"IFERROR(INDEX(Input!$B$23:$B$192,MATCH(B77,Input!$A$23:$A$192,FALSE),1),\"\")","v":""},{"$f":"IFERROR(INDEX(Input!$C$23:$C$192,MATCH(B77,Input!$A$23:$A$192,FALSE),1),\"\")","v":""},{"$nulls":7},"",{"$f":"IFERROR(INDEX(Input!$F$23:$F$192,MATCH(B77,Input!$A$23:$A$192,FALSE),1),\"\")","v":""},"",{"$f":"IFERROR(INDEX(Input!$K$23:$K$192,MATCH(B77,Input!$A$23:$A$192,FALSE),1),\"\")","v":""},0,{"$f":"IFERROR(VLOOKUP(ExamQ[[#This Row],[Test Question Complexity]],#REF!,3),\"\")","v":""},{"$f":"IFERROR(INDEX(Input!$L$23:$L$192,MATCH(B77,Input!$A$23:$A$192,FALSE),1),\"\")","v":""},0,"","","","","","",{"$f":"IFERROR(INDEX(KSR,MATCH(1,(($T77=K1Out)*($U77=K2Out)*($V77=K3Out)*($W77=K4Out)*($X77=K5Out)*($Y77=K6Out)),0)),0)","v":0},0,"","","","","","","",{"$f":"IFERROR(INDEX(SSR,MATCH(1,((AB77=S1Out)*($AC77=S2Out)*($AD77=S3Out)*($AE77=S4Out)*($AF77=S5Out)*($AG77=S6Out)*($AH77=S7Out)),0)),0)","v":0},0,"","","","",{"$f":"IF(SUMPRODUCT(--ISNUMBER(SEARCH(AA_F,$G77)))>0,5,\"\")","v":""},{"$f":"IFERROR(INDEX(AASR,MATCH(1,(($AK77=AA1Out)*($AL77=AA2Out)*($AM77=AA3Out)*($AN77=AA4Out)*($AO77=AA5Out)),0)),0)","v":0},0,0,0,"BLANK"]
[77,null,{"$f":"IFERROR(INDEX(Input!$B$23:$B$192,MATCH(B78,Input!$A$23:$A$192,FALSE),1),\"\")","v":""},{"$f":"IFERROR(INDEX(Input!$C$23:$C$192,MATCH(B78,Input!$A$23:$A$192,FALSE),1),\"\")","v":""},{"$nulls":7},"",{"$f":"IFERROR(INDEX(Input!$F$23:$F$192,MATCH(B78,Input!$A$23:$A$192,FALSE),1),\"\")","v":""},"",{"$f":"IFERROR(INDEX(Input!$K$23:$K$192,MATCH(B78,Input!$A$23:$A$192,FALSE),1),\"\")","v":""},0,{"$f":"IFERROR(VLOOKUP(ExamQ[[#This Row],[Test Question Complexity]],#REF!,3),\"\")","v":""},{"$f":"IFERROR(INDEX(Input!$L$23:$L$192,MATCH(B78,Input!$A$23:$A$192,FALSE),1),\"\")","v":""},0,"","","","","","",{"$f":"IFERROR(INDEX(KSR,MATCH(1,(($T78=K1Out)*($U78=K2Out)*($V78=K3Out)*($W78=K4Out)*($X78=K5Out)*($Y78=K6Out)),0)),0)","v":0},0,"","","","","","","",{"$f":"IFERROR(INDEX(SSR,MATCH(1,((AB78=S1Out)*($AC78=S2Out)*($AD78=S3Out)*($AE78=S4Out)*($AF78=S5Out)*($AG78=S6Out)*($AH78=S7Out)),0)),0)","v":0},0,"","","","",{"$f":"IF(SUMPRODUCT(--ISNUMBER(SEARCH(AA_F,$G78)))>0,5,\"\")","v":""},{"$f":"IFERROR(INDEX(AASR,MATCH(1,(($AK78=AA1Out)*($AL78=AA2Out)*($AM78=AA3Out)*($AN78=AA4Out)*($AO78=AA5Out)),0)),0)","v":0},0,0,0,"BLANK"]
[78,null,{"$f":"IFERROR(INDEX(Input!$B$23:$B$192,MATCH(B79,Input!$A$23:$A$192,FALSE),1),\"\")","v":""},{"$f":"IFERROR(INDEX(Input!$C$23:$C$192,MATCH(B79,Input!$A$23:$A$192,FALSE),1),\"\")","v":""},{"$nulls":7},"",{"$f":"IFERROR(INDEX(Input!$F$23:$F$192,MATCH(B79,Input!$A$23:$A$192,FALSE),1),\"\")","v":""},"",{"$f":"IFERROR(INDEX(Input!$K$23:$K$192,MATCH(B79,Input!$A$23:$A$192,FALSE),1),\"\")","v":""},0,{"$f":"IFERROR(VLOOKUP(ExamQ[[#This Row],[Test Question Complexity]],#REF!,3),\"\")","v":""},{"$f":"IFERROR(INDEX(Input!$L$23:$L$192,MATCH(B79,Input!$A$23:$A$192,FALSE),1),\"\")","v":""},0,"","","","","","",{"$f":"IFERROR(INDEX(KSR,MATCH(1,(($T79=K1Out)*($U79=K2Out)*($V79=K3Out)*($W79=K4Out)*($X79=K5Out)*($Y79=K6Out)),0)),0)","v":0},0,"","","","","","","",{"$f":"IFERROR(INDEX(SSR,MATCH(1,((AB79=S1Out)*($AC79=S2Out)*($AD79=S3Out)*($AE79=S4Out)*($AF79=S5Out)*($AG79=S6Out)*($AH79=S7Out)),0)),0)","v":0},0,"","","","",{"$f":"IF(SUMPRODUCT(--ISNUMBER(SEARCH(AA_F,$G79)))>0,5,\"\")","v":""},{"$f":"IFERROR(INDEX(AASR,MATCH(1,(($AK79=AA1Out)*($AL79=AA2Out)*($AM79=AA3Out)*($AN79=AA4Out)*($AO79=AA5Out)),0)),0)","v":0},0,0,0,"BLANK"]
[79,null,{"$f":"IFERROR(INDEX(Input!$B$23:$B$192,MATCH(B80,Input!$A$23:$A$192,FALSE),1),\"\")","v":""},{"$f":"IFERROR(INDEX(Input!$C$23:$C$192,MATCH(B80,Input!$A$23:$A$192,FALSE),1),\"\")","v":""},{"$nulls":7},"",{"$f":"IFERROR(INDEX(Input!$F$23:$F$192,MATCH(B80,Input!$A$23:$A$192,FALSE),1),\"\")","v":""},"",{"$f":"IFERROR(INDEX(Input!$K$23:$K$192,MATCH(B80,Input!$A$23:$A$192,FALSE),1),\"\")","v":""},0,{"$f":"IFERROR(VLOOKUP(ExamQ[[#This Row],[Test Question Complexity]],#REF!,3),\"\")","v":""},{"$f":"IFERROR(INDEX(Input!$L$23:$L$192,MATCH(B80,Input!$A$23:$A$192,FALSE),1),\"\")","v":""},0,"","","","","","",{"$f":"IFERROR(INDEX(KSR,MATCH(1,(($T80=K1Out)*($U80=K2Out)*($V80=K3Out)*($W80=K4Out)*($X80=K5Out)*($Y80=K6Out)),0)),0)","v":0},0,"","","","","","","",{"$f":"IFERROR(INDEX(SSR,MATCH(1,((AB80=S1Out)*($AC80=S2Out)*($AD80=S3Out)*($AE80=S4Out)*($AF80=S5Out)*($AG80=S6Out)*($AH80=S7Out)),0)),0)","v":0},0,"","","","",{"$f":"IF(SUMPRODUCT(--ISNUMBER(SEARCH(AA_F,$G80)))>0,5,\"\")","v":""},{"$f":"IFERROR(INDEX(AASR,MATCH(1,(($AK80=AA1Out)*($AL80=AA2Out)*($AM80=AA3Out)*($AN80=AA4Out)*($AO80=AA5Out)),0)),0)","v":0},0,0,0,"BLANK"]
[80,null,{"$f":"IFERROR(INDEX(Input!$B$23:$B$192,MATCH(B81,Input!$A$23:$A$192,FALSE),1),\"\")","v":""},{"$f":"IFERROR(INDEX(Input!$C$23:$C$192,MATCH(B81,Input!$A$23:$A$192,FALSE),1),\"\")","v":""},{"$nulls":7},"",{"$f":"IFERROR(INDEX(Input!$F$23:$F$192,MATCH(B81,Input!$A$23:$A$192,FALSE),1),\"\")","v":""},"",{"$f":"IFERROR(INDEX(Input!$K$23:$K$192,MATCH(B81,Input!$A$23:$A$192,FALSE),1),\"\")","v":""},0,{"$f":"IFERROR(VLOOKUP(ExamQ[[#This Row],[Test Question Complexity]],#REF!,3),\"\")","v":""},{"$f":"IFERROR(INDEX(Input!$L$23:$L$192,MATCH(B81,Input!$A$23:$A$192,FALSE),1),\"\")","v":""},0,"","","","","","",{"$f":"IFERROR(INDEX(KSR,MATCH(1,(($T81=K1Out)*($U81=K2Out)*($V81=K3Out)*($W81=K4Out)*($X81=K5Out)*($Y81=K6Out)),0)),0)","v":0},0,"","","","","","","",{"$f":"IFERROR(INDEX(SSR,MATCH(1,((AB81=S1Out)*($AC81=S2Out)*($AD81=S3Out)*($AE81=S4Out)*($AF81=S5Out)*($AG81=S6Out)*($AH81=S7Out)),0)),0)","v":0},0,"","","","",{"$f":"IF(SUMPRODUCT(--ISNUMBER(SEARCH(AA_F,$G81)))>0,5,\"\")","v":""},{"$f":"IFERROR(INDEX(AASR,MATCH(1,(($AK81=AA1Out)*($AL81=AA2Out)*($AM81=AA3Out)*($AN81=AA4Out)*($AO81=AA5Out)),0)),0)","v":0},0,0,0,"BLANK"]
[81,null,{"$f":"IFERROR(INDEX(Input!$B$23:$B$192,MATCH(B82,Input!$A$23:$A$192,FALSE),1),\"\")","v":""},{"$f":"IFERROR(INDEX(Input!$C$23:$C$192,MATCH(B82,Input!$A$23:$A$192,FALSE),1),\"\")","v":""},{"$nulls":7},"",{"$f":"IFERROR(INDEX(Input!$F$23:$F$192,MATCH(B82,Input!$A$23:$A$192,FALSE),1),\"\")","v":""},"",{"$f":"IFERROR(INDEX(Input!$K$23:$K$192,MATCH(B82,Input!$A$23:$A$192,FALSE),1),\"\")","v":""},0,{"$f":"IFERROR(VLOOKUP(ExamQ[[#This Row],[Test Question Complexity]],#REF!,3),\"\")","v":""},{"$f":"IFERROR(INDEX(Input!$L$23:$L$192,MATCH(B82,Input!$A$23:$A$192,FALSE),1),\"\")","v":""},0,"","","","","","",{"$f":"IFERROR(INDEX(KSR,MATCH(1,(($T82=K1Out)*($U82=K2Out)*($V82=K3Out)*($W82=K4Out)*($X82=K5Out)*($Y82=K6Out)),0)),0)","v":0},0,"","","","","","","",{"$f":"IFERROR(INDEX(SSR,MATCH(1,((AB82=S1Out)*($AC82=S2Out)*($AD82=S3Out)*($AE82=S4Out)*($AF82=S5Out)*($AG82=S6Out)*($AH82=S7Out)),0)),0)","v":0},0,"","","","",{"$f":"IF(SUMPRODUCT(--ISNUMBER(SEARCH(AA_F,$G82)))>0,5,\"\")","v":""},{"$f":"IFERROR(INDEX(AASR,MATCH(1,(($AK82=AA1Out)*($AL82=AA2Out)*($AM82=AA3Out)*($AN82=AA4Out)*($AO82=AA5Out)),0)),0)","v":0},0,0,0,"BLANK"]
[82,null,{"$f":"IFERROR(INDEX(Input!$B$23:$B$192,MATCH(B83,Input!$A$23:$A$192,FALSE),1),\"\")","v":""},{"$f":"IFERROR(INDEX(Input!$C$23:$C$192,MATCH(B83,Input!$A$23:$A$192,FALSE),1),\"\")","v":""},{"$nulls":7},"",{"$f":"IFERROR(INDEX(Input!$F$23:$F$192,MATCH(B83,Input!$A$23:$A$192,FALSE),1),\"\")","v":""},"",{"$f":"IFERROR(INDEX(Input!$K$23:$K$192,MATCH(B83,Input!$A$23:$A$192,FALSE),1),\"\")","v":""},0,{"$f":"IFERROR(VLOOKUP(ExamQ[[#This Row],[Test Question Complexity]],#REF!,3),\"\")","v":""},{"$f":"IFERROR(INDEX(Input!$L$23:$L$192,MATCH(B83,Input!$A$23:$A$192,FALSE),1),\"\")","v":""},0,"","","","","","",{"$f":"IFERROR(INDEX(KSR,MATCH(1,(($T83=K1Out)*($U83=K2Out)*($V83=K3Out)*($W83=K4Out)*($X83=K5Out)*($Y83=K6Out)),0)),0)","v":0},0,"","","","","","","",{"$f":"IFERROR(INDEX(SSR,MATCH(1,((AB83=S1Out)*($AC83=S2Out)*($AD83=S3Out)*($AE83=S4Out)*($AF83=S5Out)*($AG83=S6Out)*($AH83=S7Out)),0)),0)","v":0},0,"","","","",{"$f":"IF(SUMPRODUCT(--ISNUMBER(SEARCH(AA_F,$G83)))>0,5,\"\")","v":""},{"$f":"IFERROR(INDEX(AASR,MATCH(1,(($AK83=AA1Out)*($AL83=AA2Out)*($AM83=AA3Out)*($AN83=AA4Out)*($AO83=AA5Out)),0)),0)","v":0},0,0,0,"BLANK"]
[83,null,{"$f":"IFERROR(INDEX(Input!$B$23:$B$192,MATCH(B84,Input!$A$23:$A$192,FALSE),1),\"\")","v":""},{"$f":"IFERROR(INDEX(Input!$C$23:$C$192,MATCH(B84,Input!$A$23:$A$192,FALSE),1),\"\")","v":""},{"$nulls":7},"",{"$f":"IFERROR(INDEX(Input!$F$23:$F$192,MATCH(B84,Input!$A$23:$A$192,FALSE),1),\"\")","v":""},"",{"$f":"IFERROR(INDEX(Input!$K$23:$K$192,MATCH(B84,Input!$A$23:$A$192,FALSE),1),\"\")","v":""},0,{"$f":"IFERROR(VLOOKUP(ExamQ[[#This Row],[Test Question Complexity]],#REF!,3),\"\")","v":""},{"$f":"IFERROR(INDEX(Input!$L$23:$L$192,MATCH(B84,Input!$A$23:$A$192,FALSE),1),\"\")","v":""},0,"","","","","","",{"$f":"IFERROR(INDEX(KSR,MATCH(1,(($T84=K1Out)*($U84=K2Out)*($V84=K3Out)*($W84=K4Out)*($X84=K5Out)*($Y84=K6Out)),0)),0)","v":0},0,"","","","","","","",{"$f":"IFERROR(INDEX(SSR,MATCH(1,((AB84=S1Out)*($AC84=S2Out)*($AD84=S3Out)*($AE84=S4Out)*($AF84=S5Out)*($AG84=S6Out)*($AH84=S7Out)),0)),0)","v":0},0,"","","","",{"$f":"IF(SUMPRODUCT(--ISNUMBER(SEARCH(AA_F,$G84)))>0,5,\"\")","v":""},{"$f":"IFERROR(INDEX(AASR,MATCH(1,(($AK84=AA1Out)*($AL84=AA2Out)*($AM84=AA3Out)*($AN84=AA4Out)*($AO84=AA5Out)),0)),0)","v":0},0,0,0,"BLANK"]
[84,null,{"$f":"IFERROR(INDEX(Input!$B$23:$B$192,MATCH(B85,Input!$A$23:$A$192,FALSE),1),\"\")","v":""},{"$f":"IFERROR(INDEX(Input!$C$23:$C$192,MATCH(B85,Input!$A$23:$A$192,FALSE),1),\"\")","v":""},{"$nulls":7},"",{"$f":"IFERROR(INDEX(Input!$F$23:$F$192,MATCH(B85,Input!$A$23:$A$192,FALSE),1),\"\")","v":""},"",{"$f":"IFERROR(INDEX(Input!$K$23:$K$192,MATCH(B85,Input!$A$23:$A$192,FALSE),1),\"\")","v":""},0,{"$f":"IFERROR(VLOOKUP(ExamQ[[#This Row],[Test Question Complexity]],#REF!,3),\"\")","v":""},{"$f":"IFERROR(INDEX(Input!$L$23:$L$192,MATCH(B85,Input!$A$23:$A$192,FALSE),1),\"\")","v":""},0,"","","","","","",{"$f":"IFERROR(INDEX(KSR,MATCH(1,(($T85=K1Out)*($U85=K2Out)*($V85=K3Out)*($W85=K4Out)*($X85=K5Out)*($Y85=K6Out)),0)),0)","v":0},0,"","","","","","","",{"$f":"IFERROR(INDEX(SSR,MATCH(1,((AB85=S1Out)*($AC85=S2Out)*($AD85=S3Out)*($AE85=S4Out)*($AF85=S5Out)*($AG85=S6Out)*($AH85=S7Out)),0)),0)","v":0},0,"","","","",{"$f":"IF(SUMPRODUCT(--ISNUMBER(SEARCH(AA_F,$G85)))>0,5,\"\")","v":""},{"$f":"IFERROR(INDEX(AASR,MATCH(1,(($AK85=AA1Out)*($AL85=AA2Out)*($AM85=AA3Out)*($AN85=AA4Out)*($AO85=AA5Out)),0)),0)","v":0},0,0,0,"BLANK"]
[85,null,{"$f":"IFERROR(INDEX(Input!$B$23:$B$192,MATCH(B86,Input!$A$23:$A$192,FALSE),1),\"\")","v":""},{"$f":"IFERROR(INDEX(Input!$C$23:$C$192,MATCH(B86,Input!$A$23:$A$192,FALSE),1),\"\")","v":""},{"$nulls":7},"",{"$f":"IFERROR(INDEX(Input!$F$23:$F$192,MATCH(B86,Input!$A$23:$A$192,FALSE),1),\"\")","v":""},"",{"$f":"IFERROR(INDEX(Input!$K$23:$K$192,MATCH(B86,Input!$A$23:$A$192,FALSE),1),\"\")","v":""},0,{"$f":"IFERROR(VLOOKUP(ExamQ[[#This Row],[Test Question Complexity]],#REF!,3),\"\")","v":""},{"$f":"IFERROR(INDEX(Input!$L$23:$L$192,MATCH(B86,Input!$A$23:$A$192,FALSE),1),\"\")","v":""},0,"","","","","","",{"$f":"IFERROR(INDEX(KSR,MATCH(1,(($T86=K1Out)*($U86=K2Out)*($V86=K3Out)*($W86=K4Out)*($X86=K5Out)*($Y86=K6Out)),0)),0)","v":0},0,"","","","","","","",{"$f":"IFERROR(INDEX(SSR,MATCH(1,((AB86=S1Out)*($AC86=S2Out)*($AD86=S3Out)*($AE86=S4Out)*($AF86=S5Out)*($AG86=S6Out)*($AH86=S7Out)),0)),0)","v":0},0,"","","","",{"$f":"IF(SUMPRODUCT(--ISNUMBER(SEARCH(AA_F,$G86)))>0,5,\"\")","v":""},{"$f":"IFERROR(INDEX(AASR,MATCH(1,(($AK86=AA1Out)*($AL86=AA2Out)*($AM86=AA3Out)*($AN86=AA4Out)*($AO86=AA5Out)),0)),0)","v":0},0,0,0,"BLANK"]
[86,null,{"$f":"IFERROR(INDEX(Input!$B$23:$B$192,MATCH(B87,Input!$A$23:$A$192,FALSE),1),\"\")","v":""},{"$f":"IFERROR(INDEX(Input!$C$23:$C$192,MATCH(B87,Input!$A$23:$A$192,FALSE),1),\"\")","v":""},{"$nulls":7},"",{"$f":"IFERROR(INDEX(Input!$F$23:$F$192,MATCH(B87,Input!$A$23:$A$192,FALSE),1),\"\")","v":""},"",{"$f":"IFERROR(INDEX(Input!$K$23:$K$192,MATCH(B87,Input!$A$23:$A$192,FALSE),1),\"\")","v":""},0,{"$f":"IFERROR(VLOOKUP(ExamQ[[#This Row],[Test Question Complexity]],#REF!,3),\"\")","v":""},{"$f":"IFERROR(INDEX(Input!$L$23:$L$192,MATCH(B87,Input!$A$23:$A$192,FALSE),1),\"\")","v":""},0,"","","","","","",{"$f":"IFERROR(INDEX(KSR,MATCH(1,(($T87=K1Out)*($U87=K2Out)*($V87=K3Out)*($W87=K4Out)*($X87=K5Out)*($Y87=K6Out)),0)),0)","v":0},0,"","","","","","","",{"$f":"IFERROR(INDEX(SSR,MATCH(1,((AB87=S1Out)*($AC87=S2Out)*($AD87=S3Out)*($AE87=S4Out)*($AF87=S5Out)*($AG87=S6Out)*($AH87=S7Out)),0)),0)","v":0},0,"","","","",{"$f":"IF(SUMPRODUCT(--ISNUMBER(SEARCH(AA_F,$G87)))>0,5,\"\")","v":""},{"$f":"IFERROR(INDEX(AASR,MATCH(1,(($AK87=AA1Out)*($AL87=AA2Out)*($AM87=AA3Out)*($AN87=AA4Out)*($AO87=AA5Out)),0)),0)","v":0},0,0,0,"BLANK"]
[87,null,{"$f":"IFERROR(INDEX(Input!$B$23:$B$192,MATCH(B88,Input!$A$23:$A$192,FALSE),1),\"\")","v":""},{"$f":"IFERROR(INDEX(Input!$C$23:$C$192,MATCH(B88,Input!$A$23:$A$192,FALSE),1),\"\")","v":""},{"$nulls":7},"",{"$f":"IFERROR(INDEX(Input!$F$23:$F$192,MATCH(B88,Input!$A$23:$A$192,FALSE),1),\"\")","v":""},"",{"$f":"IFERROR(INDEX(Input!$K$23:$K$192,MATCH(B88,Input!$A$23:$A$192,FALSE),1),\"\")","v":""},0,{"$f":"IFERROR(VLOOKUP(ExamQ[[#This Row],[Test Question Complexity]],#REF!,3),\"\")","v":""},{"$f":"IFERROR(INDEX(Input!$L$23:$L$192,MATCH(B88,Input!$A$23:$A$192,FALSE),1),\"\")","v":""},0,"","","","","","",{"$f":"IFERROR(INDEX(KSR,MATCH(1,(($T88=K1Out)*($U88=K2Out)*($V88=K3Out)*($W88=K4Out)*($X88=K5Out)*($Y88=K6Out)),0)),0)","v":0},0,"","","","","","","",{"$f":"IFERROR(INDEX(SSR,MATCH(1,((AB88=S1Out)*($AC88=S2Out)*($AD88=S3Out)*($AE88=S4Out)*($AF88=S5Out)*($AG88=S6Out)*($AH88=S7Out)),0)),0)","v":0},0,"","","","",{"$f":"IF(SUMPRODUCT(--ISNUMBER(SEARCH(AA_F,$G88)))>0,5,\"\")","v":""},{"$f":"IFERROR(INDEX(AASR,MATCH(1,(($AK88=AA1Out)*($AL88=AA2Out)*($AM88=AA3Out)*($AN88=AA4Out)*($AO88=AA5Out)),0)),0)","v":0},0,0,0,"BLANK"]
[88,null,{"$f":"IFERROR(INDEX(Input!$B$23:$B$192,MATCH(B89,Input!$A$23:$A$192,FALSE),1),\"\")","v":""},{"$f":"IFERROR(INDEX(Input!$C$23:$C$192,MATCH(B89,Input!$A$23:$A$192,FALSE),1),\"\")","v":""},{"$nulls":7},"",{"$f":"IFERROR(INDEX(Input!$F$23:$F$192,MATCH(B89,Input!$A$23:$A$192,FALSE),1),\"\")","v":""},"",{"$f":"IFERROR(INDEX(Input!$K$23:$K$192,MATCH(B89,Input!$A$23:$A$192,FALSE),1),\"\")","v":""},0,{"$f":"IFERROR(VLOOKUP(ExamQ[[#This Row],[Test Question Complexity]],#REF!,3),\"\")","v":""},{"$f":"IFERROR(INDEX(Input!$L$23:$L$192,MATCH(B89,Input!$A$23:$A$192,FALSE),1),\"\")","v":""},0,"","","","","","",{"$f":"IFERROR(INDEX(KSR,MATCH(1,(($T89=K1Out)*($U89=K2Out)*($V89=K3Out)*($W89=K4Out)*($X89=K5Out)*($Y89=K6Out)),0)),0)","v":0},0,"","","","","","","",{"$f":"IFERROR(INDEX(SSR,MATCH(1,((AB89=S1Out)*($AC89=S2Out)*($AD89=S3Out)*($AE89=S4Out)*($AF89=S5Out)*($AG89=S6Out)*($AH89=S7Out)),0)),0)","v":0},0,"","","","",{"$f":"IF(SUMPRODUCT(--ISNUMBER(SEARCH(AA_F,$G89)))>0,5,\"\")","v":""},{"$f":"IFERROR(INDEX(AASR,MATCH(1,(($AK89=AA1Out)*($AL89=AA2Out)*($AM89=AA3Out)*($AN89=AA4Out)*($AO89=AA5Out)),0)),0)","v":0},0,0,0,"BLANK"]
[89,null,{"$f":"IFERROR(INDEX(Input!$B$23:$B$192,MATCH(B90,Input!$A$23:$A$192,FALSE),1),\"\")","v":""},{"$f":"IFERROR(INDEX(Input!$C$23:$C$192,MATCH(B90,Input!$A$23:$A$192,FALSE),1),\"\")","v":""},{"$nulls":7},"",{"$f":"IFERROR(INDEX(Input!$F$23:$F$192,MATCH(B90,Input!$A$23:$A$192,FALSE),1),\"\")","v":""},"",{"$f":"IFERROR(INDEX(Input!$K$23:$K$192,MATCH(B90,Input!$A$23:$A$192,FALSE),1),\"\")","v":""},0,{"$f":"IFERROR(VLOOKUP(ExamQ[[#This Row],[Test Question Complexity]],#REF!,3),\"\")","v":""},{"$f":"IFERROR(INDEX(Input!$L$23:$L$192,MATCH(B90,Input!$A$23:$A$192,FALSE),1),\"\")","v":""},0,"","","","","","",{"$f":"IFERROR(INDEX(KSR,MATCH(1,(($T90=K1Out)*($U90=K2Out)*($V90=K3Out)*($W90=K4Out)*($X90=K5Out)*($Y90=K6Out)),0)),0)","v":0},0,"","","","","","","",{"$f":"IFERROR(INDEX(SSR,MATCH(1,((AB90=S1Out)*($AC90=S2Out)*($AD90=S3Out)*($AE90=S4Out)*($AF90=S5Out)*($AG90=S6Out)*($AH90=S7Out)),0)),0)","v":0},0,"","","","",{"$f":"IF(SUMPRODUCT(--ISNUMBER(SEARCH(AA_F,$G90)))>0,5,\"\")","v":""},{"$f":"IFERROR(INDEX(AASR,MATCH(1,(($AK90=AA1Out)*($AL90=AA2Out)*($AM90=AA3Out)*($AN90=AA4Out)*($AO90=AA5Out)),0)),0)","v":0},0,0,0,"BLANK"]
[90,null,{"$f":"IFERROR(INDEX(Input!$B$23:$B$192,MATCH(B91,Input!$A$23:$A$192,FALSE),1),\"\")","v":""},{"$f":"IFERROR(INDEX(Input!$C$23:$C$192,MATCH(B91,Input!$A$23:$A$192,FALSE),1),\"\")","v":""},{"$nulls":7},"",{"$f":"IFERROR(INDEX(Input!$F$23:$F$192,MATCH(B91,Input!$A$23:$A$192,FALSE),1),\"\")","v":""},"",{"$f":"IFERROR(INDEX(Input!$K$23:$K$192,MATCH(B91,Input!$A$23:$A$192,FALSE),1),\"\")","v":""},0,{"$f":"IFERROR(VLOOKUP(ExamQ[[#This Row],[Test Question Complexity]],#REF!,3),\"\")","v":""},{"$f":"IFERROR(INDEX(Input!$L$23:$L$192,MATCH(B91,Input!$A$23:$A$192,FALSE),1),\"\")","v":""},0,"","","","","","",{"$f":"IFERROR(INDEX(KSR,MATCH(1,(($T91=K1Out)*($U91=K2Out)*($V91=K3Out)*($W91=K4Out)*($X91=K5Out)*($Y91=K6Out)),0)),0)","v":0},0,"","","","","","","",{"$f":"IFERROR(INDEX(SSR,MATCH(1,((AB91=S1Out)*($AC91=S2Out)*($AD91=S3Out)*($AE91=S4Out)*($AF91=S5Out)*($AG91=S6Out)*($AH91=S7Out)),0)),0)","v":0},0,"","","","",{"$f":"IF(SUMPRODUCT(--ISNUMBER(SEARCH(AA_F,$G91)))>0,5,\"\")","v":""},{"$f":"IFERROR(INDEX(AASR,MATCH(1,(($AK91=AA1Out)*($AL91=AA2Out)*($AM91=AA3Out)*($AN91=AA4Out)*($AO91=AA5Out)),0)),0)","v":0},0,0,0,"BLANK"]
[91,null,{"$f":"IFERROR(INDEX(Input!$B$23:$B$192,MATCH(B92,Input!$A$23:$A$192,FALSE),1),\"\")","v":""},{"$f":"IFERROR(INDEX(Input!$C$23:$C$192,MATCH(B92,Input!$A$23:$A$192,FALSE),1),\"\")","v":""},{"$nulls":7},"",{"$f":"IFERROR(INDEX(Input!$F$23:$F$192,MATCH(B92,Input!$A$23:$A$192,FALSE),1),\"\")","v":""},"",{"$f":"IFERROR(INDEX(Input!$K$23:$K$192,MATCH(B92,Input!$A$23:$A$192,FALSE),1),\"\")","v":""},0,{"$f":"IFERROR(VLOOKUP(ExamQ[[#This Row],[Test Question Complexity]],#REF!,3),\"\")","v":""},{"$f":"IFERROR(INDEX(Input!$L$23:$L$192,MATCH(B92,Input!$A$23:$A$192,FALSE),1),\"\")","v":""},0,"","","","","","",{"$f":"IFERROR(INDEX(KSR,MATCH(1,(($T92=K1Out)*($U92=K2Out)*($V92=K3Out)*($W92=K4Out)*($X92=K5Out)*($Y92=K6Out)),0)),0)","v":0},0,"","","","","","","",{"$f":"IFERROR(INDEX(SSR,MATCH(1,((AB92=S1Out)*($AC92=S2Out)*($AD92=S3Out)*($AE92=S4Out)*($AF92=S5Out)*($AG92=S6Out)*($AH92=S7Out)),0)),0)","v":0},0,"","","","",{"$f":"IF(SUMPRODUCT(--ISNUMBER(SEARCH(AA_F,$G92)))>0,5,\"\")","v":""},{"$f":"IFERROR(INDEX(AASR,MATCH(1,(($AK92=AA1Out)*($AL92=AA2Out)*($AM92=AA3Out)*($AN92=AA4Out)*($AO92=AA5Out)),0)),0)","v":0},0,0,0,"BLANK"]
[92,null,{"$f":"IFERROR(INDEX(Input!$B$23:$B$192,MATCH(B93,Input!$A$23:$A$192,FALSE),1),\"\")","v":""},{"$f":"IFERROR(INDEX(Input!$C$23:$C$192,MATCH(B93,Input!$A$23:$A$192,FALSE),1),\"\")","v":""},{"$nulls":7},"",{"$f":"IFERROR(INDEX(Input!$F$23:$F$192,MATCH(B93,Input!$A$23:$A$192,FALSE),1),\"\")","v":""},"",{"$f":"IFERROR(INDEX(Input!$K$23:$K$192,MATCH(B93,Input!$A$23:$A$192,FALSE),1),\"\")","v":""},0,{"$f":"IFERROR(VLOOKUP(ExamQ[[#This Row],[Test Question Complexity]],#REF!,3),\"\")","v":""},{"$f":"IFERROR(INDEX(Input!$L$23:$L$192,MATCH(B93,Input!$A$23:$A$192,FALSE),1),\"\")","v":""},0,"","","","","","",{"$f":"IFERROR(INDEX(KSR,MATCH(1,(($T93=K1Out)*($U93=K2Out)*($V93=K3Out)*($W93=K4Out)*($X93=K5Out)*($Y93=K6Out)),0)),0)","v":0},0,"","","","","","","",{"$f":"IFERROR(INDEX(SSR,MATCH(1,((AB93=S1Out)*($AC93=S2Out)*($AD93=S3Out)*($AE93=S4Out)*($AF93=S5Out)*($AG93=S6Out)*($AH93=S7Out)),0)),0)","v":0},0,"","","","",{"$f":"IF(SUMPRODUCT(--ISNUMBER(SEARCH(AA_F,$G93)))>0,5,\"\")","v":""},{"$f":"IFERROR(INDEX(AASR,MATCH(1,(($AK93=AA1Out)*($AL93=AA2Out)*($AM93=AA3Out)*($AN93=AA4Out)*($AO93=AA5Out)),0)),0)","v":0},0,0,0,"BLANK"]
[93,null,{"$f":"IFERROR(INDEX(Input!$B$23:$B$192,MATCH(B94,Input!$A$23:$A$192,FALSE),1),\"\")","v":""},{"$f":"IFERROR(INDEX(Input!$C$23:$C$192,MATCH(B94,Input!$A$23:$A$192,FALSE),1),\"\")","v":""},{"$nulls":7},"",{"$f":"IFERROR(INDEX(Input!$F$23:$F$192,MATCH(B94,Input!$A$23:$A$192,FALSE),1),\"\")","v":""},"",{"$f":"IFERROR(INDEX(Input!$K$23:$K$192,MATCH(B94,Input!$A$23:$A$192,FALSE),1),\"\")","v":""},0,{"$f":"IFERROR(VLOOKUP(ExamQ[[#This Row],[Test Question Complexity]],#REF!,3),\"\")","v":""},{"$f":"IFERROR(INDEX(Input!$L$23:$L$192,MATCH(B94,Input!$A$23:$A$192,FALSE),1),\"\")","v":""},0,"","","","","","",{"$f":"IFERROR(INDEX(KSR,MATCH(1,(($T94=K1Out)*($U94=K2Out)*($V94=K3Out)*($W94=K4Out)*($X94=K5Out)*($Y94=K6Out)),0)),0)","v":0},0,"","","","","","","",{"$f":"IFERROR(INDEX(SSR,MATCH(1,((AB94=S1Out)*($AC94=S2Out)*($AD94=S3Out)*($AE94=S4Out)*($AF94=S5Out)*($AG94=S6Out)*($AH94=S7Out)),0)),0)","v":0},0,"","","","",{"$f":"IF(SUMPRODUCT(--ISNUMBER(SEARCH(AA_F,$G94)))>0,5,\"\")","v":""},{"$f":"IFERROR(INDEX(AASR,MATCH(1,(($AK94=AA1Out)*($AL94=AA2Out)*($AM94=AA3Out)*($AN94=AA4Out)*($AO94=AA5Out)),0)),0)","v":0},0,0,0,"BLANK"]
[94,null,{"$f":"IFERROR(INDEX(Input!$B$23:$B$192,MATCH(B95,Input!$A$23:$A$192,FALSE),1),\"\")","v":""},{"$f":"IFERROR(INDEX(Input!$C$23:$C$192,MATCH(B95,Input!$A$23:$A$192,FALSE),1),\"\")","v":""},{"$nulls":7},"",{"$f":"IFERROR(INDEX(Input!$F$23:$F$192,MATCH(B95,Input!$A$23:$A$192,FALSE),1),\"\")","v":""},"",{"$f":"IFERROR(INDEX(Input!$K$23:$K$192,MATCH(B95,Input!$A$23:$A$192,FALSE),1),\"\")","v":""},0,{"$f":"IFERROR(VLOOKUP(ExamQ[[#This Row],[Test Question Complexity]],#REF!,3),\"\")","v":""},{"$f":"IFERROR(INDEX(Input!$L$23:$L$192,MATCH(B95,Input!$A$23:$A$192,FALSE),1),\"\")","v":""},0,"","","","","","",{"$f":"IFERROR(INDEX(KSR,MATCH(1,(($T95=K1Out)*($U95=K2Out)*($V95=K3Out)*($W95=K4Out)*($X95=K5Out)*($Y95=K6Out)),0)),0)","v":0},0,"","","","","","","",{"$f":"IFERROR(INDEX(SSR,MATCH(1,((AB95=S1Out)*($AC95=S2Out)*($AD95=S3Out)*($AE95=S4Out)*($AF95=S5Out)*($AG95=S6Out)*($AH95=S7Out)),0)),0)","v":0},0,"","","","",{"$f":"IF(SUMPRODUCT(--ISNUMBER(SEARCH(AA_F,$G95)))>0,5,\"\")","v":""},{"$f":"IFERROR(INDEX(AASR,MATCH(1,(($AK95=AA1Out)*($AL95=AA2Out)*($AM95=AA3Out)*($AN95=AA4Out)*($AO95=AA5Out)),0)),0)","v":0},0,0,0,"BLANK"]
[95,null,{"$f":"IFERROR(INDEX(Input!$B$23:$B$192,MATCH(B96,Input!$A$23:$A$192,FALSE),1),\"\")","v":""},{"$f":"IFERROR(INDEX(Input!$C$23:$C$192,MATCH(B96,Input!$A$23:$A$192,FALSE),1),\"\")","v":""},{"$nulls":7},"",{"$f":"IFERROR(INDEX(Input!$F$23:$F$192,MATCH(B96,Input!$A$23:$A$192,FALSE),1),\"\")","v":""},"",{"$f":"IFERROR(INDEX(Input!$K$23:$K$192,MATCH(B96,Input!$A$23:$A$192,FALSE),1),\"\")","v":""},0,{"$f":"IFERROR(VLOOKUP(ExamQ[[#This Row],[Test Question Complexity]],#REF!,3),\"\")","v":""},{"$f":"IFERROR(INDEX(Input!$L$23:$L$192,MATCH(B96,Input!$A$23:$A$192,FALSE),1),\"\")","v":""},0,"","","","","","",{"$f":"IFERROR(INDEX(KSR,MATCH(1,(($T96=K1Out)*($U96=K2Out)*($V96=K3Out)*($W96=K4Out)*($X96=K5Out)*($Y96=K6Out)),0)),0)","v":0},0,"","","","","","","",{"$f":"IFERROR(INDEX(SSR,MATCH(1,((AB96=S1Out)*($AC96=S2Out)*($AD96=S3Out)*($AE96=S4Out)*($AF96=S5Out)*($AG96=S6Out)*($AH96=S7Out)),0)),0)","v":0},0,"","","","",{"$f":"IF(SUMPRODUCT(--ISNUMBER(SEARCH(AA_F,$G96)))>0,5,\"\")","v":""},{"$f":"IFERROR(INDEX(AASR,MATCH(1,(($AK96=AA1Out)*($AL96=AA2Out)*($AM96=AA3Out)*($AN96=AA4Out)*($AO96=AA5Out)),0)),0)","v":0},0,0,0,"BLANK"]
[96,null,{"$f":"IFERROR(INDEX(Input!$B$23:$B$192,MATCH(B97,Input!$A$23:$A$192,FALSE),1),\"\")","v":""},{"$f":"IFERROR(INDEX(Input!$C$23:$C$192,MATCH(B97,Input!$A$23:$A$192,FALSE),1),\"\")","v":""},{"$nulls":7},"",{"$f":"IFERROR(INDEX(Input!$F$23:$F$192,MATCH(B97,Input!$A$23:$A$192,FALSE),1),\"\")","v":""},"",{"$f":"IFERROR(INDEX(Input!$K$23:$K$192,MATCH(B97,Input!$A$23:$A$192,FALSE),1),\"\")","v":""},0,{"$f":"IFERROR(VLOOKUP(ExamQ[[#This Row],[Test Question Complexity]],#REF!,3),\"\")","v":""},{"$f":"IFERROR(INDEX(Input!$L$23:$L$192,MATCH(B97,Input!$A$23:$A$192,FALSE),1),\"\")","v":""},0,"","","","","","",{"$f":"IFERROR(INDEX(KSR,MATCH(1,(($T97=K1Out)*($U97=K2Out)*($V97=K3Out)*($W97=K4Out)*($X97=K5Out)*($Y97=K6Out)),0)),0)","v":0},0,"","","","","","","",{"$f":"IFERROR(INDEX(SSR,MATCH(1,((AB97=S1Out)*($AC97=S2Out)*($AD97=S3Out)*($AE97=S4Out)*($AF97=S5Out)*($AG97=S6Out)*($AH97=S7Out)),0)),0)","v":0},0,"","","","",{"$f":"IF(SUMPRODUCT(--ISNUMBER(SEARCH(AA_F,$G97)))>0,5,\"\")","v":""},{"$f":"IFERROR(INDEX(AASR,MATCH(1,(($AK97=AA1Out)*($AL97=AA2Out)*($AM97=AA3Out)*($AN97=AA4Out)*($AO97=AA5Out)),0)),0)","v":0},0,0,0,"BLANK"]
[97,null,{"$f":"IFERROR(INDEX(Input!$B$23:$B$192,MATCH(B98,Input!$A$23:$A$192,FALSE),1),\"\")","v":""},{"$f":"IFERROR(INDEX(Input!$C$23:$C$192,MATCH(B98,Input!$A$23:$A$192,FALSE),1),\"\")","v":""},{"$nulls":7},{"$f":"IF(B98<>\"\",SUM(I98:K98),\"\")","v":""},{"$f":"IFERROR(INDEX(Input!$F$23:$F$192,MATCH(B98,Input!$A$23:$A$192,FALSE),1),\"\")","v":""},{"$f":"IFERROR(L98*M98,\"\")","v":""},{"$f":"IFERROR(INDEX(Input!$K$23:$K$192,MATCH(B98,Input!$A$23:$A$192,FALSE),1),\"\")","v":""},{"$f":"IF(N98>O98,1,0)","v":0},{"$f":"IFERROR(VLOOKUP(ExamQ[[#This Row],[Test Question Complexity]],#REF!,3),\"\")","v":""},{"$f":"IFERROR(INDEX(Input!$L$23:$L$192,MATCH(B98,Input!$A$23:$A$192,FALSE),1),\"\")","v":""},0,{"$f":"IF(SUMPRODUCT(--ISNUMBER(SEARCH(K_A,$G98)))>0,1,\"\")","v":""},{"$f":"IF(SUMPRODUCT(--ISNUMBER(SEARCH(K_B,$G98)))>0,2,\"\")","v":""},{"$f":"IF(SUMPRODUCT(--ISNUMBER(SEARCH(K_C,$G98)))>0,3,\"\")","v":""},{"$f":"IF(SUMPRODUCT(--ISNUMBER(SEARCH(K_D,$G98)))>0,4,\"\")","v":""},{"$f":"IF(SUMPRODUCT(--ISNUMBER(SEARCH(K_E,$G98)))>0,5,\"\")","v":""},{"$f":"IF(SUMPRODUCT(--ISNUMBER(SEARCH(K_F,$G98)))>0,6,\"\")","v":""},{"$f":"IFERROR(INDEX(KSR,MATCH(1,(($T98=K1Out)*($U98=K2Out)*($V98=K3Out)*($W98=K4Out)*($X98=K5Out)*($Y98=K6Out)),0)),0)","v":0},0,{"$f":"IF(SUMPRODUCT(--ISNUMBER(SEARCH(S_A,$G98)))>0,1,\"\")","v":""},{"$f":"IF(SUMPRODUCT(--ISNUMBER(SEARCH(S_B,$G98)))>0, 2,\"\")","v":""},{"$f":"IF(SUMPRODUCT(--ISNUMBER(SEARCH(S_C,$G98)))>0,3,\"\")","v":""},{"$f":"IF(SUMPRODUCT(--ISNUMBER(SEARCH(S_D,$G98)))>0,4,\"\")","v":""},{"$f":"IF(SUMPRODUCT(--ISNUMBER(SEARCH(S_E,$G98)))>0,5,\"\")","v":""},{"$f":"IF(SUMPRODUCT(--ISNUMBER(SEARCH(S_F,$G98)))>0,6,\"\")","v":""},{"$f":"IF(SUMPRODUCT(--ISNUMBER(SEARCH(S_G,$G98)))>0,7,\"\")","v":""},{"$f":"IFERROR(INDEX(SSR,MATCH(1,((AB98=S1Out)*($AC98=S2Out)*($AD98=S3Out)*($AE98=S4Out)*($AF98=S5Out)*($AG98=S6Out)*($AH98=S7Out)),0)),0)","v":0},0,{"$f":"IF(SUMPRODUCT(--ISNUMBER(SEARCH(AA_A,$G98)))>0,1,\"\")","v":""},{"$f":"IF(SUMPRODUCT(--ISNUMBER(SEARCH(AA_B,$G98)))>0,2,\"\")","v":""},{"$f":"IF(SUMPRODUCT(--ISNUMBER(SEARCH(AA_C,$G98)))>0,3,\"\")","v":""},{"$f":"IF(SUMPRODUCT(--ISNUMBER(SEARCH(AA_D,$G98)))>0,4,\"\")","v":""},{"$f":"IF(SUMPRODUCT(--ISNUMBER(SEARCH(AA_F,$G98)))>0,5,\"\")","v":""},{"$f":"IFERROR(INDEX(AASR,MATCH(1,(($AK98=AA1Out)*($AL98=AA2Out)*($AM98=AA3Out)*($AN98=AA4Out)*($AO98=AA5Out)),0)),0)","v":0},0,0,0,"BLANK"]
[98,null,{"$f":"IFERROR(INDEX(Input!$B$23:$B$192,MATCH(B99,Input!$A$23:$A$192,FALSE),1),\"\")","v":""},{"$f":"IFERROR(INDEX(Input!$C$23:$C$192,MATCH(B99,Input!$A$23:$A$192,FALSE),1),\"\")","v":""},{"$nulls":7},"",{"$f":"IFERROR(INDEX(Input!$F$23:$F$192,MATCH(B99,Input!$A$23:$A$192,FALSE),1),\"\")","v":""},"",{"$f":"IFERROR(INDEX(Input!$K$23:$K$192,MATCH(B99,Input!$A$23:$A$192,FALSE),1),\"\")","v":""},0,{"$f":"IFERROR(VLOOKUP(ExamQ[[#This Row],[Test Question Complexity]],#REF!,3),\"\")","v":""},{"$f":"IFERROR(INDEX(Input!$L$23:$L$192,MATCH(B99,Input!$A$23:$A$192,FALSE),1),\"\")","v":""},0,"","","","","","",{"$f":"IFERROR(INDEX(KSR,MATCH(1,(($T99=K1Out)*($U99=K2Out)*($V99=K3Out)*($W99=K4Out)*($X99=K5Out)*($Y99=K6Out)),0)),0)","v":0},0,"","","","","","","",{"$f":"IFERROR(INDEX(SSR,MATCH(1,((AB99=S1Out)*($AC99=S2Out)*($AD99=S3Out)*($AE99=S4Out)*($AF99=S5Out)*($AG99=S6Out)*($AH99=S7Out)),0)),0)","v":0},0,"","","","",{"$f":"IF(SUMPRODUCT(--ISNUMBER(SEARCH(AA_F,$G99)))>0,5,\"\")","v":""},{"$f":"IFERROR(INDEX(AASR,MATCH(1,(($AK99=AA1Out)*($AL99=AA2Out)*($AM99=AA3Out)*($AN99=AA4Out)*($AO99=AA5Out)),0)),0)","v":0},0,0,0,"BLANK"]
[99,null,{"$f":"IFERROR(INDEX(Input!$B$23:$B$192,MATCH(B100,Input!$A$23:$A$192,FALSE),1),\"\")","v":""},{"$f":"IFERROR(INDEX(Input!$C$23:$C$192,MATCH(B100,Input!$A$23:$A$192,FALSE),1),\"\")","v":""},{"$nulls":7},"",{"$f":"IFERROR(INDEX(Input!$F$23:$F$192,MATCH(B100,Input!$A$23:$A$192,FALSE),1),\"\")","v":""},"",{"$f":"IFERROR(INDEX(Input!$K$23:$K$192,MATCH(B100,Input!$A$23:$A$192,FALSE),1),\"\")","v":""},0,{"$f":"IFERROR(VLOOKUP(ExamQ[[#This Row],[Test Question Complexity]],#REF!,3),\"\")","v":""},{"$f":"IFERROR(INDEX(Input!$L$23:$L$192,MATCH(B100,Input!$A$23:$A$192,FALSE),1),\"\")","v":""},0,"","","","","","",{"$f":"IFERROR(INDEX(KSR,MATCH(1,(($T100=K1Out)*($U100=K2Out)*($V100=K3Out)*($W100=K4Out)*($X100=K5Out)*($Y100=K6Out)),0)),0)","v":0},0,"","","","","","","",{"$f":"IFERROR(INDEX(SSR,MATCH(1,((AB100=S1Out)*($AC100=S2Out)*($AD100=S3Out)*($AE100=S4Out)*($AF100=S5Out)*($AG100=S6Out)*($AH100=S7Out)),0)),0)","v":0},0,"","","","",{"$f":"IF(SUMPRODUCT(--ISNUMBER(SEARCH(AA_F,$G100)))>0,5,\"\")","v":""},{"$f":"IFERROR(INDEX(AASR,MATCH(1,(($AK100=AA1Out)*($AL100=AA2Out)*($AM100=AA3Out)*($AN100=AA4Out)*($AO100=AA5Out)),0)),0)","v":0},0,0,0,"BLANK"]
[100,null,{"$f":"IFERROR(INDEX(Input!$B$23:$B$192,MATCH(B101,Input!$A$23:$A$192,FALSE),1),\"\")","v":""},{"$f":"IFERROR(INDEX(Input!$C$23:$C$192,MATCH(B101,Input!$A$23:$A$192,FALSE),1),\"\")","v":""},{"$nulls":7},"",{"$f":"IFERROR(INDEX(Input!$F$23:$F$192,MATCH(B101,Input!$A$23:$A$192,FALSE),1),\"\")","v":""},"",{"$f":"IFERROR(INDEX(Input!$K$23:$K$192,MATCH(B101,Input!$A$23:$A$192,FALSE),1),\"\")","v":""},0,{"$f":"IFERROR(VLOOKUP(ExamQ[[#This Row],[Test Question Complexity]],#REF!,3),\"\")","v":""},{"$f":"IFERROR(INDEX(Input!$L$23:$L$192,MATCH(B101,Input!$A$23:$A$192,FALSE),1),\"\")","v":""},0,"","","","","","",{"$f":"IFERROR(INDEX(KSR,MATCH(1,(($T101=K1Out)*($U101=K2Out)*($V101=K3Out)*($W101=K4Out)*($X101=K5Out)*($Y101=K6Out)),0)),0)","v":0},0,"","","","","","","",{"$f":"IFERROR(INDEX(SSR,MATCH(1,((AB101=S1Out)*($AC101=S2Out)*($AD101=S3Out)*($AE101=S4Out)*($AF101=S5Out)*($AG101=S6Out)*($AH101=S7Out)),0)),0)","v":0},0,"","","","",{"$f":"IF(SUMPRODUCT(--ISNUMBER(SEARCH(AA_F,$G101)))>0,5,\"\")","v":""},{"$f":"IFERROR(INDEX(AASR,MATCH(1,(($AK101=AA1Out)*($AL101=AA2Out)*($AM101=AA3Out)*($AN101=AA4Out)*($AO101=AA5Out)),0)),0)","v":0},0,0,0,"BLANK"]
[101,null,{"$f":"IFERROR(INDEX(Input!$B$23:$B$192,MATCH(B102,Input!$A$23:$A$192,FALSE),1),\"\")","v":""},{"$f":"IFERROR(INDEX(Input!$C$23:$C$192,MATCH(B102,Input!$A$23:$A$192,FALSE),1),\"\")","v":""},{"$nulls":7},"",{"$f":"IFERROR(INDEX(Input!$F$23:$F$192,MATCH(B102,Input!$A$23:$A$192,FALSE),1),\"\")","v":""},"",{"$f":"IFERROR(INDEX(Input!$K$23:$K$192,MATCH(B102,Input!$A$23:$A$192,FALSE),1),\"\")","v":""},0,{"$f":"IFERROR(VLOOKUP(ExamQ[[#This Row],[Test Question Complexity]],#REF!,3),\"\")","v":""},{"$f":"IFERROR(INDEX(Input!$L$23:$L$192,MATCH(B102,Input!$A$23:$A$192,FALSE),1),\"\")","v":""},0,"","","","","","",{"$f":"IFERROR(INDEX(KSR,MATCH(1,(($T102=K1Out)*($U102=K2Out)*($V102=K3Out)*($W102=K4Out)*($X102=K5Out)*($Y102=K6Out)),0)),0)","v":0},0,"","","","","","","",{"$f":"IFERROR(INDEX(SSR,MATCH(1,((AB102=S1Out)*($AC102=S2Out)*($AD102=S3Out)*($AE102=S4Out)*($AF102=S5Out)*($AG102=S6Out)*($AH102=S7Out)),0)),0)","v":0},0,"","","","",{"$f":"IF(SUMPRODUCT(--ISNUMBER(SEARCH(AA_F,$G102)))>0,5,\"\")","v":""},{"$f":"IFERROR(INDEX(AASR,MATCH(1,(($AK102=AA1Out)*($AL102=AA2Out)*($AM102=AA3Out)*($AN102=AA4Out)*($AO102=AA5Out)),0)),0)","v":0},0,0,0,"BLANK"]
[102,null,{"$f":"IFERROR(INDEX(Input!$B$23:$B$192,MATCH(B103,Input!$A$23:$A$192,FALSE),1),\"\")","v":""},{"$f":"IFERROR(INDEX(Input!$C$23:$C$192,MATCH(B103,Input!$A$23:$A$192,FALSE),1),\"\")","v":""},{"$nulls":7},"",{"$f":"IFERROR(INDEX(Input!$F$23:$F$192,MATCH(B103,Input!$A$23:$A$192,FALSE),1),\"\")","v":""},"",{"$f":"IFERROR(INDEX(Input!$K$23:$K$192,MATCH(B103,Input!$A$23:$A$192,FALSE),1),\"\")","v":""},0,{"$f":"IFERROR(VLOOKUP(ExamQ[[#This Row],[Test Question Complexity]],#REF!,3),\"\")","v":""},{"$f":"IFERROR(INDEX(Input!$L$23:$L$192,MATCH(B103,Input!$A$23:$A$192,FALSE),1),\"\")","v":""},0,"","","","","","",{"$f":"IFERROR(INDEX(KSR,MATCH(1,(($T103=K1Out)*($U103=K2Out)*($V103=K3Out)*($W103=K4Out)*($X103=K5Out)*($Y103=K6Out)),0)),0)","v":0},0,"","","","","","","",{"$f":"IFERROR(INDEX(SSR,MATCH(1,((AB103=S1Out)*($AC103=S2Out)*($AD103=S3Out)*($AE103=S4Out)*($AF103=S5Out)*($AG103=S6Out)*($AH103=S7Out)),0)),0)","v":0},0,"","","","",{"$f":"IF(SUMPRODUCT(--ISNUMBER(SEARCH(AA_F,$G103)))>0,5,\"\")","v":""},{"$f":"IFERROR(INDEX(AASR,MATCH(1,(($AK103=AA1Out)*($AL103=AA2Out)*($AM103=AA3Out)*($AN103=AA4Out)*($AO103=AA5Out)),0)),0)","v":0},0,0,0,"BLANK"]
[103,null,{"$f":"IFERROR(INDEX(Input!$B$23:$B$192,MATCH(B104,Input!$A$23:$A$192,FALSE),1),\"\")","v":""},{"$f":"IFERROR(INDEX(Input!$C$23:$C$192,MATCH(B104,Input!$A$23:$A$192,FALSE),1),\"\")","v":""},{"$nulls":7},"",{"$f":"IFERROR(INDEX(Input!$F$23:$F$192,MATCH(B104,Input!$A$23:$A$192,FALSE),1),\"\")","v":""},"",{"$f":"IFERROR(INDEX(Input!$K$23:$K$192,MATCH(B104,Input!$A$23:$A$192,FALSE),1),\"\")","v":""},0,{"$f":"IFERROR(VLOOKUP(ExamQ[[#This Row],[Test Question Complexity]],#REF!,3),\"\")","v":""},{"$f":"IFERROR(INDEX(Input!$L$23:$L$192,MATCH(B104,Input!$A$23:$A$192,FALSE),1),\"\")","v":""},0,"","","","","","",{"$f":"IFERROR(INDEX(KSR,MATCH(1,(($T104=K1Out)*($U104=K2Out)*($V104=K3Out)*($W104=K4Out)*($X104=K5Out)*($Y104=K6Out)),0)),0)","v":0},0,"","","","","","","",{"$f":"IFERROR(INDEX(SSR,MATCH(1,((AB104=S1Out)*($AC104=S2Out)*($AD104=S3Out)*($AE104=S4Out)*($AF104=S5Out)*($AG104=S6Out)*($AH104=S7Out)),0)),0)","v":0},0,"","","","",{"$f":"IF(SUMPRODUCT(--ISNUMBER(SEARCH(AA_F,$G104)))>0,5,\"\")","v":""},{"$f":"IFERROR(INDEX(AASR,MATCH(1,(($AK104=AA1Out)*($AL104=AA2Out)*($AM104=AA3Out)*($AN104=AA4Out)*($AO104=AA5Out)),0)),0)","v":0},0,0,0,"BLANK"]
[104,null,{"$f":"IFERROR(INDEX(Input!$B$23:$B$192,MATCH(B105,Input!$A$23:$A$192,FALSE),1),\"\")","v":""},{"$f":"IFERROR(INDEX(Input!$C$23:$C$192,MATCH(B105,Input!$A$23:$A$192,FALSE),1),\"\")","v":""},{"$nulls":7},"",{"$f":"IFERROR(INDEX(Input!$F$23:$F$192,MATCH(B105,Input!$A$23:$A$192,FALSE),1),\"\")","v":""},"",{"$f":"IFERROR(INDEX(Input!$K$23:$K$192,MATCH(B105,Input!$A$23:$A$192,FALSE),1),\"\")","v":""},0,{"$f":"IFERROR(VLOOKUP(ExamQ[[#This Row],[Test Question Complexity]],#REF!,3),\"\")","v":""},{"$f":"IFERROR(INDEX(Input!$L$23:$L$192,MATCH(B105,Input!$A$23:$A$192,FALSE),1),\"\")","v":""},0,"","","","","","",{"$f":"IFERROR(INDEX(KSR,MATCH(1,(($T105=K1Out)*($U105=K2Out)*($V105=K3Out)*($W105=K4Out)*($X105=K5Out)*($Y105=K6Out)),0)),0)","v":0},0,"","","","","","","",{"$f":"IFERROR(INDEX(SSR,MATCH(1,((AB105=S1Out)*($AC105=S2Out)*($AD105=S3Out)*($AE105=S4Out)*($AF105=S5Out)*($AG105=S6Out)*($AH105=S7Out)),0)),0)","v":0},0,"","","","",{"$f":"IF(SUMPRODUCT(--ISNUMBER(SEARCH(AA_F,$G105)))>0,5,\"\")","v":""},{"$f":"IFERROR(INDEX(AASR,MATCH(1,(($AK105=AA1Out)*($AL105=AA2Out)*($AM105=AA3Out)*($AN105=AA4Out)*($AO105=AA5Out)),0)),0)","v":0},0,0,0,"BLANK"]
[105,null,{"$f":"IFERROR(INDEX(Input!$B$23:$B$192,MATCH(B106,Input!$A$23:$A$192,FALSE),1),\"\")","v":""},{"$f":"IFERROR(INDEX(Input!$C$23:$C$192,MATCH(B106,Input!$A$23:$A$192,FALSE),1),\"\")","v":""},{"$nulls":7},"",{"$f":"IFERROR(INDEX(Input!$F$23:$F$192,MATCH(B106,Input!$A$23:$A$192,FALSE),1),\"\")","v":""},"",{"$f":"IFERROR(INDEX(Input!$K$23:$K$192,MATCH(B106,Input!$A$23:$A$192,FALSE),1),\"\")","v":""},0,{"$f":"IFERROR(VLOOKUP(ExamQ[[#This Row],[Test Question Complexity]],#REF!,3),\"\")","v":""},{"$f":"IFERROR(INDEX(Input!$L$23:$L$192,MATCH(B106,Input!$A$23:$A$192,FALSE),1),\"\")","v":""},0,"","","","","","",{"$f":"IFERROR(INDEX(KSR,MATCH(1,(($T106=K1Out)*($U106=K2Out)*($V106=K3Out)*($W106=K4Out)*($X106=K5Out)*($Y106=K6Out)),0)),0)","v":0},0,"","","","","","","",{"$f":"IFERROR(INDEX(SSR,MATCH(1,((AB106=S1Out)*($AC106=S2Out)*($AD106=S3Out)*($AE106=S4Out)*($AF106=S5Out)*($AG106=S6Out)*($AH106=S7Out)),0)),0)","v":0},0,"","","","",{"$f":"IF(SUMPRODUCT(--ISNUMBER(SEARCH(AA_F,$G106)))>0,5,\"\")","v":""},{"$f":"IFERROR(INDEX(AASR,MATCH(1,(($AK106=AA1Out)*($AL106=AA2Out)*($AM106=AA3Out)*($AN106=AA4Out)*($AO106=AA5Out)),0)),0)","v":0},0,0,0,"BLANK"]
[106,null,{"$f":"IFERROR(INDEX(Input!$B$23:$B$192,MATCH(B107,Input!$A$23:$A$192,FALSE),1),\"\")","v":""},{"$f":"IFERROR(INDEX(Input!$C$23:$C$192,MATCH(B107,Input!$A$23:$A$192,FALSE),1),\"\")","v":""},{"$nulls":7},"",{"$f":"IFERROR(INDEX(Input!$F$23:$F$192,MATCH(B107,Input!$A$23:$A$192,FALSE),1),\"\")","v":""},"",{"$f":"IFERROR(INDEX(Input!$K$23:$K$192,MATCH(B107,Input!$A$23:$A$192,FALSE),1),\"\")","v":""},0,{"$f":"IFERROR(VLOOKUP(ExamQ[[#This Row],[Test Question Complexity]],#REF!,3),\"\")","v":""},{"$f":"IFERROR(INDEX(Input!$L$23:$L$192,MATCH(B107,Input!$A$23:$A$192,FALSE),1),\"\")","v":""},0,"","","","","","",{"$f":"IFERROR(INDEX(KSR,MATCH(1,(($T107=K1Out)*($U107=K2Out)*($V107=K3Out)*($W107=K4Out)*($X107=K5Out)*($Y107=K6Out)),0)),0)","v":0},0,"","","","","","","",{"$f":"IFERROR(INDEX(SSR,MATCH(1,((AB107=S1Out)*($AC107=S2Out)*($AD107=S3Out)*($AE107=S4Out)*($AF107=S5Out)*($AG107=S6Out)*($AH107=S7Out)),0)),0)","v":0},0,"","","","",{"$f":"IF(SUMPRODUCT(--ISNUMBER(SEARCH(AA_F,$G107)))>0,5,\"\")","v":""},{"$f":"IFERROR(INDEX(AASR,MATCH(1,(($AK107=AA1Out)*($AL107=AA2Out)*($AM107=AA3Out)*($AN107=AA4Out)*($AO107=AA5Out)),0)),0)","v":0},0,0,0,"BLANK"]
[107,null,{"$f":"IFERROR(INDEX(Input!$B$23:$B$192,MATCH(B108,Input!$A$23:$A$192,FALSE),1),\"\")","v":""},{"$f":"IFERROR(INDEX(Input!$C$23:$C$192,MATCH(B108,Input!$A$23:$A$192,FALSE),1),\"\")","v":""},{"$nulls":7},"",{"$f":"IFERROR(INDEX(Input!$F$23:$F$192,MATCH(B108,Input!$A$23:$A$192,FALSE),1),\"\")","v":""},"",{"$f":"IFERROR(INDEX(Input!$K$23:$K$192,MATCH(B108,Input!$A$23:$A$192,FALSE),1),\"\")","v":""},0,{"$f":"IFERROR(VLOOKUP(ExamQ[[#This Row],[Test Question Complexity]],#REF!,3),\"\")","v":""},{"$f":"IFERROR(INDEX(Input!$L$23:$L$192,MATCH(B108,Input!$A$23:$A$192,FALSE),1),\"\")","v":""},0,"","","","","","",{"$f":"IFERROR(INDEX(KSR,MATCH(1,(($T108=K1Out)*($U108=K2Out)*($V108=K3Out)*($W108=K4Out)*($X108=K5Out)*($Y108=K6Out)),0)),0)","v":0},0,"","","","","","","",{"$f":"IFERROR(INDEX(SSR,MATCH(1,((AB108=S1Out)*($AC108=S2Out)*($AD108=S3Out)*($AE108=S4Out)*($AF108=S5Out)*($AG108=S6Out)*($AH108=S7Out)),0)),0)","v":0},0,"","","","",{"$f":"IF(SUMPRODUCT(--ISNUMBER(SEARCH(AA_F,$G108)))>0,5,\"\")","v":""},{"$f":"IFERROR(INDEX(AASR,MATCH(1,(($AK108=AA1Out)*($AL108=AA2Out)*($AM108=AA3Out)*($AN108=AA4Out)*($AO108=AA5Out)),0)),0)","v":0},0,0,0,"BLANK"]
[108,null,{"$f":"IFERROR(INDEX(Input!$B$23:$B$192,MATCH(B109,Input!$A$23:$A$192,FALSE),1),\"\")","v":""},{"$f":"IFERROR(INDEX(Input!$C$23:$C$192,MATCH(B109,Input!$A$23:$A$192,FALSE),1),\"\")","v":""},{"$nulls":7},"",{"$f":"IFERROR(INDEX(Input!$F$23:$F$192,MATCH(B109,Input!$A$23:$A$192,FALSE),1),\"\")","v":""},"",{"$f":"IFERROR(INDEX(Input!$K$23:$K$192,MATCH(B109,Input!$A$23:$A$192,FALSE),1),\"\")","v":""},0,{"$f":"IFERROR(VLOOKUP(ExamQ[[#This Row],[Test Question Complexity]],#REF!,3),\"\")","v":""},{"$f":"IFERROR(INDEX(Input!$L$23:$L$192,MATCH(B109,Input!$A$23:$A$192,FALSE),1),\"\")","v":""},0,"","","","","","",{"$f":"IFERROR(INDEX(KSR,MATCH(1,(($T109=K1Out)*($U109=K2Out)*($V109=K3Out)*($W109=K4Out)*($X109=K5Out)*($Y109=K6Out)),0)),0)","v":0},0,"","","","","","","",{"$f":"IFERROR(INDEX(SSR,MATCH(1,((AB109=S1Out)*($AC109=S2Out)*($AD109=S3Out)*($AE109=S4Out)*($AF109=S5Out)*($AG109=S6Out)*($AH109=S7Out)),0)),0)","v":0},0,"","","","",{"$f":"IF(SUMPRODUCT(--ISNUMBER(SEARCH(AA_F,$G109)))>0,5,\"\")","v":""},{"$f":"IFERROR(INDEX(AASR,MATCH(1,(($AK109=AA1Out)*($AL109=AA2Out)*($AM109=AA3Out)*($AN109=AA4Out)*($AO109=AA5Out)),0)),0)","v":0},0,0,0,"BLANK"]
[109,null,{"$f":"IFERROR(INDEX(Input!$B$23:$B$192,MATCH(B110,Input!$A$23:$A$192,FALSE),1),\"\")","v":""},{"$f":"IFERROR(INDEX(Input!$C$23:$C$192,MATCH(B110,Input!$A$23:$A$192,FALSE),1),\"\")","v":""},{"$nulls":7},"",{"$f":"IFERROR(INDEX(Input!$F$23:$F$192,MATCH(B110,Input!$A$23:$A$192,FALSE),1),\"\")","v":""},"",{"$f":"IFERROR(INDEX(Input!$K$23:$K$192,MATCH(B110,Input!$A$23:$A$192,FALSE),1),\"\")","v":""},0,{"$f":"IFERROR(VLOOKUP(ExamQ[[#This Row],[Test Question Complexity]],#REF!,3),\"\")","v":""},{"$f":"IFERROR(INDEX(Input!$L$23:$L$192,MATCH(B110,Input!$A$23:$A$192,FALSE),1),\"\")","v":""},0,"","","","","","",{"$f":"IFERROR(INDEX(KSR,MATCH(1,(($T110=K1Out)*($U110=K2Out)*($V110=K3Out)*($W110=K4Out)*($X110=K5Out)*($Y110=K6Out)),0)),0)","v":0},0,"","","","","","","",{"$f":"IFERROR(INDEX(SSR,MATCH(1,((AB110=S1Out)*($AC110=S2Out)*($AD110=S3Out)*($AE110=S4Out)*($AF110=S5Out)*($AG110=S6Out)*($AH110=S7Out)),0)),0)","v":0},0,"","","","",{"$f":"IF(SUMPRODUCT(--ISNUMBER(SEARCH(AA_F,$G110)))>0,5,\"\")","v":""},{"$f":"IFERROR(INDEX(AASR,MATCH(1,(($AK110=AA1Out)*($AL110=AA2Out)*($AM110=AA3Out)*($AN110=AA4Out)*($AO110=AA5Out)),0)),0)","v":0},0,0,0,"BLANK"]
[110,null,{"$f":"IFERROR(INDEX(Input!$B$23:$B$192,MATCH(B111,Input!$A$23:$A$192,FALSE),1),\"\")","v":""},{"$f":"IFERROR(INDEX(Input!$C$23:$C$192,MATCH(B111,Input!$A$23:$A$192,FALSE),1),\"\")","v":""},{"$nulls":7},"",{"$f":"IFERROR(INDEX(Input!$F$23:$F$192,MATCH(B111,Input!$A$23:$A$192,FALSE),1),\"\")","v":""},"",{"$f":"IFERROR(INDEX(Input!$K$23:$K$192,MATCH(B111,Input!$A$23:$A$192,FALSE),1),\"\")","v":""},0,{"$f":"IFERROR(VLOOKUP(ExamQ[[#This Row],[Test Question Complexity]],#REF!,3),\"\")","v":""},{"$f":"IFERROR(INDEX(Input!$L$23:$L$192,MATCH(B111,Input!$A$23:$A$192,FALSE),1),\"\")","v":""},0,"","","","","","",{"$f":"IFERROR(INDEX(KSR,MATCH(1,(($T111=K1Out)*($U111=K2Out)*($V111=K3Out)*($W111=K4Out)*($X111=K5Out)*($Y111=K6Out)),0)),0)","v":0},0,"","","","","","","",{"$f":"IFERROR(INDEX(SSR,MATCH(1,((AB111=S1Out)*($AC111=S2Out)*($AD111=S3Out)*($AE111=S4Out)*($AF111=S5Out)*($AG111=S6Out)*($AH111=S7Out)),0)),0)","v":0},0,"","","","",{"$f":"IF(SUMPRODUCT(--ISNUMBER(SEARCH(AA_F,$G111)))>0,5,\"\")","v":""},{"$f":"IFERROR(INDEX(AASR,MATCH(1,(($AK111=AA1Out)*($AL111=AA2Out)*($AM111=AA3Out)*($AN111=AA4Out)*($AO111=AA5Out)),0)),0)","v":0},0,0,0,"BLANK"]
[111,null,{"$f":"IFERROR(INDEX(Input!$B$23:$B$192,MATCH(B112,Input!$A$23:$A$192,FALSE),1),\"\")","v":""},{"$f":"IFERROR(INDEX(Input!$C$23:$C$192,MATCH(B112,Input!$A$23:$A$192,FALSE),1),\"\")","v":""},{"$nulls":7},"",{"$f":"IFERROR(INDEX(Input!$F$23:$F$192,MATCH(B112,Input!$A$23:$A$192,FALSE),1),\"\")","v":""},"",{"$f":"IFERROR(INDEX(Input!$K$23:$K$192,MATCH(B112,Input!$A$23:$A$192,FALSE),1),\"\")","v":""},0,{"$f":"IFERROR(VLOOKUP(ExamQ[[#This Row],[Test Question Complexity]],#REF!,3),\"\")","v":""},{"$f":"IFERROR(INDEX(Input!$L$23:$L$192,MATCH(B112,Input!$A$23:$A$192,FALSE),1),\"\")","v":""},0,"","","","","","",{"$f":"IFERROR(INDEX(KSR,MATCH(1,(($T112=K1Out)*($U112=K2Out)*($V112=K3Out)*($W112=K4Out)*($X112=K5Out)*($Y112=K6Out)),0)),0)","v":0},0,"","","","","","","",{"$f":"IFERROR(INDEX(SSR,MATCH(1,((AB112=S1Out)*($AC112=S2Out)*($AD112=S3Out)*($AE112=S4Out)*($AF112=S5Out)*($AG112=S6Out)*($AH112=S7Out)),0)),0)","v":0},0,"","","","",{"$f":"IF(SUMPRODUCT(--ISNUMBER(SEARCH(AA_F,$G112)))>0,5,\"\")","v":""},{"$f":"IFERROR(INDEX(AASR,MATCH(1,(($AK112=AA1Out)*($AL112=AA2Out)*($AM112=AA3Out)*($AN112=AA4Out)*($AO112=AA5Out)),0)),0)","v":0},0,0,0,"BLANK"]
[112,null,{"$f":"IFERROR(INDEX(Input!$B$23:$B$192,MATCH(B113,Input!$A$23:$A$192,FALSE),1),\"\")","v":""},{"$f":"IFERROR(INDEX(Input!$C$23:$C$192,MATCH(B113,Input!$A$23:$A$192,FALSE),1),\"\")","v":""},{"$nulls":7},"",{"$f":"IFERROR(INDEX(Input!$F$23:$F$192,MATCH(B113,Input!$A$23:$A$192,FALSE),1),\"\")","v":""},"",{"$f":"IFERROR(INDEX(Input!$K$23:$K$192,MATCH(B113,Input!$A$23:$A$192,FALSE),1),\"\")","v":""},0,{"$f":"IFERROR(VLOOKUP(ExamQ[[#This Row],[Test Question Complexity]],#REF!,3),\"\")","v":""},{"$f":"IFERROR(INDEX(Input!$L$23:$L$192,MATCH(B113,Input!$A$23:$A$192,FALSE),1),\"\")","v":""},0,"","","","","","",{"$f":"IFERROR(INDEX(KSR,MATCH(1,(($T113=K1Out)*($U113=K2Out)*($V113=K3Out)*($W113=K4Out)*($X113=K5Out)*($Y113=K6Out)),0)),0)","v":0},0,"","","","","","","",{"$f":"IFERROR(INDEX(SSR,MATCH(1,((AB113=S1Out)*($AC113=S2Out)*($AD113=S3Out)*($AE113=S4Out)*($AF113=S5Out)*($AG113=S6Out)*($AH113=S7Out)),0)),0)","v":0},0,"","","","",{"$f":"IF(SUMPRODUCT(--ISNUMBER(SEARCH(AA_F,$G113)))>0,5,\"\")","v":""},{"$f":"IFERROR(INDEX(AASR,MATCH(1,(($AK113=AA1Out)*($AL113=AA2Out)*($AM113=AA3Out)*($AN113=AA4Out)*($AO113=AA5Out)),0)),0)","v":0},0,0,0,"BLANK"]
[113,null,{"$f":"IFERROR(INDEX(Input!$B$23:$B$192,MATCH(B114,Input!$A$23:$A$192,FALSE),1),\"\")","v":""},{"$f":"IFERROR(INDEX(Input!$C$23:$C$192,MATCH(B114,Input!$A$23:$A$192,FALSE),1),\"\")","v":""},{"$nulls":7},"",{"$f":"IFERROR(INDEX(Input!$F$23:$F$192,MATCH(B114,Input!$A$23:$A$192,FALSE),1),\"\")","v":""},"",{"$f":"IFERROR(INDEX(Input!$K$23:$K$192,MATCH(B114,Input!$A$23:$A$192,FALSE),1),\"\")","v":""},0,{"$f":"IFERROR(VLOOKUP(ExamQ[[#This Row],[Test Question Complexity]],#REF!,3),\"\")","v":""},{"$f":"IFERROR(INDEX(Input!$L$23:$L$192,MATCH(B114,Input!$A$23:$A$192,FALSE),1),\"\")","v":""},0,"","","","","","",{"$f":"IFERROR(INDEX(KSR,MATCH(1,(($T114=K1Out)*($U114=K2Out)*($V114=K3Out)*($W114=K4Out)*($X114=K5Out)*($Y114=K6Out)),0)),0)","v":0},0,"","","","","","","",{"$f":"IFERROR(INDEX(SSR,MATCH(1,((AB114=S1Out)*($AC114=S2Out)*($AD114=S3Out)*($AE114=S4Out)*($AF114=S5Out)*($AG114=S6Out)*($AH114=S7Out)),0)),0)","v":0},0,"","","","",{"$f":"IF(SUMPRODUCT(--ISNUMBER(SEARCH(AA_F,$G114)))>0,5,\"\")","v":""},{"$f":"IFERROR(INDEX(AASR,MATCH(1,(($AK114=AA1Out)*($AL114=AA2Out)*($AM114=AA3Out)*($AN114=AA4Out)*($AO114=AA5Out)),0)),0)","v":0},0,0,0,"BLANK"]
[114,null,{"$f":"IFERROR(INDEX(Input!$B$23:$B$192,MATCH(B115,Input!$A$23:$A$192,FALSE),1),\"\")","v":""},{"$f":"IFERROR(INDEX(Input!$C$23:$C$192,MATCH(B115,Input!$A$23:$A$192,FALSE),1),\"\")","v":""},{"$nulls":7},"",{"$f":"IFERROR(INDEX(Input!$F$23:$F$192,MATCH(B115,Input!$A$23:$A$192,FALSE),1),\"\")","v":""},"",{"$f":"IFERROR(INDEX(Input!$K$23:$K$192,MATCH(B115,Input!$A$23:$A$192,FALSE),1),\"\")","v":""},0,{"$f":"IFERROR(VLOOKUP(ExamQ[[#This Row],[Test Question Complexity]],#REF!,3),\"\")","v":""},{"$f":"IFERROR(INDEX(Input!$L$23:$L$192,MATCH(B115,Input!$A$23:$A$192,FALSE),1),\"\")","v":""},0,"","","","","","",{"$f":"IFERROR(INDEX(KSR,MATCH(1,(($T115=K1Out)*($U115=K2Out)*($V115=K3Out)*($W115=K4Out)*($X115=K5Out)*($Y115=K6Out)),0)),0)","v":0},0,"","","","","","","",{"$f":"IFERROR(INDEX(SSR,MATCH(1,((AB115=S1Out)*($AC115=S2Out)*($AD115=S3Out)*($AE115=S4Out)*($AF115=S5Out)*($AG115=S6Out)*($AH115=S7Out)),0)),0)","v":0},0,"","","","",{"$f":"IF(SUMPRODUCT(--ISNUMBER(SEARCH(AA_F,$G115)))>0,5,\"\")","v":""},{"$f":"IFERROR(INDEX(AASR,MATCH(1,(($AK115=AA1Out)*($AL115=AA2Out)*($AM115=AA3Out)*($AN115=AA4Out)*($AO115=AA5Out)),0)),0)","v":0},0,0,0,"BLANK"]
[115,null,{"$f":"IFERROR(INDEX(Input!$B$23:$B$192,MATCH(B116,Input!$A$23:$A$192,FALSE),1),\"\")","v":""},{"$f":"IFERROR(INDEX(Input!$C$23:$C$192,MATCH(B116,Input!$A$23:$A$192,FALSE),1),\"\")","v":""},{"$nulls":7},"",{"$f":"IFERROR(INDEX(Input!$F$23:$F$192,MATCH(B116,Input!$A$23:$A$192,FALSE),1),\"\")","v":""},"",{"$f":"IFERROR(INDEX(Input!$K$23:$K$192,MATCH(B116,Input!$A$23:$A$192,FALSE),1),\"\")","v":""},0,{"$f":"IFERROR(VLOOKUP(ExamQ[[#This Row],[Test Question Complexity]],#REF!,3),\"\")","v":""},{"$f":"IFERROR(INDEX(Input!$L$23:$L$192,MATCH(B116,Input!$A$23:$A$192,FALSE),1),\"\")","v":""},0,"","","","","","",{"$f":"IFERROR(INDEX(KSR,MATCH(1,(($T116=K1Out)*($U116=K2Out)*($V116=K3Out)*($W116=K4Out)*($X116=K5Out)*($Y116=K6Out)),0)),0)","v":0},0,"","","","","","","",{"$f":"IFERROR(INDEX(SSR,MATCH(1,((AB116=S1Out)*($AC116=S2Out)*($AD116=S3Out)*($AE116=S4Out)*($AF116=S5Out)*($AG116=S6Out)*($AH116=S7Out)),0)),0)","v":0},0,"","","","",{"$f":"IF(SUMPRODUCT(--ISNUMBER(SEARCH(AA_F,$G116)))>0,5,\"\")","v":""},{"$f":"IFERROR(INDEX(AASR,MATCH(1,(($AK116=AA1Out)*($AL116=AA2Out)*($AM116=AA3Out)*($AN116=AA4Out)*($AO116=AA5Out)),0)),0)","v":0},0,0,0,"BLANK"]
[116,null,{"$f":"IFERROR(INDEX(Input!$B$23:$B$192,MATCH(B117,Input!$A$23:$A$192,FALSE),1),\"\")","v":""},{"$f":"IFERROR(INDEX(Input!$C$23:$C$192,MATCH(B117,Input!$A$23:$A$192,FALSE),1),\"\")","v":""},{"$nulls":7},"",{"$f":"IFERROR(INDEX(Input!$F$23:$F$192,MATCH(B117,Input!$A$23:$A$192,FALSE),1),\"\")","v":""},"",{"$f":"IFERROR(INDEX(Input!$K$23:$K$192,MATCH(B117,Input!$A$23:$A$192,FALSE),1),\"\")","v":""},0,{"$f":"IFERROR(VLOOKUP(ExamQ[[#This Row],[Test Question Complexity]],#REF!,3),\"\")","v":""},{"$f":"IFERROR(INDEX(Input!$L$23:$L$192,MATCH(B117,Input!$A$23:$A$192,FALSE),1),\"\")","v":""},0,"","","","","","",{"$f":"IFERROR(INDEX(KSR,MATCH(1,(($T117=K1Out)*($U117=K2Out)*($V117=K3Out)*($W117=K4Out)*($X117=K5Out)*($Y117=K6Out)),0)),0)","v":0},0,"","","","","","","",{"$f":"IFERROR(INDEX(SSR,MATCH(1,((AB117=S1Out)*($AC117=S2Out)*($AD117=S3Out)*($AE117=S4Out)*($AF117=S5Out)*($AG117=S6Out)*($AH117=S7Out)),0)),0)","v":0},0,"","","","",{"$f":"IF(SUMPRODUCT(--ISNUMBER(SEARCH(AA_F,$G117)))>0,5,\"\")","v":""},{"$f":"IFERROR(INDEX(AASR,MATCH(1,(($AK117=AA1Out)*($AL117=AA2Out)*($AM117=AA3Out)*($AN117=AA4Out)*($AO117=AA5Out)),0)),0)","v":0},0,0,0,"BLANK"]
[117,null,{"$f":"IFERROR(INDEX(Input!$B$23:$B$192,MATCH(B118,Input!$A$23:$A$192,FALSE),1),\"\")","v":""},{"$f":"IFERROR(INDEX(Input!$C$23:$C$192,MATCH(B118,Input!$A$23:$A$192,FALSE),1),\"\")","v":""},{"$nulls":7},"",{"$f":"IFERROR(INDEX(Input!$F$23:$F$192,MATCH(B118,Input!$A$23:$A$192,FALSE),1),\"\")","v":""},"",{"$f":"IFERROR(INDEX(Input!$K$23:$K$192,MATCH(B118,Input!$A$23:$A$192,FALSE),1),\"\")","v":""},0,{"$f":"IFERROR(VLOOKUP(ExamQ[[#This Row],[Test Question Complexity]],#REF!,3),\"\")","v":""},{"$f":"IFERROR(INDEX(Input!$L$23:$L$192,MATCH(B118,Input!$A$23:$A$192,FALSE),1),\"\")","v":""},0,"","","","","","",{"$f":"IFERROR(INDEX(KSR,MATCH(1,(($T118=K1Out)*($U118=K2Out)*($V118=K3Out)*($W118=K4Out)*($X118=K5Out)*($Y118=K6Out)),0)),0)","v":0},0,"","","","","","","",{"$f":"IFERROR(INDEX(SSR,MATCH(1,((AB118=S1Out)*($AC118=S2Out)*($AD118=S3Out)*($AE118=S4Out)*($AF118=S5Out)*($AG118=S6Out)*($AH118=S7Out)),0)),0)","v":0},0,"","","","",{"$f":"IF(SUMPRODUCT(--ISNUMBER(SEARCH(AA_F,$G118)))>0,5,\"\")","v":""},{"$f":"IFERROR(INDEX(AASR,MATCH(1,(($AK118=AA1Out)*($AL118=AA2Out)*($AM118=AA3Out)*($AN118=AA4Out)*($AO118=AA5Out)),0)),0)","v":0},0,0,0,"BLANK"]
[118,null,{"$f":"IFERROR(INDEX(Input!$B$23:$B$192,MATCH(B119,Input!$A$23:$A$192,FALSE),1),\"\")","v":""},{"$f":"IFERROR(INDEX(Input!$C$23:$C$192,MATCH(B119,Input!$A$23:$A$192,FALSE),1),\"\")","v":""},{"$nulls":7},"",{"$f":"IFERROR(INDEX(Input!$F$23:$F$192,MATCH(B119,Input!$A$23:$A$192,FALSE),1),\"\")","v":""},"",{"$f":"IFERROR(INDEX(Input!$K$23:$K$192,MATCH(B119,Input!$A$23:$A$192,FALSE),1),\"\")","v":""},0,{"$f":"IFERROR(VLOOKUP(ExamQ[[#This Row],[Test Question Complexity]],#REF!,3),\"\")","v":""},{"$f":"IFERROR(INDEX(Input!$L$23:$L$192,MATCH(B119,Input!$A$23:$A$192,FALSE),1),\"\")","v":""},0,"","","","","","",{"$f":"IFERROR(INDEX(KSR,MATCH(1,(($T119=K1Out)*($U119=K2Out)*($V119=K3Out)*($W119=K4Out)*($X119=K5Out)*($Y119=K6Out)),0)),0)","v":0},0,"","","","","","","",{"$f":"IFERROR(INDEX(SSR,MATCH(1,((AB119=S1Out)*($AC119=S2Out)*($AD119=S3Out)*($AE119=S4Out)*($AF119=S5Out)*($AG119=S6Out)*($AH119=S7Out)),0)),0)","v":0},0,"","","","",{"$f":"IF(SUMPRODUCT(--ISNUMBER(SEARCH(AA_F,$G119)))>0,5,\"\")","v":""},{"$f":"IFERROR(INDEX(AASR,MATCH(1,(($AK119=AA1Out)*($AL119=AA2Out)*($AM119=AA3Out)*($AN119=AA4Out)*($AO119=AA5Out)),0)),0)","v":0},0,0,0,"BLANK"]
[119,null,{"$f":"IFERROR(INDEX(Input!$B$23:$B$192,MATCH(B120,Input!$A$23:$A$192,FALSE),1),\"\")","v":""},{"$f":"IFERROR(INDEX(Input!$C$23:$C$192,MATCH(B120,Input!$A$23:$A$192,FALSE),1),\"\")","v":""},{"$nulls":7},"",{"$f":"IFERROR(INDEX(Input!$F$23:$F$192,MATCH(B120,Input!$A$23:$A$192,FALSE),1),\"\")","v":""},"",{"$f":"IFERROR(INDEX(Input!$K$23:$K$192,MATCH(B120,Input!$A$23:$A$192,FALSE),1),\"\")","v":""},0,{"$f":"IFERROR(VLOOKUP(ExamQ[[#This Row],[Test Question Complexity]],#REF!,3),\"\")","v":""},{"$f":"IFERROR(INDEX(Input!$L$23:$L$192,MATCH(B120,Input!$A$23:$A$192,FALSE),1),\"\")","v":""},0,"","","","","","",{"$f":"IFERROR(INDEX(KSR,MATCH(1,(($T120=K1Out)*($U120=K2Out)*($V120=K3Out)*($W120=K4Out)*($X120=K5Out)*($Y120=K6Out)),0)),0)","v":0},0,"","","","","","","",{"$f":"IFERROR(INDEX(SSR,MATCH(1,((AB120=S1Out)*($AC120=S2Out)*($AD120=S3Out)*($AE120=S4Out)*($AF120=S5Out)*($AG120=S6Out)*($AH120=S7Out)),0)),0)","v":0},0,"","","","",{"$f":"IF(SUMPRODUCT(--ISNUMBER(SEARCH(AA_F,$G120)))>0,5,\"\")","v":""},{"$f":"IFERROR(INDEX(AASR,MATCH(1,(($AK120=AA1Out)*($AL120=AA2Out)*($AM120=AA3Out)*($AN120=AA4Out)*($AO120=AA5Out)),0)),0)","v":0},0,0,0,"BLANK"]
[120,null,{"$f":"IFERROR(INDEX(Input!$B$23:$B$192,MATCH(B121,Input!$A$23:$A$192,FALSE),1),\"\")","v":""},{"$f":"IFERROR(INDEX(Input!$C$23:$C$192,MATCH(B121,Input!$A$23:$A$192,FALSE),1),\"\")","v":""},{"$nulls":7},"",{"$f":"IFERROR(INDEX(Input!$F$23:$F$192,MATCH(B121,Input!$A$23:$A$192,FALSE),1),\"\")","v":""},"",{"$f":"IFERROR(INDEX(Input!$K$23:$K$192,MATCH(B121,Input!$A$23:$A$192,FALSE),1),\"\")","v":""},0,{"$f":"IFERROR(VLOOKUP(ExamQ[[#This Row],[Test Question Complexity]],#REF!,3),\"\")","v":""},{"$f":"IFERROR(INDEX(Input!$L$23:$L$192,MATCH(B121,Input!$A$23:$A$192,FALSE),1),\"\")","v":""},0,"","","","","","",{"$f":"IFERROR(INDEX(KSR,MATCH(1,(($T121=K1Out)*($U121=K2Out)*($V121=K3Out)*($W121=K4Out)*($X121=K5Out)*($Y121=K6Out)),0)),0)","v":0},0,"","","","","","","",{"$f":"IFERROR(INDEX(SSR,MATCH(1,((AB121=S1Out)*($AC121=S2Out)*($AD121=S3Out)*($AE121=S4Out)*($AF121=S5Out)*($AG121=S6Out)*($AH121=S7Out)),0)),0)","v":0},0,"","","","",{"$f":"IF(SUMPRODUCT(--ISNUMBER(SEARCH(AA_F,$G121)))>0,5,\"\")","v":""},{"$f":"IFERROR(INDEX(AASR,MATCH(1,(($AK121=AA1Out)*($AL121=AA2Out)*($AM121=AA3Out)*($AN121=AA4Out)*($AO121=AA5Out)),0)),0)","v":0},0,0,0,"BLANK"]
[121,null,{"$f":"IFERROR(INDEX(Input!$B$23:$B$192,MATCH(B122,Input!$A$23:$A$192,FALSE),1),\"\")","v":""},{"$f":"IFERROR(INDEX(Input!$C$23:$C$192,MATCH(B122,Input!$A$23:$A$192,FALSE),1),\"\")","v":""},{"$nulls":7},"",{"$f":"IFERROR(INDEX(Input!$F$23:$F$192,MATCH(B122,Input!$A$23:$A$192,FALSE),1),\"\")","v":""},"",{"$f":"IFERROR(INDEX(Input!$K$23:$K$192,MATCH(B122,Input!$A$23:$A$192,FALSE),1),\"\")","v":""},0,{"$f":"IFERROR(VLOOKUP(ExamQ[[#This Row],[Test Question Complexity]],#REF!,3),\"\")","v":""},{"$f":"IFERROR(INDEX(Input!$L$23:$L$192,MATCH(B122,Input!$A$23:$A$192,FALSE),1),\"\")","v":""},0,"","","","","","",{"$f":"IFERROR(INDEX(KSR,MATCH(1,(($T122=K1Out)*($U122=K2Out)*($V122=K3Out)*($W122=K4Out)*($X122=K5Out)*($Y122=K6Out)),0)),0)","v":0},0,"","","","","","","",{"$f":"IFERROR(INDEX(SSR,MATCH(1,((AB122=S1Out)*($AC122=S2Out)*($AD122=S3Out)*($AE122=S4Out)*($AF122=S5Out)*($AG122=S6Out)*($AH122=S7Out)),0)),0)","v":0},0,"","","","",{"$f":"IF(SUMPRODUCT(--ISNUMBER(SEARCH(AA_F,$G122)))>0,5,\"\")","v":""},{"$f":"IFERROR(INDEX(AASR,MATCH(1,(($AK122=AA1Out)*($AL122=AA2Out)*($AM122=AA3Out)*($AN122=AA4Out)*($AO122=AA5Out)),0)),0)","v":0},0,0,0,"BLANK"]
[122,null,{"$f":"IFERROR(INDEX(Input!$B$23:$B$192,MATCH(B123,Input!$A$23:$A$192,FALSE),1),\"\")","v":""},{"$f":"IFERROR(INDEX(Input!$C$23:$C$192,MATCH(B123,Input!$A$23:$A$192,FALSE),1),\"\")","v":""},{"$nulls":7},"",{"$f":"IFERROR(INDEX(Input!$F$23:$F$192,MATCH(B123,Input!$A$23:$A$192,FALSE),1),\"\")","v":""},"",{"$f":"IFERROR(INDEX(Input!$K$23:$K$192,MATCH(B123,Input!$A$23:$A$192,FALSE),1),\"\")","v":""},0,{"$f":"IFERROR(VLOOKUP(ExamQ[[#This Row],[Test Question Complexity]],#REF!,3),\"\")","v":""},{"$f":"IFERROR(INDEX(Input!$L$23:$L$192,MATCH(B123,Input!$A$23:$A$192,FALSE),1),\"\")","v":""},0,"","","","","","",{"$f":"IFERROR(INDEX(KSR,MATCH(1,(($T123=K1Out)*($U123=K2Out)*($V123=K3Out)*($W123=K4Out)*($X123=K5Out)*($Y123=K6Out)),0)),0)","v":0},0,"","","","","","","",{"$f":"IFERROR(INDEX(SSR,MATCH(1,((AB123=S1Out)*($AC123=S2Out)*($AD123=S3Out)*($AE123=S4Out)*($AF123=S5Out)*($AG123=S6Out)*($AH123=S7Out)),0)),0)","v":0},0,"","","","",{"$f":"IF(SUMPRODUCT(--ISNUMBER(SEARCH(AA_F,$G123)))>0,5,\"\")","v":""},{"$f":"IFERROR(INDEX(AASR,MATCH(1,(($AK123=AA1Out)*($AL123=AA2Out)*($AM123=AA3Out)*($AN123=AA4Out)*($AO123=AA5Out)),0)),0)","v":0},0,0,0,"BLANK"]
[123,null,{"$f":"IFERROR(INDEX(Input!$B$23:$B$192,MATCH(B124,Input!$A$23:$A$192,FALSE),1),\"\")","v":""},{"$f":"IFERROR(INDEX(Input!$C$23:$C$192,MATCH(B124,Input!$A$23:$A$192,FALSE),1),\"\")","v":""},{"$nulls":7},"",{"$f":"IFERROR(INDEX(Input!$F$23:$F$192,MATCH(B124,Input!$A$23:$A$192,FALSE),1),\"\")","v":""},"",{"$f":"IFERROR(INDEX(Input!$K$23:$K$192,MATCH(B124,Input!$A$23:$A$192,FALSE),1),\"\")","v":""},0,{"$f":"IFERROR(VLOOKUP(ExamQ[[#This Row],[Test Question Complexity]],#REF!,3),\"\")","v":""},{"$f":"IFERROR(INDEX(Input!$L$23:$L$192,MATCH(B124,Input!$A$23:$A$192,FALSE),1),\"\")","v":""},0,"","","","","","",{"$f":"IFERROR(INDEX(KSR,MATCH(1,(($T124=K1Out)*($U124=K2Out)*($V124=K3Out)*($W124=K4Out)*($X124=K5Out)*($Y124=K6Out)),0)),0)","v":0},0,"","","","","","","",{"$f":"IFERROR(INDEX(SSR,MATCH(1,((AB124=S1Out)*($AC124=S2Out)*($AD124=S3Out)*($AE124=S4Out)*($AF124=S5Out)*($AG124=S6Out)*($AH124=S7Out)),0)),0)","v":0},0,"","","","",{"$f":"IF(SUMPRODUCT(--ISNUMBER(SEARCH(AA_F,$G124)))>0,5,\"\")","v":""},{"$f":"IFERROR(INDEX(AASR,MATCH(1,(($AK124=AA1Out)*($AL124=AA2Out)*($AM124=AA3Out)*($AN124=AA4Out)*($AO124=AA5Out)),0)),0)","v":0},0,0,0,"BLANK"]
[124,null,{"$f":"IFERROR(INDEX(Input!$B$23:$B$192,MATCH(B125,Input!$A$23:$A$192,FALSE),1),\"\")","v":""},{"$f":"IFERROR(INDEX(Input!$C$23:$C$192,MATCH(B125,Input!$A$23:$A$192,FALSE),1),\"\")","v":""},{"$nulls":7},"",{"$f":"IFERROR(INDEX(Input!$F$23:$F$192,MATCH(B125,Input!$A$23:$A$192,FALSE),1),\"\")","v":""},"",{"$f":"IFERROR(INDEX(Input!$K$23:$K$192,MATCH(B125,Input!$A$23:$A$192,FALSE),1),\"\")","v":""},0,{"$f":"IFERROR(VLOOKUP(ExamQ[[#This Row],[Test Question Complexity]],#REF!,3),\"\")","v":""},{"$f":"IFERROR(INDEX(Input!$L$23:$L$192,MATCH(B125,Input!$A$23:$A$192,FALSE),1),\"\")","v":""},0,"","","","","","",{"$f":"IFERROR(INDEX(KSR,MATCH(1,(($T125=K1Out)*($U125=K2Out)*($V125=K3Out)*($W125=K4Out)*($X125=K5Out)*($Y125=K6Out)),0)),0)","v":0},0,"","","","","","","",{"$f":"IFERROR(INDEX(SSR,MATCH(1,((AB125=S1Out)*($AC125=S2Out)*($AD125=S3Out)*($AE125=S4Out)*($AF125=S5Out)*($AG125=S6Out)*($AH125=S7Out)),0)),0)","v":0},0,"","","","",{"$f":"IF(SUMPRODUCT(--ISNUMBER(SEARCH(AA_F,$G125)))>0,5,\"\")","v":""},{"$f":"IFERROR(INDEX(AASR,MATCH(1,(($AK125=AA1Out)*($AL125=AA2Out)*($AM125=AA3Out)*($AN125=AA4Out)*($AO125=AA5Out)),0)),0)","v":0},0,0,0,"BLANK"]
[125,null,{"$f":"IFERROR(INDEX(Input!$B$23:$B$192,MATCH(B126,Input!$A$23:$A$192,FALSE),1),\"\")","v":""},{"$f":"IFERROR(INDEX(Input!$C$23:$C$192,MATCH(B126,Input!$A$23:$A$192,FALSE),1),\"\")","v":""},{"$nulls":7},"",{"$f":"IFERROR(INDEX(Input!$F$23:$F$192,MATCH(B126,Input!$A$23:$A$192,FALSE),1),\"\")","v":""},"",{"$f":"IFERROR(INDEX(Input!$K$23:$K$192,MATCH(B126,Input!$A$23:$A$192,FALSE),1),\"\")","v":""},0,{"$f":"IFERROR(VLOOKUP(ExamQ[[#This Row],[Test Question Complexity]],#REF!,3),\"\")","v":""},{"$f":"IFERROR(INDEX(Input!$L$23:$L$192,MATCH(B126,Input!$A$23:$A$192,FALSE),1),\"\")","v":""},0,"","","","","","",{"$f":"IFERROR(INDEX(KSR,MATCH(1,(($T126=K1Out)*($U126=K2Out)*($V126=K3Out)*($W126=K4Out)*($X126=K5Out)*($Y126=K6Out)),0)),0)","v":0},0,"","","","","","","",{"$f":"IFERROR(INDEX(SSR,MATCH(1,((AB126=S1Out)*($AC126=S2Out)*($AD126=S3Out)*($AE126=S4Out)*($AF126=S5Out)*($AG126=S6Out)*($AH126=S7Out)),0)),0)","v":0},0,"","","","",{"$f":"IF(SUMPRODUCT(--ISNUMBER(SEARCH(AA_F,$G126)))>0,5,\"\")","v":""},{"$f":"IFERROR(INDEX(AASR,MATCH(1,(($AK126=AA1Out)*($AL126=AA2Out)*($AM126=AA3Out)*($AN126=AA4Out)*($AO126=AA5Out)),0)),0)","v":0},0,0,0,"BLANK"]
[126,null,{"$f":"IFERROR(INDEX(Input!$B$23:$B$192,MATCH(B127,Input!$A$23:$A$192,FALSE),1),\"\")","v":""},{"$f":"IFERROR(INDEX(Input!$C$23:$C$192,MATCH(B127,Input!$A$23:$A$192,FALSE),1),\"\")","v":""},{"$nulls":7},"",{"$f":"IFERROR(INDEX(Input!$F$23:$F$192,MATCH(B127,Input!$A$23:$A$192,FALSE),1),\"\")","v":""},"",{"$f":"IFERROR(INDEX(Input!$K$23:$K$192,MATCH(B127,Input!$A$23:$A$192,FALSE),1),\"\")","v":""},0,{"$f":"IFERROR(VLOOKUP(ExamQ[[#This Row],[Test Question Complexity]],#REF!,3),\"\")","v":""},{"$f":"IFERROR(INDEX(Input!$L$23:$L$192,MATCH(B127,Input!$A$23:$A$192,FALSE),1),\"\")","v":""},0,"","","","","","",{"$f":"IFERROR(INDEX(KSR,MATCH(1,(($T127=K1Out)*($U127=K2Out)*($V127=K3Out)*($W127=K4Out)*($X127=K5Out)*($Y127=K6Out)),0)),0)","v":0},0,"","","","","","","",{"$f":"IFERROR(INDEX(SSR,MATCH(1,((AB127=S1Out)*($AC127=S2Out)*($AD127=S3Out)*($AE127=S4Out)*($AF127=S5Out)*($AG127=S6Out)*($AH127=S7Out)),0)),0)","v":0},0,"","","","",{"$f":"IF(SUMPRODUCT(--ISNUMBER(SEARCH(AA_F,$G127)))>0,5,\"\")","v":""},{"$f":"IFERROR(INDEX(AASR,MATCH(1,(($AK127=AA1Out)*($AL127=AA2Out)*($AM127=AA3Out)*($AN127=AA4Out)*($AO127=AA5Out)),0)),0)","v":0},0,0,0,"BLANK"]
[127,null,{"$f":"IFERROR(INDEX(Input!$B$23:$B$192,MATCH(B128,Input!$A$23:$A$192,FALSE),1),\"\")","v":""},{"$f":"IFERROR(INDEX(Input!$C$23:$C$192,MATCH(B128,Input!$A$23:$A$192,FALSE),1),\"\")","v":""},{"$nulls":7},"",{"$f":"IFERROR(INDEX(Input!$F$23:$F$192,MATCH(B128,Input!$A$23:$A$192,FALSE),1),\"\")","v":""},"",{"$f":"IFERROR(INDEX(Input!$K$23:$K$192,MATCH(B128,Input!$A$23:$A$192,FALSE),1),\"\")","v":""},0,{"$f":"IFERROR(VLOOKUP(ExamQ[[#This Row],[Test Question Complexity]],#REF!,3),\"\")","v":""},{"$f":"IFERROR(INDEX(Input!$L$23:$L$192,MATCH(B128,Input!$A$23:$A$192,FALSE),1),\"\")","v":""},0,"","","","","","",{"$f":"IFERROR(INDEX(KSR,MATCH(1,(($T128=K1Out)*($U128=K2Out)*($V128=K3Out)*($W128=K4Out)*($X128=K5Out)*($Y128=K6Out)),0)),0)","v":0},0,"","","","","","","",{"$f":"IFERROR(INDEX(SSR,MATCH(1,((AB128=S1Out)*($AC128=S2Out)*($AD128=S3Out)*($AE128=S4Out)*($AF128=S5Out)*($AG128=S6Out)*($AH128=S7Out)),0)),0)","v":0},0,"","","","",{"$f":"IF(SUMPRODUCT(--ISNUMBER(SEARCH(AA_F,$G128)))>0,5,\"\")","v":""},{"$f":"IFERROR(INDEX(AASR,MATCH(1,(($AK128=AA1Out)*($AL128=AA2Out)*($AM128=AA3Out)*($AN128=AA4Out)*($AO128=AA5Out)),0)),0)","v":0},0,0,0,"BLANK"]
[128,null,{"$f":"IFERROR(INDEX(Input!$B$23:$B$192,MATCH(B129,Input!$A$23:$A$192,FALSE),1),\"\")","v":""},{"$f":"IFERROR(INDEX(Input!$C$23:$C$192,MATCH(B129,Input!$A$23:$A$192,FALSE),1),\"\")","v":""},{"$nulls":7},"",{"$f":"IFERROR(INDEX(Input!$F$23:$F$192,MATCH(B129,Input!$A$23:$A$192,FALSE),1),\"\")","v":""},"",{"$f":"IFERROR(INDEX(Input!$K$23:$K$192,MATCH(B129,Input!$A$23:$A$192,FALSE),1),\"\")","v":""},0,{"$f":"IFERROR(VLOOKUP(ExamQ[[#This Row],[Test Question Complexity]],#REF!,3),\"\")","v":""},{"$f":"IFERROR(INDEX(Input!$L$23:$L$192,MATCH(B129,Input!$A$23:$A$192,FALSE),1),\"\")","v":""},0,"","","","","","",{"$f":"IFERROR(INDEX(KSR,MATCH(1,(($T129=K1Out)*($U129=K2Out)*($V129=K3Out)*($W129=K4Out)*($X129=K5Out)*($Y129=K6Out)),0)),0)","v":0},0,"","","","","","","",{"$f":"IFERROR(INDEX(SSR,MATCH(1,((AB129=S1Out)*($AC129=S2Out)*($AD129=S3Out)*($AE129=S4Out)*($AF129=S5Out)*($AG129=S6Out)*($AH129=S7Out)),0)),0)","v":0},0,"","","","",{"$f":"IF(SUMPRODUCT(--ISNUMBER(SEARCH(AA_F,$G129)))>0,5,\"\")","v":""},{"$f":"IFERROR(INDEX(AASR,MATCH(1,(($AK129=AA1Out)*($AL129=AA2Out)*($AM129=AA3Out)*($AN129=AA4Out)*($AO129=AA5Out)),0)),0)","v":0},0,0,0,"BLANK"]
[129,null,{"$f":"IFERROR(INDEX(Input!$B$23:$B$192,MATCH(B130,Input!$A$23:$A$192,FALSE),1),\"\")","v":""},{"$f":"IFERROR(INDEX(Input!$C$23:$C$192,MATCH(B130,Input!$A$23:$A$192,FALSE),1),\"\")","v":""},{"$nulls":7},{"$f":"IF(B130<>\"\",SUM(I130:K130),\"\")","v":""},{"$f":"IFERROR(INDEX(Input!$F$23:$F$192,MATCH(B130,Input!$A$23:$A$192,FALSE),1),\"\")","v":""},{"$f":"IFERROR(L130*M130,\"\")","v":""},{"$f":"IFERROR(INDEX(Input!$K$23:$K$192,MATCH(B130,Input!$A$23:$A$192,FALSE),1),\"\")","v":""},{"$f":"IF(N130>O130,1,0)","v":0},{"$f":"IFERROR(VLOOKUP(ExamQ[[#This Row],[Test Question Complexity]],#REF!,3),\"\")","v":""},{"$f":"IFERROR(INDEX(Input!$L$23:$L$192,MATCH(B130,Input!$A$23:$A$192,FALSE),1),\"\")","v":""},0,{"$f":"IF(SUMPRODUCT(--ISNUMBER(SEARCH(K_A,$G130)))>0,1,\"\")","v":""},{"$f":"IF(SUMPRODUCT(--ISNUMBER(SEARCH(K_B,$G130)))>0,2,\"\")","v":""},{"$f":"IF(SUMPRODUCT(--ISNUMBER(SEARCH(K_C,$G130)))>0,3,\"\")","v":""},{"$f":"IF(SUMPRODUCT(--ISNUMBER(SEARCH(K_D,$G130)))>0,4,\"\")","v":""},{"$f":"IF(SUMPRODUCT(--ISNUMBER(SEARCH(K_E,$G130)))>0,5,\"\")","v":""},{"$f":"IF(SUMPRODUCT(--ISNUMBER(SEARCH(K_F,$G130)))>0,6,\"\")","v":""},{"$f":"IFERROR(INDEX(KSR,MATCH(1,(($T130=K1Out)*($U130=K2Out)*($V130=K3Out)*($W130=K4Out)*($X130=K5Out)*($Y130=K6Out)),0)),0)","v":0},0,{"$f":"IF(SUMPRODUCT(--ISNUMBER(SEARCH(S_A,$G130)))>0,1,\"\")","v":""},{"$f":"IF(SUMPRODUCT(--ISNUMBER(SEARCH(S_B,$G130)))>0, 2,\"\")","v":""},{"$f":"IF(SUMPRODUCT(--ISNUMBER(SEARCH(S_C,$G130)))>0,3,\"\")","v":""},{"$f":"IF(SUMPRODUCT(--ISNUMBER(SEARCH(S_D,$G130)))>0,4,\"\")","v":""},{"$f":"IF(SUMPRODUCT(--ISNUMBER(SEARCH(S_E,$G130)))>0,5,\"\")","v":""},{"$f":"IF(SUMPRODUCT(--ISNUMBER(SEARCH(S_F,$G130)))>0,6,\"\")","v":""},{"$f":"IF(SUMPRODUCT(--ISNUMBER(SEARCH(S_G,$G130)))>0,7,\"\")","v":""},{"$f":"IFERROR(INDEX(SSR,MATCH(1,((AB130=S1Out)*($AC130=S2Out)*($AD130=S3Out)*($AE130=S4Out)*($AF130=S5Out)*($AG130=S6Out)*($AH130=S7Out)),0)),0)","v":0},0,{"$f":"IF(SUMPRODUCT(--ISNUMBER(SEARCH(AA_A,$G130)))>0,1,\"\")","v":""},{"$f":"IF(SUMPRODUCT(--ISNUMBER(SEARCH(AA_B,$G130)))>0,2,\"\")","v":""},{"$f":"IF(SUMPRODUCT(--ISNUMBER(SEARCH(AA_C,$G130)))>0,3,\"\")","v":""},{"$f":"IF(SUMPRODUCT(--ISNUMBER(SEARCH(AA_D,$G130)))>0,4,\"\")","v":""},{"$f":"IF(SUMPRODUCT(--ISNUMBER(SEARCH(AA_F,$G130)))>0,5,\"\")","v":""},{"$f":"IFERROR(INDEX(AASR,MATCH(1,(($AK130=AA1Out)*($AL130=AA2Out)*($AM130=AA3Out)*($AN130=AA4Out)*($AO130=AA5Out)),0)),0)","v":0},0,0,0,"BLANK"]
[130,null,{"$f":"IFERROR(INDEX(Input!$B$23:$B$192,MATCH(B131,Input!$A$23:$A$192,FALSE),1),\"\")","v":""},{"$f":"IFERROR(INDEX(Input!$C$23:$C$192,MATCH(B131,Input!$A$23:$A$192,FALSE),1),\"\")","v":""},{"$nulls":7},"",{"$f":"IFERROR(INDEX(Input!$F$23:$F$192,MATCH(B131,Input!$A$23:$A$192,FALSE),1),\"\")","v":""},"",{"$f":"IFERROR(INDEX(Input!$K$23:$K$192,MATCH(B131,Input!$A$23:$A$192,FALSE),1),\"\")","v":""},0,{"$f":"IFERROR(VLOOKUP(ExamQ[[#This Row],[Test Question Complexity]],#REF!,3),\"\")","v":""},{"$f":"IFERROR(INDEX(Input!$L$23:$L$192,MATCH(B131,Input!$A$23:$A$192,FALSE),1),\"\")","v":""},0,"","","","","","",{"$f":"IFERROR(INDEX(KSR,MATCH(1,(($T131=K1Out)*($U131=K2Out)*($V131=K3Out)*($W131=K4Out)*($X131=K5Out)*($Y131=K6Out)),0)),0)","v":0},0,"","","","","","","",{"$f":"IFERROR(INDEX(SSR,MATCH(1,((AB131=S1Out)*($AC131=S2Out)*($AD131=S3Out)*($AE131=S4Out)*($AF131=S5Out)*($AG131=S6Out)*($AH131=S7Out)),0)),0)","v":0},0,"","","","",{"$f":"IF(SUMPRODUCT(--ISNUMBER(SEARCH(AA_F,$G131)))>0,5,\"\")","v":""},{"$f":"IFERROR(INDEX(AASR,MATCH(1,(($AK131=AA1Out)*($AL131=AA2Out)*($AM131=AA3Out)*($AN131=AA4Out)*($AO131=AA5Out)),0)),0)","v":0},{"$f":"(IF(ISNUMBER(S131) = FALSE, 0, S131) + IF(ISNUMBER(T131) = FALSE, 0, T131)+ IF(ISNUMBER(U131) = FALSE, 0, U131) + IF(ISNUMBER(V131) = FALSE, 0, V131) + IF(ISNUMBER(W131) = FALSE, 0, W131) + IF(ISNUMBER(X131) = FALSE, 0, X131)) + IF(ISNUMBER(Y131) = FALSE, 0, Y131)","v":0},{"$f":"(IF(ISNUMBER(AA131) = FALSE, 0, AA131) + IF(ISNUMBER(AB131) = FALSE, 0, AB131)+ IF(ISNUMBER(AC131) = FALSE, 0, AC131) + IF(ISNUMBER(AD131) = FALSE, 0, AD131) + IF(ISNUMBER(AE131) = FALSE, 0, AE131) + IF(ISNUMBER(AF131) = FALSE, 0, AF131)) + IF(ISNUMBER(AG131) = FALSE, 0, AG131) + IF(ISNUMBER(AH131) = FALSE, 0, AH131)","v":0},{"$f":"(IF(ISNUMBER(AJ131) = FALSE, 0, AJ131) + IF(ISNUMBER(AK131) = FALSE, 0, AK131)+ IF(ISNUMBER(AL131) = FALSE, 0, AL131) + IF(ISNUMBER(AM131) = FALSE, 0, AM131) + IF(ISNUMBER(AN131) = FALSE, 0, AN131)+ IF(ISNUMBER(AO131) = FALSE, 0,AO131))","v":0},{"$f":"IF(G131 = \"\", \"BLANK\",IF((AQ131+AR131+AS131) = 0, \"A\", AQ131 + AR131 + AS131))","v":"BLANK"}]
[131,null,{"$f":"IFERROR(INDEX(Input!$B$23:$B$192,MATCH(B132,Input!$A$23:$A$192,FALSE),1),\"\")","v":""},{"$f":"IFERROR(INDEX(Input!$C$23:$C$192,MATCH(B132,Input!$A$23:$A$192,FALSE),1),\"\")","v":""},{"$nulls":7},"",{"$f":"IFERROR(INDEX(Input!$F$23:$F$192,MATCH(B132,Input!$A$23:$A$192,FALSE),1),\"\")","v":""},"",{"$f":"IFERROR(INDEX(Input!$K$23:$K$192,MATCH(B132,Input!$A$23:$A$192,FALSE),1),\"\")","v":""},0,{"$f":"IFERROR(VLOOKUP(ExamQ[[#This Row],[Test Question Complexity]],#REF!,3),\"\")","v":""},{"$f":"IFERROR(INDEX(Input!$L$23:$L$192,MATCH(B132,Input!$A$23:$A$192,FALSE),1),\"\")","v":""},0,"","","","","","",{"$f":"IFERROR(INDEX(KSR,MATCH(1,(($T132=K1Out)*($U132=K2Out)*($V132=K3Out)*($W132=K4Out)*($X132=K5Out)*($Y132=K6Out)),0)),0)","v":0},0,"","","","","","","",{"$f":"IFERROR(INDEX(SSR,MATCH(1,((AB132=S1Out)*($AC132=S2Out)*($AD132=S3Out)*($AE132=S4Out)*($AF132=S5Out)*($AG132=S6Out)*($AH132=S7Out)),0)),0)","v":0},0,"","","","",{"$f":"IF(SUMPRODUCT(--ISNUMBER(SEARCH(AA_F,$G132)))>0,5,\"\")","v":""},{"$f":"IFERROR(INDEX(AASR,MATCH(1,(($AK132=AA1Out)*($AL132=AA2Out)*($AM132=AA3Out)*($AN132=AA4Out)*($AO132=AA5Out)),0)),0)","v":0},0,0,0,"BLANK"]
[132,null,{"$f":"IFERROR(INDEX(Input!$B$23:$B$192,MATCH(B133,Input!$A$23:$A$192,FALSE),1),\"\")","v":""},{"$f":"IFERROR(INDEX(Input!$C$23:$C$192,MATCH(B133,Input!$A$23:$A$192,FALSE),1),\"\")","v":""},{"$nulls":7},"",{"$f":"IFERROR(INDEX(Input!$F$23:$F$192,MATCH(B133,Input!$A$23:$A$192,FALSE),1),\"\")","v":""},"",{"$f":"IFERROR(INDEX(Input!$K$23:$K$192,MATCH(B133,Input!$A$23:$A$192,FALSE),1),\"\")","v":""},0,{"$f":"IFERROR(VLOOKUP(ExamQ[[#This Row],[Test Question Complexity]],#REF!,3),\"\")","v":""},{"$f":"IFERROR(INDEX(Input!$L$23:$L$192,MATCH(B133,Input!$A$23:$A$192,FALSE),1),\"\")","v":""},0,"","","","","","",{"$f":"IFERROR(INDEX(KSR,MATCH(1,(($T133=K1Out)*($U133=K2Out)*($V133=K3Out)*($W133=K4Out)*($X133=K5Out)*($Y133=K6Out)),0)),0)","v":0},0,"","","","","","","",{"$f":"IFERROR(INDEX(SSR,MATCH(1,((AB133=S1Out)*($AC133=S2Out)*($AD133=S3Out)*($AE133=S4Out)*($AF133=S5Out)*($AG133=S6Out)*($AH133=S7Out)),0)),0)","v":0},0,"","","","",{"$f":"IF(SUMPRODUCT(--ISNUMBER(SEARCH(AA_F,$G133)))>0,5,\"\")","v":""},{"$f":"IFERROR(INDEX(AASR,MATCH(1,(($AK133=AA1Out)*($AL133=AA2Out)*($AM133=AA3Out)*($AN133=AA4Out)*($AO133=AA5Out)),0)),0)","v":0},0,0,0,"BLANK"]
[133,null,{"$f":"IFERROR(INDEX(Input!$B$23:$B$192,MATCH(B134,Input!$A$23:$A$192,FALSE),1),\"\")","v":""},{"$f":"IFERROR(INDEX(Input!$C$23:$C$192,MATCH(B134,Input!$A$23:$A$192,FALSE),1),\"\")","v":""},{"$nulls":7},"",{"$f":"IFERROR(INDEX(Input!$F$23:$F$192,MATCH(B134,Input!$A$23:$A$192,FALSE),1),\"\")","v":""},"",{"$f":"IFERROR(INDEX(Input!$K$23:$K$192,MATCH(B134,Input!$A$23:$A$192,FALSE),1),\"\")","v":""},0,{"$f":"IFERROR(VLOOKUP(ExamQ[[#This Row],[Test Question Complexity]],#REF!,3),\"\")","v":""},{"$f":"IFERROR(INDEX(Input!$L$23:$L$192,MATCH(B134,Input!$A$23:$A$192,FALSE),1),\"\")","v":""},0,"","","","","","",{"$f":"IFERROR(INDEX(KSR,MATCH(1,(($T134=K1Out)*($U134=K2Out)*($V134=K3Out)*($W134=K4Out)*($X134=K5Out)*($Y134=K6Out)),0)),0)","v":0},0,"","","","","","","",{"$f":"IFERROR(INDEX(SSR,MATCH(1,((AB134=S1Out)*($AC134=S2Out)*($AD134=S3Out)*($AE134=S4Out)*($AF134=S5Out)*($AG134=S6Out)*($AH134=S7Out)),0)),0)","v":0},0,"","","","",{"$f":"IF(SUMPRODUCT(--ISNUMBER(SEARCH(AA_F,$G134)))>0,5,\"\")","v":""},{"$f":"IFERROR(INDEX(AASR,MATCH(1,(($AK134=AA1Out)*($AL134=AA2Out)*($AM134=AA3Out)*($AN134=AA4Out)*($AO134=AA5Out)),0)),0)","v":0},0,0,0,"BLANK"]
[134,null,{"$f":"IFERROR(INDEX(Input!$B$23:$B$192,MATCH(B135,Input!$A$23:$A$192,FALSE),1),\"\")","v":""},{"$f":"IFERROR(INDEX(Input!$C$23:$C$192,MATCH(B135,Input!$A$23:$A$192,FALSE),1),\"\")","v":""},{"$nulls":7},"",{"$f":"IFERROR(INDEX(Input!$F$23:$F$192,MATCH(B135,Input!$A$23:$A$192,FALSE),1),\"\")","v":""},"",{"$f":"IFERROR(INDEX(Input!$K$23:$K$192,MATCH(B135,Input!$A$23:$A$192,FALSE),1),\"\")","v":""},0,{"$f":"IFERROR(VLOOKUP(ExamQ[[#This Row],[Test Question Complexity]],#REF!,3),\"\")","v":""},{"$f":"IFERROR(INDEX(Input!$L$23:$L$192,MATCH(B135,Input!$A$23:$A$192,FALSE),1),\"\")","v":""},0,"","","","","","",{"$f":"IFERROR(INDEX(KSR,MATCH(1,(($T135=K1Out)*($U135=K2Out)*($V135=K3Out)*($W135=K4Out)*($X135=K5Out)*($Y135=K6Out)),0)),0)","v":0},0,"","","","","","","",{"$f":"IFERROR(INDEX(SSR,MATCH(1,((AB135=S1Out)*($AC135=S2Out)*($AD135=S3Out)*($AE135=S4Out)*($AF135=S5Out)*($AG135=S6Out)*($AH135=S7Out)),0)),0)","v":0},0,"","","","",{"$f":"IF(SUMPRODUCT(--ISNUMBER(SEARCH(AA_F,$G135)))>0,5,\"\")","v":""},{"$f":"IFERROR(INDEX(AASR,MATCH(1,(($AK135=AA1Out)*($AL135=AA2Out)*($AM135=AA3Out)*($AN135=AA4Out)*($AO135=AA5Out)),0)),0)","v":0},0,0,0,"BLANK"]
[135,null,{"$f":"IFERROR(INDEX(Input!$B$23:$B$192,MATCH(B136,Input!$A$23:$A$192,FALSE),1),\"\")","v":""},{"$f":"IFERROR(INDEX(Input!$C$23:$C$192,MATCH(B136,Input!$A$23:$A$192,FALSE),1),\"\")","v":""},{"$nulls":7},"",{"$f":"IFERROR(INDEX(Input!$F$23:$F$192,MATCH(B136,Input!$A$23:$A$192,FALSE),1),\"\")","v":""},"",{"$f":"IFERROR(INDEX(Input!$K$23:$K$192,MATCH(B136,Input!$A$23:$A$192,FALSE),1),\"\")","v":""},0,{"$f":"IFERROR(VLOOKUP(ExamQ[[#This Row],[Test Question Complexity]],#REF!,3),\"\")","v":""},{"$f":"IFERROR(INDEX(Input!$L$23:$L$192,MATCH(B136,Input!$A$23:$A$192,FALSE),1),\"\")","v":""},0,"","","","","","",{"$f":"IFERROR(INDEX(KSR,MATCH(1,(($T136=K1Out)*($U136=K2Out)*($V136=K3Out)*($W136=K4Out)*($X136=K5Out)*($Y136=K6Out)),0)),0)","v":0},0,"","","","","","","",{"$f":"IFERROR(INDEX(SSR,MATCH(1,((AB136=S1Out)*($AC136=S2Out)*($AD136=S3Out)*($AE136=S4Out)*($AF136=S5Out)*($AG136=S6Out)*($AH136=S7Out)),0)),0)","v":0},0,"","","","",{"$f":"IF(SUMPRODUCT(--ISNUMBER(SEARCH(AA_F,$G136)))>0,5,\"\")","v":""},{"$f":"IFERROR(INDEX(AASR,MATCH(1,(($AK136=AA1Out)*($AL136=AA2Out)*($AM136=AA3Out)*($AN136=AA4Out)*($AO136=AA5Out)),0)),0)","v":0},0,0,0,"BLANK"]
[136,null,{"$f":"IFERROR(INDEX(Input!$B$23:$B$192,MATCH(B137,Input!$A$23:$A$192,FALSE),1),\"\")","v":""},{"$f":"IFERROR(INDEX(Input!$C$23:$C$192,MATCH(B137,Input!$A$23:$A$192,FALSE),1),\"\")","v":""},{"$nulls":7},"",{"$f":"IFERROR(INDEX(Input!$F$23:$F$192,MATCH(B137,Input!$A$23:$A$192,FALSE),1),\"\")","v":""},"",{"$f":"IFERROR(INDEX(Input!$K$23:$K$192,MATCH(B137,Input!$A$23:$A$192,FALSE),1),\"\")","v":""},0,{"$f":"IFERROR(VLOOKUP(ExamQ[[#This Row],[Test Question Complexity]],#REF!,3),\"\")","v":""},{"$f":"IFERROR(INDEX(Input!$L$23:$L$192,MATCH(B137,Input!$A$23:$A$192,FALSE),1),\"\")","v":""},0,"","","","","","",{"$f":"IFERROR(INDEX(KSR,MATCH(1,(($T137=K1Out)*($U137=K2Out)*($V137=K3Out)*($W137=K4Out)*($X137=K5Out)*($Y137=K6Out)),0)),0)","v":0},0,"","","","","","","",{"$f":"IFERROR(INDEX(SSR,MATCH(1,((AB137=S1Out)*($AC137=S2Out)*($AD137=S3Out)*($AE137=S4Out)*($AF137=S5Out)*($AG137=S6Out)*($AH137=S7Out)),0)),0)","v":0},0,"","","","",{"$f":"IF(SUMPRODUCT(--ISNUMBER(SEARCH(AA_F,$G137)))>0,5,\"\")","v":""},{"$f":"IFERROR(INDEX(AASR,MATCH(1,(($AK137=AA1Out)*($AL137=AA2Out)*($AM137=AA3Out)*($AN137=AA4Out)*($AO137=AA5Out)),0)),0)","v":0},0,0,0,"BLANK"]
[137,null,{"$f":"IFERROR(INDEX(Input!$B$23:$B$192,MATCH(B138,Input!$A$23:$A$192,FALSE),1),\"\")","v":""},{"$f":"IFERROR(INDEX(Input!$C$23:$C$192,MATCH(B138,Input!$A$23:$A$192,FALSE),1),\"\")","v":""},{"$nulls":7},"",{"$f":"IFERROR(INDEX(Input!$F$23:$F$192,MATCH(B138,Input!$A$23:$A$192,FALSE),1),\"\")","v":""},"",{"$f":"IFERROR(INDEX(Input!$K$23:$K$192,MATCH(B138,Input!$A$23:$A$192,FALSE),1),\"\")","v":""},0,{"$f":"IFERROR(VLOOKUP(ExamQ[[#This Row],[Test Question Complexity]],#REF!,3),\"\")","v":""},{"$f":"IFERROR(INDEX(Input!$L$23:$L$192,MATCH(B138,Input!$A$23:$A$192,FALSE),1),\"\")","v":""},0,"","","","","","",{"$f":"IFERROR(INDEX(KSR,MATCH(1,(($T138=K1Out)*($U138=K2Out)*($V138=K3Out)*($W138=K4Out)*($X138=K5Out)*($Y138=K6Out)),0)),0)","v":0},0,"","","","","","","",{"$f":"IFERROR(INDEX(SSR,MATCH(1,((AB138=S1Out)*($AC138=S2Out)*($AD138=S3Out)*($AE138=S4Out)*($AF138=S5Out)*($AG138=S6Out)*($AH138=S7Out)),0)),0)","v":0},0,"","","","",{"$f":"IF(SUMPRODUCT(--ISNUMBER(SEARCH(AA_F,$G138)))>0,5,\"\")","v":""},{"$f":"IFERROR(INDEX(AASR,MATCH(1,(($AK138=AA1Out)*($AL138=AA2Out)*($AM138=AA3Out)*($AN138=AA4Out)*($AO138=AA5Out)),0)),0)","v":0},0,0,0,"BLANK"]
[138,null,{"$f":"IFERROR(INDEX(Input!$B$23:$B$192,MATCH(B139,Input!$A$23:$A$192,FALSE),1),\"\")","v":""},{"$f":"IFERROR(INDEX(Input!$C$23:$C$192,MATCH(B139,Input!$A$23:$A$192,FALSE),1),\"\")","v":""},{"$nulls":7},"",{"$f":"IFERROR(INDEX(Input!$F$23:$F$192,MATCH(B139,Input!$A$23:$A$192,FALSE),1),\"\")","v":""},"",{"$f":"IFERROR(INDEX(Input!$K$23:$K$192,MATCH(B139,Input!$A$23:$A$192,FALSE),1),\"\")","v":""},0,{"$f":"IFERROR(VLOOKUP(ExamQ[[#This Row],[Test Question Complexity]],#REF!,3),\"\")","v":""},{"$f":"IFERROR(INDEX(Input!$L$23:$L$192,MATCH(B139,Input!$A$23:$A$192,FALSE),1),\"\")","v":""},0,"","","","","","",{"$f":"IFERROR(INDEX(KSR,MATCH(1,(($T139=K1Out)*($U139=K2Out)*($V139=K3Out)*($W139=K4Out)*($X139=K5Out)*($Y139=K6Out)),0)),0)","v":0},0,"","","","","","","",{"$f":"IFERROR(INDEX(SSR,MATCH(1,((AB139=S1Out)*($AC139=S2Out)*($AD139=S3Out)*($AE139=S4Out)*($AF139=S5Out)*($AG139=S6Out)*($AH139=S7Out)),0)),0)","v":0},0,"","","","",{"$f":"IF(SUMPRODUCT(--ISNUMBER(SEARCH(AA_F,$G139)))>0,5,\"\")","v":""},{"$f":"IFERROR(INDEX(AASR,MATCH(1,(($AK139=AA1Out)*($AL139=AA2Out)*($AM139=AA3Out)*($AN139=AA4Out)*($AO139=AA5Out)),0)),0)","v":0},0,0,0,"BLANK"]
[139,null,{"$f":"IFERROR(INDEX(Input!$B$23:$B$192,MATCH(B140,Input!$A$23:$A$192,FALSE),1),\"\")","v":""},{"$f":"IFERROR(INDEX(Input!$C$23:$C$192,MATCH(B140,Input!$A$23:$A$192,FALSE),1),\"\")","v":""},{"$nulls":7},"",{"$f":"IFERROR(INDEX(Input!$F$23:$F$192,MATCH(B140,Input!$A$23:$A$192,FALSE),1),\"\")","v":""},"",{"$f":"IFERROR(INDEX(Input!$K$23:$K$192,MATCH(B140,Input!$A$23:$A$192,FALSE),1),\"\")","v":""},0,{"$f":"IFERROR(VLOOKUP(ExamQ[[#This Row],[Test Question Complexity]],#REF!,3),\"\")","v":""},{"$f":"IFERROR(INDEX(Input!$L$23:$L$192,MATCH(B140,Input!$A$23:$A$192,FALSE),1),\"\")","v":""},0,"","","","","","",{"$f":"IFERROR(INDEX(KSR,MATCH(1,(($T140=K1Out)*($U140=K2Out)*($V140=K3Out)*($W140=K4Out)*($X140=K5Out)*($Y140=K6Out)),0)),0)","v":0},0,"","","","","","","",{"$f":"IFERROR(INDEX(SSR,MATCH(1,((AB140=S1Out)*($AC140=S2Out)*($AD140=S3Out)*($AE140=S4Out)*($AF140=S5Out)*($AG140=S6Out)*($AH140=S7Out)),0)),0)","v":0},0,"","","","",{"$f":"IF(SUMPRODUCT(--ISNUMBER(SEARCH(AA_F,$G140)))>0,5,\"\")","v":""},{"$f":"IFERROR(INDEX(AASR,MATCH(1,(($AK140=AA1Out)*($AL140=AA2Out)*($AM140=AA3Out)*($AN140=AA4Out)*($AO140=AA5Out)),0)),0)","v":0},0,0,0,"BLANK"]
[140,null,{"$f":"IFERROR(INDEX(Input!$B$23:$B$192,MATCH(B141,Input!$A$23:$A$192,FALSE),1),\"\")","v":""},{"$f":"IFERROR(INDEX(Input!$C$23:$C$192,MATCH(B141,Input!$A$23:$A$192,FALSE),1),\"\")","v":""},{"$nulls":7},"",{"$f":"IFERROR(INDEX(Input!$F$23:$F$192,MATCH(B141,Input!$A$23:$A$192,FALSE),1),\"\")","v":""},"",{"$f":"IFERROR(INDEX(Input!$K$23:$K$192,MATCH(B141,Input!$A$23:$A$192,FALSE),1),\"\")","v":""},0,{"$f":"IFERROR(VLOOKUP(ExamQ[[#This Row],[Test Question Complexity]],#REF!,3),\"\")","v":""},{"$f":"IFERROR(INDEX(Input!$L$23:$L$192,MATCH(B141,Input!$A$23:$A$192,FALSE),1),\"\")","v":""},0,"","","","","","",{"$f":"IFERROR(INDEX(KSR,MATCH(1,(($T141=K1Out)*($U141=K2Out)*($V141=K3Out)*($W141=K4Out)*($X141=K5Out)*($Y141=K6Out)),0)),0)","v":0},0,"","","","","","","",{"$f":"IFERROR(INDEX(SSR,MATCH(1,((AB141=S1Out)*($AC141=S2Out)*($AD141=S3Out)*($AE141=S4Out)*($AF141=S5Out)*($AG141=S6Out)*($AH141=S7Out)),0)),0)","v":0},0,"","","","",{"$f":"IF(SUMPRODUCT(--ISNUMBER(SEARCH(AA_F,$G141)))>0,5,\"\")","v":""},{"$f":"IFERROR(INDEX(AASR,MATCH(1,(($AK141=AA1Out)*($AL141=AA2Out)*($AM141=AA3Out)*($AN141=AA4Out)*($AO141=AA5Out)),0)),0)","v":0},0,0,0,"BLANK"]
[141,null,{"$f":"IFERROR(INDEX(Input!$B$23:$B$192,MATCH(B142,Input!$A$23:$A$192,FALSE),1),\"\")","v":""},{"$f":"IFERROR(INDEX(Input!$C$23:$C$192,MATCH(B142,Input!$A$23:$A$192,FALSE),1),\"\")","v":""},{"$nulls":7},"",{"$f":"IFERROR(INDEX(Input!$F$23:$F$192,MATCH(B142,Input!$A$23:$A$192,FALSE),1),\"\")","v":""},"",{"$f":"IFERROR(INDEX(Input!$K$23:$K$192,MATCH(B142,Input!$A$23:$A$192,FALSE),1),\"\")","v":""},0,{"$f":"IFERROR(VLOOKUP(ExamQ[[#This Row],[Test Question Complexity]],#REF!,3),\"\")","v":""},{"$f":"IFERROR(INDEX(Input!$L$23:$L$192,MATCH(B142,Input!$A$23:$A$192,FALSE),1),\"\")","v":""},0,"","","","","","",{"$f":"IFERROR(INDEX(KSR,MATCH(1,(($T142=K1Out)*($U142=K2Out)*($V142=K3Out)*($W142=K4Out)*($X142=K5Out)*($Y142=K6Out)),0)),0)","v":0},0,"","","","","","","",{"$f":"IFERROR(INDEX(SSR,MATCH(1,((AB142=S1Out)*($AC142=S2Out)*($AD142=S3Out)*($AE142=S4Out)*($AF142=S5Out)*($AG142=S6Out)*($AH142=S7Out)),0)),0)","v":0},0,"","","","",{"$f":"IF(SUMPRODUCT(--ISNUMBER(SEARCH(AA_F,$G142)))>0,5,\"\")","v":""},{"$f":"IFERROR(INDEX(AASR,MATCH(1,(($AK142=AA1Out)*($AL142=AA2Out)*($AM142=AA3Out)*($AN142=AA4Out)*($AO142=AA5Out)),0)),0)","v":0},0,0,0,"BLANK"]
[142,null,{"$f":"IFERROR(INDEX(Input!$B$23:$B$192,MATCH(B143,Input!$A$23:$A$192,FALSE),1),\"\")","v":""},{"$f":"IFERROR(INDEX(Input!$C$23:$C$192,MATCH(B143,Input!$A$23:$A$192,FALSE),1),\"\")","v":""},{"$nulls":7},"",{"$f":"IFERROR(INDEX(Input!$F$23:$F$192,MATCH(B143,Input!$A$23:$A$192,FALSE),1),\"\")","v":""},"",{"$f":"IFERROR(INDEX(Input!$K$23:$K$192,MATCH(B143,Input!$A$23:$A$192,FALSE),1),\"\")","v":""},0,{"$f":"IFERROR(VLOOKUP(ExamQ[[#This Row],[Test Question Complexity]],#REF!,3),\"\")","v":""},{"$f":"IFERROR(INDEX(Input!$L$23:$L$192,MATCH(B143,Input!$A$23:$A$192,FALSE),1),\"\")","v":""},0,"","","","","","",{"$f":"IFERROR(INDEX(KSR,MATCH(1,(($T143=K1Out)*($U143=K2Out)*($V143=K3Out)*($W143=K4Out)*($X143=K5Out)*($Y143=K6Out)),0)),0)","v":0},0,"","","","","","","",{"$f":"IFERROR(INDEX(SSR,MATCH(1,((AB143=S1Out)*($AC143=S2Out)*($AD143=S3Out)*($AE143=S4Out)*($AF143=S5Out)*($AG143=S6Out)*($AH143=S7Out)),0)),0)","v":0},0,"","","","",{"$f":"IF(SUMPRODUCT(--ISNUMBER(SEARCH(AA_F,$G143)))>0,5,\"\")","v":""},{"$f":"IFERROR(INDEX(AASR,MATCH(1,(($AK143=AA1Out)*($AL143=AA2Out)*($AM143=AA3Out)*($AN143=AA4Out)*($AO143=AA5Out)),0)),0)","v":0},0,0,0,"BLANK"]
[143,null,{"$f":"IFERROR(INDEX(Input!$B$23:$B$192,MATCH(B144,Input!$A$23:$A$192,FALSE),1),\"\")","v":""},{"$f":"IFERROR(INDEX(Input!$C$23:$C$192,MATCH(B144,Input!$A$23:$A$192,FALSE),1),\"\")","v":""},{"$nulls":7},"",{"$f":"IFERROR(INDEX(Input!$F$23:$F$192,MATCH(B144,Input!$A$23:$A$192,FALSE),1),\"\")","v":""},"",{"$f":"IFERROR(INDEX(Input!$K$23:$K$192,MATCH(B144,Input!$A$23:$A$192,FALSE),1),\"\")","v":""},0,{"$f":"IFERROR(VLOOKUP(ExamQ[[#This Row],[Test Question Complexity]],#REF!,3),\"\")","v":""},{"$f":"IFERROR(INDEX(Input!$L$23:$L$192,MATCH(B144,Input!$A$23:$A$192,FALSE),1),\"\")","v":""},0,"","","","","","",{"$f":"IFERROR(INDEX(KSR,MATCH(1,(($T144=K1Out)*($U144=K2Out)*($V144=K3Out)*($W144=K4Out)*($X144=K5Out)*($Y144=K6Out)),0)),0)","v":0},0,"","","","","","","",{"$f":"IFERROR(INDEX(SSR,MATCH(1,((AB144=S1Out)*($AC144=S2Out)*($AD144=S3Out)*($AE144=S4Out)*($AF144=S5Out)*($AG144=S6Out)*($AH144=S7Out)),0)),0)","v":0},0,"","","","",{"$f":"IF(SUMPRODUCT(--ISNUMBER(SEARCH(AA_F,$G144)))>0,5,\"\")","v":""},{"$f":"IFERROR(INDEX(AASR,MATCH(1,(($AK144=AA1Out)*($AL144=AA2Out)*($AM144=AA3Out)*($AN144=AA4Out)*($AO144=AA5Out)),0)),0)","v":0},0,0,0,"BLANK"]
[144,null,{"$f":"IFERROR(INDEX(Input!$B$23:$B$192,MATCH(B145,Input!$A$23:$A$192,FALSE),1),\"\")","v":""},{"$f":"IFERROR(INDEX(Input!$C$23:$C$192,MATCH(B145,Input!$A$23:$A$192,FALSE),1),\"\")","v":""},{"$nulls":7},"",{"$f":"IFERROR(INDEX(Input!$F$23:$F$192,MATCH(B145,Input!$A$23:$A$192,FALSE),1),\"\")","v":""},"",{"$f":"IFERROR(INDEX(Input!$K$23:$K$192,MATCH(B145,Input!$A$23:$A$192,FALSE),1),\"\")","v":""},0,{"$f":"IFERROR(VLOOKUP(ExamQ[[#This Row],[Test Question Complexity]],#REF!,3),\"\")","v":""},{"$f":"IFERROR(INDEX(Input!$L$23:$L$192,MATCH(B145,Input!$A$23:$A$192,FALSE),1),\"\")","v":""},0,"","","","","","",{"$f":"IFERROR(INDEX(KSR,MATCH(1,(($T145=K1Out)*($U145=K2Out)*($V145=K3Out)*($W145=K4Out)*($X145=K5Out)*($Y145=K6Out)),0)),0)","v":0},0,"","","","","","","",{"$f":"IFERROR(INDEX(SSR,MATCH(1,((AB145=S1Out)*($AC145=S2Out)*($AD145=S3Out)*($AE145=S4Out)*($AF145=S5Out)*($AG145=S6Out)*($AH145=S7Out)),0)),0)","v":0},0,"","","","",{"$f":"IF(SUMPRODUCT(--ISNUMBER(SEARCH(AA_F,$G145)))>0,5,\"\")","v":""},{"$f":"IFERROR(INDEX(AASR,MATCH(1,(($AK145=AA1Out)*($AL145=AA2Out)*($AM145=AA3Out)*($AN145=AA4Out)*($AO145=AA5Out)),0)),0)","v":0},0,0,0,"BLANK"]
[145,null,{"$f":"IFERROR(INDEX(Input!$B$23:$B$192,MATCH(B146,Input!$A$23:$A$192,FALSE),1),\"\")","v":""},{"$f":"IFERROR(INDEX(Input!$C$23:$C$192,MATCH(B146,Input!$A$23:$A$192,FALSE),1),\"\")","v":""},{"$nulls":7},"",{"$f":"IFERROR(INDEX(Input!$F$23:$F$192,MATCH(B146,Input!$A$23:$A$192,FALSE),1),\"\")","v":""},"",{"$f":"IFERROR(INDEX(Input!$K$23:$K$192,MATCH(B146,Input!$A$23:$A$192,FALSE),1),\"\")","v":""},0,{"$f":"IFERROR(VLOOKUP(ExamQ[[#This Row],[Test Question Complexity]],#REF!,3),\"\")","v":""},{"$f":"IFERROR(INDEX(Input!$L$23:$L$192,MATCH(B146,Input!$A$23:$A$192,FALSE),1),\"\")","v":""},0,"","","","","","",{"$f":"IFERROR(INDEX(KSR,MATCH(1,(($T146=K1Out)*($U146=K2Out)*($V146=K3Out)*($W146=K4Out)*($X146=K5Out)*($Y146=K6Out)),0)),0)","v":0},0,"","","","","","","",{"$f":"IFERROR(INDEX(SSR,MATCH(1,((AB146=S1Out)*($AC146=S2Out)*($AD146=S3Out)*($AE146=S4Out)*($AF146=S5Out)*($AG146=S6Out)*($AH146=S7Out)),0)),0)","v":0},0,"","","","",{"$f":"IF(SUMPRODUCT(--ISNUMBER(SEARCH(AA_F,$G146)))>0,5,\"\")","v":""},{"$f":"IFERROR(INDEX(AASR,MATCH(1,(($AK146=AA1Out)*($AL146=AA2Out)*($AM146=AA3Out)*($AN146=AA4Out)*($AO146=AA5Out)),0)),0)","v":0},0,0,0,"BLANK"]
[146,null,{"$f":"IFERROR(INDEX(Input!$B$23:B337,MATCH(B147,Input!$A$23:$A$192,FALSE),1),\"\")","v":""},{"$f":"IFERROR(INDEX(Input!$C$23:$C$192,MATCH(B147,Input!$A$23:$A$192,FALSE),1),\"\")","v":""},{"$nulls":7},"",{"$f":"IFERROR(INDEX(Input!$F$23:$F$192,MATCH(B147,Input!$A$23:$A$192,FALSE),1),\"\")","v":""},"",{"$f":"IFERROR(INDEX(Input!$K$23:$K$192,MATCH(B147,Input!$A$23:$A$192,FALSE),1),\"\")","v":""},0,{"$f":"IFERROR(VLOOKUP(ExamQ[[#This Row],[Test Question Complexity]],#REF!,3),\"\")","v":""},{"$f":"IFERROR(INDEX(Input!$L$23:$L$192,MATCH(B147,Input!$A$23:$A$192,FALSE),1),\"\")","v":""},0,"","","","","","",{"$f":"IFERROR(INDEX(KSR,MATCH(1,(($T147=K1Out)*($U147=K2Out)*($V147=K3Out)*($W147=K4Out)*($X147=K5Out)*($Y147=K6Out)),0)),0)","v":0},0,"","","","","","","",{"$f":"IFERROR(INDEX(SSR,MATCH(1,((AB147=S1Out)*($AC147=S2Out)*($AD147=S3Out)*($AE147=S4Out)*($AF147=S5Out)*($AG147=S6Out)*($AH147=S7Out)),0)),0)","v":0},0,"","","","",{"$f":"IF(SUMPRODUCT(--ISNUMBER(SEARCH(AA_F,$G147)))>0,5,\"\")","v":""},{"$f":"IFERROR(INDEX(AASR,MATCH(1,(($AK147=AA1Out)*($AL147=AA2Out)*($AM147=AA3Out)*($AN147=AA4Out)*($AO147=AA5Out)),0)),0)","v":0},0,0,0,"BLANK"]
[147,null,{"$f":"IFERROR(INDEX(Input!$B$23:B338,MATCH(B148,Input!$A$23:$A$192,FALSE),1),\"\")","v":""},{"$f":"IFERROR(INDEX(Input!$C$23:$C$192,MATCH(B148,Input!$A$23:$A$192,FALSE),1),\"\")","v":""},{"$nulls":7},"",{"$f":"IFERROR(INDEX(Input!$F$23:$F$192,MATCH(B148,Input!$A$23:$A$192,FALSE),1),\"\")","v":""},"",{"$f":"IFERROR(INDEX(Input!$K$23:$K$192,MATCH(B148,Input!$A$23:$A$192,FALSE),1),\"\")","v":""},0,{"$f":"IFERROR(VLOOKUP(ExamQ[[#This Row],[Test Question Complexity]],#REF!,3),\"\")","v":""},{"$f":"IFERROR(INDEX(Input!$L$23:$L$192,MATCH(B148,Input!$A$23:$A$192,FALSE),1),\"\")","v":""},0,"","","","","","",{"$f":"IFERROR(INDEX(KSR,MATCH(1,(($T148=K1Out)*($U148=K2Out)*($V148=K3Out)*($W148=K4Out)*($X148=K5Out)*($Y148=K6Out)),0)),0)","v":0},0,"","","","","","","",{"$f":"IFERROR(INDEX(SSR,MATCH(1,((AB148=S1Out)*($AC148=S2Out)*($AD148=S3Out)*($AE148=S4Out)*($AF148=S5Out)*($AG148=S6Out)*($AH148=S7Out)),0)),0)","v":0},0,"","","","",{"$f":"IF(SUMPRODUCT(--ISNUMBER(SEARCH(AA_F,$G148)))>0,5,\"\")","v":""},{"$f":"IFERROR(INDEX(AASR,MATCH(1,(($AK148=AA1Out)*($AL148=AA2Out)*($AM148=AA3Out)*($AN148=AA4Out)*($AO148=AA5Out)),0)),0)","v":0},0,0,0,"BLANK"]
[148,null,{"$f":"IFERROR(INDEX(Input!$B$23:B339,MATCH(B149,Input!$A$23:$A$192,FALSE),1),\"\")","v":""},{"$f":"IFERROR(INDEX(Input!$C$23:$C$192,MATCH(B149,Input!$A$23:$A$192,FALSE),1),\"\")","v":""},{"$nulls":7},"",{"$f":"IFERROR(INDEX(Input!$F$23:$F$192,MATCH(B149,Input!$A$23:$A$192,FALSE),1),\"\")","v":""},"",{"$f":"IFERROR(INDEX(Input!$K$23:$K$192,MATCH(B149,Input!$A$23:$A$192,FALSE),1),\"\")","v":""},0,{"$f":"IFERROR(VLOOKUP(ExamQ[[#This Row],[Test Question Complexity]],#REF!,3),\"\")","v":""},{"$f":"IFERROR(INDEX(Input!$L$23:$L$192,MATCH(B149,Input!$A$23:$A$192,FALSE),1),\"\")","v":""},0,"","","","","","",{"$f":"IFERROR(INDEX(KSR,MATCH(1,(($T149=K1Out)*($U149=K2Out)*($V149=K3Out)*($W149=K4Out)*($X149=K5Out)*($Y149=K6Out)),0)),0)","v":0},0,"","","","","","","",{"$f":"IFERROR(INDEX(SSR,MATCH(1,((AB149=S1Out)*($AC149=S2Out)*($AD149=S3Out)*($AE149=S4Out)*($AF149=S5Out)*($AG149=S6Out)*($AH149=S7Out)),0)),0)","v":0},0,"","","","",{"$f":"IF(SUMPRODUCT(--ISNUMBER(SEARCH(AA_F,$G149)))>0,5,\"\")","v":""},{"$f":"IFERROR(INDEX(AASR,MATCH(1,(($AK149=AA1Out)*($AL149=AA2Out)*($AM149=AA3Out)*($AN149=AA4Out)*($AO149=AA5Out)),0)),0)","v":0},0,0,0,"BLANK"]
[149,null,{"$f":"IFERROR(INDEX(Input!$B$23:B340,MATCH(B150,Input!$A$23:$A$192,FALSE),1),\"\")","v":""},{"$f":"IFERROR(INDEX(Input!$C$23:$C$192,MATCH(B150,Input!$A$23:$A$192,FALSE),1),\"\")","v":""},{"$nulls":7},"",{"$f":"IFERROR(INDEX(Input!$F$23:$F$192,MATCH(B150,Input!$A$23:$A$192,FALSE),1),\"\")","v":""},"",{"$f":"IFERROR(INDEX(Input!$K$23:$K$192,MATCH(B150,Input!$A$23:$A$192,FALSE),1),\"\")","v":""},0,{"$f":"IFERROR(VLOOKUP(ExamQ[[#This Row],[Test Question Complexity]],#REF!,3),\"\")","v":""},{"$f":"IFERROR(INDEX(Input!$L$23:$L$192,MATCH(B150,Input!$A$23:$A$192,FALSE),1),\"\")","v":""},0,"","","","","","",{"$f":"IFERROR(INDEX(KSR,MATCH(1,(($T150=K1Out)*($U150=K2Out)*($V150=K3Out)*($W150=K4Out)*($X150=K5Out)*($Y150=K6Out)),0)),0)","v":0},0,"","","","","","","",{"$f":"IFERROR(INDEX(SSR,MATCH(1,((AB150=S1Out)*($AC150=S2Out)*($AD150=S3Out)*($AE150=S4Out)*($AF150=S5Out)*($AG150=S6Out)*($AH150=S7Out)),0)),0)","v":0},0,"","","","",{"$f":"IF(SUMPRODUCT(--ISNUMBER(SEARCH(AA_F,$G150)))>0,5,\"\")","v":""},{"$f":"IFERROR(INDEX(AASR,MATCH(1,(($AK150=AA1Out)*($AL150=AA2Out)*($AM150=AA3Out)*($AN150=AA4Out)*($AO150=AA5Out)),0)),0)","v":0},0,0,0,"BLANK"]
[150,null,{"$f":"IFERROR(INDEX(Input!$B$23:B341,MATCH(B151,Input!$A$23:$A$192,FALSE),1),\"\")","v":""},{"$f":"IFERROR(INDEX(Input!$C$23:$C$192,MATCH(B151,Input!$A$23:$A$192,FALSE),1),\"\")","v":""},{"$nulls":7},"",{"$f":"IFERROR(INDEX(Input!$F$23:$F$192,MATCH(B151,Input!$A$23:$A$192,FALSE),1),\"\")","v":""},"",{"$f":"IFERROR(INDEX(Input!$K$23:$K$192,MATCH(B151,Input!$A$23:$A$192,FALSE),1),\"\")","v":""},0,{"$f":"IFERROR(VLOOKUP(ExamQ[[#This Row],[Test Question Complexity]],#REF!,3),\"\")","v":""},{"$f":"IFERROR(INDEX(Input!$L$23:$L$192,MATCH(B151,Input!$A$23:$A$192,FALSE),1),\"\")","v":""},0,"","","","","","",{"$f":"IFERROR(INDEX(KSR,MATCH(1,(($T151=K1Out)*($U151=K2Out)*($V151=K3Out)*($W151=K4Out)*($X151=K5Out)*($Y151=K6Out)),0)),0)","v":0},0,"","","","","","","",{"$f":"IFERROR(INDEX(SSR,MATCH(1,((AB151=S1Out)*($AC151=S2Out)*($AD151=S3Out)*($AE151=S4Out)*($AF151=S5Out)*($AG151=S6Out)*($AH151=S7Out)),0)),0)","v":0},0,"","","","",{"$f":"IF(SUMPRODUCT(--ISNUMBER(SEARCH(AA_F,$G151)))>0,5,\"\")","v":""},{"$f":"IFERROR(INDEX(AASR,MATCH(1,(($AK151=AA1Out)*($AL151=AA2Out)*($AM151=AA3Out)*($AN151=AA4Out)*($AO151=AA5Out)),0)),0)","v":0},0,0,0,"BLANK"]
[151,null,{"$f":"IFERROR(INDEX(Input!$B$23:B342,MATCH(B152,Input!$A$23:$A$192,FALSE),1),\"\")","v":""},{"$f":"IFERROR(INDEX(Input!$C$23:$C$192,MATCH(B152,Input!$A$23:$A$192,FALSE),1),\"\")","v":""},{"$nulls":7},"",{"$f":"IFERROR(INDEX(Input!$F$23:$F$192,MATCH(B152,Input!$A$23:$A$192,FALSE),1),\"\")","v":""},"",{"$f":"IFERROR(INDEX(Input!$K$23:$K$192,MATCH(B152,Input!$A$23:$A$192,FALSE),1),\"\")","v":""},0,{"$f":"IFERROR(VLOOKUP(ExamQ[[#This Row],[Test Question Complexity]],#REF!,3),\"\")","v":""},{"$f":"IFERROR(INDEX(Input!$L$23:$L$192,MATCH(B152,Input!$A$23:$A$192,FALSE),1),\"\")","v":""},0,"","","","","","",{"$f":"IFERROR(INDEX(KSR,MATCH(1,(($T152=K1Out)*($U152=K2Out)*($V152=K3Out)*($W152=K4Out)*($X152=K5Out)*($Y152=K6Out)),0)),0)","v":0},0,"","","","","","","",{"$f":"IFERROR(INDEX(SSR,MATCH(1,((AB152=S1Out)*($AC152=S2Out)*($AD152=S3Out)*($AE152=S4Out)*($AF152=S5Out)*($AG152=S6Out)*($AH152=S7Out)),0)),0)","v":0},0,"","","","",{"$f":"IF(SUMPRODUCT(--ISNUMBER(SEARCH(AA_F,$G152)))>0,5,\"\")","v":""},{"$f":"IFERROR(INDEX(AASR,MATCH(1,(($AK152=AA1Out)*($AL152=AA2Out)*($AM152=AA3Out)*($AN152=AA4Out)*($AO152=AA5Out)),0)),0)","v":0},0,0,0,"BLANK"]
[152,null,{"$f":"IFERROR(INDEX(Input!$B$23:B343,MATCH(B153,Input!$A$23:$A$192,FALSE),1),\"\")","v":""},{"$f":"IFERROR(INDEX(Input!$C$23:$C$192,MATCH(B153,Input!$A$23:$A$192,FALSE),1),\"\")","v":""},{"$nulls":7},"",{"$f":"IFERROR(INDEX(Input!$F$23:$F$192,MATCH(B153,Input!$A$23:$A$192,FALSE),1),\"\")","v":""},"",{"$f":"IFERROR(INDEX(Input!$K$23:$K$192,MATCH(B153,Input!$A$23:$A$192,FALSE),1),\"\")","v":""},0,{"$f":"IFERROR(VLOOKUP(ExamQ[[#This Row],[Test Question Complexity]],#REF!,3),\"\")","v":""},{"$f":"IFERROR(INDEX(Input!$L$23:$L$192,MATCH(B153,Input!$A$23:$A$192,FALSE),1),\"\")","v":""},0,"","","","","","",{"$f":"IFERROR(INDEX(KSR,MATCH(1,(($T153=K1Out)*($U153=K2Out)*($V153=K3Out)*($W153=K4Out)*($X153=K5Out)*($Y153=K6Out)),0)),0)","v":0},0,"","","","","","","",{"$f":"IFERROR(INDEX(SSR,MATCH(1,((AB153=S1Out)*($AC153=S2Out)*($AD153=S3Out)*($AE153=S4Out)*($AF153=S5Out)*($AG153=S6Out)*($AH153=S7Out)),0)),0)","v":0},0,"","","","",{"$f":"IF(SUMPRODUCT(--ISNUMBER(SEARCH(AA_F,$G153)))>0,5,\"\")","v":""},{"$f":"IFERROR(INDEX(AASR,MATCH(1,(($AK153=AA1Out)*($AL153=AA2Out)*($AM153=AA3Out)*($AN153=AA4Out)*($AO153=AA5Out)),0)),0)","v":0},0,0,0,"BLANK"]
[153,null,{"$f":"IFERROR(INDEX(Input!$B$23:B344,MATCH(B154,Input!$A$23:$A$192,FALSE),1),\"\")","v":""},{"$f":"IFERROR(INDEX(Input!$C$23:$C$192,MATCH(B154,Input!$A$23:$A$192,FALSE),1),\"\")","v":""},{"$nulls":7},"",{"$f":"IFERROR(INDEX(Input!$F$23:$F$192,MATCH(B154,Input!$A$23:$A$192,FALSE),1),\"\")","v":""},"",{"$f":"IFERROR(INDEX(Input!$K$23:$K$192,MATCH(B154,Input!$A$23:$A$192,FALSE),1),\"\")","v":""},0,{"$f":"IFERROR(VLOOKUP(ExamQ[[#This Row],[Test Question Complexity]],#REF!,3),\"\")","v":""},{"$f":"IFERROR(INDEX(Input!$L$23:$L$192,MATCH(B154,Input!$A$23:$A$192,FALSE),1),\"\")","v":""},0,"","","","","","",{"$f":"IFERROR(INDEX(KSR,MATCH(1,(($T154=K1Out)*($U154=K2Out)*($V154=K3Out)*($W154=K4Out)*($X154=K5Out)*($Y154=K6Out)),0)),0)","v":0},0,"","","","","","","",{"$f":"IFERROR(INDEX(SSR,MATCH(1,((AB154=S1Out)*($AC154=S2Out)*($AD154=S3Out)*($AE154=S4Out)*($AF154=S5Out)*($AG154=S6Out)*($AH154=S7Out)),0)),0)","v":0},0,"","","","",{"$f":"IF(SUMPRODUCT(--ISNUMBER(SEARCH(AA_F,$G154)))>0,5,\"\")","v":""},{"$f":"IFERROR(INDEX(AASR,MATCH(1,(($AK154=AA1Out)*($AL154=AA2Out)*($AM154=AA3Out)*($AN154=AA4Out)*($AO154=AA5Out)),0)),0)","v":0},0,0,0,"BLANK"]
[154,null,{"$f":"IFERROR(INDEX(Input!$B$23:B345,MATCH(B155,Input!$A$23:$A$192,FALSE),1),\"\")","v":""},{"$f":"IFERROR(INDEX(Input!$C$23:$C$192,MATCH(B155,Input!$A$23:$A$192,FALSE),1),\"\")","v":""},{"$nulls":7},"",{"$f":"IFERROR(INDEX(Input!$F$23:$F$192,MATCH(B155,Input!$A$23:$A$192,FALSE),1),\"\")","v":""},"",{"$f":"IFERROR(INDEX(Input!$K$23:$K$192,MATCH(B155,Input!$A$23:$A$192,FALSE),1),\"\")","v":""},0,{"$f":"IFERROR(VLOOKUP(ExamQ[[#This Row],[Test Question Complexity]],#REF!,3),\"\")","v":""},{"$f":"IFERROR(INDEX(Input!$L$23:$L$192,MATCH(B155,Input!$A$23:$A$192,FALSE),1),\"\")","v":""},0,"","","","","","",{"$f":"IFERROR(INDEX(KSR,MATCH(1,(($T155=K1Out)*($U155=K2Out)*($V155=K3Out)*($W155=K4Out)*($X155=K5Out)*($Y155=K6Out)),0)),0)","v":0},0,"","","","","","","",{"$f":"IFERROR(INDEX(SSR,MATCH(1,((AB155=S1Out)*($AC155=S2Out)*($AD155=S3Out)*($AE155=S4Out)*($AF155=S5Out)*($AG155=S6Out)*($AH155=S7Out)),0)),0)","v":0},0,"","","","",{"$f":"IF(SUMPRODUCT(--ISNUMBER(SEARCH(AA_F,$G155)))>0,5,\"\")","v":""},{"$f":"IFERROR(INDEX(AASR,MATCH(1,(($AK155=AA1Out)*($AL155=AA2Out)*($AM155=AA3Out)*($AN155=AA4Out)*($AO155=AA5Out)),0)),0)","v":0},0,0,0,"BLANK"]
[155,null,{"$f":"IFERROR(INDEX(Input!$B$23:B346,MATCH(B156,Input!$A$23:$A$192,FALSE),1),\"\")","v":""},{"$f":"IFERROR(INDEX(Input!$C$23:$C$192,MATCH(B156,Input!$A$23:$A$192,FALSE),1),\"\")","v":""},{"$nulls":7},"",{"$f":"IFERROR(INDEX(Input!$F$23:$F$192,MATCH(B156,Input!$A$23:$A$192,FALSE),1),\"\")","v":""},"",{"$f":"IFERROR(INDEX(Input!$K$23:$K$192,MATCH(B156,Input!$A$23:$A$192,FALSE),1),\"\")","v":""},0,{"$f":"IFERROR(VLOOKUP(ExamQ[[#This Row],[Test Question Complexity]],#REF!,3),\"\")","v":""},{"$f":"IFERROR(INDEX(Input!$L$23:$L$192,MATCH(B156,Input!$A$23:$A$192,FALSE),1),\"\")","v":""},0,"","","","","","",{"$f":"IFERROR(INDEX(KSR,MATCH(1,(($T156=K1Out)*($U156=K2Out)*($V156=K3Out)*($W156=K4Out)*($X156=K5Out)*($Y156=K6Out)),0)),0)","v":0},0,"","","","","","","",{"$f":"IFERROR(INDEX(SSR,MATCH(1,((AB156=S1Out)*($AC156=S2Out)*($AD156=S3Out)*($AE156=S4Out)*($AF156=S5Out)*($AG156=S6Out)*($AH156=S7Out)),0)),0)","v":0},0,"","","","",{"$f":"IF(SUMPRODUCT(--ISNUMBER(SEARCH(AA_F,$G156)))>0,5,\"\")","v":""},{"$f":"IFERROR(INDEX(AASR,MATCH(1,(($AK156=AA1Out)*($AL156=AA2Out)*($AM156=AA3Out)*($AN156=AA4Out)*($AO156=AA5Out)),0)),0)","v":0},0,0,0,"BLANK"]
[156,null,{"$f":"IFERROR(INDEX(Input!$B$23:B347,MATCH(B157,Input!$A$23:$A$192,FALSE),1),\"\")","v":""},{"$f":"IFERROR(INDEX(Input!$C$23:$C$192,MATCH(B157,Input!$A$23:$A$192,FALSE),1),\"\")","v":""},{"$nulls":7},"",{"$f":"IFERROR(INDEX(Input!$F$23:$F$192,MATCH(B157,Input!$A$23:$A$192,FALSE),1),\"\")","v":""},"",{"$f":"IFERROR(INDEX(Input!$K$23:$K$192,MATCH(B157,Input!$A$23:$A$192,FALSE),1),\"\")","v":""},0,{"$f":"IFERROR(VLOOKUP(ExamQ[[#This Row],[Test Question Complexity]],#REF!,3),\"\")","v":""},{"$f":"IFERROR(INDEX(Input!$L$23:$L$192,MATCH(B157,Input!$A$23:$A$192,FALSE),1),\"\")","v":""},0,"","","","","","",{"$f":"IFERROR(INDEX(KSR,MATCH(1,(($T157=K1Out)*($U157=K2Out)*($V157=K3Out)*($W157=K4Out)*($X157=K5Out)*($Y157=K6Out)),0)),0)","v":0},0,"","","","","","","",{"$f":"IFERROR(INDEX(SSR,MATCH(1,((AB157=S1Out)*($AC157=S2Out)*($AD157=S3Out)*($AE157=S4Out)*($AF157=S5Out)*($AG157=S6Out)*($AH157=S7Out)),0)),0)","v":0},0,"","","","",{"$f":"IF(SUMPRODUCT(--ISNUMBER(SEARCH(AA_F,$G157)))>0,5,\"\")","v":""},{"$f":"IFERROR(INDEX(AASR,MATCH(1,(($AK157=AA1Out)*($AL157=AA2Out)*($AM157=AA3Out)*($AN157=AA4Out)*($AO157=AA5Out)),0)),0)","v":0},0,0,0,"BLANK"]
[157,null,{"$f":"IFERROR(INDEX(Input!$B$23:B348,MATCH(B158,Input!$A$23:$A$192,FALSE),1),\"\")","v":""},{"$f":"IFERROR(INDEX(Input!$C$23:$C$192,MATCH(B158,Input!$A$23:$A$192,FALSE),1),\"\")","v":""},{"$nulls":7},"",{"$f":"IFERROR(INDEX(Input!$F$23:$F$192,MATCH(B158,Input!$A$23:$A$192,FALSE),1),\"\")","v":""},"",{"$f":"IFERROR(INDEX(Input!$K$23:$K$192,MATCH(B158,Input!$A$23:$A$192,FALSE),1),\"\")","v":""},0,{"$f":"IFERROR(VLOOKUP(ExamQ[[#This Row],[Test Question Complexity]],#REF!,3),\"\")","v":""},{"$f":"IFERROR(INDEX(Input!$L$23:$L$192,MATCH(B158,Input!$A$23:$A$192,FALSE),1),\"\")","v":""},0,"","","","","","",{"$f":"IFERROR(INDEX(KSR,MATCH(1,(($T158=K1Out)*($U158=K2Out)*($V158=K3Out)*($W158=K4Out)*($X158=K5Out)*($Y158=K6Out)),0)),0)","v":0},0,"","","","","","","",{"$f":"IFERROR(INDEX(SSR,MATCH(1,((AB158=S1Out)*($AC158=S2Out)*($AD158=S3Out)*($AE158=S4Out)*($AF158=S5Out)*($AG158=S6Out)*($AH158=S7Out)),0)),0)","v":0},0,"","","","",{"$f":"IF(SUMPRODUCT(--ISNUMBER(SEARCH(AA_F,$G158)))>0,5,\"\")","v":""},{"$f":"IFERROR(INDEX(AASR,MATCH(1,(($AK158=AA1Out)*($AL158=AA2Out)*($AM158=AA3Out)*($AN158=AA4Out)*($AO158=AA5Out)),0)),0)","v":0},0,0,0,"BLANK"]
[158,null,{"$f":"IFERROR(INDEX(Input!$B$23:B349,MATCH(B159,Input!$A$23:$A$192,FALSE),1),\"\")","v":""},{"$f":"IFERROR(INDEX(Input!$C$23:$C$192,MATCH(B159,Input!$A$23:$A$192,FALSE),1),\"\")","v":""},{"$nulls":7},"",{"$f":"IFERROR(INDEX(Input!$F$23:$F$192,MATCH(B159,Input!$A$23:$A$192,FALSE),1),\"\")","v":""},"",{"$f":"IFERROR(INDEX(Input!$K$23:$K$192,MATCH(B159,Input!$A$23:$A$192,FALSE),1),\"\")","v":""},0,{"$f":"IFERROR(VLOOKUP(ExamQ[[#This Row],[Test Question Complexity]],#REF!,3),\"\")","v":""},{"$f":"IFERROR(INDEX(Input!$L$23:$L$192,MATCH(B159,Input!$A$23:$A$192,FALSE),1),\"\")","v":""},0,"","","","","","",{"$f":"IFERROR(INDEX(KSR,MATCH(1,(($T159=K1Out)*($U159=K2Out)*($V159=K3Out)*($W159=K4Out)*($X159=K5Out)*($Y159=K6Out)),0)),0)","v":0},0,"","","","","","","",{"$f":"IFERROR(INDEX(SSR,MATCH(1,((AB159=S1Out)*($AC159=S2Out)*($AD159=S3Out)*($AE159=S4Out)*($AF159=S5Out)*($AG159=S6Out)*($AH159=S7Out)),0)),0)","v":0},0,"","","","",{"$f":"IF(SUMPRODUCT(--ISNUMBER(SEARCH(AA_F,$G159)))>0,5,\"\")","v":""},{"$f":"IFERROR(INDEX(AASR,MATCH(1,(($AK159=AA1Out)*($AL159=AA2Out)*($AM159=AA3Out)*($AN159=AA4Out)*($AO159=AA5Out)),0)),0)","v":0},0,0,0,"BLANK"]
[159,null,{"$f":"IFERROR(INDEX(Input!$B$23:B350,MATCH(B160,Input!$A$23:$A$192,FALSE),1),\"\")","v":""},{"$f":"IFERROR(INDEX(Input!$C$23:$C$192,MATCH(B160,Input!$A$23:$A$192,FALSE),1),\"\")","v":""},{"$nulls":7},"",{"$f":"IFERROR(INDEX(Input!$F$23:$F$192,MATCH(B160,Input!$A$23:$A$192,FALSE),1),\"\")","v":""},"",{"$f":"IFERROR(INDEX(Input!$K$23:$K$192,MATCH(B160,Input!$A$23:$A$192,FALSE),1),\"\")","v":""},0,{"$f":"IFERROR(VLOOKUP(ExamQ[[#This Row],[Test Question Complexity]],#REF!,3),\"\")","v":""},{"$f":"IFERROR(INDEX(Input!$L$23:$L$192,MATCH(B160,Input!$A$23:$A$192,FALSE),1),\"\")","v":""},0,"","","","","","",{"$f":"IFERROR(INDEX(KSR,MATCH(1,(($T160=K1Out)*($U160=K2Out)*($V160=K3Out)*($W160=K4Out)*($X160=K5Out)*($Y160=K6Out)),0)),0)","v":0},0,"","","","","","","",{"$f":"IFERROR(INDEX(SSR,MATCH(1,((AB160=S1Out)*($AC160=S2Out)*($AD160=S3Out)*($AE160=S4Out)*($AF160=S5Out)*($AG160=S6Out)*($AH160=S7Out)),0)),0)","v":0},0,"","","","",{"$f":"IF(SUMPRODUCT(--ISNUMBER(SEARCH(AA_F,$G160)))>0,5,\"\")","v":""},{"$f":"IFERROR(INDEX(AASR,MATCH(1,(($AK160=AA1Out)*($AL160=AA2Out)*($AM160=AA3Out)*($AN160=AA4Out)*($AO160=AA5Out)),0)),0)","v":0},0,0,0,"BLANK"]
[160,null,{"$f":"IFERROR(INDEX(Input!$B$23:B351,MATCH(B161,Input!$A$23:$A$192,FALSE),1),\"\")","v":""},{"$f":"IFERROR(INDEX(Input!$C$23:$C$192,MATCH(B161,Input!$A$23:$A$192,FALSE),1),\"\")","v":""},{"$nulls":7},"",{"$f":"IFERROR(INDEX(Input!$F$23:$F$192,MATCH(B161,Input!$A$23:$A$192,FALSE),1),\"\")","v":""},"",{"$f":"IFERROR(INDEX(Input!$K$23:$K$192,MATCH(B161,Input!$A$23:$A$192,FALSE),1),\"\")","v":""},0,{"$f":"IFERROR(VLOOKUP(ExamQ[[#This Row],[Test Question Complexity]],#REF!,3),\"\")","v":""},{"$f":"IFERROR(INDEX(Input!$L$23:$L$192,MATCH(B161,Input!$A$23:$A$192,FALSE),1),\"\")","v":""},0,"","","","","","",{"$f":"IFERROR(INDEX(KSR,MATCH(1,(($T161=K1Out)*($U161=K2Out)*($V161=K3Out)*($W161=K4Out)*($X161=K5Out)*($Y161=K6Out)),0)),0)","v":0},0,"","","","","","","",{"$f":"IFERROR(INDEX(SSR,MATCH(1,((AB161=S1Out)*($AC161=S2Out)*($AD161=S3Out)*($AE161=S4Out)*($AF161=S5Out)*($AG161=S6Out)*($AH161=S7Out)),0)),0)","v":0},0,"","","","",{"$f":"IF(SUMPRODUCT(--ISNUMBER(SEARCH(AA_F,$G161)))>0,5,\"\")","v":""},{"$f":"IFERROR(INDEX(AASR,MATCH(1,(($AK161=AA1Out)*($AL161=AA2Out)*($AM161=AA3Out)*($AN161=AA4Out)*($AO161=AA5Out)),0)),0)","v":0},0,0,0,"BLANK"]
[161,null,{"$f":"IFERROR(INDEX(Input!$B$23:B352,MATCH(B162,Input!$A$23:$A$192,FALSE),1),\"\")","v":""},{"$f":"IFERROR(INDEX(Input!$C$23:$C$192,MATCH(B162,Input!$A$23:$A$192,FALSE),1),\"\")","v":""},{"$nulls":7},{"$f":"IF(B162<>\"\",SUM(I162:K162),\"\")","v":""},{"$f":"IFERROR(INDEX(Input!$F$23:$F$192,MATCH(B162,Input!$A$23:$A$192,FALSE),1),\"\")","v":""},{"$f":"IFERROR(L162*M162,\"\")","v":""},{"$f":"IFERROR(INDEX(Input!$K$23:$K$192,MATCH(B162,Input!$A$23:$A$192,FALSE),1),\"\")","v":""},{"$f":"IF(N162>O162,1,0)","v":0},{"$f":"IFERROR(VLOOKUP(ExamQ[[#This Row],[Test Question Complexity]],#REF!,3),\"\")","v":""},{"$f":"IFERROR(INDEX(Input!$L$23:$L$192,MATCH(B162,Input!$A$23:$A$192,FALSE),1),\"\")","v":""},0,{"$f":"IF(SUMPRODUCT(--ISNUMBER(SEARCH(K_A,$G162)))>0,1,\"\")","v":""},{"$f":"IF(SUMPRODUCT(--ISNUMBER(SEARCH(K_B,$G162)))>0,2,\"\")","v":""},{"$f":"IF(SUMPRODUCT(--ISNUMBER(SEARCH(K_C,$G162)))>0,3,\"\")","v":""},{"$f":"IF(SUMPRODUCT(--ISNUMBER(SEARCH(K_D,$G162)))>0,4,\"\")","v":""},{"$f":"IF(SUMPRODUCT(--ISNUMBER(SEARCH(K_E,$G162)))>0,5,\"\")","v":""},{"$f":"IF(SUMPRODUCT(--ISNUMBER(SEARCH(K_F,$G162)))>0,6,\"\")","v":""},{"$f":"IFERROR(INDEX(KSR,MATCH(1,(($T162=K1Out)*($U162=K2Out)*($V162=K3Out)*($W162=K4Out)*($X162=K5Out)*($Y162=K6Out)),0)),0)","v":0},0,{"$f":"IF(SUMPRODUCT(--ISNUMBER(SEARCH(S_A,$G162)))>0,1,\"\")","v":""},{"$f":"IF(SUMPRODUCT(--ISNUMBER(SEARCH(S_B,$G162)))>0, 2,\"\")","v":""},{"$f":"IF(SUMPRODUCT(--ISNUMBER(SEARCH(S_C,$G162)))>0,3,\"\")","v":""},{"$f":"IF(SUMPRODUCT(--ISNUMBER(SEARCH(S_D,$G162)))>0,4,\"\")","v":""},{"$f":"IF(SUMPRODUCT(--ISNUMBER(SEARCH(S_E,$G162)))>0,5,\"\")","v":""},{"$f":"IF(SUMPRODUCT(--ISNUMBER(SEARCH(S_F,$G162)))>0,6,\"\")","v":""},{"$f":"IF(SUMPRODUCT(--ISNUMBER(SEARCH(S_G,$G162)))>0,7,\"\")","v":""},{"$f":"IFERROR(INDEX(SSR,MATCH(1,((AB162=S1Out)*($AC162=S2Out)*($AD162=S3Out)*($AE162=S4Out)*($AF162=S5Out)*($AG162=S6Out)*($AH162=S7Out)),0)),0)","v":0},0,{"$f":"IF(SUMPRODUCT(--ISNUMBER(SEARCH(AA_A,$G162)))>0,1,\"\")","v":""},{"$f":"IF(SUMPRODUCT(--ISNUMBER(SEARCH(AA_B,$G162)))>0,2,\"\")","v":""},{"$f":"IF(SUMPRODUCT(--ISNUMBER(SEARCH(AA_C,$G162)))>0,3,\"\")","v":""},{"$f":"IF(SUMPRODUCT(--ISNUMBER(SEARCH(AA_D,$G162)))>0,4,\"\")","v":""},{"$f":"IF(SUMPRODUCT(--ISNUMBER(SEARCH(AA_F,$G162)))>0,5,\"\")","v":""},{"$f":"IFERROR(INDEX(AASR,MATCH(1,(($AK162=AA1Out)*($AL162=AA2Out)*($AM162=AA3Out)*($AN162=AA4Out)*($AO162=AA5Out)),0)),0)","v":0},0,0,0,"BLANK"]
[162,null,{"$f":"IFERROR(INDEX(Input!$B$23:B353,MATCH(B163,Input!$A$23:$A$192,FALSE),1),\"\")","v":""},{"$f":"IFERROR(INDEX(Input!$C$23:$C$192,MATCH(B163,Input!$A$23:$A$192,FALSE),1),\"\")","v":""},{"$nulls":7},"",{"$f":"IFERROR(INDEX(Input!$F$23:$F$192,MATCH(B163,Input!$A$23:$A$192,FALSE),1),\"\")","v":""},"",{"$f":"IFERROR(INDEX(Input!$K$23:$K$192,MATCH(B163,Input!$A$23:$A$192,FALSE),1),\"\")","v":""},0,{"$f":"IFERROR(VLOOKUP(ExamQ[[#This Row],[Test Question Complexity]],#REF!,3),\"\")","v":""},{"$f":"IFERROR(INDEX(Input!$L$23:$L$192,MATCH(B163,Input!$A$23:$A$192,FALSE),1),\"\")","v":""},0,"","","","","","",{"$f":"IFERROR(INDEX(KSR,MATCH(1,(($T163=K1Out)*($U163=K2Out)*($V163=K3Out)*($W163=K4Out)*($X163=K5Out)*($Y163=K6Out)),0)),0)","v":0},0,"","","","","","","",{"$f":"IFERROR(INDEX(SSR,MATCH(1,((AB163=S1Out)*($AC163=S2Out)*($AD163=S3Out)*($AE163=S4Out)*($AF163=S5Out)*($AG163=S6Out)*($AH163=S7Out)),0)),0)","v":0},0,"","","","",{"$f":"IF(SUMPRODUCT(--ISNUMBER(SEARCH(AA_F,$G163)))>0,5,\"\")","v":""},{"$f":"IFERROR(INDEX(AASR,MATCH(1,(($AK163=AA1Out)*($AL163=AA2Out)*($AM163=AA3Out)*($AN163=AA4Out)*($AO163=AA5Out)),0)),0)","v":0},0,0,0,"BLANK"]
[163,null,{"$f":"IFERROR(INDEX(Input!$B$23:B354,MATCH(B164,Input!$A$23:$A$192,FALSE),1),\"\")","v":""},{"$f":"IFERROR(INDEX(Input!$C$23:$C$192,MATCH(B164,Input!$A$23:$A$192,FALSE),1),\"\")","v":""},{"$nulls":7},"",{"$f":"IFERROR(INDEX(Input!$F$23:$F$192,MATCH(B164,Input!$A$23:$A$192,FALSE),1),\"\")","v":""},"",{"$f":"IFERROR(INDEX(Input!$K$23:$K$192,MATCH(B164,Input!$A$23:$A$192,FALSE),1),\"\")","v":""},0,{"$f":"IFERROR(VLOOKUP(ExamQ[[#This Row],[Test Question Complexity]],#REF!,3),\"\")","v":""},{"$f":"IFERROR(INDEX(Input!$L$23:$L$192,MATCH(B164,Input!$A$23:$A$192,FALSE),1),\"\")","v":""},0,"","","","","","",{"$f":"IFERROR(INDEX(KSR,MATCH(1,(($T164=K1Out)*($U164=K2Out)*($V164=K3Out)*($W164=K4Out)*($X164=K5Out)*($Y164=K6Out)),0)),0)","v":0},0,"","","","","","","",{"$f":"IFERROR(INDEX(SSR,MATCH(1,((AB164=S1Out)*($AC164=S2Out)*($AD164=S3Out)*($AE164=S4Out)*($AF164=S5Out)*($AG164=S6Out)*($AH164=S7Out)),0)),0)","v":0},0,"","","","",{"$f":"IF(SUMPRODUCT(--ISNUMBER(SEARCH(AA_F,$G164)))>0,5,\"\")","v":""},{"$f":"IFERROR(INDEX(AASR,MATCH(1,(($AK164=AA1Out)*($AL164=AA2Out)*($AM164=AA3Out)*($AN164=AA4Out)*($AO164=AA5Out)),0)),0)","v":0},0,0,0,"BLANK"]
[164,null,{"$f":"IFERROR(INDEX(Input!$B$23:B355,MATCH(B165,Input!$A$23:$A$192,FALSE),1),\"\")","v":""},{"$f":"IFERROR(INDEX(Input!$C$23:$C$192,MATCH(B165,Input!$A$23:$A$192,FALSE),1),\"\")","v":""},{"$nulls":7},"",{"$f":"IFERROR(INDEX(Input!$F$23:$F$192,MATCH(B165,Input!$A$23:$A$192,FALSE),1),\"\")","v":""},"",{"$f":"IFERROR(INDEX(Input!$K$23:$K$192,MATCH(B165,Input!$A$23:$A$192,FALSE),1),\"\")","v":""},0,{"$f":"IFERROR(VLOOKUP(ExamQ[[#This Row],[Test Question Complexity]],#REF!,3),\"\")","v":""},{"$f":"IFERROR(INDEX(Input!$L$23:$L$192,MATCH(B165,Input!$A$23:$A$192,FALSE),1),\"\")","v":""},0,"","","","","","",{"$f":"IFERROR(INDEX(KSR,MATCH(1,(($T165=K1Out)*($U165=K2Out)*($V165=K3Out)*($W165=K4Out)*($X165=K5Out)*($Y165=K6Out)),0)),0)","v":0},0,"","","","","","","",{"$f":"IFERROR(INDEX(SSR,MATCH(1,((AB165=S1Out)*($AC165=S2Out)*($AD165=S3Out)*($AE165=S4Out)*($AF165=S5Out)*($AG165=S6Out)*($AH165=S7Out)),0)),0)","v":0},0,"","","","",{"$f":"IF(SUMPRODUCT(--ISNUMBER(SEARCH(AA_F,$G165)))>0,5,\"\")","v":""},{"$f":"IFERROR(INDEX(AASR,MATCH(1,(($AK165=AA1Out)*($AL165=AA2Out)*($AM165=AA3Out)*($AN165=AA4Out)*($AO165=AA5Out)),0)),0)","v":0},0,0,0,"BLANK"]
[165,null,{"$f":"IFERROR(INDEX(Input!$B$23:B356,MATCH(B166,Input!$A$23:$A$192,FALSE),1),\"\")","v":""},{"$f":"IFERROR(INDEX(Input!$C$23:$C$192,MATCH(B166,Input!$A$23:$A$192,FALSE),1),\"\")","v":""},{"$nulls":7},"",{"$f":"IFERROR(INDEX(Input!$F$23:$F$192,MATCH(B166,Input!$A$23:$A$192,FALSE),1),\"\")","v":""},"",{"$f":"IFERROR(INDEX(Input!$K$23:$K$192,MATCH(B166,Input!$A$23:$A$192,FALSE),1),\"\")","v":""},0,{"$f":"IFERROR(VLOOKUP(ExamQ[[#This Row],[Test Question Complexity]],#REF!,3),\"\")","v":""},{"$f":"IFERROR(INDEX(Input!$L$23:$L$192,MATCH(B166,Input!$A$23:$A$192,FALSE),1),\"\")","v":""},0,"","","","","","",{"$f":"IFERROR(INDEX(KSR,MATCH(1,(($T166=K1Out)*($U166=K2Out)*($V166=K3Out)*($W166=K4Out)*($X166=K5Out)*($Y166=K6Out)),0)),0)","v":0},0,"","","","","","","",{"$f":"IFERROR(INDEX(SSR,MATCH(1,((AB166=S1Out)*($AC166=S2Out)*($AD166=S3Out)*($AE166=S4Out)*($AF166=S5Out)*($AG166=S6Out)*($AH166=S7Out)),0)),0)","v":0},0,"","","","",{"$f":"IF(SUMPRODUCT(--ISNUMBER(SEARCH(AA_F,$G166)))>0,5,\"\")","v":""},{"$f":"IFERROR(INDEX(AASR,MATCH(1,(($AK166=AA1Out)*($AL166=AA2Out)*($AM166=AA3Out)*($AN166=AA4Out)*($AO166=AA5Out)),0)),0)","v":0},0,0,0,"BLANK"]
[166,null,{"$f":"IFERROR(INDEX(Input!$B$23:B357,MATCH(B167,Input!$A$23:$A$192,FALSE),1),\"\")","v":""},{"$f":"IFERROR(INDEX(Input!$C$23:$C$192,MATCH(B167,Input!$A$23:$A$192,FALSE),1),\"\")","v":""},{"$nulls":7},"",{"$f":"IFERROR(INDEX(Input!$F$23:$F$192,MATCH(B167,Input!$A$23:$A$192,FALSE),1),\"\")","v":""},"",{"$f":"IFERROR(INDEX(Input!$K$23:$K$192,MATCH(B167,Input!$A$23:$A$192,FALSE),1),\"\")","v":""},0,{"$f":"IFERROR(VLOOKUP(ExamQ[[#This Row],[Test Question Complexity]],#REF!,3),\"\")","v":""},{"$f":"IFERROR(INDEX(Input!$L$23:$L$192,MATCH(B167,Input!$A$23:$A$192,FALSE),1),\"\")","v":""},0,"","","","","","",{"$f":"IFERROR(INDEX(KSR,MATCH(1,(($T167=K1Out)*($U167=K2Out)*($V167=K3Out)*($W167=K4Out)*($X167=K5Out)*($Y167=K6Out)),0)),0)","v":0},0,"","","","","","","",{"$f":"IFERROR(INDEX(SSR,MATCH(1,((AB167=S1Out)*($AC167=S2Out)*($AD167=S3Out)*($AE167=S4Out)*($AF167=S5Out)*($AG167=S6Out)*($AH167=S7Out)),0)),0)","v":0},0,"","","","",{"$f":"IF(SUMPRODUCT(--ISNUMBER(SEARCH(AA_F,$G167)))>0,5,\"\")","v":""},{"$f":"IFERROR(INDEX(AASR,MATCH(1,(($AK167=AA1Out)*($AL167=AA2Out)*($AM167=AA3Out)*($AN167=AA4Out)*($AO167=AA5Out)),0)),0)","v":0},0,0,0,"BLANK"]
[167,null,{"$f":"IFERROR(INDEX(Input!$B$23:B358,MATCH(B168,Input!$A$23:$A$192,FALSE),1),\"\")","v":""},{"$f":"IFERROR(INDEX(Input!$C$23:$C$192,MATCH(B168,Input!$A$23:$A$192,FALSE),1),\"\")","v":""},{"$nulls":7},"",{"$f":"IFERROR(INDEX(Input!$F$23:$F$192,MATCH(B168,Input!$A$23:$A$192,FALSE),1),\"\")","v":""},"",{"$f":"IFERROR(INDEX(Input!$K$23:$K$192,MATCH(B168,Input!$A$23:$A$192,FALSE),1),\"\")","v":""},0,{"$f":"IFERROR(VLOOKUP(ExamQ[[#This Row],[Test Question Complexity]],#REF!,3),\"\")","v":""},{"$f":"IFERROR(INDEX(Input!$L$23:$L$192,MATCH(B168,Input!$A$23:$A$192,FALSE),1),\"\")","v":""},0,"","","","","","",{"$f":"IFERROR(INDEX(KSR,MATCH(1,(($T168=K1Out)*($U168=K2Out)*($V168=K3Out)*($W168=K4Out)*($X168=K5Out)*($Y168=K6Out)),0)),0)","v":0},0,"","","","","","","",{"$f":"IFERROR(INDEX(SSR,MATCH(1,((AB168=S1Out)*($AC168=S2Out)*($AD168=S3Out)*($AE168=S4Out)*($AF168=S5Out)*($AG168=S6Out)*($AH168=S7Out)),0)),0)","v":0},0,"","","","",{"$f":"IF(SUMPRODUCT(--ISNUMBER(SEARCH(AA_F,$G168)))>0,5,\"\")","v":""},{"$f":"IFERROR(INDEX(AASR,MATCH(1,(($AK168=AA1Out)*($AL168=AA2Out)*($AM168=AA3Out)*($AN168=AA4Out)*($AO168=AA5Out)),0)),0)","v":0},0,0,0,"BLANK"]
[168,null,{"$f":"IFERROR(INDEX(Input!$B$23:B359,MATCH(B169,Input!$A$23:$A$192,FALSE),1),\"\")","v":""},{"$f":"IFERROR(INDEX(Input!$C$23:$C$192,MATCH(B169,Input!$A$23:$A$192,FALSE),1),\"\")","v":""},{"$nulls":7},"",{"$f":"IFERROR(INDEX(Input!$F$23:$F$192,MATCH(B169,Input!$A$23:$A$192,FALSE),1),\"\")","v":""},"",{"$f":"IFERROR(INDEX(Input!$K$23:$K$192,MATCH(B169,Input!$A$23:$A$192,FALSE),1),\"\")","v":""},0,{"$f":"IFERROR(VLOOKUP(ExamQ[[#This Row],[Test Question Complexity]],#REF!,3),\"\")","v":""},{"$f":"IFERROR(INDEX(Input!$L$23:$L$192,MATCH(B169,Input!$A$23:$A$192,FALSE),1),\"\")","v":""},0,"","","","","","",{"$f":"IFERROR(INDEX(KSR,MATCH(1,(($T169=K1Out)*($U169=K2Out)*($V169=K3Out)*($W169=K4Out)*($X169=K5Out)*($Y169=K6Out)),0)),0)","v":0},0,"","","","","","","",{"$f":"IFERROR(INDEX(SSR,MATCH(1,((AB169=S1Out)*($AC169=S2Out)*($AD169=S3Out)*($AE169=S4Out)*($AF169=S5Out)*($AG169=S6Out)*($AH169=S7Out)),0)),0)","v":0},0,"","","","",{"$f":"IF(SUMPRODUCT(--ISNUMBER(SEARCH(AA_F,$G169)))>0,5,\"\")","v":""},{"$f":"IFERROR(INDEX(AASR,MATCH(1,(($AK169=AA1Out)*($AL169=AA2Out)*($AM169=AA3Out)*($AN169=AA4Out)*($AO169=AA5Out)),0)),0)","v":0},0,0,0,"BLANK"]
[169,null,{"$f":"IFERROR(INDEX(Input!$B$23:B360,MATCH(B170,Input!$A$23:$A$192,FALSE),1),\"\")","v":""},{"$f":"IFERROR(INDEX(Input!$C$23:$C$192,MATCH(B170,Input!$A$23:$A$192,FALSE),1),\"\")","v":""},{"$nulls":7},"",{"$f":"IFERROR(INDEX(Input!$F$23:$F$192,MATCH(B170,Input!$A$23:$A$192,FALSE),1),\"\")","v":""},"",{"$f":"IFERROR(INDEX(Input!$K$23:$K$192,MATCH(B170,Input!$A$23:$A$192,FALSE),1),\"\")","v":""},0,{"$f":"IFERROR(VLOOKUP(ExamQ[[#This Row],[Test Question Complexity]],#REF!,3),\"\")","v":""},{"$f":"IFERROR(INDEX(Input!$L$23:$L$192,MATCH(B170,Input!$A$23:$A$192,FALSE),1),\"\")","v":""},0,"","","","","","",{"$f":"IFERROR(INDEX(KSR,MATCH(1,(($T170=K1Out)*($U170=K2Out)*($V170=K3Out)*($W170=K4Out)*($X170=K5Out)*($Y170=K6Out)),0)),0)","v":0},0,"","","","","","","",{"$f":"IFERROR(INDEX(SSR,MATCH(1,((AB170=S1Out)*($AC170=S2Out)*($AD170=S3Out)*($AE170=S4Out)*($AF170=S5Out)*($AG170=S6Out)*($AH170=S7Out)),0)),0)","v":0},0,"","","","",{"$f":"IF(SUMPRODUCT(--ISNUMBER(SEARCH(AA_F,$G170)))>0,5,\"\")","v":""},{"$f":"IFERROR(INDEX(AASR,MATCH(1,(($AK170=AA1Out)*($AL170=AA2Out)*($AM170=AA3Out)*($AN170=AA4Out)*($AO170=AA5Out)),0)),0)","v":0},0,0,0,"BLANK"]
[170,null,{"$f":"IFERROR(INDEX(Input!$B$23:B361,MATCH(B171,Input!$A$23:$A$192,FALSE),1),\"\")","v":""},{"$f":"IFERROR(INDEX(Input!$C$23:$C$192,MATCH(B171,Input!$A$23:$A$192,FALSE),1),\"\")","v":""},{"$nulls":7},"",{"$f":"IFERROR(INDEX(Input!$F$23:$F$192,MATCH(B171,Input!$A$23:$A$192,FALSE),1),\"\")","v":""},"",{"$f":"IFERROR(INDEX(Input!$K$23:$K$192,MATCH(B171,Input!$A$23:$A$192,FALSE),1),\"\")","v":""},0,{"$f":"IFERROR(VLOOKUP(ExamQ[[#This Row],[Test Question Complexity]],#REF!,3),\"\")","v":""},{"$f":"IFERROR(INDEX(Input!$L$23:$L$192,MATCH(B171,Input!$A$23:$A$192,FALSE),1),\"\")","v":""},0,"","","","","","",{"$f":"IFERROR(INDEX(KSR,MATCH(1,(($T171=K1Out)*($U171=K2Out)*($V171=K3Out)*($W171=K4Out)*($X171=K5Out)*($Y171=K6Out)),0)),0)","v":0},0,"","","","","","","",{"$f":"IFERROR(INDEX(SSR,MATCH(1,((AB171=S1Out)*($AC171=S2Out)*($AD171=S3Out)*($AE171=S4Out)*($AF171=S5Out)*($AG171=S6Out)*($AH171=S7Out)),0)),0)","v":0},0,"","","","",{"$f":"IF(SUMPRODUCT(--ISNUMBER(SEARCH(AA_F,$G171)))>0,5,\"\")","v":""},{"$f":"IFERROR(INDEX(AASR,MATCH(1,(($AK171=AA1Out)*($AL171=AA2Out)*($AM171=AA3Out)*($AN171=AA4Out)*($AO171=AA5Out)),0)),0)","v":0},0,0,0,"BLANK"]
[171,null,{"$f":"IFERROR(INDEX(Input!$B$23:B362,MATCH(B172,Input!$A$23:$A$192,FALSE),1),\"\")","v":""},{"$f":"IFERROR(INDEX(Input!$C$23:$C$192,MATCH(B172,Input!$A$23:$A$192,FALSE),1),\"\")","v":""},{"$nulls":7},"",{"$f":"IFERROR(INDEX(Input!$F$23:$F$192,MATCH(B172,Input!$A$23:$A$192,FALSE),1),\"\")","v":""},"",{"$f":"IFERROR(INDEX(Input!$K$23:$K$192,MATCH(B172,Input!$A$23:$A$192,FALSE),1),\"\")","v":""},0,{"$f":"IFERROR(VLOOKUP(ExamQ[[#This Row],[Test Question Complexity]],#REF!,3),\"\")","v":""},{"$f":"IFERROR(INDEX(Input!$L$23:$L$192,MATCH(B172,Input!$A$23:$A$192,FALSE),1),\"\")","v":""},0,"","","","","","",{"$f":"IFERROR(INDEX(KSR,MATCH(1,(($T172=K1Out)*($U172=K2Out)*($V172=K3Out)*($W172=K4Out)*($X172=K5Out)*($Y172=K6Out)),0)),0)","v":0},0,"","","","","","","",{"$f":"IFERROR(INDEX(SSR,MATCH(1,((AB172=S1Out)*($AC172=S2Out)*($AD172=S3Out)*($AE172=S4Out)*($AF172=S5Out)*($AG172=S6Out)*($AH172=S7Out)),0)),0)","v":0},0,"","","","",{"$f":"IF(SUMPRODUCT(--ISNUMBER(SEARCH(AA_F,$G172)))>0,5,\"\")","v":""},{"$f":"IFERROR(INDEX(AASR,MATCH(1,(($AK172=AA1Out)*($AL172=AA2Out)*($AM172=AA3Out)*($AN172=AA4Out)*($AO172=AA5Out)),0)),0)","v":0},0,0,0,"BLANK"]
[172,null,{"$f":"IFERROR(INDEX(Input!$B$23:B363,MATCH(B173,Input!$A$23:$A$192,FALSE),1),\"\")","v":""},{"$f":"IFERROR(INDEX(Input!$C$23:$C$192,MATCH(B173,Input!$A$23:$A$192,FALSE),1),\"\")","v":""},{"$nulls":7},"",{"$f":"IFERROR(INDEX(Input!$F$23:$F$192,MATCH(B173,Input!$A$23:$A$192,FALSE),1),\"\")","v":""},"",{"$f":"IFERROR(INDEX(Input!$K$23:$K$192,MATCH(B173,Input!$A$23:$A$192,FALSE),1),\"\")","v":""},0,{"$f":"IFERROR(VLOOKUP(ExamQ[[#This Row],[Test Question Complexity]],#REF!,3),\"\")","v":""},{"$f":"IFERROR(INDEX(Input!$L$23:$L$192,MATCH(B173,Input!$A$23:$A$192,FALSE),1),\"\")","v":""},0,"","","","","","",{"$f":"IFERROR(INDEX(KSR,MATCH(1,(($T173=K1Out)*($U173=K2Out)*($V173=K3Out)*($W173=K4Out)*($X173=K5Out)*($Y173=K6Out)),0)),0)","v":0},0,"","","","","","","",{"$f":"IFERROR(INDEX(SSR,MATCH(1,((AB173=S1Out)*($AC173=S2Out)*($AD173=S3Out)*($AE173=S4Out)*($AF173=S5Out)*($AG173=S6Out)*($AH173=S7Out)),0)),0)","v":0},0,"","","","",{"$f":"IF(SUMPRODUCT(--ISNUMBER(SEARCH(AA_F,$G173)))>0,5,\"\")","v":""},{"$f":"IFERROR(INDEX(AASR,MATCH(1,(($AK173=AA1Out)*($AL173=AA2Out)*($AM173=AA3Out)*($AN173=AA4Out)*($AO173=AA5Out)),0)),0)","v":0},0,0,0,"BLANK"]
[173,null,{"$f":"IFERROR(INDEX(Input!$B$23:B364,MATCH(B174,Input!$A$23:$A$192,FALSE),1),\"\")","v":""},{"$f":"IFERROR(INDEX(Input!$C$23:$C$192,MATCH(B174,Input!$A$23:$A$192,FALSE),1),\"\")","v":""},{"$nulls":7},"",{"$f":"IFERROR(INDEX(Input!$F$23:$F$192,MATCH(B174,Input!$A$23:$A$192,FALSE),1),\"\")","v":""},"",{"$f":"IFERROR(INDEX(Input!$K$23:$K$192,MATCH(B174,Input!$A$23:$A$192,FALSE),1),\"\")","v":""},0,{"$f":"IFERROR(VLOOKUP(ExamQ[[#This Row],[Test Question Complexity]],#REF!,3),\"\")","v":""},{"$f":"IFERROR(INDEX(Input!$L$23:$L$192,MATCH(B174,Input!$A$23:$A$192,FALSE),1),\"\")","v":""},0,"","","","","","",{"$f":"IFERROR(INDEX(KSR,MATCH(1,(($T174=K1Out)*($U174=K2Out)*($V174=K3Out)*($W174=K4Out)*($X174=K5Out)*($Y174=K6Out)),0)),0)","v":0},0,"","","","","","","",{"$f":"IFERROR(INDEX(SSR,MATCH(1,((AB174=S1Out)*($AC174=S2Out)*($AD174=S3Out)*($AE174=S4Out)*($AF174=S5Out)*($AG174=S6Out)*($AH174=S7Out)),0)),0)","v":0},0,"","","","",{"$f":"IF(SUMPRODUCT(--ISNUMBER(SEARCH(AA_F,$G174)))>0,5,\"\")","v":""},{"$f":"IFERROR(INDEX(AASR,MATCH(1,(($AK174=AA1Out)*($AL174=AA2Out)*($AM174=AA3Out)*($AN174=AA4Out)*($AO174=AA5Out)),0)),0)","v":0},0,0,0,"BLANK"]
[174,null,{"$f":"IFERROR(INDEX(Input!$B$23:B365,MATCH(B175,Input!$A$23:$A$192,FALSE),1),\"\")","v":""},{"$f":"IFERROR(INDEX(Input!$C$23:$C$192,MATCH(B175,Input!$A$23:$A$192,FALSE),1),\"\")","v":""},{"$nulls":7},"",{"$f":"IFERROR(INDEX(Input!$F$23:$F$192,MATCH(B175,Input!$A$23:$A$192,FALSE),1),\"\")","v":""},"",{"$f":"IFERROR(INDEX(Input!$K$23:$K$192,MATCH(B175,Input!$A$23:$A$192,FALSE),1),\"\")","v":""},0,{"$f":"IFERROR(VLOOKUP(ExamQ[[#This Row],[Test Question Complexity]],#REF!,3),\"\")","v":""},{"$f":"IFERROR(INDEX(Input!$L$23:$L$192,MATCH(B175,Input!$A$23:$A$192,FALSE),1),\"\")","v":""},0,"","","","","","",{"$f":"IFERROR(INDEX(KSR,MATCH(1,(($T175=K1Out)*($U175=K2Out)*($V175=K3Out)*($W175=K4Out)*($X175=K5Out)*($Y175=K6Out)),0)),0)","v":0},0,"","","","","","","",{"$f":"IFERROR(INDEX(SSR,MATCH(1,((AB175=S1Out)*($AC175=S2Out)*($AD175=S3Out)*($AE175=S4Out)*($AF175=S5Out)*($AG175=S6Out)*($AH175=S7Out)),0)),0)","v":0},0,"","","","",{"$f":"IF(SUMPRODUCT(--ISNUMBER(SEARCH(AA_F,$G175)))>0,5,\"\")","v":""},{"$f":"IFERROR(INDEX(AASR,MATCH(1,(($AK175=AA1Out)*($AL175=AA2Out)*($AM175=AA3Out)*($AN175=AA4Out)*($AO175=AA5Out)),0)),0)","v":0},0,0,0,"BLANK"]
[175,null,{"$f":"IFERROR(INDEX(Input!$B$23:B366,MATCH(B176,Input!$A$23:$A$192,FALSE),1),\"\")","v":""},{"$f":"IFERROR(INDEX(Input!$C$23:$C$192,MATCH(B176,Input!$A$23:$A$192,FALSE),1),\"\")","v":""},{"$nulls":7},"",{"$f":"IFERROR(INDEX(Input!$F$23:$F$192,MATCH(B176,Input!$A$23:$A$192,FALSE),1),\"\")","v":""},"",{"$f":"IFERROR(INDEX(Input!$K$23:$K$192,MATCH(B176,Input!$A$23:$A$192,FALSE),1),\"\")","v":""},0,{"$f":"IFERROR(VLOOKUP(ExamQ[[#This Row],[Test Question Complexity]],#REF!,3),\"\")","v":""},{"$f":"IFERROR(INDEX(Input!$L$23:$L$192,MATCH(B176,Input!$A$23:$A$192,FALSE),1),\"\")","v":""},0,"","","","","","",{"$f":"IFERROR(INDEX(KSR,MATCH(1,(($T176=K1Out)*($U176=K2Out)*($V176=K3Out)*($W176=K4Out)*($X176=K5Out)*($Y176=K6Out)),0)),0)","v":0},0,"","","","","","","",{"$f":"IFERROR(INDEX(SSR,MATCH(1,((AB176=S1Out)*($AC176=S2Out)*($AD176=S3Out)*($AE176=S4Out)*($AF176=S5Out)*($AG176=S6Out)*($AH176=S7Out)),0)),0)","v":0},0,"","","","",{"$f":"IF(SUMPRODUCT(--ISNUMBER(SEARCH(AA_F,$G176)))>0,5,\"\")","v":""},{"$f":"IFERROR(INDEX(AASR,MATCH(1,(($AK176=AA1Out)*($AL176=AA2Out)*($AM176=AA3Out)*($AN176=AA4Out)*($AO176=AA5Out)),0)),0)","v":0},0,0,0,"BLANK"]
[176,null,{"$f":"IFERROR(INDEX(Input!$B$23:B367,MATCH(B177,Input!$A$23:$A$192,FALSE),1),\"\")","v":""},{"$f":"IFERROR(INDEX(Input!$C$23:$C$192,MATCH(B177,Input!$A$23:$A$192,FALSE),1),\"\")","v":""},{"$nulls":7},{"$f":"IF(B177<>\"\",SUM(I177:K177),\"\")","v":""},{"$f":"IFERROR(INDEX(Input!$F$23:$F$192,MATCH(B177,Input!$A$23:$A$192,FALSE),1),\"\")","v":""},{"$f":"IFERROR(L177*M177,\"\")","v":""},{"$f":"IFERROR(INDEX(Input!$K$23:$K$192,MATCH(B177,Input!$A$23:$A$192,FALSE),1),\"\")","v":""},{"$f":"IF(N177>O177,1,0)","v":0},{"$f":"IFERROR(VLOOKUP(ExamQ[[#This Row],[Test Question Complexity]],#REF!,3),\"\")","v":""},{"$f":"IFERROR(INDEX(Input!$L$23:$L$192,MATCH(B177,Input!$A$23:$A$192,FALSE),1),\"\")","v":""},0,"","","","","","",{"$f":"IFERROR(INDEX(KSR,MATCH(1,(($T177=K1Out)*($U177=K2Out)*($V177=K3Out)*($W177=K4Out)*($X177=K5Out)*($Y177=K6Out)),0)),0)","v":0},0,"","","","","","","",{"$f":"IFERROR(INDEX(SSR,MATCH(1,((AB177=S1Out)*($AC177=S2Out)*($AD177=S3Out)*($AE177=S4Out)*($AF177=S5Out)*($AG177=S6Out)*($AH177=S7Out)),0)),0)","v":0},0,"","","","",{"$f":"IF(SUMPRODUCT(--ISNUMBER(SEARCH(AA_F,$G177)))>0,5,\"\")","v":""},{"$f":"IFERROR(INDEX(AASR,MATCH(1,(($AK177=AA1Out)*($AL177=AA2Out)*($AM177=AA3Out)*($AN177=AA4Out)*($AO177=AA5Out)),0)),0)","v":0},0,0,0,"BLANK"]
[]
[{"$nulls":13},{"$f":"SUBTOTAL(104,ExamQ[Test Question Complexity])","v":0}]

{"sheet":"Exam Question Breakdown","index":27,"n_rows":178,"n_cols":16,"rows_kept":178,"hidden":true,"merged":[[0,0,0,5],[0,9,1,11],[2,9,2,11],[4,9,4,11],[8,9,9,11],[14,9,15,11],[20,9,21,11],[26,9,27,11]]}
["Breakdown of Exam Question Difficulty",{"$nulls":8},"Number of  Exam Questions that are:",null,null,"Easy","Average","Difficult"]
["Easy Test Question","Average Test Question","Hard Test Question","Core Capability of ELO","Primary / Secondary CC Calulation","Primary / Secondary Designation",{"$nulls":6},{"$f":"COUNT($A$3:$A$178)","v":0},{"$f":"COUNT($B$3:$B$178)","v":0},{"$f":"COUNT($C$3:$C$178)","v":0}]
[{"$f":"IFERROR(IF(AND('Exam Questions'!$P2=0,'Exam Questions'!$Q2 = \"Easy\"),'Exam Questions'!$A2,\"\"),\"\")","v":""},{"$f":"IFERROR(IF(AND('Exam Questions'!$P2=0,'Exam Questions'!$Q2 = \"Average\"),'Exam Questions'!$A2,\"\"),\"\")","v":""},{"$f":"IFERROR(IF(AND('Exam Questions'!$P2=0,'Exam Questions'!$Q2 = \"Difficult\"),'Exam Questions'!$A2,\"\"),\"\")","v":""},{"$f":"IF('Exam Questions'!P2=0,'Exam Questions'!R2,\"\")","v":""},{"$f":"IFERROR(INDEX(Data_Test_Q_Icon,MATCH(Test_Q_ELO,Data_Test_Q_ELO,0)),\"\")","v":""},{"$f":"IFERROR((VLOOKUP(E3,$J$35:$K$39,2)),\"\")","v":""},{"$nulls":3},"Standard Number of Exam Questions Needed Per Version of Exam:",null,null,9,10,3]
[{"$f":"IFERROR(IF(AND('Exam Questions'!$P3=0,'Exam Questions'!$Q3 = \"Easy\"),'Exam Questions'!$A3,\"\"),\"\")","v":""},{"$f":"IFERROR(IF(AND('Exam Questions'!$P3=0,'Exam Questions'!$Q3 = \"Average\"),'Exam Questions'!$A3,\"\"),\"\")","v":""},{"$f":"IFERROR(IF(AND('Exam Questions'!$P3=0,'Exam Questions'!$Q3 = \"Difficult\"),'Exam Questions'!$A3,\"\"),\"\")","v":""},{"$f":"IF('Exam Questions'!P3=0,'Exam Questions'!R3,\"\")","v":""},"","",{"$nulls":5},"Total of Exam Questions per Category for Primary, Secondary, and Tertiary CC",{"$f":"SUM(M10,M16,M22)","v":0},{"$f":"SUM(N10,N16,N22)","v":0},{"$f":"SUM(O10,O16,O22)","v":0}]
[{"$f":"IFERROR(IF(AND('Exam Questions'!$P4=0,'Exam Questions'!$Q4 = \"Easy\"),'Exam Questions'!$A4,\"\"),\"\")","v":""},{"$f":"IFERROR(IF(AND('Exam Questions'!$P4=0,'Exam Questions'!$Q4 = \"Average\"),'Exam Questions'!$A4,\"\"),\"\")","v":""},{"$f":"IFERROR(IF(AND('Exam Questions'!$P4=0,'Exam Questions'!$Q4 = \"Difficult\"),'Exam Questions'!$A4,\"\"),\"\")","v":""},{"$f":"IF('Exam Questions'!P4=0,'Exam Questions'!R4,\"\")","v":""},"","",{"$nulls":3},"Total Max of Exam Questions in Each CC Area",null,null,{"$f":"IFERROR(SUM(M12,M18,M24,M29),0)","v":0},{"$f":"IFERROR(SUM(N12,N18,N24,N29),0)","v":0},0]
[{"$f":"IFERROR(IF(AND('Exam Questions'!$P5=0,'Exam Questions'!$Q5 = \"Easy\"),'Exam Questions'!$A5,\"\"),\"\")","v":""},{"$f":"IFERROR(IF(AND('Exam Questions'!$P5=0,'Exam Questions'!$Q5 = \"Average\"),'Exam Questions'!$A5,\"\"),\"\")","v":""},{"$f":"IFERROR(IF(AND('Exam Questions'!$P5=0,'Exam Questions'!$Q5 = \"Difficult\"),'Exam Questions'!$A5,\"\"),\"\")","v":""},{"$f":"IF('Exam Questions'!P5=0,'Exam Questions'!R5,\"\")","v":""},"",""]
[{"$f":"IFERROR(IF(AND('Exam Questions'!$P6=0,'Exam Questions'!$Q6 = \"Easy\"),'Exam Questions'!$A6,\"\"),\"\")","v":""},{"$f":"IFERROR(IF(AND('Exam Questions'!$P6=0,'Exam Questions'!$Q6 = \"Average\"),'Exam Questions'!$A6,\"\"),\"\")","v":""},{"$f":"IFERROR(IF(AND('Exam Questions'!$P6=0,'Exam Questions'!$Q6 = \"Difficult\"),'Exam Questions'!$A6,\"\"),\"\")","v":""},{"$f":"IF('Exam Questions'!P6=0,'Exam Questions'!R6,\"\")","v":""},"",""]
[{"$f":"IFERROR(IF(AND('Exam Questions'!$P7=0,'Exam Questions'!$Q7 = \"Easy\"),'Exam Questions'!$A7,\"\"),\"\")","v":""},{"$f":"IFERROR(IF(AND('Exam Questions'!$P7=0,'Exam Questions'!$Q7 = \"Average\"),'Exam Questions'!$A7,\"\"),\"\")","v":""},{"$f":"IFERROR(IF(AND('Exam Questions'!$P7=0,'Exam Questions'!$Q7 = \"Difficult\"),'Exam Questions'!$A7,\"\"),\"\")","v":""},{"$f":"IF('Exam Questions'!P7=0,'Exam Questions'!R7,\"\")","v":""},"",""]
[{"$f":"IFERROR(IF(AND('Exam Questions'!$P8=0,'Exam Questions'!$Q8 = \"Easy\"),'Exam Questions'!$A8,\"\"),\"\")","v":""},{"$f":"IFERROR(IF(AND('Exam Questions'!$P8=0,'Exam Questions'!$Q8 = \"Average\"),'Exam Questions'!$A8,\"\"),\"\")","v":""},{"$f":"IFERROR(IF(AND('Exam Questions'!$P8=0,'Exam Questions'!$Q8 = \"Difficult\"),'Exam Questions'!$A8,\"\"),\"\")","v":""},{"$f":"IF('Exam Questions'!P8=0,'Exam Questions'!R8,\"\")","v":""},"","",{"$nulls":3},"Number of  Exam Questions that are in Primary CC and :",null,null,"Easy","Average","Difficult","Total"]
[{"$f":"IFERROR(IF(AND('Exam Questions'!$P9=0,'Exam Questions'!$Q9 = \"Easy\"),'Exam Questions'!$A9,\"\"),\"\")","v":""},{"$f":"IFERROR(IF(AND('Exam Questions'!$P9=0,'Exam Questions'!$Q9 = \"Average\"),'Exam Questions'!$A9,\"\"),\"\")","v":""},{"$f":"IFERROR(IF(AND('Exam Questions'!$P9=0,'Exam Questions'!$Q9 = \"Difficult\"),'Exam Questions'!$A9,\"\"),\"\")","v":""},{"$f":"IF('Exam Questions'!P9=0,'Exam Questions'!R9,\"\")","v":""},"","",{"$nulls":6},{"$f":"COUNTIFS($A$3:$A$178,\">0\",$E$3:$E$178,3)","v":0},{"$f":"COUNTIFS($B$3:$B$178,\">0\",$E$3:$E$178,3)","v":0},{"$f":"COUNTIFS($C$3:$C$178,\">0\",$E$3:$E$178,3)","v":0},{"$f":"SUM(M10:O10)","v":0}]
[{"$f":"IFERROR(IF(AND('Exam Questions'!$P10=0,'Exam Questions'!$Q10 = \"Easy\"),'Exam Questions'!$A10,\"\"),\"\")","v":""},{"$f":"IFERROR(IF(AND('Exam Questions'!$P10=0,'Exam Questions'!$Q10 = \"Average\"),'Exam Questions'!$A10,\"\"),\"\")","v":""},{"$f":"IFERROR(IF(AND('Exam Questions'!$P10=0,'Exam Questions'!$Q10 = \"Difficult\"),'Exam Questions'!$A10,\"\"),\"\")","v":""},{"$f":"IF('Exam Questions'!P10=0,'Exam Questions'!R10,\"\")","v":""},"","",{"$nulls":3},"Min = ",{"v":0.15,"d":"15.00%"},"Min Number of Questions",{"$f":"IF(AND($M$10>0,ROUND($M$10*$K$11,0)<1),1,ROUND($M$10*$K$11,0))","v":0},{"$f":"IF(AND($N$10>0,ROUND($N$10*$K$11,0)<1),1,ROUND($N$10*$K$11,0))","v":0},{"$f":"IF(AND($O$10>0,ROUND($O$10*$K$11,0)<1),1,ROUND($O$10*$K$11,0))","v":0},{"$f":"SUM(M11:O11)","v":0}]
[{"$f":"IFERROR(IF(AND('Exam Questions'!$P11=0,'Exam Questions'!$Q11 = \"Easy\"),'Exam Questions'!$A11,\"\"),\"\")","v":""},{"$f":"IFERROR(IF(AND('Exam Questions'!$P11=0,'Exam Questions'!$Q11 = \"Average\"),'Exam Questions'!$A11,\"\"),\"\")","v":""},{"$f":"IFERROR(IF(AND('Exam Questions'!$P11=0,'Exam Questions'!$Q11 = \"Difficult\"),'Exam Questions'!$A11,\"\"),\"\")","v":""},{"$f":"IF('Exam Questions'!P11=0,'Exam Questions'!R11,\"\")","v":""},"","",{"$nulls":3},"Max =",{"$f":"IFERROR(INDEX(Data_Exam_ELO_Percent,MATCH(3,'Data - Exam Questions'!$A$1:$A$34,0)),0)","v":{"v":0,"d":"0.00%"}},"Max Number of Questions",{"$f":"IFERROR(IF(AND($M$10>0,ROUND($M$10*$K$12,0)<1),1,ROUND($M$10*$K$12,0)),0)","v":0},{"$f":"IFERROR(IF(AND($N$10>0,ROUND($N$10*$K$12,0)<1),1,ROUND($N$10*$K$12,0)),0)","v":0},{"$f":"IFERROR(IF(AND($O$10>0,ROUND($O$10*$K$12,0)<1),1,ROUND($O$10*$K$12,0)),0)","v":0},{"$f":"SUM(M12:O12)","v":0}]
[{"$f":"IFERROR(IF(AND('Exam Questions'!$P12=0,'Exam Questions'!$Q12 = \"Easy\"),'Exam Questions'!$A12,\"\"),\"\")","v":""},{"$f":"IFERROR(IF(AND('Exam Questions'!$P12=0,'Exam Questions'!$Q12 = \"Average\"),'Exam Questions'!$A12,\"\"),\"\")","v":""},{"$f":"IFERROR(IF(AND('Exam Questions'!$P12=0,'Exam Questions'!$Q12 = \"Difficult\"),'Exam Questions'!$A12,\"\"),\"\")","v":""},{"$f":"IF('Exam Questions'!P12=0,'Exam Questions'!R12,\"\")","v":""},"",""]
[{"$f":"IFERROR(IF(AND('Exam Questions'!$P13=0,'Exam Questions'!$Q13 = \"Easy\"),'Exam Questions'!$A13,\"\"),\"\")","v":""},{"$f":"IFERROR(IF(AND('Exam Questions'!$P13=0,'Exam Questions'!$Q13 = \"Average\"),'Exam Questions'!$A13,\"\"),\"\")","v":""},{"$f":"IFERROR(IF(AND('Exam Questions'!$P13=0,'Exam Questions'!$Q13 = \"Difficult\"),'Exam Questions'!$A13,\"\"),\"\")","v":""},{"$f":"IF('Exam Questions'!P13=0,'Exam Questions'!R13,\"\")","v":""},"",""]
[{"$f":"IFERROR(IF(AND('Exam Questions'!$P14=0,'Exam Questions'!$Q14 = \"Easy\"),'Exam Questions'!$A14,\"\"),\"\")","v":""},{"$f":"IFERROR(IF(AND('Exam Questions'!$P14=0,'Exam Questions'!$Q14 = \"Average\"),'Exam Questions'!$A14,\"\"),\"\")","v":""},{"$f":"IFERROR(IF(AND('Exam Questions'!$P14=0,'Exam Questions'!$Q14 = \"Difficult\"),'Exam Questions'!$A14,\"\"),\"\")","v":""},{"$f":"IF('Exam Questions'!P14=0,'Exam Questions'!R14,\"\")","v":""},"","",{"$nulls":3},"Number of  Exam Questions that are in Secondary CC and :",null,null,"Easy","Average","Difficult","Total"]
[{"$f":"IFERROR(IF(AND('Exam Questions'!$P15=0,'Exam Questions'!$Q15 = \"Easy\"),'Exam Questions'!$A15,\"\"),\"\")","v":""},{"$f":"IFERROR(IF(AND('Exam Questions'!$P15=0,'Exam Questions'!$Q15 = \"Average\"),'Exam Questions'!$A15,\"\"),\"\")","v":""},{"$f":"IFERROR(IF(AND('Exam Questions'!$P15=0,'Exam Questions'!$Q15 = \"Difficult\"),'Exam Questions'!$A15,\"\"),\"\")","v":""},{"$f":"IF('Exam Questions'!P15=0,'Exam Questions'!R15,\"\")","v":""},"","",{"$nulls":6},{"$f":"COUNTIFS($A$3:$A$178,\">0\",$E$3:$E$178,1)","v":0},{"$f":"COUNTIFS($B$3:$B$178,\">0\",$E$3:$E$178,1)","v":0},{"$f":"COUNTIFS($C$3:$C$178,\">0\",$E$3:$E$178,1)","v":0},{"$f":"SUM(M16:O16)","v":0}]
[{"$f":"IFERROR(IF(AND('Exam Questions'!$P16=0,'Exam Questions'!$Q16 = \"Easy\"),'Exam Questions'!$A16,\"\"),\"\")","v":""},{"$f":"IFERROR(IF(AND('Exam Questions'!$P16=0,'Exam Questions'!$Q16 = \"Average\"),'Exam Questions'!$A16,\"\"),\"\")","v":""},{"$f":"IFERROR(IF(AND('Exam Questions'!$P16=0,'Exam Questions'!$Q16 = \"Difficult\"),'Exam Questions'!$A16,\"\"),\"\")","v":""},{"$f":"IF('Exam Questions'!P16=0,'Exam Questions'!R16,\"\")","v":""},"","",{"$nulls":3},"Min = ",{"v":0.1,"d":"10.00%"},"Min Number of Questions",{"$f":"IF(AND($M$16>0,ROUND($M$16*$K$17,0)<1),1,ROUND($M$16*$K$17,0))","v":0},{"$f":"IF(AND($N$16>0,ROUND($N$16*$K$17,0)<1),1,ROUND($N$16*$K$17,0))","v":0},{"$f":"IF(AND($O$16>0,ROUND($O$16*$K$17,0)<1),1,ROUND($O$16*$K$17,0))","v":0},{"$f":"SUM(M17:O17)","v":0}]
[{"$f":"IFERROR(IF(AND('Exam Questions'!$P17=0,'Exam Questions'!$Q17 = \"Easy\"),'Exam Questions'!$A17,\"\"),\"\")","v":""},{"$f":"IFERROR(IF(AND('Exam Questions'!$P17=0,'Exam Questions'!$Q17 = \"Average\"),'Exam Questions'!$A17,\"\"),\"\")","v":""},{"$f":"IFERROR(IF(AND('Exam Questions'!$P17=0,'Exam Questions'!$Q17 = \"Difficult\"),'Exam Questions'!$A17,\"\"),\"\")","v":""},{"$f":"IF('Exam Questions'!P17=0,'Exam Questions'!R17,\"\")","v":""},"","",{"$nulls":3},"Max =",{"$f":"IFERROR(INDEX(Data_Exam_ELO_Percent,MATCH(1,'Data - Exam Questions'!$A$1:$A$34,0)),0)","v":{"v":0,"d":"0.00%"}},"Max Number of Questions",{"$f":"IF(AND($M$16>0,ROUND($M$16*$K$18,0)<1),1,ROUND($M$16*$K$18,0))","v":0},{"$f":"IF(AND($N$16>0,ROUND($N$16*$K$18,0)<1),1,ROUND($N$16*$K$18,0))","v":0},{"$f":"IF(AND($O$16>0,ROUND($O$16*$K$18,0)<1),1,ROUND($O$16*$K$18,0))","v":0},{"$f":"SUM(M18:O18)","v":0}]
[{"$f":"IFERROR(IF(AND('Exam Questions'!$P18=0,'Exam Questions'!$Q18 = \"Easy\"),'Exam Questions'!$A18,\"\"),\"\")","v":""},{"$f":"IFERROR(IF(AND('Exam Questions'!$P18=0,'Exam Questions'!$Q18 = \"Average\"),'Exam Questions'!$A18,\"\"),\"\")","v":""},{"$f":"IFERROR(IF(AND('Exam Questions'!$P18=0,'Exam Questions'!$Q18 = \"Difficult\"),'Exam Questions'!$A18,\"\"),\"\")","v":""},{"$f":"IF('Exam Questions'!P18=0,'Exam Questions'!R18,\"\")","v":""},"",""]
[{"$f":"IFERROR(IF(AND('Exam Questions'!$P19=0,'Exam Questions'!$Q19 = \"Easy\"),'Exam Questions'!$A19,\"\"),\"\")","v":""},{"$f":"IFERROR(IF(AND('Exam Questions'!$P19=0,'Exam Questions'!$Q19 = \"Average\"),'Exam Questions'!$A19,\"\"),\"\")","v":""},{"$f":"IFERROR(IF(AND('Exam Questions'!$P19=0,'Exam Questions'!$Q19 = \"Difficult\"),'Exam Questions'!$A19,\"\"),\"\")","v":""},{"$f":"IF('Exam Questions'!P19=0,'Exam Questions'!R19,\"\")","v":""},"",""]
[{"$f":"IFERROR(IF(AND('Exam Questions'!$P20=0,'Exam Questions'!$Q20 = \"Easy\"),'Exam Questions'!$A20,\"\"),\"\")","v":""},{"$f":"IFERROR(IF(AND('Exam Questions'!$P20=0,'Exam Questions'!$Q20 = \"Average\"),'Exam Questions'!$A20,\"\"),\"\")","v":""},{"$f":"IFERROR(IF(AND('Exam Questions'!$P20=0,'Exam Questions'!$Q20 = \"Difficult\"),'Exam Questions'!$A20,\"\"),\"\")","v":""},{"$f":"IF('Exam Questions'!P20=0,'Exam Questions'!R20,\"\")","v":""},"","",{"$nulls":3},"Number of  Exam Questions that are in Tertiary CC and :",null,null,"Easy","Average","Difficult","Total"]
[{"$f":"IFERROR(IF(AND('Exam Questions'!$P21=0,'Exam Questions'!$Q21 = \"Easy\"),'Exam Questions'!$A21,\"\"),\"\")","v":""},{"$f":"IFERROR(IF(AND('Exam Questions'!$P21=0,'Exam Questions'!$Q21 = \"Average\"),'Exam Questions'!$A21,\"\"),\"\")","v":""},{"$f":"IFERROR(IF(AND('Exam Questions'!$P21=0,'Exam Questions'!$Q21 = \"Difficult\"),'Exam Questions'!$A21,\"\"),\"\")","v":""},{"$f":"IF('Exam Questions'!P21=0,'Exam Questions'!R21,\"\")","v":""},"","",{"$nulls":6},{"$f":"COUNTIFS($A$3:$A$178,\">0\",$E$3:$E$178,0)","v":0},{"$f":"COUNTIFS($B$3:$B$178,\">0\",$E$3:$E$178,0)","v":0},{"$f":"COUNTIFS($C$3:$C$178,\">0\",$E$3:$E$178,0)","v":0},{"$f":"SUM(M22:O22)","v":0}]
[{"$f":"IFERROR(IF(AND('Exam Questions'!$P22=0,'Exam Questions'!$Q22 = \"Easy\"),'Exam Questions'!$A22,\"\"),\"\")","v":""},{"$f":"IFERROR(IF(AND('Exam Questions'!$P22=0,'Exam Questions'!$Q22 = \"Average\"),'Exam Questions'!$A22,\"\"),\"\")","v":""},{"$f":"IFERROR(IF(AND('Exam Questions'!$P22=0,'Exam Questions'!$Q22 = \"Difficult\"),'Exam Questions'!$A22,\"\"),\"\")","v":""},{"$f":"IF('Exam Questions'!P22=0,'Exam Questions'!R22,\"\")","v":""},"","",{"$nulls":3},"Min = ",{"v":0.05,"d":"5.00%"},"Min Number of Questions",{"$f":"IF(AND($M$22>0,ROUND($M$22*$K$23,0)<1),1,ROUND($M$22*$K$23,0))","v":0},{"$f":"IF(AND($N$22>0,ROUND($N$22*$K$23,0)<1),1,ROUND($N$22*$K$23,0))","v":0},{"$f":"IF(AND($O$22>0,ROUND($O$22*$K$23,0)<1),1,ROUND($O$22*$K$23,0))","v":0},{"$f":"SUM(M23:O23)","v":0}]
[{"$f":"IFERROR(IF(AND('Exam Questions'!$P23=0,'Exam Questions'!$Q23 = \"Easy\"),'Exam Questions'!$A23,\"\"),\"\")","v":""},{"$f":"IFERROR(IF(AND('Exam Questions'!$P23=0,'Exam Questions'!$Q23 = \"Average\"),'Exam Questions'!$A23,\"\"),\"\")","v":""},{"$f":"IFERROR(IF(AND('Exam Questions'!$P23=0,'Exam Questions'!$Q23 = \"Difficult\"),'Exam Questions'!$A23,\"\"),\"\")","v":""},{"$f":"IF('Exam Questions'!P23=0,'Exam Questions'!R23,\"\")","v":""},"","",{"$nulls":3},"Max =",{"$f":"IFERROR(INDEX(Data_Exam_ELO_Percent,MATCH(0,'Data - Exam Questions'!$A$1:$A$34,0)),0)","v":{"v":0,"d":"0.00%"}},"Max Number of Questions",{"$f":"IF(AND($M$22>0,ROUND($M$22*$K$24,0)<1),1,(ROUND($M$22*$K$24,0)))","v":0},{"$f":"IF(AND($N$22>0,ROUND($N$22*$K$24,0)<1),1,ROUND($N$22*$K$24,0))","v":0},{"$f":"IF(AND($O$22>0,ROUND($O$22*$K$24,0)<1),1,ROUND($O$22*$K$24,0))","v":0},{"$f":"SUM(M24:O24)","v":0}]
[{"$f":"IFERROR(IF(AND('Exam Questions'!$P24=0,'Exam Questions'!$Q24 = \"Easy\"),'Exam Questions'!$A24,\"\"),\"\")","v":""},{"$f":"IFERROR(IF(AND('Exam Questions'!$P24=0,'Exam Questions'!$Q24 = \"Average\"),'Exam Questions'!$A24,\"\"),\"\")","v":""},{"$f":"IFERROR(IF(AND('Exam Questions'!$P24=0,'Exam Questions'!$Q24 = \"Difficult\"),'Exam Questions'!$A24,\"\"),\"\")","v":""},{"$f":"IF('Exam Questions'!P24=0,'Exam Questions'!R24,\"\")","v":""},"",""]
[{"$f":"IFERROR(IF(AND('Exam Questions'!$P25=0,'Exam Questions'!$Q25 = \"Easy\"),'Exam Questions'!$A25,\"\"),\"\")","v":""},{"$f":"IFERROR(IF(AND('Exam Questions'!$P25=0,'Exam Questions'!$Q25 = \"Average\"),'Exam Questions'!$A25,\"\"),\"\")","v":""},{"$f":"IFERROR(IF(AND('Exam Questions'!$P25=0,'Exam Questions'!$Q25 = \"Difficult\"),'Exam Questions'!$A25,\"\"),\"\")","v":""},{"$f":"IF('Exam Questions'!P25=0,'Exam Questions'!R25,\"\")","v":""},"",""]
[{"$f":"IFERROR(IF(AND('Exam Questions'!$P26=0,'Exam Questions'!$Q26 = \"Easy\"),'Exam Questions'!$A26,\"\"),\"\")","v":""},{"$f":"IFERROR(IF(AND('Exam Questions'!$P26=0,'Exam Questions'!$Q26 = \"Average\"),'Exam Questions'!$A26,\"\"),\"\")","v":""},{"$f":"IFERROR(IF(AND('Exam Questions'!$P26=0,'Exam Questions'!$Q26 = \"Difficult\"),'Exam Questions'!$A26,\"\"),\"\")","v":""},{"$f":"IF('Exam Questions'!P26=0,'Exam Questions'!R26,\"\")","v":""},"","",{"$nulls":3},"Number of  Exam Questions that are in Other Area CC and :",null,null,"Easy","Average","Difficult","Total"]
[{"$f":"IFERROR(IF(AND('Exam Questions'!$P27=0,'Exam Questions'!$Q27 = \"Easy\"),'Exam Questions'!$A27,\"\"),\"\")","v":""},{"$f":"IFERROR(IF(AND('Exam Questions'!$P27=0,'Exam Questions'!$Q27 = \"Average\"),'Exam Questions'!$A27,\"\"),\"\")","v":""},{"$f":"IFERROR(IF(AND('Exam Questions'!$P27=0,'Exam Questions'!$Q27 = \"Difficult\"),'Exam Questions'!$A27,\"\"),\"\")","v":""},{"$f":"IF('Exam Questions'!P27=0,'Exam Questions'!R27,\"\")","v":""},"","",{"$nulls":6},{"$f":"COUNTIFS($A$3:$A$178,\">0\",$E$3:$E$178,-1)","v":0},{"$f":"COUNTIFS($B$3:$B$178,\">0\",$E$3:$E$178,-1)","v":0},{"$f":"COUNTIFS($C$3:$C$178,\">0\",$E$3:$E$178,-1)","v":0},{"$f":"SUM(M28:O28)","v":0}]
[{"$f":"IFERROR(IF(AND('Exam Questions'!$P28=0,'Exam Questions'!$Q28 = \"Easy\"),'Exam Questions'!$A28,\"\"),\"\")","v":""},{"$f":"IFERROR(IF(AND('Exam Questions'!$P28=0,'Exam Questions'!$Q28 = \"Average\"),'Exam Questions'!$A28,\"\"),\"\")","v":""},{"$f":"IFERROR(IF(AND('Exam Questions'!$P28=0,'Exam Questions'!$Q28 = \"Difficult\"),'Exam Questions'!$A28,\"\"),\"\")","v":""},{"$f":"IF('Exam Questions'!P28=0,'Exam Questions'!R28,\"\")","v":""},"","",{"$nulls":3},"Easy",{"v":0.5,"d":"50.00%"},"Max Number of Questions",{"$f":"IF(AND($M$28>0,ROUND($M$28*$K$29,0)<1),1,ROUND($M$28*$K$29,0))","v":0},{"$f":"IF(AND($N$28>0,ROUND($N$28*$K$30,0)<1),1,ROUND($N$28*$K$30,0))","v":0},{"$f":"IF(AND($O$28>0,ROUND($O$28*$K$31,0)<1),1,ROUND($O$28*$K$31,0))","v":0},{"$f":"SUM(M29:O29)","v":0}]
[{"$f":"IFERROR(IF(AND('Exam Questions'!$P29=0,'Exam Questions'!$Q29 = \"Easy\"),'Exam Questions'!$A29,\"\"),\"\")","v":""},{"$f":"IFERROR(IF(AND('Exam Questions'!$P29=0,'Exam Questions'!$Q29 = \"Average\"),'Exam Questions'!$A29,\"\"),\"\")","v":""},{"$f":"IFERROR(IF(AND('Exam Questions'!$P29=0,'Exam Questions'!$Q29 = \"Difficult\"),'Exam Questions'!$A29,\"\"),\"\")","v":""},{"$f":"IF('Exam Questions'!P29=0,'Exam Questions'!R29,\"\")","v":""},"","",{"$nulls":3},"Average",{"v":0.3,"d":"30.00%"},"Max Number of Questions"]
[{"$f":"IFERROR(IF(AND('Exam Questions'!$P30=0,'Exam Questions'!$Q30 = \"Easy\"),'Exam Questions'!$A30,\"\"),\"\")","v":""},{"$f":"IFERROR(IF(AND('Exam Questions'!$P30=0,'Exam Questions'!$Q30 = \"Average\"),'Exam Questions'!$A30,\"\"),\"\")","v":""},{"$f":"IFERROR(IF(AND('Exam Questions'!$P30=0,'Exam Questions'!$Q30 = \"Difficult\"),'Exam Questions'!$A30,\"\"),\"\")","v":""},{"$f":"IF('Exam Questions'!P30=0,'Exam Questions'!R30,\"\")","v":""},"","",{"$nulls":3},"Difficult",{"v":0.2,"d":"20.00%"},"Max Number of Questions"]
[{"$f":"IFERROR(IF(AND('Exam Questions'!$P31=0,'Exam Questions'!$Q31 = \"Easy\"),'Exam Questions'!$A31,\"\"),\"\")","v":""},{"$f":"IFERROR(IF(AND('Exam Questions'!$P31=0,'Exam Questions'!$Q31 = \"Average\"),'Exam Questions'!$A31,\"\"),\"\")","v":""},{"$f":"IFERROR(IF(AND('Exam Questions'!$P31=0,'Exam Questions'!$Q31 = \"Difficult\"),'Exam Questions'!$A31,\"\"),\"\")","v":""},{"$f":"IF('Exam Questions'!P31=0,'Exam Questions'!R31,\"\")","v":""},"",""]
[{"$f":"IFERROR(IF(AND('Exam Questions'!$P32=0,'Exam Questions'!$Q32 = \"Easy\"),'Exam Questions'!$A32,\"\"),\"\")","v":""},{"$f":"IFERROR(IF(AND('Exam Questions'!$P32=0,'Exam Questions'!$Q32 = \"Average\"),'Exam Questions'!$A32,\"\"),\"\")","v":""},{"$f":"IFERROR(IF(AND('Exam Questions'!$P32=0,'Exam Questions'!$Q32 = \"Difficult\"),'Exam Questions'!$A32,\"\"),\"\")","v":""},{"$f":"IF('Exam Questions'!P32=0,'Exam Questions'!R32,\"\")","v":""},"",""]
[{"$f":"IFERROR(IF(AND('Exam Questions'!$P33=0,'Exam Questions'!$Q33 = \"Easy\"),'Exam Questions'!$A33,\"\"),\"\")","v":""},{"$f":"IFERROR(IF(AND('Exam Questions'!$P33=0,'Exam Questions'!$Q33 = \"Average\"),'Exam Questions'!$A33,\"\"),\"\")","v":""},{"$f":"IFERROR(IF(AND('Exam Questions'!$P33=0,'Exam Questions'!$Q33 = \"Difficult\"),'Exam Questions'!$A33,\"\"),\"\")","v":""},{"$f":"IF('Exam Questions'!P33=0,'Exam Questions'!R33,\"\")","v":""},"","",{"$nulls":3},"Primary & Secondary Values"]
[{"$f":"IFERROR(IF(AND('Exam Questions'!$P34=0,'Exam Questions'!$Q34 = \"Easy\"),'Exam Questions'!$A34,\"\"),\"\")","v":""},{"$f":"IFERROR(IF(AND('Exam Questions'!$P34=0,'Exam Questions'!$Q34 = \"Average\"),'Exam Questions'!$A34,\"\"),\"\")","v":""},{"$f":"IFERROR(IF(AND('Exam Questions'!$P34=0,'Exam Questions'!$Q34 = \"Difficult\"),'Exam Questions'!$A34,\"\"),\"\")","v":""},{"$f":"IF('Exam Questions'!P34=0,'Exam Questions'!R34,\"\")","v":""},{"$f":"IFERROR(INDEX(Data_Test_Q_Icon,MATCH(Test_Q_ELO,Data_Test_Q_ELO,0)),\"\")","v":""},{"$f":"IFERROR((VLOOKUP(E35,$J$35:$K$39,2)),\"\")","v":""},{"$nulls":3},-1,"Other"]
[{"$f":"IFERROR(IF(AND('Exam Questions'!$P35=0,'Exam Questions'!$Q35 = \"Easy\"),'Exam Questions'!$A35,\"\"),\"\")","v":""},{"$f":"IFERROR(IF(AND('Exam Questions'!$P35=0,'Exam Questions'!$Q35 = \"Average\"),'Exam Questions'!$A35,\"\"),\"\")","v":""},{"$f":"IFERROR(IF(AND('Exam Questions'!$P35=0,'Exam Questions'!$Q35 = \"Difficult\"),'Exam Questions'!$A35,\"\"),\"\")","v":""},{"$f":"IF('Exam Questions'!P35=0,'Exam Questions'!R35,\"\")","v":""},"","",{"$nulls":3},0,"Tertiary"]
[{"$f":"IFERROR(IF(AND('Exam Questions'!$P36=0,'Exam Questions'!$Q36 = \"Easy\"),'Exam Questions'!$A36,\"\"),\"\")","v":""},{"$f":"IFERROR(IF(AND('Exam Questions'!$P36=0,'Exam Questions'!$Q36 = \"Average\"),'Exam Questions'!$A36,\"\"),\"\")","v":""},{"$f":"IFERROR(IF(AND('Exam Questions'!$P36=0,'Exam Questions'!$Q36 = \"Difficult\"),'Exam Questions'!$A36,\"\"),\"\")","v":""},{"$f":"IF('Exam Questions'!P36=0,'Exam Questions'!R36,\"\")","v":""},"","",{"$nulls":3},1,"Secondary"]
[{"$f":"IFERROR(IF(AND('Exam Questions'!$P37=0,'Exam Questions'!$Q37 = \"Easy\"),'Exam Questions'!$A37,\"\"),\"\")","v":""},{"$f":"IFERROR(IF(AND('Exam Questions'!$P37=0,'Exam Questions'!$Q37 = \"Average\"),'Exam Questions'!$A37,\"\"),\"\")","v":""},{"$f":"IFERROR(IF(AND('Exam Questions'!$P37=0,'Exam Questions'!$Q37 = \"Difficult\"),'Exam Questions'!$A37,\"\"),\"\")","v":""},{"$f":"IF('Exam Questions'!P37=0,'Exam Questions'!R37,\"\")","v":""},"","",{"$nulls":3},2,"Nothing"]
[{"$f":"IFERROR(IF(AND('Exam Questions'!$P38=0,'Exam Questions'!$Q38 = \"Easy\"),'Exam Questions'!$A38,\"\"),\"\")","v":""},{"$f":"IFERROR(IF(AND('Exam Questions'!$P38=0,'Exam Questions'!$Q38 = \"Average\"),'Exam Questions'!$A38,\"\"),\"\")","v":""},{"$f":"IFERROR(IF(AND('Exam Questions'!$P38=0,'Exam Questions'!$Q38 = \"Difficult\"),'Exam Questions'!$A38,\"\"),\"\")","v":""},{"$f":"IF('Exam Questions'!P38=0,'Exam Questions'!R38,\"\")","v":""},"","",{"$nulls":3},3,"Primary"]
[{"$f":"IFERROR(IF(AND('Exam Questions'!$P39=0,'Exam Questions'!$Q39 = \"Easy\"),'Exam Questions'!$A39,\"\"),\"\")","v":""},{"$f":"IFERROR(IF(AND('Exam Questions'!$P39=0,'Exam Questions'!$Q39 = \"Average\"),'Exam Questions'!$A39,\"\"),\"\")","v":""},{"$f":"IFERROR(IF(AND('Exam Questions'!$P39=0,'Exam Questions'!$Q39 = \"Difficult\"),'Exam Questions'!$A39,\"\"),\"\")","v":""},{"$f":"IF('Exam Questions'!P39=0,'Exam Questions'!R39,\"\")","v":""},"",""]
[{"$f":"IFERROR(IF(AND('Exam Questions'!$P40=0,'Exam Questions'!$Q40 = \"Easy\"),'Exam Questions'!$A40,\"\"),\"\")","v":""},{"$f":"IFERROR(IF(AND('Exam Questions'!$P40=0,'Exam Questions'!$Q40 = \"Average\"),'Exam Questions'!$A40,\"\"),\"\")","v":""},{"$f":"IFERROR(IF(AND('Exam Questions'!$P40=0,'Exam Questions'!$Q40 = \"Difficult\"),'Exam Questions'!$A40,\"\"),\"\")","v":""},{"$f":"IF('Exam Questions'!P40=0,'Exam Questions'!R40,\"\")","v":""},"",""]
[{"$f":"IFERROR(IF(AND('Exam Questions'!$P41=0,'Exam Questions'!$Q41 = \"Easy\"),'Exam Questions'!$A41,\"\"),\"\")","v":""},{"$f":"IFERROR(IF(AND('Exam Questions'!$P41=0,'Exam Questions'!$Q41 = \"Average\"),'Exam Questions'!$A41,\"\"),\"\")","v":""},{"$f":"IFERROR(IF(AND('Exam Questions'!$P41=0,'Exam Questions'!$Q41 = \"Difficult\"),'Exam Questions'!$A41,\"\"),\"\")","v":""},{"$f":"IF('Exam Questions'!P41=0,'Exam Questions'!R41,\"\")","v":""},"",""]
[{"$f":"IFERROR(IF(AND('Exam Questions'!$P42=0,'Exam Questions'!$Q42 = \"Easy\"),'Exam Questions'!$A42,\"\"),\"\")","v":""},{"$f":"IFERROR(IF(AND('Exam Questions'!$P42=0,'Exam Questions'!$Q42 = \"Average\"),'Exam Questions'!$A42,\"\"),\"\")","v":""},{"$f":"IFERROR(IF(AND('Exam Questions'!$P42=0,'Exam Questions'!$Q42 = \"Difficult\"),'Exam Questions'!$A42,\"\"),\"\")","v":""},{"$f":"IF('Exam Questions'!P42=0,'Exam Questions'!R42,\"\")","v":""},"",""]
[{"$f":"IFERROR(IF(AND('Exam Questions'!$P43=0,'Exam Questions'!$Q43 = \"Easy\"),'Exam Questions'!$A43,\"\"),\"\")","v":""},{"$f":"IFERROR(IF(AND('Exam Questions'!$P43=0,'Exam Questions'!$Q43 = \"Average\"),'Exam Questions'!$A43,\"\"),\"\")","v":""},{"$f":"IFERROR(IF(AND('Exam Questions'!$P43=0,'Exam Questions'!$Q43 = \"Difficult\"),'Exam Questions'!$A43,\"\"),\"\")","v":""},{"$f":"IF('Exam Questions'!P43=0,'Exam Questions'!R43,\"\")","v":""},"",""]
[{"$f":"IFERROR(IF(AND('Exam Questions'!$P44=0,'Exam Questions'!$Q44 = \"Easy\"),'Exam Questions'!$A44,\"\"),\"\")","v":""},{"$f":"IFERROR(IF(AND('Exam Questions'!$P44=0,'Exam Questions'!$Q44 = \"Average\"),'Exam Questions'!$A44,\"\"),\"\")","v":""},{"$f":"IFERROR(IF(AND('Exam Questions'!$P44=0,'Exam Questions'!$Q44 = \"Difficult\"),'Exam Questions'!$A44,\"\"),\"\")","v":""},{"$f":"IF('Exam Questions'!P44=0,'Exam Questions'!R44,\"\")","v":""},"",""]
[{"$f":"IFERROR(IF(AND('Exam Questions'!$P45=0,'Exam Questions'!$Q45 = \"Easy\"),'Exam Questions'!$A45,\"\"),\"\")","v":""},{"$f":"IFERROR(IF(AND('Exam Questions'!$P45=0,'Exam Questions'!$Q45 = \"Average\"),'Exam Questions'!$A45,\"\"),\"\")","v":""},{"$f":"IFERROR(IF(AND('Exam Questions'!$P45=0,'Exam Questions'!$Q45 = \"Difficult\"),'Exam Questions'!$A45,\"\"),\"\")","v":""},{"$f":"IF('Exam Questions'!P45=0,'Exam Questions'!R45,\"\")","v":""},"",""]
[{"$f":"IFERROR(IF(AND('Exam Questions'!$P46=0,'Exam Questions'!$Q46 = \"Easy\"),'Exam Questions'!$A46,\"\"),\"\")","v":""},{"$f":"IFERROR(IF(AND('Exam Questions'!$P46=0,'Exam Questions'!$Q46 = \"Average\"),'Exam Questions'!$A46,\"\"),\"\")","v":""},{"$f":"IFERROR(IF(AND('Exam Questions'!$P46=0,'Exam Questions'!$Q46 = \"Difficult\"),'Exam Questions'!$A46,\"\"),\"\")","v":""},{"$f":"IF('Exam Questions'!P46=0,'Exam Questions'!R46,\"\")","v":""},"",""]
[{"$f":"IFERROR(IF(AND('Exam Questions'!$P47=0,'Exam Questions'!$Q47 = \"Easy\"),'Exam Questions'!$A47,\"\"),\"\")","v":""},{"$f":"IFERROR(IF(AND('Exam Questions'!$P47=0,'Exam Questions'!$Q47 = \"Average\"),'Exam Questions'!$A47,\"\"),\"\")","v":""},{"$f":"IFERROR(IF(AND('Exam Questions'!$P47=0,'Exam Questions'!$Q47 = \"Difficult\"),'Exam Questions'!$A47,\"\"),\"\")","v":""},{"$f":"IF('Exam Questions'!P47=0,'Exam Questions'!R47,\"\")","v":""},"",""]
[{"$f":"IFERROR(IF(AND('Exam Questions'!$P48=0,'Exam Questions'!$Q48 = \"Easy\"),'Exam Questions'!$A48,\"\"),\"\")","v":""},{"$f":"IFERROR(IF(AND('Exam Questions'!$P48=0,'Exam Questions'!$Q48 = \"Average\"),'Exam Questions'!$A48,\"\"),\"\")","v":""},{"$f":"IFERROR(IF(AND('Exam Questions'!$P48=0,'Exam Questions'!$Q48 = \"Difficult\"),'Exam Questions'!$A48,\"\"),\"\")","v":""},{"$f":"IF('Exam Questions'!P48=0,'Exam Questions'!R48,\"\")","v":""},"",""]
[{"$f":"IFERROR(IF(AND('Exam Questions'!$P49=0,'Exam Questions'!$Q49 = \"Easy\"),'Exam Questions'!$A49,\"\"),\"\")","v":""},{"$f":"IFERROR(IF(AND('Exam Questions'!$P49=0,'Exam Questions'!$Q49 = \"Average\"),'Exam Questions'!$A49,\"\"),\"\")","v":""},{"$f":"IFERROR(IF(AND('Exam Questions'!$P49=0,'Exam Questions'!$Q49 = \"Difficult\"),'Exam Questions'!$A49,\"\"),\"\")","v":""},{"$f":"IF('Exam Questions'!P49=0,'Exam Questions'!R49,\"\")","v":""},"",""]
[{"$f":"IFERROR(IF(AND('Exam Questions'!$P50=0,'Exam Questions'!$Q50 = \"Easy\"),'Exam Questions'!$A50,\"\"),\"\")","v":""},{"$f":"IFERROR(IF(AND('Exam Questions'!$P50=0,'Exam Questions'!$Q50 = \"Average\"),'Exam Questions'!$A50,\"\"),\"\")","v":""},{"$f":"IFERROR(IF(AND('Exam Questions'!$P50=0,'Exam Questions'!$Q50 = \"Difficult\"),'Exam Questions'!$A50,\"\"),\"\")","v":""},{"$f":"IF('Exam Questions'!P50=0,'Exam Questions'!R50,\"\")","v":""},"",""]
[{"$f":"IFERROR(IF(AND('Exam Questions'!$P51=0,'Exam Questions'!$Q51 = \"Easy\"),'Exam Questions'!$A51,\"\"),\"\")","v":""},{"$f":"IFERROR(IF(AND('Exam Questions'!$P51=0,'Exam Questions'!$Q51 = \"Average\"),'Exam Questions'!$A51,\"\"),\"\")","v":""},{"$f":"IFERROR(IF(AND('Exam Questions'!$P51=0,'Exam Questions'!$Q51 = \"Difficult\"),'Exam Questions'!$A51,\"\"),\"\")","v":""},{"$f":"IF('Exam Questions'!P51=0,'Exam Questions'!R51,\"\")","v":""},"",""]
[{"$f":"IFERROR(IF(AND('Exam Questions'!$P52=0,'Exam Questions'!$Q52 = \"Easy\"),'Exam Questions'!$A52,\"\"),\"\")","v":""},{"$f":"IFERROR(IF(AND('Exam Questions'!$P52=0,'Exam Questions'!$Q52 = \"Average\"),'Exam Questions'!$A52,\"\"),\"\")","v":""},{"$f":"IFERROR(IF(AND('Exam Questions'!$P52=0,'Exam Questions'!$Q52 = \"Difficult\"),'Exam Questions'!$A52,\"\"),\"\")","v":""},{"$f":"IF('Exam Questions'!P52=0,'Exam Questions'!R52,\"\")","v":""},"",""]
[{"$f":"IFERROR(IF(AND('Exam Questions'!$P53=0,'Exam Questions'!$Q53 = \"Easy\"),'Exam Questions'!$A53,\"\"),\"\")","v":""},{"$f":"IFERROR(IF(AND('Exam Questions'!$P53=0,'Exam Questions'!$Q53 = \"Average\"),'Exam Questions'!$A53,\"\"),\"\")","v":""},{"$f":"IFERROR(IF(AND('Exam Questions'!$P53=0,'Exam Questions'!$Q53 = \"Difficult\"),'Exam Questions'!$A53,\"\"),\"\")","v":""},{"$f":"IF('Exam Questions'!P53=0,'Exam Questions'!R53,\"\")","v":""},"",""]
[{"$f":"IFERROR(IF(AND('Exam Questions'!$P54=0,'Exam Questions'!$Q54 = \"Easy\"),'Exam Questions'!$A54,\"\"),\"\")","v":""},{"$f":"IFERROR(IF(AND('Exam Questions'!$P54=0,'Exam Questions'!$Q54 = \"Average\"),'Exam Questions'!$A54,\"\"),\"\")","v":""},{"$f":"IFERROR(IF(AND('Exam Questions'!$P54=0,'Exam Questions'!$Q54 = \"Difficult\"),'Exam Questions'!$A54,\"\"),\"\")","v":""},{"$f":"IF('Exam Questions'!P54=0,'Exam Questions'!R54,\"\")","v":""},"",""]
[{"$f":"IFERROR(IF(AND('Exam Questions'!$P55=0,'Exam Questions'!$Q55 = \"Easy\"),'Exam Questions'!$A55,\"\"),\"\")","v":""},{"$f":"IFERROR(IF(AND('Exam Questions'!$P55=0,'Exam Questions'!$Q55 = \"Average\"),'Exam Questions'!$A55,\"\"),\"\")","v":""},{"$f":"IFERROR(IF(AND('Exam Questions'!$P55=0,'Exam Questions'!$Q55 = \"Difficult\"),'Exam Questions'!$A55,\"\"),\"\")","v":""},{"$f":"IF('Exam Questions'!P55=0,'Exam Questions'!R55,\"\")","v":""},"",""]
[{"$f":"IFERROR(IF(AND('Exam Questions'!$P56=0,'Exam Questions'!$Q56 = \"Easy\"),'Exam Questions'!$A56,\"\"),\"\")","v":""},{"$f":"IFERROR(IF(AND('Exam Questions'!$P56=0,'Exam Questions'!$Q56 = \"Average\"),'Exam Questions'!$A56,\"\"),\"\")","v":""},{"$f":"IFERROR(IF(AND('Exam Questions'!$P56=0,'Exam Questions'!$Q56 = \"Difficult\"),'Exam Questions'!$A56,\"\"),\"\")","v":""},{"$f":"IF('Exam Questions'!P56=0,'Exam Questions'!R56,\"\")","v":""},"",""]
[{"$f":"IFERROR(IF(AND('Exam Questions'!$P57=0,'Exam Questions'!$Q57 = \"Easy\"),'Exam Questions'!$A57,\"\"),\"\")","v":""},{"$f":"IFERROR(IF(AND('Exam Questions'!$P57=0,'Exam Questions'!$Q57 = \"Average\"),'Exam Questions'!$A57,\"\"),\"\")","v":""},{"$f":"IFERROR(IF(AND('Exam Questions'!$P57=0,'Exam Questions'!$Q57 = \"Difficult\"),'Exam Questions'!$A57,\"\"),\"\")","v":""},{"$f":"IF('Exam Questions'!P57=0,'Exam Questions'!R57,\"\")","v":""},"",""]
[{"$f":"IFERROR(IF(AND('Exam Questions'!$P58=0,'Exam Questions'!$Q58 = \"Easy\"),'Exam Questions'!$A58,\"\"),\"\")","v":""},{"$f":"IFERROR(IF(AND('Exam Questions'!$P58=0,'Exam Questions'!$Q58 = \"Average\"),'Exam Questions'!$A58,\"\"),\"\")","v":""},{"$f":"IFERROR(IF(AND('Exam Questions'!$P58=0,'Exam Questions'!$Q58 = \"Difficult\"),'Exam Questions'!$A58,\"\"),\"\")","v":""},{"$f":"IF('Exam Questions'!P58=0,'Exam Questions'!R58,\"\")","v":""},"",""]
[{"$f":"IFERROR(IF(AND('Exam Questions'!$P59=0,'Exam Questions'!$Q59 = \"Easy\"),'Exam Questions'!$A59,\"\"),\"\")","v":""},{"$f":"IFERROR(IF(AND('Exam Questions'!$P59=0,'Exam Questions'!$Q59 = \"Average\"),'Exam Questions'!$A59,\"\"),\"\")","v":""},{"$f":"IFERROR(IF(AND('Exam Questions'!$P59=0,'Exam Questions'!$Q59 = \"Difficult\"),'Exam Questions'!$A59,\"\"),\"\")","v":""},{"$f":"IF('Exam Questions'!P59=0,'Exam Questions'!R59,\"\")","v":""},"",""]
[{"$f":"IFERROR(IF(AND('Exam Questions'!$P60=0,'Exam Questions'!$Q60 = \"Easy\"),'Exam Questions'!$A60,\"\"),\"\")","v":""},{"$f":"IFERROR(IF(AND('Exam Questions'!$P60=0,'Exam Questions'!$Q60 = \"Average\"),'Exam Questions'!$A60,\"\"),\"\")","v":""},{"$f":"IFERROR(IF(AND('Exam Questions'!$P60=0,'Exam Questions'!$Q60 = \"Difficult\"),'Exam Questions'!$A60,\"\"),\"\")","v":""},{"$f":"IF('Exam Questions'!P60=0,'Exam Questions'!R60,\"\")","v":""},"",""]
[{"$f":"IFERROR(IF(AND('Exam Questions'!$P61=0,'Exam Questions'!$Q61 = \"Easy\"),'Exam Questions'!$A61,\"\"),\"\")","v":""},{"$f":"IFERROR(IF(AND('Exam Questions'!$P61=0,'Exam Questions'!$Q61 = \"Average\"),'Exam Questions'!$A61,\"\"),\"\")","v":""},{"$f":"IFERROR(IF(AND('Exam Questions'!$P61=0,'Exam Questions'!$Q61 = \"Difficult\"),'Exam Questions'!$A61,\"\"),\"\")","v":""},{"$f":"IF('Exam Questions'!P61=0,'Exam Questions'!R61,\"\")","v":""},"",""]
[{"$f":"IFERROR(IF(AND('Exam Questions'!$P62=0,'Exam Questions'!$Q62 = \"Easy\"),'Exam Questions'!$A62,\"\"),\"\")","v":""},{"$f":"IFERROR(IF(AND('Exam Questions'!$P62=0,'Exam Questions'!$Q62 = \"Average\"),'Exam Questions'!$A62,\"\"),\"\")","v":""},{"$f":"IFERROR(IF(AND('Exam Questions'!$P62=0,'Exam Questions'!$Q62 = \"Difficult\"),'Exam Questions'!$A62,\"\"),\"\")","v":""},{"$f":"IF('Exam Questions'!P62=0,'Exam Questions'!R62,\"\")","v":""},"",""]
[{"$f":"IFERROR(IF(AND('Exam Questions'!$P63=0,'Exam Questions'!$Q63 = \"Easy\"),'Exam Questions'!$A63,\"\"),\"\")","v":""},{"$f":"IFERROR(IF(AND('Exam Questions'!$P63=0,'Exam Questions'!$Q63 = \"Average\"),'Exam Questions'!$A63,\"\"),\"\")","v":""},{"$f":"IFERROR(IF(AND('Exam Questions'!$P63=0,'Exam Questions'!$Q63 = \"Difficult\"),'Exam Questions'!$A63,\"\"),\"\")","v":""},{"$f":"IF('Exam Questions'!P63=0,'Exam Questions'!R63,\"\")","v":""},"",""]
[{"$f":"IFERROR(IF(AND('Exam Questions'!$P64=0,'Exam Questions'!$Q64 = \"Easy\"),'Exam Questions'!$A64,\"\"),\"\")","v":""},{"$f":"IFERROR(IF(AND('Exam Questions'!$P64=0,'Exam Questions'!$Q64 = \"Average\"),'Exam Questions'!$A64,\"\"),\"\")","v":""},{"$f":"IFERROR(IF(AND('Exam Questions'!$P64=0,'Exam Questions'!$Q64 = \"Difficult\"),'Exam Questions'!$A64,\"\"),\"\")","v":""},{"$f":"IF('Exam Questions'!P64=0,'Exam Questions'!R64,\"\")","v":""},"",""]
[{"$f":"IFERROR(IF(AND('Exam Questions'!$P65=0,'Exam Questions'!$Q65 = \"Easy\"),'Exam Questions'!$A65,\"\"),\"\")","v":""},{"$f":"IFERROR(IF(AND('Exam Questions'!$P65=0,'Exam Questions'!$Q65 = \"Average\"),'Exam Questions'!$A65,\"\"),\"\")","v":""},{"$f":"IFERROR(IF(AND('Exam Questions'!$P65=0,'Exam Questions'!$Q65 = \"Difficult\"),'Exam Questions'!$A65,\"\"),\"\")","v":""},{"$f":"IF('Exam Questions'!P65=0,'Exam Questions'!R65,\"\")","v":""},"",""]
[{"$f":"IFERROR(IF(AND('Exam Questions'!$P66=0,'Exam Questions'!$Q66 = \"Easy\"),'Exam Questions'!$A66,\"\"),\"\")","v":""},{"$f":"IFERROR(IF(AND('Exam Questions'!$P66=0,'Exam Questions'!$Q66 = \"Average\"),'Exam Questions'!$A66,\"\"),\"\")","v":""},{"$f":"IFERROR(IF(AND('Exam Questions'!$P66=0,'Exam Questions'!$Q66 = \"Difficult\"),'Exam Questions'!$A66,\"\"),\"\")","v":""},{"$f":"IF('Exam Questions'!P66=0,'Exam Questions'!R66,\"\")","v":""},{"$f":"IFERROR(INDEX(Data_Test_Q_Icon,MATCH(Test_Q_ELO,Data_Test_Q_ELO,0)),\"\")","v":""},{"$f":"IFERROR((VLOOKUP(E67,$J$35:$K$39,2)),\"\")","v":""}]
[{"$f":"IFERROR(IF(AND('Exam Questions'!$P67=0,'Exam Questions'!$Q67 = \"Easy\"),'Exam Questions'!$A67,\"\"),\"\")","v":""},{"$f":"IFERROR(IF(AND('Exam Questions'!$P67=0,'Exam Questions'!$Q67 = \"Average\"),'Exam Questions'!$A67,\"\"),\"\")","v":""},{"$f":"IFERROR(IF(AND('Exam Questions'!$P67=0,'Exam Questions'!$Q67 = \"Difficult\"),'Exam Questions'!$A67,\"\"),\"\")","v":""},{"$f":"IF('Exam Questions'!P67=0,'Exam Questions'!R67,\"\")","v":""},"",""]
[{"$f":"IFERROR(IF(AND('Exam Questions'!$P68=0,'Exam Questions'!$Q68 = \"Easy\"),'Exam Questions'!$A68,\"\"),\"\")","v":""},{"$f":"IFERROR(IF(AND('Exam Questions'!$P68=0,'Exam Questions'!$Q68 = \"Average\"),'Exam Questions'!$A68,\"\"),\"\")","v":""},{"$f":"IFERROR(IF(AND('Exam Questions'!$P68=0,'Exam Questions'!$Q68 = \"Difficult\"),'Exam Questions'!$A68,\"\"),\"\")","v":""},{"$f":"IF('Exam Questions'!P68=0,'Exam Questions'!R68,\"\")","v":""},"",""]
[{"$f":"IFERROR(IF(AND('Exam Questions'!$P69=0,'Exam Questions'!$Q69 = \"Easy\"),'Exam Questions'!$A69,\"\"),\"\")","v":""},{"$f":"IFERROR(IF(AND('Exam Questions'!$P69=0,'Exam Questions'!$Q69 = \"Average\"),'Exam Questions'!$A69,\"\"),\"\")","v":""},{"$f":"IFERROR(IF(AND('Exam Questions'!$P69=0,'Exam Questions'!$Q69 = \"Difficult\"),'Exam Questions'!$A69,\"\"),\"\")","v":""},{"$f":"IF('Exam Questions'!P69=0,'Exam Questions'!R69,\"\")","v":""},"",""]
[{"$f":"IFERROR(IF(AND('Exam Questions'!$P70=0,'Exam Questions'!$Q70 = \"Easy\"),'Exam Questions'!$A70,\"\"),\"\")","v":""},{"$f":"IFERROR(IF(AND('Exam Questions'!$P70=0,'Exam Questions'!$Q70 = \"Average\"),'Exam Questions'!$A70,\"\"),\"\")","v":""},{"$f":"IFERROR(IF(AND('Exam Questions'!$P70=0,'Exam Questions'!$Q70 = \"Difficult\"),'Exam Questions'!$A70,\"\"),\"\")","v":""},{"$f":"IF('Exam Questions'!P70=0,'Exam Questions'!R70,\"\")","v":""},"",""]
[{"$f":"IFERROR(IF(AND('Exam Questions'!$P71=0,'Exam Questions'!$Q71 = \"Easy\"),'Exam Questions'!$A71,\"\"),\"\")","v":""},{"$f":"IFERROR(IF(AND('Exam Questions'!$P71=0,'Exam Questions'!$Q71 = \"Average\"),'Exam Questions'!$A71,\"\"),\"\")","v":""},{"$f":"IFERROR(IF(AND('Exam Questions'!$P71=0,'Exam Questions'!$Q71 = \"Difficult\"),'Exam Questions'!$A71,\"\"),\"\")","v":""},{"$f":"IF('Exam Questions'!P71=0,'Exam Questions'!R71,\"\")","v":""},"",""]
[{"$f":"IFERROR(IF(AND('Exam Questions'!$P72=0,'Exam Questions'!$Q72 = \"Easy\"),'Exam Questions'!$A72,\"\"),\"\")","v":""},{"$f":"IFERROR(IF(AND('Exam Questions'!$P72=0,'Exam Questions'!$Q72 = \"Average\"),'Exam Questions'!$A72,\"\"),\"\")","v":""},{"$f":"IFERROR(IF(AND('Exam Questions'!$P72=0,'Exam Questions'!$Q72 = \"Difficult\"),'Exam Questions'!$A72,\"\"),\"\")","v":""},{"$f":"IF('Exam Questions'!P72=0,'Exam Questions'!R72,\"\")","v":""},"",""]
[{"$f":"IFERROR(IF(AND('Exam Questions'!$P73=0,'Exam Questions'!$Q73 = \"Easy\"),'Exam Questions'!$A73,\"\"),\"\")","v":""},{"$f":"IFERROR(IF(AND('Exam Questions'!$P73=0,'Exam Questions'!$Q73 = \"Average\"),'Exam Questions'!$A73,\"\"),\"\")","v":""},{"$f":"IFERROR(IF(AND('Exam Questions'!$P73=0,'Exam Questions'!$Q73 = \"Difficult\"),'Exam Questions'!$A73,\"\"),\"\")","v":""},{"$f":"IF('Exam Questions'!P73=0,'Exam Questions'!R73,\"\")","v":""},"",""]
[{"$f":"IFERROR(IF(AND('Exam Questions'!$P74=0,'Exam Questions'!$Q74 = \"Easy\"),'Exam Questions'!$A74,\"\"),\"\")","v":""},{"$f":"IFERROR(IF(AND('Exam Questions'!$P74=0,'Exam Questions'!$Q74 = \"Average\"),'Exam Questions'!$A74,\"\"),\"\")","v":""},{"$f":"IFERROR(IF(AND('Exam Questions'!$P74=0,'Exam Questions'!$Q74 = \"Difficult\"),'Exam Questions'!$A74,\"\"),\"\")","v":""},{"$f":"IF('Exam Questions'!P74=0,'Exam Questions'!R74,\"\")","v":""},"",""]
[{"$f":"IFERROR(IF(AND('Exam Questions'!$P75=0,'Exam Questions'!$Q75 = \"Easy\"),'Exam Questions'!$A75,\"\"),\"\")","v":""},{"$f":"IFERROR(IF(AND('Exam Questions'!$P75=0,'Exam Questions'!$Q75 = \"Average\"),'Exam Questions'!$A75,\"\"),\"\")","v":""},{"$f":"IFERROR(IF(AND('Exam Questions'!$P75=0,'Exam Questions'!$Q75 = \"Difficult\"),'Exam Questions'!$A75,\"\"),\"\")","v":""},{"$f":"IF('Exam Questions'!P75=0,'Exam Questions'!R75,\"\")","v":""},"",""]
[{"$f":"IFERROR(IF(AND('Exam Questions'!$P76=0,'Exam Questions'!$Q76 = \"Easy\"),'Exam Questions'!$A76,\"\"),\"\")","v":""},{"$f":"IFERROR(IF(AND('Exam Questions'!$P76=0,'Exam Questions'!$Q76 = \"Average\"),'Exam Questions'!$A76,\"\"),\"\")","v":""},{"$f":"IFERROR(IF(AND('Exam Questions'!$P76=0,'Exam Questions'!$Q76 = \"Difficult\"),'Exam Questions'!$A76,\"\"),\"\")","v":""},{"$f":"IF('Exam Questions'!P76=0,'Exam Questions'!R76,\"\")","v":""},"",""]
[{"$f":"IFERROR(IF(AND('Exam Questions'!$P77=0,'Exam Questions'!$Q77 = \"Easy\"),'Exam Questions'!$A77,\"\"),\"\")","v":""},{"$f":"IFERROR(IF(AND('Exam Questions'!$P77=0,'Exam Questions'!$Q77 = \"Average\"),'Exam Questions'!$A77,\"\"),\"\")","v":""},{"$f":"IFERROR(IF(AND('Exam Questions'!$P77=0,'Exam Questions'!$Q77 = \"Difficult\"),'Exam Questions'!$A77,\"\"),\"\")","v":""},{"$f":"IF('Exam Questions'!P77=0,'Exam Questions'!R77,\"\")","v":""},"",""]
[{"$f":"IFERROR(IF(AND('Exam Questions'!$P78=0,'Exam Questions'!$Q78 = \"Easy\"),'Exam Questions'!$A78,\"\"),\"\")","v":""},{"$f":"IFERROR(IF(AND('Exam Questions'!$P78=0,'Exam Questions'!$Q78 = \"Average\"),'Exam Questions'!$A78,\"\"),\"\")","v":""},{"$f":"IFERROR(IF(AND('Exam Questions'!$P78=0,'Exam Questions'!$Q78 = \"Difficult\"),'Exam Questions'!$A78,\"\"),\"\")","v":""},{"$f":"IF('Exam Questions'!P78=0,'Exam Questions'!R78,\"\")","v":""},"",""]
[{"$f":"IFERROR(IF(AND('Exam Questions'!$P79=0,'Exam Questions'!$Q79 = \"Easy\"),'Exam Questions'!$A79,\"\"),\"\")","v":""},{"$f":"IFERROR(IF(AND('Exam Questions'!$P79=0,'Exam Questions'!$Q79 = \"Average\"),'Exam Questions'!$A79,\"\"),\"\")","v":""},{"$f":"IFERROR(IF(AND('Exam Questions'!$P79=0,'Exam Questions'!$Q79 = \"Difficult\"),'Exam Questions'!$A79,\"\"),\"\")","v":""},{"$f":"IF('Exam Questions'!P79=0,'Exam Questions'!R79,\"\")","v":""},"",""]
[{"$f":"IFERROR(IF(AND('Exam Questions'!$P80=0,'Exam Questions'!$Q80 = \"Easy\"),'Exam Questions'!$A80,\"\"),\"\")","v":""},{"$f":"IFERROR(IF(AND('Exam Questions'!$P80=0,'Exam Questions'!$Q80 = \"Average\"),'Exam Questions'!$A80,\"\"),\"\")","v":""},{"$f":"IFERROR(IF(AND('Exam Questions'!$P80=0,'Exam Questions'!$Q80 = \"Difficult\"),'Exam Questions'!$A80,\"\"),\"\")","v":""},{"$f":"IF('Exam Questions'!P80=0,'Exam Questions'!R80,\"\")","v":""},"",""]
[{"$f":"IFERROR(IF(AND('Exam Questions'!$P81=0,'Exam Questions'!$Q81 = \"Easy\"),'Exam Questions'!$A81,\"\"),\"\")","v":""},{"$f":"IFERROR(IF(AND('Exam Questions'!$P81=0,'Exam Questions'!$Q81 = \"Average\"),'Exam Questions'!$A81,\"\"),\"\")","v":""},{"$f":"IFERROR(IF(AND('Exam Questions'!$P81=0,'Exam Questions'!$Q81 = \"Difficult\"),'Exam Questions'!$A81,\"\"),\"\")","v":""},{"$f":"IF('Exam Questions'!P81=0,'Exam Questions'!R81,\"\")","v":""},"",""]
[{"$f":"IFERROR(IF(AND('Exam Questions'!$P82=0,'Exam Questions'!$Q82 = \"Easy\"),'Exam Questions'!$A82,\"\"),\"\")","v":""},{"$f":"IFERROR(IF(AND('Exam Questions'!$P82=0,'Exam Questions'!$Q82 = \"Average\"),'Exam Questions'!$A82,\"\"),\"\")","v":""},{"$f":"IFERROR(IF(AND('Exam Questions'!$P82=0,'Exam Questions'!$Q82 = \"Difficult\"),'Exam Questions'!$A82,\"\"),\"\")","v":""},{"$f":"IF('Exam Questions'!P82=0,'Exam Questions'!R82,\"\")","v":""},"",""]
[{"$f":"IFERROR(IF(AND('Exam Questions'!$P83=0,'Exam Questions'!$Q83 = \"Easy\"),'Exam Questions'!$A83,\"\"),\"\")","v":""},{"$f":"IFERROR(IF(AND('Exam Questions'!$P83=0,'Exam Questions'!$Q83 = \"Average\"),'Exam Questions'!$A83,\"\"),\"\")","v":""},{"$f":"IFERROR(IF(AND('Exam Questions'!$P83=0,'Exam Questions'!$Q83 = \"Difficult\"),'Exam Questions'!$A83,\"\"),\"\")","v":""},{"$f":"IF('Exam Questions'!P83=0,'Exam Questions'!R83,\"\")","v":""},"",""]
[{"$f":"IFERROR(IF(AND('Exam Questions'!$P84=0,'Exam Questions'!$Q84 = \"Easy\"),'Exam Questions'!$A84,\"\"),\"\")","v":""},{"$f":"IFERROR(IF(AND('Exam Questions'!$P84=0,'Exam Questions'!$Q84 = \"Average\"),'Exam Questions'!$A84,\"\"),\"\")","v":""},{"$f":"IFERROR(IF(AND('Exam Questions'!$P84=0,'Exam Questions'!$Q84 = \"Difficult\"),'Exam Questions'!$A84,\"\"),\"\")","v":""},{"$f":"IF('Exam Questions'!P84=0,'Exam Questions'!R84,\"\")","v":""},"",""]
[{"$f":"IFERROR(IF(AND('Exam Questions'!$P85=0,'Exam Questions'!$Q85 = \"Easy\"),'Exam Questions'!$A85,\"\"),\"\")","v":""},{"$f":"IFERROR(IF(AND('Exam Questions'!$P85=0,'Exam Questions'!$Q85 = \"Average\"),'Exam Questions'!$A85,\"\"),\"\")","v":""},{"$f":"IFERROR(IF(AND('Exam Questions'!$P85=0,'Exam Questions'!$Q85 = \"Difficult\"),'Exam Questions'!$A85,\"\"),\"\")","v":""},{"$f":"IF('Exam Questions'!P85=0,'Exam Questions'!R85,\"\")","v":""},"",""]
[{"$f":"IFERROR(IF(AND('Exam Questions'!$P86=0,'Exam Questions'!$Q86 = \"Easy\"),'Exam Questions'!$A86,\"\"),\"\")","v":""},{"$f":"IFERROR(IF(AND('Exam Questions'!$P86=0,'Exam Questions'!$Q86 = \"Average\"),'Exam Questions'!$A86,\"\"),\"\")","v":""},{"$f":"IFERROR(IF(AND('Exam Questions'!$P86=0,'Exam Questions'!$Q86 = \"Difficult\"),'Exam Questions'!$A86,\"\"),\"\")","v":""},{"$f":"IF('Exam Questions'!P86=0,'Exam Questions'!R86,\"\")","v":""},"",""]
[{"$f":"IFERROR(IF(AND('Exam Questions'!$P87=0,'Exam Questions'!$Q87 = \"Easy\"),'Exam Questions'!$A87,\"\"),\"\")","v":""},{"$f":"IFERROR(IF(AND('Exam Questions'!$P87=0,'Exam Questions'!$Q87 = \"Average\"),'Exam Questions'!$A87,\"\"),\"\")","v":""},{"$f":"IFERROR(IF(AND('Exam Questions'!$P87=0,'Exam Questions'!$Q87 = \"Difficult\"),'Exam Questions'!$A87,\"\"),\"\")","v":""},{"$f":"IF('Exam Questions'!P87=0,'Exam Questions'!R87,\"\")","v":""},"",""]
[{"$f":"IFERROR(IF(AND('Exam Questions'!$P88=0,'Exam Questions'!$Q88 = \"Easy\"),'Exam Questions'!$A88,\"\"),\"\")","v":""},{"$f":"IFERROR(IF(AND('Exam Questions'!$P88=0,'Exam Questions'!$Q88 = \"Average\"),'Exam Questions'!$A88,\"\"),\"\")","v":""},{"$f":"IFERROR(IF(AND('Exam Questions'!$P88=0,'Exam Questions'!$Q88 = \"Difficult\"),'Exam Questions'!$A88,\"\"),\"\")","v":""},{"$f":"IF('Exam Questions'!P88=0,'Exam Questions'!R88,\"\")","v":""},"",""]
[{"$f":"IFERROR(IF(AND('Exam Questions'!$P89=0,'Exam Questions'!$Q89 = \"Easy\"),'Exam Questions'!$A89,\"\"),\"\")","v":""},{"$f":"IFERROR(IF(AND('Exam Questions'!$P89=0,'Exam Questions'!$Q89 = \"Average\"),'Exam Questions'!$A89,\"\"),\"\")","v":""},{"$f":"IFERROR(IF(AND('Exam Questions'!$P89=0,'Exam Questions'!$Q89 = \"Difficult\"),'Exam Questions'!$A89,\"\"),\"\")","v":""},{"$f":"IF('Exam Questions'!P89=0,'Exam Questions'!R89,\"\")","v":""},"",""]
[{"$f":"IFERROR(IF(AND('Exam Questions'!$P90=0,'Exam Questions'!$Q90 = \"Easy\"),'Exam Questions'!$A90,\"\"),\"\")","v":""},{"$f":"IFERROR(IF(AND('Exam Questions'!$P90=0,'Exam Questions'!$Q90 = \"Average\"),'Exam Questions'!$A90,\"\"),\"\")","v":""},{"$f":"IFERROR(IF(AND('Exam Questions'!$P90=0,'Exam Questions'!$Q90 = \"Difficult\"),'Exam Questions'!$A90,\"\"),\"\")","v":""},{"$f":"IF('Exam Questions'!P90=0,'Exam Questions'!R90,\"\")","v":""},"",""]
[{"$f":"IFERROR(IF(AND('Exam Questions'!$P91=0,'Exam Questions'!$Q91 = \"Easy\"),'Exam Questions'!$A91,\"\"),\"\")","v":""},{"$f":"IFERROR(IF(AND('Exam Questions'!$P91=0,'Exam Questions'!$Q91 = \"Average\"),'Exam Questions'!$A91,\"\"),\"\")","v":""},{"$f":"IFERROR(IF(AND('Exam Questions'!$P91=0,'Exam Questions'!$Q91 = \"Difficult\"),'Exam Questions'!$A91,\"\"),\"\")","v":""},{"$f":"IF('Exam Questions'!P91=0,'Exam Questions'!R91,\"\")","v":""},"",""]
[{"$f":"IFERROR(IF(AND('Exam Questions'!$P92=0,'Exam Questions'!$Q92 = \"Easy\"),'Exam Questions'!$A92,\"\"),\"\")","v":""},{"$f":"IFERROR(IF(AND('Exam Questions'!$P92=0,'Exam Questions'!$Q92 = \"Average\"),'Exam Questions'!$A92,\"\"),\"\")","v":""},{"$f":"IFERROR(IF(AND('Exam Questions'!$P92=0,'Exam Questions'!$Q92 = \"Difficult\"),'Exam Questions'!$A92,\"\"),\"\")","v":""},{"$f":"IF('Exam Questions'!P92=0,'Exam Questions'!R92,\"\")","v":""},"",""]
[{"$f":"IFERROR(IF(AND('Exam Questions'!$P93=0,'Exam Questions'!$Q93 = \"Easy\"),'Exam Questions'!$A93,\"\"),\"\")","v":""},{"$f":"IFERROR(IF(AND('Exam Questions'!$P93=0,'Exam Questions'!$Q93 = \"Average\"),'Exam Questions'!$A93,\"\"),\"\")","v":""},{"$f":"IFERROR(IF(AND('Exam Questions'!$P93=0,'Exam Questions'!$Q93 = \"Difficult\"),'Exam Questions'!$A93,\"\"),\"\")","v":""},{"$f":"IF('Exam Questions'!P93=0,'Exam Questions'!R93,\"\")","v":""},"",""]
[{"$f":"IFERROR(IF(AND('Exam Questions'!$P94=0,'Exam Questions'!$Q94 = \"Easy\"),'Exam Questions'!$A94,\"\"),\"\")","v":""},{"$f":"IFERROR(IF(AND('Exam Questions'!$P94=0,'Exam Questions'!$Q94 = \"Average\"),'Exam Questions'!$A94,\"\"),\"\")","v":""},{"$f":"IFERROR(IF(AND('Exam Questions'!$P94=0,'Exam Questions'!$Q94 = \"Difficult\"),'Exam Questions'!$A94,\"\"),\"\")","v":""},{"$f":"IF('Exam Questions'!P94=0,'Exam Questions'!R94,\"\")","v":""},"",""]
[{"$f":"IFERROR(IF(AND('Exam Questions'!$P95=0,'Exam Questions'!$Q95 = \"Easy\"),'Exam Questions'!$A95,\"\"),\"\")","v":""},{"$f":"IFERROR(IF(AND('Exam Questions'!$P95=0,'Exam Questions'!$Q95 = \"Average\"),'Exam Questions'!$A95,\"\"),\"\")","v":""},{"$f":"IFERROR(IF(AND('Exam Questions'!$P95=0,'Exam Questions'!$Q95 = \"Difficult\"),'Exam Questions'!$A95,\"\"),\"\")","v":""},{"$f":"IF('Exam Questions'!P95=0,'Exam Questions'!R95,\"\")","v":""},"",""]
[{"$f":"IFERROR(IF(AND('Exam Questions'!$P96=0,'Exam Questions'!$Q96 = \"Easy\"),'Exam Questions'!$A96,\"\"),\"\")","v":""},{"$f":"IFERROR(IF(AND('Exam Questions'!$P96=0,'Exam Questions'!$Q96 = \"Average\"),'Exam Questions'!$A96,\"\"),\"\")","v":""},{"$f":"IFERROR(IF(AND('Exam Questions'!$P96=0,'Exam Questions'!$Q96 = \"Difficult\"),'Exam Questions'!$A96,\"\"),\"\")","v":""},{"$f":"IF('Exam Questions'!P96=0,'Exam Questions'!R96,\"\")","v":""},"",""]
[{"$f":"IFERROR(IF(AND('Exam Questions'!$P97=0,'Exam Questions'!$Q97 = \"Easy\"),'Exam Questions'!$A97,\"\"),\"\")","v":""},{"$f":"IFERROR(IF(AND('Exam Questions'!$P97=0,'Exam Questions'!$Q97 = \"Average\"),'Exam Questions'!$A97,\"\"),\"\")","v":""},{"$f":"IFERROR(IF(AND('Exam Questions'!$P97=0,'Exam Questions'!$Q97 = \"Difficult\"),'Exam Questions'!$A97,\"\"),\"\")","v":""},{"$f":"IF('Exam Questions'!P97=0,'Exam Questions'!R97,\"\")","v":""},"",""]
[{"$f":"IFERROR(IF(AND('Exam Questions'!$P98=0,'Exam Questions'!$Q98 = \"Easy\"),'Exam Questions'!$A98,\"\"),\"\")","v":""},{"$f":"IFERROR(IF(AND('Exam Questions'!$P98=0,'Exam Questions'!$Q98 = \"Average\"),'Exam Questions'!$A98,\"\"),\"\")","v":""},{"$f":"IFERROR(IF(AND('Exam Questions'!$P98=0,'Exam Questions'!$Q98 = \"Difficult\"),'Exam Questions'!$A98,\"\"),\"\")","v":""},{"$f":"IF('Exam Questions'!P98=0,'Exam Questions'!R98,\"\")","v":""},{"$f":"IFERROR(INDEX(Data_Test_Q_Icon,MATCH(Test_Q_ELO,Data_Test_Q_ELO,0)),\"\")","v":""},{"$f":"IFERROR((VLOOKUP(E99,$J$35:$K$39,2)),\"\")","v":""}]
[{"$f":"IFERROR(IF(AND('Exam Questions'!$P99=0,'Exam Questions'!$Q99 = \"Easy\"),'Exam Questions'!$A99,\"\"),\"\")","v":""},{"$f":"IFERROR(IF(AND('Exam Questions'!$P99=0,'Exam Questions'!$Q99 = \"Average\"),'Exam Questions'!$A99,\"\"),\"\")","v":""},{"$f":"IFERROR(IF(AND('Exam Questions'!$P99=0,'Exam Questions'!$Q99 = \"Difficult\"),'Exam Questions'!$A99,\"\"),\"\")","v":""},{"$f":"IF('Exam Questions'!P99=0,'Exam Questions'!R99,\"\")","v":""},"",""]
[{"$f":"IFERROR(IF(AND('Exam Questions'!$P100=0,'Exam Questions'!$Q100 = \"Easy\"),'Exam Questions'!$A100,\"\"),\"\")","v":""},{"$f":"IFERROR(IF(AND('Exam Questions'!$P100=0,'Exam Questions'!$Q100 = \"Average\"),'Exam Questions'!$A100,\"\"),\"\")","v":""},{"$f":"IFERROR(IF(AND('Exam Questions'!$P100=0,'Exam Questions'!$Q100 = \"Difficult\"),'Exam Questions'!$A100,\"\"),\"\")","v":""},{"$f":"IF('Exam Questions'!P100=0,'Exam Questions'!R100,\"\")","v":""},"",""]
[{"$f":"IFERROR(IF(AND('Exam Questions'!$P101=0,'Exam Questions'!$Q101 = \"Easy\"),'Exam Questions'!$A101,\"\"),\"\")","v":""},{"$f":"IFERROR(IF(AND('Exam Questions'!$P101=0,'Exam Questions'!$Q101 = \"Average\"),'Exam Questions'!$A101,\"\"),\"\")","v":""},{"$f":"IFERROR(IF(AND('Exam Questions'!$P101=0,'Exam Questions'!$Q101 = \"Difficult\"),'Exam Questions'!$A101,\"\"),\"\")","v":""},{"$f":"IF('Exam Questions'!P101=0,'Exam Questions'!R101,\"\")","v":""},"",""]
[{"$f":"IFERROR(IF(AND('Exam Questions'!$P102=0,'Exam Questions'!$Q102 = \"Easy\"),'Exam Questions'!$A102,\"\"),\"\")","v":""},{"$f":"IFERROR(IF(AND('Exam Questions'!$P102=0,'Exam Questions'!$Q102 = \"Average\"),'Exam Questions'!$A102,\"\"),\"\")","v":""},{"$f":"IFERROR(IF(AND('Exam Questions'!$P102=0,'Exam Questions'!$Q102 = \"Difficult\"),'Exam Questions'!$A102,\"\"),\"\")","v":""},{"$f":"IF('Exam Questions'!P102=0,'Exam Questions'!R102,\"\")","v":""},"",""]
[{"$f":"IFERROR(IF(AND('Exam Questions'!$P103=0,'Exam Questions'!$Q103 = \"Easy\"),'Exam Questions'!$A103,\"\"),\"\")","v":""},{"$f":"IFERROR(IF(AND('Exam Questions'!$P103=0,'Exam Questions'!$Q103 = \"Average\"),'Exam Questions'!$A103,\"\"),\"\")","v":""},{"$f":"IFERROR(IF(AND('Exam Questions'!$P103=0,'Exam Questions'!$Q103 = \"Difficult\"),'Exam Questions'!$A103,\"\"),\"\")","v":""},{"$f":"IF('Exam Questions'!P103=0,'Exam Questions'!R103,\"\")","v":""},"",""]
[{"$f":"IFERROR(IF(AND('Exam Questions'!$P104=0,'Exam Questions'!$Q104 = \"Easy\"),'Exam Questions'!$A104,\"\"),\"\")","v":""},{"$f":"IFERROR(IF(AND('Exam Questions'!$P104=0,'Exam Questions'!$Q104 = \"Average\"),'Exam Questions'!$A104,\"\"),\"\")","v":""},{"$f":"IFERROR(IF(AND('Exam Questions'!$P104=0,'Exam Questions'!$Q104 = \"Difficult\"),'Exam Questions'!$A104,\"\"),\"\")","v":""},{"$f":"IF('Exam Questions'!P104=0,'Exam Questions'!R104,\"\")","v":""},"",""]
[{"$f":"IFERROR(IF(AND('Exam Questions'!$P105=0,'Exam Questions'!$Q105 = \"Easy\"),'Exam Questions'!$A105,\"\"),\"\")","v":""},{"$f":"IFERROR(IF(AND('Exam Questions'!$P105=0,'Exam Questions'!$Q105 = \"Average\"),'Exam Questions'!$A105,\"\"),\"\")","v":""},{"$f":"IFERROR(IF(AND('Exam Questions'!$P105=0,'Exam Questions'!$Q105 = \"Difficult\"),'Exam Questions'!$A105,\"\"),\"\")","v":""},{"$f":"IF('Exam Questions'!P105=0,'Exam Questions'!R105,\"\")","v":""},"",""]
[{"$f":"IFERROR(IF(AND('Exam Questions'!$P106=0,'Exam Questions'!$Q106 = \"Easy\"),'Exam Questions'!$A106,\"\"),\"\")","v":""},{"$f":"IFERROR(IF(AND('Exam Questions'!$P106=0,'Exam Questions'!$Q106 = \"Average\"),'Exam Questions'!$A106,\"\"),\"\")","v":""},{"$f":"IFERROR(IF(AND('Exam Questions'!$P106=0,'Exam Questions'!$Q106 = \"Difficult\"),'Exam Questions'!$A106,\"\"),\"\")","v":""},{"$f":"IF('Exam Questions'!P106=0,'Exam Questions'!R106,\"\")","v":""},"",""]
[{"$f":"IFERROR(IF(AND('Exam Questions'!$P107=0,'Exam Questions'!$Q107 = \"Easy\"),'Exam Questions'!$A107,\"\"),\"\")","v":""},{"$f":"IFERROR(IF(AND('Exam Questions'!$P107=0,'Exam Questions'!$Q107 = \"Average\"),'Exam Questions'!$A107,\"\"),\"\")","v":""},{"$f":"IFERROR(IF(AND('Exam Questions'!$P107=0,'Exam Questions'!$Q107 = \"Difficult\"),'Exam Questions'!$A107,\"\"),\"\")","v":""},{"$f":"IF('Exam Questions'!P107=0,'Exam Questions'!R107,\"\")","v":""},"",""]
[{"$f":"IFERROR(IF(AND('Exam Questions'!$P108=0,'Exam Questions'!$Q108 = \"Easy\"),'Exam Questions'!$A108,\"\"),\"\")","v":""},{"$f":"IFERROR(IF(AND('Exam Questions'!$P108=0,'Exam Questions'!$Q108 = \"Average\"),'Exam Questions'!$A108,\"\"),\"\")","v":""},{"$f":"IFERROR(IF(AND('Exam Questions'!$P108=0,'Exam Questions'!$Q108 = \"Difficult\"),'Exam Questions'!$A108,\"\"),\"\")","v":""},{"$f":"IF('Exam Questions'!P108=0,'Exam Questions'!R108,\"\")","v":""},"",""]
[{"$f":"IFERROR(IF(AND('Exam Questions'!$P109=0,'Exam Questions'!$Q109 = \"Easy\"),'Exam Questions'!$A109,\"\"),\"\")","v":""},{"$f":"IFERROR(IF(AND('Exam Questions'!$P109=0,'Exam Questions'!$Q109 = \"Average\"),'Exam Questions'!$A109,\"\"),\"\")","v":""},{"$f":"IFERROR(IF(AND('Exam Questions'!$P109=0,'Exam Questions'!$Q109 = \"Difficult\"),'Exam Questions'!$A109,\"\"),\"\")","v":""},{"$f":"IF('Exam Questions'!P109=0,'Exam Questions'!R109,\"\")","v":""},"",""]
[{"$f":"IFERROR(IF(AND('Exam Questions'!$P110=0,'Exam Questions'!$Q110 = \"Easy\"),'Exam Questions'!$A110,\"\"),\"\")","v":""},{"$f":"IFERROR(IF(AND('Exam Questions'!$P110=0,'Exam Questions'!$Q110 = \"Average\"),'Exam Questions'!$A110,\"\"),\"\")","v":""},{"$f":"IFERROR(IF(AND('Exam Questions'!$P110=0,'Exam Questions'!$Q110 = \"Difficult\"),'Exam Questions'!$A110,\"\"),\"\")","v":""},{"$f":"IF('Exam Questions'!P110=0,'Exam Questions'!R110,\"\")","v":""},"",""]
[{"$f":"IFERROR(IF(AND('Exam Questions'!$P111=0,'Exam Questions'!$Q111 = \"Easy\"),'Exam Questions'!$A111,\"\"),\"\")","v":""},{"$f":"IFERROR(IF(AND('Exam Questions'!$P111=0,'Exam Questions'!$Q111 = \"Average\"),'Exam Questions'!$A111,\"\"),\"\")","v":""},{"$f":"IFERROR(IF(AND('Exam Questions'!$P111=0,'Exam Questions'!$Q111 = \"Difficult\"),'Exam Questions'!$A111,\"\"),\"\")","v":""},{"$f":"IF('Exam Questions'!P111=0,'Exam Questions'!R111,\"\")","v":""},"",""]
[{"$f":"IFERROR(IF(AND('Exam Questions'!$P112=0,'Exam Questions'!$Q112 = \"Easy\"),'Exam Questions'!$A112,\"\"),\"\")","v":""},{"$f":"IFERROR(IF(AND('Exam Questions'!$P112=0,'Exam Questions'!$Q112 = \"Average\"),'Exam Questions'!$A112,\"\"),\"\")","v":""},{"$f":"IFERROR(IF(AND('Exam Questions'!$P112=0,'Exam Questions'!$Q112 = \"Difficult\"),'Exam Questions'!$A112,\"\"),\"\")","v":""},{"$f":"IF('Exam Questions'!P112=0,'Exam Questions'!R112,\"\")","v":""},"",""]
[{"$f":"IFERROR(IF(AND('Exam Questions'!$P113=0,'Exam Questions'!$Q113 = \"Easy\"),'Exam Questions'!$A113,\"\"),\"\")","v":""},{"$f":"IFERROR(IF(AND('Exam Questions'!$P113=0,'Exam Questions'!$Q113 = \"Average\"),'Exam Questions'!$A113,\"\"),\"\")","v":""},{"$f":"IFERROR(IF(AND('Exam Questions'!$P113=0,'Exam Questions'!$Q113 = \"Difficult\"),'Exam Questions'!$A113,\"\"),\"\")","v":""},{"$f":"IF('Exam Questions'!P113=0,'Exam Questions'!R113,\"\")","v":""},"",""]
[{"$f":"IFERROR(IF(AND('Exam Questions'!$P114=0,'Exam Questions'!$Q114 = \"Easy\"),'Exam Questions'!$A114,\"\"),\"\")","v":""},{"$f":"IFERROR(IF(AND('Exam Questions'!$P114=0,'Exam Questions'!$Q114 = \"Average\"),'Exam Questions'!$A114,\"\"),\"\")","v":""},{"$f":"IFERROR(IF(AND('Exam Questions'!$P114=0,'Exam Questions'!$Q114 = \"Difficult\"),'Exam Questions'!$A114,\"\"),\"\")","v":""},{"$f":"IF('Exam Questions'!P114=0,'Exam Questions'!R114,\"\")","v":""},"",""]
[{"$f":"IFERROR(IF(AND('Exam Questions'!$P115=0,'Exam Questions'!$Q115 = \"Easy\"),'Exam Questions'!$A115,\"\"),\"\")","v":""},{"$f":"IFERROR(IF(AND('Exam Questions'!$P115=0,'Exam Questions'!$Q115 = \"Average\"),'Exam Questions'!$A115,\"\"),\"\")","v":""},{"$f":"IFERROR(IF(AND('Exam Questions'!$P115=0,'Exam Questions'!$Q115 = \"Difficult\"),'Exam Questions'!$A115,\"\"),\"\")","v":""},{"$f":"IF('Exam Questions'!P115=0,'Exam Questions'!R115,\"\")","v":""},"",""]
[{"$f":"IFERROR(IF(AND('Exam Questions'!$P116=0,'Exam Questions'!$Q116 = \"Easy\"),'Exam Questions'!$A116,\"\"),\"\")","v":""},{"$f":"IFERROR(IF(AND('Exam Questions'!$P116=0,'Exam Questions'!$Q116 = \"Average\"),'Exam Questions'!$A116,\"\"),\"\")","v":""},{"$f":"IFERROR(IF(AND('Exam Questions'!$P116=0,'Exam Questions'!$Q116 = \"Difficult\"),'Exam Questions'!$A116,\"\"),\"\")","v":""},{"$f":"IF('Exam Questions'!P116=0,'Exam Questions'!R116,\"\")","v":""},"",""]
[{"$f":"IFERROR(IF(AND('Exam Questions'!$P117=0,'Exam Questions'!$Q117 = \"Easy\"),'Exam Questions'!$A117,\"\"),\"\")","v":""},{"$f":"IFERROR(IF(AND('Exam Questions'!$P117=0,'Exam Questions'!$Q117 = \"Average\"),'Exam Questions'!$A117,\"\"),\"\")","v":""},{"$f":"IFERROR(IF(AND('Exam Questions'!$P117=0,'Exam Questions'!$Q117 = \"Difficult\"),'Exam Questions'!$A117,\"\"),\"\")","v":""},{"$f":"IF('Exam Questions'!P117=0,'Exam Questions'!R117,\"\")","v":""},"",""]
[{"$f":"IFERROR(IF(AND('Exam Questions'!$P118=0,'Exam Questions'!$Q118 = \"Easy\"),'Exam Questions'!$A118,\"\"),\"\")","v":""},{"$f":"IFERROR(IF(AND('Exam Questions'!$P118=0,'Exam Questions'!$Q118 = \"Average\"),'Exam Questions'!$A118,\"\"),\"\")","v":""},{"$f":"IFERROR(IF(AND('Exam Questions'!$P118=0,'Exam Questions'!$Q118 = \"Difficult\"),'Exam Questions'!$A118,\"\"),\"\")","v":""},{"$f":"IF('Exam Questions'!P118=0,'Exam Questions'!R118,\"\")","v":""},"",""]
[{"$f":"IFERROR(IF(AND('Exam Questions'!$P119=0,'Exam Questions'!$Q119 = \"Easy\"),'Exam Questions'!$A119,\"\"),\"\")","v":""},{"$f":"IFERROR(IF(AND('Exam Questions'!$P119=0,'Exam Questions'!$Q119 = \"Average\"),'Exam Questions'!$A119,\"\"),\"\")","v":""},{"$f":"IFERROR(IF(AND('Exam Questions'!$P119=0,'Exam Questions'!$Q119 = \"Difficult\"),'Exam Questions'!$A119,\"\"),\"\")","v":""},{"$f":"IF('Exam Questions'!P119=0,'Exam Questions'!R119,\"\")","v":""},"",""]
[{"$f":"IFERROR(IF(AND('Exam Questions'!$P120=0,'Exam Questions'!$Q120 = \"Easy\"),'Exam Questions'!$A120,\"\"),\"\")","v":""},{"$f":"IFERROR(IF(AND('Exam Questions'!$P120=0,'Exam Questions'!$Q120 = \"Average\"),'Exam Questions'!$A120,\"\"),\"\")","v":""},{"$f":"IFERROR(IF(AND('Exam Questions'!$P120=0,'Exam Questions'!$Q120 = \"Difficult\"),'Exam Questions'!$A120,\"\"),\"\")","v":""},{"$f":"IF('Exam Questions'!P120=0,'Exam Questions'!R120,\"\")","v":""},"",""]
[{"$f":"IFERROR(IF(AND('Exam Questions'!$P121=0,'Exam Questions'!$Q121 = \"Easy\"),'Exam Questions'!$A121,\"\"),\"\")","v":""},{"$f":"IFERROR(IF(AND('Exam Questions'!$P121=0,'Exam Questions'!$Q121 = \"Average\"),'Exam Questions'!$A121,\"\"),\"\")","v":""},{"$f":"IFERROR(IF(AND('Exam Questions'!$P121=0,'Exam Questions'!$Q121 = \"Difficult\"),'Exam Questions'!$A121,\"\"),\"\")","v":""},{"$f":"IF('Exam Questions'!P121=0,'Exam Questions'!R121,\"\")","v":""},"",""]
[{"$f":"IFERROR(IF(AND('Exam Questions'!$P122=0,'Exam Questions'!$Q122 = \"Easy\"),'Exam Questions'!$A122,\"\"),\"\")","v":""},{"$f":"IFERROR(IF(AND('Exam Questions'!$P122=0,'Exam Questions'!$Q122 = \"Average\"),'Exam Questions'!$A122,\"\"),\"\")","v":""},{"$f":"IFERROR(IF(AND('Exam Questions'!$P122=0,'Exam Questions'!$Q122 = \"Difficult\"),'Exam Questions'!$A122,\"\"),\"\")","v":""},{"$f":"IF('Exam Questions'!P122=0,'Exam Questions'!R122,\"\")","v":""},"",""]
[{"$f":"IFERROR(IF(AND('Exam Questions'!$P123=0,'Exam Questions'!$Q123 = \"Easy\"),'Exam Questions'!$A123,\"\"),\"\")","v":""},{"$f":"IFERROR(IF(AND('Exam Questions'!$P123=0,'Exam Questions'!$Q123 = \"Average\"),'Exam Questions'!$A123,\"\"),\"\")","v":""},{"$f":"IFERROR(IF(AND('Exam Questions'!$P123=0,'Exam Questions'!$Q123 = \"Difficult\"),'Exam Questions'!$A123,\"\"),\"\")","v":""},{"$f":"IF('Exam Questions'!P123=0,'Exam Questions'!R123,\"\")","v":""},"",""]
[{"$f":"IFERROR(IF(AND('Exam Questions'!$P124=0,'Exam Questions'!$Q124 = \"Easy\"),'Exam Questions'!$A124,\"\"),\"\")","v":""},{"$f":"IFERROR(IF(AND('Exam Questions'!$P124=0,'Exam Questions'!$Q124 = \"Average\"),'Exam Questions'!$A124,\"\"),\"\")","v":""},{"$f":"IFERROR(IF(AND('Exam Questions'!$P124=0,'Exam Questions'!$Q124 = \"Difficult\"),'Exam Questions'!$A124,\"\"),\"\")","v":""},{"$f":"IF('Exam Questions'!P124=0,'Exam Questions'!R124,\"\")","v":""},"",""]
[{"$f":"IFERROR(IF(AND('Exam Questions'!$P125=0,'Exam Questions'!$Q125 = \"Easy\"),'Exam Questions'!$A125,\"\"),\"\")","v":""},{"$f":"IFERROR(IF(AND('Exam Questions'!$P125=0,'Exam Questions'!$Q125 = \"Average\"),'Exam Questions'!$A125,\"\"),\"\")","v":""},{"$f":"IFERROR(IF(AND('Exam Questions'!$P125=0,'Exam Questions'!$Q125 = \"Difficult\"),'Exam Questions'!$A125,\"\"),\"\")","v":""},{"$f":"IF('Exam Questions'!P125=0,'Exam Questions'!R125,\"\")","v":""},"",""]
[{"$f":"IFERROR(IF(AND('Exam Questions'!$P126=0,'Exam Questions'!$Q126 = \"Easy\"),'Exam Questions'!$A126,\"\"),\"\")","v":""},{"$f":"IFERROR(IF(AND('Exam Questions'!$P126=0,'Exam Questions'!$Q126 = \"Average\"),'Exam Questions'!$A126,\"\"),\"\")","v":""},{"$f":"IFERROR(IF(AND('Exam Questions'!$P126=0,'Exam Questions'!$Q126 = \"Difficult\"),'Exam Questions'!$A126,\"\"),\"\")","v":""},{"$f":"IF('Exam Questions'!P126=0,'Exam Questions'!R126,\"\")","v":""},"",""]
[{"$f":"IFERROR(IF(AND('Exam Questions'!$P127=0,'Exam Questions'!$Q127 = \"Easy\"),'Exam Questions'!$A127,\"\"),\"\")","v":""},{"$f":"IFERROR(IF(AND('Exam Questions'!$P127=0,'Exam Questions'!$Q127 = \"Average\"),'Exam Questions'!$A127,\"\"),\"\")","v":""},{"$f":"IFERROR(IF(AND('Exam Questions'!$P127=0,'Exam Questions'!$Q127 = \"Difficult\"),'Exam Questions'!$A127,\"\"),\"\")","v":""},{"$f":"IF('Exam Questions'!P127=0,'Exam Questions'!R127,\"\")","v":""},"",""]
[{"$f":"IFERROR(IF(AND('Exam Questions'!$P128=0,'Exam Questions'!$Q128 = \"Easy\"),'Exam Questions'!$A128,\"\"),\"\")","v":""},{"$f":"IFERROR(IF(AND('Exam Questions'!$P128=0,'Exam Questions'!$Q128 = \"Average\"),'Exam Questions'!$A128,\"\"),\"\")","v":""},{"$f":"IFERROR(IF(AND('Exam Questions'!$P128=0,'Exam Questions'!$Q128 = \"Difficult\"),'Exam Questions'!$A128,\"\"),\"\")","v":""},{"$f":"IF('Exam Questions'!P128=0,'Exam Questions'!R128,\"\")","v":""},"",""]
[{"$f":"IFERROR(IF(AND('Exam Questions'!$P129=0,'Exam Questions'!$Q129 = \"Easy\"),'Exam Questions'!$A129,\"\"),\"\")","v":""},{"$f":"IFERROR(IF(AND('Exam Questions'!$P129=0,'Exam Questions'!$Q129 = \"Average\"),'Exam Questions'!$A129,\"\"),\"\")","v":""},{"$f":"IFERROR(IF(AND('Exam Questions'!$P129=0,'Exam Questions'!$Q129 = \"Difficult\"),'Exam Questions'!$A129,\"\"),\"\")","v":""},{"$f":"IF('Exam Questions'!P129=0,'Exam Questions'!R129,\"\")","v":""},"",""]
[{"$f":"IFERROR(IF(AND('Exam Questions'!$P130=0,'Exam Questions'!$Q130 = \"Easy\"),'Exam Questions'!$A130,\"\"),\"\")","v":""},{"$f":"IFERROR(IF(AND('Exam Questions'!$P130=0,'Exam Questions'!$Q130 = \"Average\"),'Exam Questions'!$A130,\"\"),\"\")","v":""},{"$f":"IFERROR(IF(AND('Exam Questions'!$P130=0,'Exam Questions'!$Q130 = \"Difficult\"),'Exam Questions'!$A130,\"\"),\"\")","v":""},{"$f":"IF('Exam Questions'!P130=0,'Exam Questions'!R130,\"\")","v":""},{"$f":"IFERROR(INDEX(Data_Test_Q_Icon,MATCH(Test_Q_ELO,Data_Test_Q_ELO,0)),\"\")","v":""},{"$f":"IFERROR((VLOOKUP(E131,$J$35:$K$39,2)),\"\")","v":""}]
[{"$f":"IFERROR(IF(AND('Exam Questions'!$P131=0,'Exam Questions'!$Q131 = \"Easy\"),'Exam Questions'!$A131,\"\"),\"\")","v":""},{"$f":"IFERROR(IF(AND('Exam Questions'!$P131=0,'Exam Questions'!$Q131 = \"Average\"),'Exam Questions'!$A131,\"\"),\"\")","v":""},{"$f":"IFERROR(IF(AND('Exam Questions'!$P131=0,'Exam Questions'!$Q131 = \"Difficult\"),'Exam Questions'!$A131,\"\"),\"\")","v":""},{"$f":"IF('Exam Questions'!P131=0,'Exam Questions'!R131,\"\")","v":""},"",""]
[{"$f":"IFERROR(IF(AND('Exam Questions'!$P132=0,'Exam Questions'!$Q132 = \"Easy\"),'Exam Questions'!$A132,\"\"),\"\")","v":""},{"$f":"IFERROR(IF(AND('Exam Questions'!$P132=0,'Exam Questions'!$Q132 = \"Average\"),'Exam Questions'!$A132,\"\"),\"\")","v":""},{"$f":"IFERROR(IF(AND('Exam Questions'!$P132=0,'Exam Questions'!$Q132 = \"Difficult\"),'Exam Questions'!$A132,\"\"),\"\")","v":""},{"$f":"IF('Exam Questions'!P132=0,'Exam Questions'!R132,\"\")","v":""},"",""]
[{"$f":"IFERROR(IF(AND('Exam Questions'!$P133=0,'Exam Questions'!$Q133 = \"Easy\"),'Exam Questions'!$A133,\"\"),\"\")","v":""},{"$f":"IFERROR(IF(AND('Exam Questions'!$P133=0,'Exam Questions'!$Q133 = \"Average\"),'Exam Questions'!$A133,\"\"),\"\")","v":""},{"$f":"IFERROR(IF(AND('Exam Questions'!$P133=0,'Exam Questions'!$Q133 = \"Difficult\"),'Exam Questions'!$A133,\"\"),\"\")","v":""},{"$f":"IF('Exam Questions'!P133=0,'Exam Questions'!R133,\"\")","v":""},"",""]
[{"$f":"IFERROR(IF(AND('Exam Questions'!$P134=0,'Exam Questions'!$Q134 = \"Easy\"),'Exam Questions'!$A134,\"\"),\"\")","v":""},{"$f":"IFERROR(IF(AND('Exam Questions'!$P134=0,'Exam Questions'!$Q134 = \"Average\"),'Exam Questions'!$A134,\"\"),\"\")","v":""},{"$f":"IFERROR(IF(AND('Exam Questions'!$P134=0,'Exam Questions'!$Q134 = \"Difficult\"),'Exam Questions'!$A134,\"\"),\"\")","v":""},{"$f":"IF('Exam Questions'!P134=0,'Exam Questions'!R134,\"\")","v":""},"",""]
[{"$f":"IFERROR(IF(AND('Exam Questions'!$P135=0,'Exam Questions'!$Q135 = \"Easy\"),'Exam Questions'!$A135,\"\"),\"\")","v":""},{"$f":"IFERROR(IF(AND('Exam Questions'!$P135=0,'Exam Questions'!$Q135 = \"Average\"),'Exam Questions'!$A135,\"\"),\"\")","v":""},{"$f":"IFERROR(IF(AND('Exam Questions'!$P135=0,'Exam Questions'!$Q135 = \"Difficult\"),'Exam Questions'!$A135,\"\"),\"\")","v":""},{"$f":"IF('Exam Questions'!P135=0,'Exam Questions'!R135,\"\")","v":""},"",""]
[{"$f":"IFERROR(IF(AND('Exam Questions'!$P136=0,'Exam Questions'!$Q136 = \"Easy\"),'Exam Questions'!$A136,\"\"),\"\")","v":""},{"$f":"IFERROR(IF(AND('Exam Questions'!$P136=0,'Exam Questions'!$Q136 = \"Average\"),'Exam Questions'!$A136,\"\"),\"\")","v":""},{"$f":"IFERROR(IF(AND('Exam Questions'!$P136=0,'Exam Questions'!$Q136 = \"Difficult\"),'Exam Questions'!$A136,\"\"),\"\")","v":""},{"$f":"IF('Exam Questions'!P136=0,'Exam Questions'!R136,\"\")","v":""},"",""]
[{"$f":"IFERROR(IF(AND('Exam Questions'!$P137=0,'Exam Questions'!$Q137 = \"Easy\"),'Exam Questions'!$A137,\"\"),\"\")","v":""},{"$f":"IFERROR(IF(AND('Exam Questions'!$P137=0,'Exam Questions'!$Q137 = \"Average\"),'Exam Questions'!$A137,\"\"),\"\")","v":""},{"$f":"IFERROR(IF(AND('Exam Questions'!$P137=0,'Exam Questions'!$Q137 = \"Difficult\"),'Exam Questions'!$A137,\"\"),\"\")","v":""},{"$f":"IF('Exam Questions'!P137=0,'Exam Questions'!R137,\"\")","v":""},"",""]
[{"$f":"IFERROR(IF(AND('Exam Questions'!$P138=0,'Exam Questions'!$Q138 = \"Easy\"),'Exam Questions'!$A138,\"\"),\"\")","v":""},{"$f":"IFERROR(IF(AND('Exam Questions'!$P138=0,'Exam Questions'!$Q138 = \"Average\"),'Exam Questions'!$A138,\"\"),\"\")","v":""},{"$f":"IFERROR(IF(AND('Exam Questions'!$P138=0,'Exam Questions'!$Q138 = \"Difficult\"),'Exam Questions'!$A138,\"\"),\"\")","v":""},{"$f":"IF('Exam Questions'!P138=0,'Exam Questions'!R138,\"\")","v":""},"",""]
[{"$f":"IFERROR(IF(AND('Exam Questions'!$P139=0,'Exam Questions'!$Q139 = \"Easy\"),'Exam Questions'!$A139,\"\"),\"\")","v":""},{"$f":"IFERROR(IF(AND('Exam Questions'!$P139=0,'Exam Questions'!$Q139 = \"Average\"),'Exam Questions'!$A139,\"\"),\"\")","v":""},{"$f":"IFERROR(IF(AND('Exam Questions'!$P139=0,'Exam Questions'!$Q139 = \"Difficult\"),'Exam Questions'!$A139,\"\"),\"\")","v":""},{"$f":"IF('Exam Questions'!P139=0,'Exam Questions'!R139,\"\")","v":""},"",""]
[{"$f":"IFERROR(IF(AND('Exam Questions'!$P140=0,'Exam Questions'!$Q140 = \"Easy\"),'Exam Questions'!$A140,\"\"),\"\")","v":""},{"$f":"IFERROR(IF(AND('Exam Questions'!$P140=0,'Exam Questions'!$Q140 = \"Average\"),'Exam Questions'!$A140,\"\"),\"\")","v":""},{"$f":"IFERROR(IF(AND('Exam Questions'!$P140=0,'Exam Questions'!$Q140 = \"Difficult\"),'Exam Questions'!$A140,\"\"),\"\")","v":""},{"$f":"IF('Exam Questions'!P140=0,'Exam Questions'!R140,\"\")","v":""},"",""]
[{"$f":"IFERROR(IF(AND('Exam Questions'!$P141=0,'Exam Questions'!$Q141 = \"Easy\"),'Exam Questions'!$A141,\"\"),\"\")","v":""},{"$f":"IFERROR(IF(AND('Exam Questions'!$P141=0,'Exam Questions'!$Q141 = \"Average\"),'Exam Questions'!$A141,\"\"),\"\")","v":""},{"$f":"IFERROR(IF(AND('Exam Questions'!$P141=0,'Exam Questions'!$Q141 = \"Difficult\"),'Exam Questions'!$A141,\"\"),\"\")","v":""},{"$f":"IF('Exam Questions'!P141=0,'Exam Questions'!R141,\"\")","v":""},"",""]
[{"$f":"IFERROR(IF(AND('Exam Questions'!$P142=0,'Exam Questions'!$Q142 = \"Easy\"),'Exam Questions'!$A142,\"\"),\"\")","v":""},{"$f":"IFERROR(IF(AND('Exam Questions'!$P142=0,'Exam Questions'!$Q142 = \"Average\"),'Exam Questions'!$A142,\"\"),\"\")","v":""},{"$f":"IFERROR(IF(AND('Exam Questions'!$P142=0,'Exam Questions'!$Q142 = \"Difficult\"),'Exam Questions'!$A142,\"\"),\"\")","v":""},{"$f":"IF('Exam Questions'!P142=0,'Exam Questions'!R142,\"\")","v":""},"",""]
[{"$f":"IFERROR(IF(AND('Exam Questions'!$P143=0,'Exam Questions'!$Q143 = \"Easy\"),'Exam Questions'!$A143,\"\"),\"\")","v":""},{"$f":"IFERROR(IF(AND('Exam Questions'!$P143=0,'Exam Questions'!$Q143 = \"Average\"),'Exam Questions'!$A143,\"\"),\"\")","v":""},{"$f":"IFERROR(IF(AND('Exam Questions'!$P143=0,'Exam Questions'!$Q143 = \"Difficult\"),'Exam Questions'!$A143,\"\"),\"\")","v":""},{"$f":"IF('Exam Questions'!P143=0,'Exam Questions'!R143,\"\")","v":""},"",""]
[{"$f":"IFERROR(IF(AND('Exam Questions'!$P144=0,'Exam Questions'!$Q144 = \"Easy\"),'Exam Questions'!$A144,\"\"),\"\")","v":""},{"$f":"IFERROR(IF(AND('Exam Questions'!$P144=0,'Exam Questions'!$Q144 = \"Average\"),'Exam Questions'!$A144,\"\"),\"\")","v":""},{"$f":"IFERROR(IF(AND('Exam Questions'!$P144=0,'Exam Questions'!$Q144 = \"Difficult\"),'Exam Questions'!$A144,\"\"),\"\")","v":""},{"$f":"IF('Exam Questions'!P144=0,'Exam Questions'!R144,\"\")","v":""},"",""]
[{"$f":"IFERROR(IF(AND('Exam Questions'!$P145=0,'Exam Questions'!$Q145 = \"Easy\"),'Exam Questions'!$A145,\"\"),\"\")","v":""},{"$f":"IFERROR(IF(AND('Exam Questions'!$P145=0,'Exam Questions'!$Q145 = \"Average\"),'Exam Questions'!$A145,\"\"),\"\")","v":""},{"$f":"IFERROR(IF(AND('Exam Questions'!$P145=0,'Exam Questions'!$Q145 = \"Difficult\"),'Exam Questions'!$A145,\"\"),\"\")","v":""},{"$f":"IF('Exam Questions'!P145=0,'Exam Questions'!R145,\"\")","v":""},"",""]
[{"$f":"IFERROR(IF(AND('Exam Questions'!$P146=0,'Exam Questions'!$Q146 = \"Easy\"),'Exam Questions'!$A146,\"\"),\"\")","v":""},{"$f":"IFERROR(IF(AND('Exam Questions'!$P146=0,'Exam Questions'!$Q146 = \"Average\"),'Exam Questions'!$A146,\"\"),\"\")","v":""},{"$f":"IFERROR(IF(AND('Exam Questions'!$P146=0,'Exam Questions'!$Q146 = \"Difficult\"),'Exam Questions'!$A146,\"\"),\"\")","v":""},{"$f":"IF('Exam Questions'!P146=0,'Exam Questions'!R146,\"\")","v":""},"",""]
[{"$f":"IFERROR(IF(AND('Exam Questions'!$P147=0,'Exam Questions'!$Q147 = \"Easy\"),'Exam Questions'!$A147,\"\"),\"\")","v":""},{"$f":"IFERROR(IF(AND('Exam Questions'!$P147=0,'Exam Questions'!$Q147 = \"Average\"),'Exam Questions'!$A147,\"\"),\"\")","v":""},{"$f":"IFERROR(IF(AND('Exam Questions'!$P147=0,'Exam Questions'!$Q147 = \"Difficult\"),'Exam Questions'!$A147,\"\"),\"\")","v":""},{"$f":"IF('Exam Questions'!P147=0,'Exam Questions'!R147,\"\")","v":""},"",""]
[{"$f":"IFERROR(IF(AND('Exam Questions'!$P148=0,'Exam Questions'!$Q148 = \"Easy\"),'Exam Questions'!$A148,\"\"),\"\")","v":""},{"$f":"IFERROR(IF(AND('Exam Questions'!$P148=0,'Exam Questions'!$Q148 = \"Average\"),'Exam Questions'!$A148,\"\"),\"\")","v":""},{"$f":"IFERROR(IF(AND('Exam Questions'!$P148=0,'Exam Questions'!$Q148 = \"Difficult\"),'Exam Questions'!$A148,\"\"),\"\")","v":""},{"$f":"IF('Exam Questions'!P148=0,'Exam Questions'!R148,\"\")","v":""},"",""]
[{"$f":"IFERROR(IF(AND('Exam Questions'!$P149=0,'Exam Questions'!$Q149 = \"Easy\"),'Exam Questions'!$A149,\"\"),\"\")","v":""},{"$f":"IFERROR(IF(AND('Exam Questions'!$P149=0,'Exam Questions'!$Q149 = \"Average\"),'Exam Questions'!$A149,\"\"),\"\")","v":""},{"$f":"IFERROR(IF(AND('Exam Questions'!$P149=0,'Exam Questions'!$Q149 = \"Difficult\"),'Exam Questions'!$A149,\"\"),\"\")","v":""},{"$f":"IF('Exam Questions'!P149=0,'Exam Questions'!R149,\"\")","v":""},"",""]
[{"$f":"IFERROR(IF(AND('Exam Questions'!$P150=0,'Exam Questions'!$Q150 = \"Easy\"),'Exam Questions'!$A150,\"\"),\"\")","v":""},{"$f":"IFERROR(IF(AND('Exam Questions'!$P150=0,'Exam Questions'!$Q150 = \"Average\"),'Exam Questions'!$A150,\"\"),\"\")","v":""},{"$f":"IFERROR(IF(AND('Exam Questions'!$P150=0,'Exam Questions'!$Q150 = \"Difficult\"),'Exam Questions'!$A150,\"\"),\"\")","v":""},{"$f":"IF('Exam Questions'!P150=0,'Exam Questions'!R150,\"\")","v":""},"",""]
[{"$f":"IFERROR(IF(AND('Exam Questions'!$P151=0,'Exam Questions'!$Q151 = \"Easy\"),'Exam Questions'!$A151,\"\"),\"\")","v":""},{"$f":"IFERROR(IF(AND('Exam Questions'!$P151=0,'Exam Questions'!$Q151 = \"Average\"),'Exam Questions'!$A151,\"\"),\"\")","v":""},{"$f":"IFERROR(IF(AND('Exam Questions'!$P151=0,'Exam Questions'!$Q151 = \"Difficult\"),'Exam Questions'!$A151,\"\"),\"\")","v":""},{"$f":"IF('Exam Questions'!P151=0,'Exam Questions'!R151,\"\")","v":""},"",""]
[{"$f":"IFERROR(IF(AND('Exam Questions'!$P152=0,'Exam Questions'!$Q152 = \"Easy\"),'Exam Questions'!$A152,\"\"),\"\")","v":""},{"$f":"IFERROR(IF(AND('Exam Questions'!$P152=0,'Exam Questions'!$Q152 = \"Average\"),'Exam Questions'!$A152,\"\"),\"\")","v":""},{"$f":"IFERROR(IF(AND('Exam Questions'!$P152=0,'Exam Questions'!$Q152 = \"Difficult\"),'Exam Questions'!$A152,\"\"),\"\")","v":""},{"$f":"IF('Exam Questions'!P152=0,'Exam Questions'!R152,\"\")","v":""},"",""]
[{"$f":"IFERROR(IF(AND('Exam Questions'!$P153=0,'Exam Questions'!$Q153 = \"Easy\"),'Exam Questions'!$A153,\"\"),\"\")","v":""},{"$f":"IFERROR(IF(AND('Exam Questions'!$P153=0,'Exam Questions'!$Q153 = \"Average\"),'Exam Questions'!$A153,\"\"),\"\")","v":""},{"$f":"IFERROR(IF(AND('Exam Questions'!$P153=0,'Exam Questions'!$Q153 = \"Difficult\"),'Exam Questions'!$A153,\"\"),\"\")","v":""},{"$f":"IF('Exam Questions'!P153=0,'Exam Questions'!R153,\"\")","v":""},"",""]
[{"$f":"IFERROR(IF(AND('Exam Questions'!$P154=0,'Exam Questions'!$Q154 = \"Easy\"),'Exam Questions'!$A154,\"\"),\"\")","v":""},{"$f":"IFERROR(IF(AND('Exam Questions'!$P154=0,'Exam Questions'!$Q154 = \"Average\"),'Exam Questions'!$A154,\"\"),\"\")","v":""},{"$f":"IFERROR(IF(AND('Exam Questions'!$P154=0,'Exam Questions'!$Q154 = \"Difficult\"),'Exam Questions'!$A154,\"\"),\"\")","v":""},{"$f":"IF('Exam Questions'!P154=0,'Exam Questions'!R154,\"\")","v":""},"",""]
[{"$f":"IFERROR(IF(AND('Exam Questions'!$P155=0,'Exam Questions'!$Q155 = \"Easy\"),'Exam Questions'!$A155,\"\"),\"\")","v":""},{"$f":"IFERROR(IF(AND('Exam Questions'!$P155=0,'Exam Questions'!$Q155 = \"Average\"),'Exam Questions'!$A155,\"\"),\"\")","v":""},{"$f":"IFERROR(IF(AND('Exam Questions'!$P155=0,'Exam Questions'!$Q155 = \"Difficult\"),'Exam Questions'!$A155,\"\"),\"\")","v":""},{"$f":"IF('Exam Questions'!P155=0,'Exam Questions'!R155,\"\")","v":""},"",""]
[{"$f":"IFERROR(IF(AND('Exam Questions'!$P156=0,'Exam Questions'!$Q156 = \"Easy\"),'Exam Questions'!$A156,\"\"),\"\")","v":""},{"$f":"IFERROR(IF(AND('Exam Questions'!$P156=0,'Exam Questions'!$Q156 = \"Average\"),'Exam Questions'!$A156,\"\"),\"\")","v":""},{"$f":"IFERROR(IF(AND('Exam Questions'!$P156=0,'Exam Questions'!$Q156 = \"Difficult\"),'Exam Questions'!$A156,\"\"),\"\")","v":""},{"$f":"IF('Exam Questions'!P156=0,'Exam Questions'!R156,\"\")","v":""},"",""]
[{"$f":"IFERROR(IF(AND('Exam Questions'!$P157=0,'Exam Questions'!$Q157 = \"Easy\"),'Exam Questions'!$A157,\"\"),\"\")","v":""},{"$f":"IFERROR(IF(AND('Exam Questions'!$P157=0,'Exam Questions'!$Q157 = \"Average\"),'Exam Questions'!$A157,\"\"),\"\")","v":""},{"$f":"IFERROR(IF(AND('Exam Questions'!$P157=0,'Exam Questions'!$Q157 = \"Difficult\"),'Exam Questions'!$A157,\"\"),\"\")","v":""},{"$f":"IF('Exam Questions'!P157=0,'Exam Questions'!R157,\"\")","v":""},"",""]
[{"$f":"IFERROR(IF(AND('Exam Questions'!$P158=0,'Exam Questions'!$Q158 = \"Easy\"),'Exam Questions'!$A158,\"\"),\"\")","v":""},{"$f":"IFERROR(IF(AND('Exam Questions'!$P158=0,'Exam Questions'!$Q158 = \"Average\"),'Exam Questions'!$A158,\"\"),\"\")","v":""},{"$f":"IFERROR(IF(AND('Exam Questions'!$P158=0,'Exam Questions'!$Q158 = \"Difficult\"),'Exam Questions'!$A158,\"\"),\"\")","v":""},{"$f":"IF('Exam Questions'!P158=0,'Exam Questions'!R158,\"\")","v":""},"",""]
[{"$f":"IFERROR(IF(AND('Exam Questions'!$P159=0,'Exam Questions'!$Q159 = \"Easy\"),'Exam Questions'!$A159,\"\"),\"\")","v":""},{"$f":"IFERROR(IF(AND('Exam Questions'!$P159=0,'Exam Questions'!$Q159 = \"Average\"),'Exam Questions'!$A159,\"\"),\"\")","v":""},{"$f":"IFERROR(IF(AND('Exam Questions'!$P159=0,'Exam Questions'!$Q159 = \"Difficult\"),'Exam Questions'!$A159,\"\"),\"\")","v":""},{"$f":"IF('Exam Questions'!P159=0,'Exam Questions'!R159,\"\")","v":""},"",""]
[{"$f":"IFERROR(IF(AND('Exam Questions'!$P160=0,'Exam Questions'!$Q160 = \"Easy\"),'Exam Questions'!$A160,\"\"),\"\")","v":""},{"$f":"IFERROR(IF(AND('Exam Questions'!$P160=0,'Exam Questions'!$Q160 = \"Average\"),'Exam Questions'!$A160,\"\"),\"\")","v":""},{"$f":"IFERROR(IF(AND('Exam Questions'!$P160=0,'Exam Questions'!$Q160 = \"Difficult\"),'Exam Questions'!$A160,\"\"),\"\")","v":""},{"$f":"IF('Exam Questions'!P160=0,'Exam Questions'!R160,\"\")","v":""},"",""]
[{"$f":"IFERROR(IF(AND('Exam Questions'!$P161=0,'Exam Questions'!$Q161 = \"Easy\"),'Exam Questions'!$A161,\"\"),\"\")","v":""},{"$f":"IFERROR(IF(AND('Exam Questions'!$P161=0,'Exam Questions'!$Q161 = \"Average\"),'Exam Questions'!$A161,\"\"),\"\")","v":""},{"$f":"IFERROR(IF(AND('Exam Questions'!$P161=0,'Exam Questions'!$Q161 = \"Difficult\"),'Exam Questions'!$A161,\"\"),\"\")","v":""},{"$f":"IF('Exam Questions'!P161=0,'Exam Questions'!R161,\"\")","v":""},"",""]
[{"$f":"IFERROR(IF(AND('Exam Questions'!$P162=0,'Exam Questions'!$Q162 = \"Easy\"),'Exam Questions'!$A162,\"\"),\"\")","v":""},{"$f":"IFERROR(IF(AND('Exam Questions'!$P162=0,'Exam Questions'!$Q162 = \"Average\"),'Exam Questions'!$A162,\"\"),\"\")","v":""},{"$f":"IFERROR(IF(AND('Exam Questions'!$P162=0,'Exam Questions'!$Q162 = \"Difficult\"),'Exam Questions'!$A162,\"\"),\"\")","v":""},{"$f":"IF('Exam Questions'!P162=0,'Exam Questions'!R162,\"\")","v":""},{"$f":"IFERROR(INDEX(Data_Test_Q_Icon,MATCH(Test_Q_ELO,Data_Test_Q_ELO,0)),\"\")","v":""},{"$f":"IFERROR((VLOOKUP(E163,$J$35:$K$39,2)),\"\")","v":""}]
[{"$f":"IFERROR(IF(AND('Exam Questions'!$P163=0,'Exam Questions'!$Q163 = \"Easy\"),'Exam Questions'!$A163,\"\"),\"\")","v":""},{"$f":"IFERROR(IF(AND('Exam Questions'!$P163=0,'Exam Questions'!$Q163 = \"Average\"),'Exam Questions'!$A163,\"\"),\"\")","v":""},{"$f":"IFERROR(IF(AND('Exam Questions'!$P163=0,'Exam Questions'!$Q163 = \"Difficult\"),'Exam Questions'!$A163,\"\"),\"\")","v":""},{"$f":"IF('Exam Questions'!P163=0,'Exam Questions'!R163,\"\")","v":""},"",""]
[{"$f":"IFERROR(IF(AND('Exam Questions'!$P164=0,'Exam Questions'!$Q164 = \"Easy\"),'Exam Questions'!$A164,\"\"),\"\")","v":""},{"$f":"IFERROR(IF(AND('Exam Questions'!$P164=0,'Exam Questions'!$Q164 = \"Average\"),'Exam Questions'!$A164,\"\"),\"\")","v":""},{"$f":"IFERROR(IF(AND('Exam Questions'!$P164=0,'Exam Questions'!$Q164 = \"Difficult\"),'Exam Questions'!$A164,\"\"),\"\")","v":""},{"$f":"IF('Exam Questions'!P164=0,'Exam Questions'!R164,\"\")","v":""},"",""]
[{"$f":"IFERROR(IF(AND('Exam Questions'!$P165=0,'Exam Questions'!$Q165 = \"Easy\"),'Exam Questions'!$A165,\"\"),\"\")","v":""},{"$f":"IFERROR(IF(AND('Exam Questions'!$P165=0,'Exam Questions'!$Q165 = \"Average\"),'Exam Questions'!$A165,\"\"),\"\")","v":""},{"$f":"IFERROR(IF(AND('Exam Questions'!$P165=0,'Exam Questions'!$Q165 = \"Difficult\"),'Exam Questions'!$A165,\"\"),\"\")","v":""},{"$f":"IF('Exam Questions'!P165=0,'Exam Questions'!R165,\"\")","v":""},"",""]
[{"$f":"IFERROR(IF(AND('Exam Questions'!$P166=0,'Exam Questions'!$Q166 = \"Easy\"),'Exam Questions'!$A166,\"\"),\"\")","v":""},{"$f":"IFERROR(IF(AND('Exam Questions'!$P166=0,'Exam Questions'!$Q166 = \"Average\"),'Exam Questions'!$A166,\"\"),\"\")","v":""},{"$f":"IFERROR(IF(AND('Exam Questions'!$P166=0,'Exam Questions'!$Q166 = \"Difficult\"),'Exam Questions'!$A166,\"\"),\"\")","v":""},{"$f":"IF('Exam Questions'!P166=0,'Exam Questions'!R166,\"\")","v":""},"",""]
[{"$f":"IFERROR(IF(AND('Exam Questions'!$P167=0,'Exam Questions'!$Q167 = \"Easy\"),'Exam Questions'!$A167,\"\"),\"\")","v":""},{"$f":"IFERROR(IF(AND('Exam Questions'!$P167=0,'Exam Questions'!$Q167 = \"Average\"),'Exam Questions'!$A167,\"\"),\"\")","v":""},{"$f":"IFERROR(IF(AND('Exam Questions'!$P167=0,'Exam Questions'!$Q167 = \"Difficult\"),'Exam Questions'!$A167,\"\"),\"\")","v":""},{"$f":"IF('Exam Questions'!P167=0,'Exam Questions'!R167,\"\")","v":""},"",""]
[{"$f":"IFERROR(IF(AND('Exam Questions'!$P168=0,'Exam Questions'!$Q168 = \"Easy\"),'Exam Questions'!$A168,\"\"),\"\")","v":""},{"$f":"IFERROR(IF(AND('Exam Questions'!$P168=0,'Exam Questions'!$Q168 = \"Average\"),'Exam Questions'!$A168,\"\"),\"\")","v":""},{"$f":"IFERROR(IF(AND('Exam Questions'!$P168=0,'Exam Questions'!$Q168 = \"Difficult\"),'Exam Questions'!$A168,\"\"),\"\")","v":""},{"$f":"IF('Exam Questions'!P168=0,'Exam Questions'!R168,\"\")","v":""},"",""]
[{"$f":"IFERROR(IF(AND('Exam Questions'!$P169=0,'Exam Questions'!$Q169 = \"Easy\"),'Exam Questions'!$A169,\"\"),\"\")","v":""},{"$f":"IFERROR(IF(AND('Exam Questions'!$P169=0,'Exam Questions'!$Q169 = \"Average\"),'Exam Questions'!$A169,\"\"),\"\")","v":""},{"$f":"IFERROR(IF(AND('Exam Questions'!$P169=0,'Exam Questions'!$Q169 = \"Difficult\"),'Exam Questions'!$A169,\"\"),\"\")","v":""},{"$f":"IF('Exam Questions'!P169=0,'Exam Questions'!R169,\"\")","v":""},"",""]
[{"$f":"IFERROR(IF(AND('Exam Questions'!$P170=0,'Exam Questions'!$Q170 = \"Easy\"),'Exam Questions'!$A170,\"\"),\"\")","v":""},{"$f":"IFERROR(IF(AND('Exam Questions'!$P170=0,'Exam Questions'!$Q170 = \"Average\"),'Exam Questions'!$A170,\"\"),\"\")","v":""},{"$f":"IFERROR(IF(AND('Exam Questions'!$P170=0,'Exam Questions'!$Q170 = \"Difficult\"),'Exam Questions'!$A170,\"\"),\"\")","v":""},{"$f":"IF('Exam Questions'!P170=0,'Exam Questions'!R170,\"\")","v":""},"",""]
[{"$f":"IFERROR(IF(AND('Exam Questions'!$P171=0,'Exam Questions'!$Q171 = \"Easy\"),'Exam Questions'!$A171,\"\"),\"\")","v":""},{"$f":"IFERROR(IF(AND('Exam Questions'!$P171=0,'Exam Questions'!$Q171 = \"Average\"),'Exam Questions'!$A171,\"\"),\"\")","v":""},{"$f":"IFERROR(IF(AND('Exam Questions'!$P171=0,'Exam Questions'!$Q171 = \"Difficult\"),'Exam Questions'!$A171,\"\"),\"\")","v":""},{"$f":"IF('Exam Questions'!P171=0,'Exam Questions'!R171,\"\")","v":""},"",""]
[{"$f":"IFERROR(IF(AND('Exam Questions'!$P172=0,'Exam Questions'!$Q172 = \"Easy\"),'Exam Questions'!$A172,\"\"),\"\")","v":""},{"$f":"IFERROR(IF(AND('Exam Questions'!$P172=0,'Exam Questions'!$Q172 = \"Average\"),'Exam Questions'!$A172,\"\"),\"\")","v":""},{"$f":"IFERROR(IF(AND('Exam Questions'!$P172=0,'Exam Questions'!$Q172 = \"Difficult\"),'Exam Questions'!$A172,\"\"),\"\")","v":""},{"$f":"IF('Exam Questions'!P172=0,'Exam Questions'!R172,\"\")","v":""},"",""]
[{"$f":"IFERROR(IF(AND('Exam Questions'!$P173=0,'Exam Questions'!$Q173 = \"Easy\"),'Exam Questions'!$A173,\"\"),\"\")","v":""},{"$f":"IFERROR(IF(AND('Exam Questions'!$P173=0,'Exam Questions'!$Q173 = \"Average\"),'Exam Questions'!$A173,\"\"),\"\")","v":""},{"$f":"IFERROR(IF(AND('Exam Questions'!$P173=0,'Exam Questions'!$Q173 = \"Difficult\"),'Exam Questions'!$A173,\"\"),\"\")","v":""},{"$f":"IF('Exam Questions'!P173=0,'Exam Questions'!R173,\"\")","v":""},"",""]
[{"$f":"IFERROR(IF(AND('Exam Questions'!$P174=0,'Exam Questions'!$Q174 = \"Easy\"),'Exam Questions'!$A174,\"\"),\"\")","v":""},{"$f":"IFERROR(IF(AND('Exam Questions'!$P174=0,'Exam Questions'!$Q174 = \"Average\"),'Exam Questions'!$A174,\"\"),\"\")","v":""},{"$f":"IFERROR(IF(AND('Exam Questions'!$P174=0,'Exam Questions'!$Q174 = \"Difficult\"),'Exam Questions'!$A174,\"\"),\"\")","v":""},{"$f":"IF('Exam Questions'!P174=0,'Exam Questions'!R174,\"\")","v":""},"",""]
[{"$f":"IFERROR(IF(AND('Exam Questions'!$P175=0,'Exam Questions'!$Q175 = \"Easy\"),'Exam Questions'!$A175,\"\"),\"\")","v":""},{"$f":"IFERROR(IF(AND('Exam Questions'!$P175=0,'Exam Questions'!$Q175 = \"Average\"),'Exam Questions'!$A175,\"\"),\"\")","v":""},{"$f":"IFERROR(IF(AND('Exam Questions'!$P175=0,'Exam Questions'!$Q175 = \"Difficult\"),'Exam Questions'!$A175,\"\"),\"\")","v":""},{"$f":"IF('Exam Questions'!P175=0,'Exam Questions'!R175,\"\")","v":""},"",""]
[{"$f":"IFERROR(IF(AND('Exam Questions'!$P176=0,'Exam Questions'!$Q176 = \"Easy\"),'Exam Questions'!$A176,\"\"),\"\")","v":""},{"$f":"IFERROR(IF(AND('Exam Questions'!$P176=0,'Exam Questions'!$Q176 = \"Average\"),'Exam Questions'!$A176,\"\"),\"\")","v":""},{"$f":"IFERROR(IF(AND('Exam Questions'!$P176=0,'Exam Questions'!$Q176 = \"Difficult\"),'Exam Questions'!$A176,\"\"),\"\")","v":""},{"$f":"IF('Exam Questions'!P176=0,'Exam Questions'!R176,\"\")","v":""},"",""]
[{"$f":"IFERROR(IF(AND('Exam Questions'!$P177=0,'Exam Questions'!$Q177 = \"Easy\"),'Exam Questions'!$A177,\"\"),\"\")","v":""},{"$f":"IFERROR(IF(AND('Exam Questions'!$P177=0,'Exam Questions'!$Q177 = \"Average\"),'Exam Questions'!$A177,\"\"),\"\")","v":""},{"$f":"IFERROR(IF(AND('Exam Questions'!$P177=0,'Exam Questions'!$Q177 = \"Difficult\"),'Exam Questions'!$A177,\"\"),\"\")","v":""},{"$f":"IF('Exam Questions'!P177=0,'Exam Questions'!R177,\"\")","v":""},"",""]

{"sheet":"Exam Question Assumptions","index":28,"n_rows":37,"n_cols":1,"rows_kept":37,"hidden":true,"merged":[[0,0,0,11],[1,0,1,11]]}
["Table of Specification"]
["Variables and Assumptions"]
[]
["Test Length = 30 minutes"]
["Number of Test Questions per Objective:"]
["1.      Ten (10) test questions per Terminal Learning Objective from non-administrative modules on the examination (Gronlund, 1998). Five (5) test questions on pre and post examinations for a total of ten."]
["2.      Four (4) test questions per Enabling Learning Objective per EMI Curriculum Management Policy to create multiple test versions (pre, post, and remedial)."]
["3.      This document and the Table of Specification is not applicable to critical performance checklist examinations."]
["Enabling Learning Objective Complexity to Test Question Complexity:"]
["1.      Three categories will be automatically calculated to create a range of Test Question Complexity each Enabling Learning Objective."]
["a.       “Easy” Test Question Complexity Range = (ELO Complexity Score) / 3"]
["b.      “Average” Test Question Complexity Range = [(ELO Complexity Score) / 3] * 2"]
["c.       “Difficult” Test Question Complexity Range = (ELO Complexity Score)"]
["Number of Test Questions per Level of Complexity:"]
["1.      20% of Test Question will be in the “Difficult” Category"]
["2.      50% of Test Questions will be in the “Average” Category"]
["3.      30% of Test Questions will be in the “Easy” Category"]
["Test Question Complexity:"]
["1.      Each test question will be evaluated using the same Bloom’s New Taxonomy protocol used in the evaluation of Enabling Learning Objectives."]
["2.      Test Question Complexity is compared to Enabling Learning Objective Complexity to ensure that:"]
["a.       No test question exceeds the complexity of the specific Enabling Learning Objective that the question is aligned to."]
["b.      Test questions will cover three different ranges of complexity (easy, average, and difficult) within the parameters of the specific Enabling Learning Objective that the Test Question aligns to."]
["Time for each Test Question"]
["1.      “Easy” Test Questions = 60 seconds per Test Question"]
["2.      “Average” Test Questions = 90 seconds per Test Question"]
["3.      “Difficult” Test Questions = 120 seconds per Test Question"]
[]
[]
["Recommended Number of Test Questions on Pre and Post Tests:"]
{"$rows_empty":7}
["Gronlund, N. E. (1998). Assessment of Student Achievement (6th ed.). Boston: Allyn & Bacon"]

{"sheet":"Delivery Mode Defs","index":29,"n_rows":8,"n_cols":3,"rows_kept":8,"hidden":true,"merged":[[0,2,0,13],[1,2,1,13],[2,2,2,13],[3,2,3,13],[4,2,4,13],[5,2,5,13]]}
[null,null,"R = Resident delivery modality is used for courses delivered in a traditional classroom setting. Courses delivered using this modality are offered using a facility maintained by a FEMA component or FEMA training partner for the purpose of course delivery; these facilities employ a designated support staff that offer participants common student and classroom support services"]
[null,null,"N = Non-Resident delivery modality is used for Instructor-led courses delivered in facilities not maintained or controlled by a FEMA component. These facilities vary widely in terms of student and classroom support."]
[null,null,"I = Indirect delivery modality is used for courses developed and maintained by a FEMA component, but delivered though another Emergency Management or Emergency Service Response agency usually at the state and local level. These courses are delivered under a cooperative or interagency agreement. "]
[null,null,"D = Distance learning modality incorporates the following types of courses of Independent Study eLearning, any online training whether synchronous or asynchronous, training intended for mobile devices, and/or video conferencing."]
[null,null,"C = Conference or Symposium delivery modality is used in conjunction with any FEMA conference or symposium regardless of delivery method"]
[null,null,"T = Train the Trainer "]
[]
[null,null,"Soure: FEMA National Course Numbering System"]

{"sheet":"CalRefs","index":30,"n_rows":27,"n_cols":20,"rows_kept":27,"hidden":true,"merged":[[0,0,0,3],[0,6,0,18],[7,0,7,3],[10,6,10,19],[12,0,12,2],[14,0,14,3],[28,6,28,19]]}
["Course Level",{"$nulls":5},"Mission Envirnoment"]
["Lower Limit","Upper Limit","Level","Value",null,null,"Building the System","Value","Proficieny Level","FQS","Occupational Mandatory TED","Technical","DHS Mandatory TED","FEMA Mandatory TED","Professional / Managerial","Supervisory / Leadership","Baseline Requirement ","FEMA Component Mandatory TED","Occupational Elective TED","Employee"]
[0,6,"Basic",1,null,null,"VUCA / Surge",7,"3 - 4","x"]
[{"$f":"B3+0.01","v":6.01},{"$f":"B3+B3","v":12},"Intermediate",2,null,null,"Technical Skills",6,"2 - 4",null,"x","x"]
[{"$f":"B4+0.01","v":12.01},{"$f":"B4+B3","v":18},"Advanced",3,null,null,"Professional / Managerial Skills",5,"1 - 4",{"$nulls":3},"x","x","x"]
[null,null,"Executive",4,null,null,"Leadership / Supervisory Skills",4,"1 - 4",{"$nulls":6},"x"]
[{"$nulls":6},"Organization",3,"1 - 4",{"$nulls":7},"x","x"]
["Percent of Test Questions per Complexity Level",{"$nulls":5},"Occupation",2,"1 - 4",{"$nulls":9},"x"]
["Easy",{"v":0.3,"d":"30%"},{"$nulls":4},"Employee",1,"1 - 4",{"$nulls":10},"x"]
["Average",{"v":0.5,"d":"50%"}]
["Difficult",{"v":0.2,"d":"20%"}]
[]
["Number of Test Questions per ELO",null,null,4,null,null,"Technical training and education courses or programs provide tactile knowledge and skills for tasks, duty positions, or systems in order to obtain, sustain and/or maintain proficiency to a stated task, condition and standard.  (Narrow in scope, tends to be tactical and operational.) "]
[{"$nulls":6},"Professional & Managerial training and education are the courses and programs that enable collective occupational, organizational/institutional, and national performance to predictable and measurable levels of knowledge, skills, and abilities in context of their respective operational mission environments, statutes and stake holder expectations. (Tends to be operational, strategic, national, international or global in scope.)   "]
["Delivery Mode",{"$nulls":5},"Supervisory & Leadership category of courses and programs is required by statute and policy due to our government (public service) mission environment.  (To a large degree supervisory and leadership KSA’s are transferable between public and private sector and thus addresses all levels of leadership, i.e. leading self, leading teams, leading organizations, leading interagency/international teams.)"]
[null,"R","Resident",{"$nulls":3},"FEMA Qualification System (FQS)"]
[null,"N","Non-Resident"]
[null,"I","Indirect"]
[null,"D","Distance Learning"]
[null,"C","Conference"]
[null,"B","Reading",{"$nulls":3},"Delivery Mode","R","S","E","B","L","I","G","T","K","V","IS","C","Q"]
[{"$nulls":6},"Residental","x","x","x","x","x"]
[{"$nulls":6},"Non-Residental",{"$nulls":5},"x","x"]
[{"$nulls":6},"Indirect",{"$nulls":7},"x"]
[{"$nulls":6},"Distance Learning",{"$nulls":8},"x","x","x"]
[{"$nulls":6},"Conference / Symposium",{"$nulls":11},"x"]
[{"$nulls":6},"Book / Reading",{"$nulls":12},"x"]

{"sheet":"Lexicon","index":31,"n_rows":34,"n_cols":29,"rows_kept":34,"hidden":true}
["Course Subject","Subject Prefix",{"$nulls":3},"Y/N",null,"Technical Discipline",null,"Workforce Development",null,null,"Deliver Mode","Legacy Code",null,"Proposed Delivery Mode",null,null,"Type of Test Questions",{"$nulls":4},"Mission Areas",{"$nulls":4},"DHS Core Comptencies"]
["None","ZZ",{"$nulls":3},"Yes",null,"Agriculture",null,"Technical",null,null,"B - Center for Domestic Preparedness","B",null,"C","C - Conference or Symposium","C","Matching",{"$nulls":3},"PRE","Prevention",{"$nulls":4},"Achieving results"]
["Access Control and Identity Verification","AC",{"$nulls":3},"No",null,"Citizen / Community Volunteer",null,"Professional / Managerial",null,null,"C - Conference or Symposium","C",null,"D","D - Distance Learning","D","Multiple Choice",{"$nulls":3},"PRO","Protection",{"$nulls":4},"Technical proficiency"]
["Community Resilience","CR",{"$nulls":5},"Education",null,"Supervisory / Leadership",null,null,"E - National Emergency Training Center (NETC)","E",null,"I","I - Indirect","I","Open Ended",{"$nulls":3},"M","Mitigation",{"$nulls":4},"Customer service"]
["Critical Transportation","CT",{"$nulls":5},"Emergency Management",{"$nulls":4},"G - Field Delivery","G",null,"N","N - Non-Resident","N","Short Answer",{"$nulls":3},"RES","Response",{"$nulls":4},"Teamwork / Cooperation"]
["Cybersecurity","CY",{"$nulls":5},"Emergency Medical Services",{"$nulls":4},"I - Indirect","I",null,"F","F - Foreign Language","F",{"$nulls":4},"REC","Recovery",{"$nulls":4},"Communications"]
["Economic Recovery","ER",{"$nulls":5},"Emergency Medical Services & Healthcare",{"$nulls":4},"IS - Independent Study","IS",null,"R","R - Resident","R",{"$nulls":4},"PP","Prevention & Protection",{"$nulls":4},"Representing the agency"]
["Environmental Response / Health and Safety","EH",{"$nulls":5},"Executive / Elected Official",{"$nulls":4},"K - EMI Computer WEB Training (Internet)","K",null,"T","T - Train the Trainer","T",{"$nulls":4},"N","None",{"$nulls":4},"Assigning, monitoring, and evaluating work"]
["Fatality Management Services","FM",{"$nulls":5},"Fire Service",{"$nulls":4},"L - Regional Delivery","L",null,null,"ILT - Instructor - Led",{"$nulls":5},"ALL","All Five Mission Areas",{"$nulls":4},"Leadership"]
["Fire Management and Suppression","FS",{"$nulls":5},"Fire Service & Emergency Medical Services",{"$nulls":4},"Q - National Fire Academy Independent Self-Study","Q",null,null,"W - Online",{"$nulls":11},"None"]
["Forensics and Attribution","FA",{"$nulls":5},"Governmental Administrative",{"$nulls":4},"R - Resident","R"]
["Health and Social Services","HS",{"$nulls":5},"Hazardous Materials",{"$nulls":4},"T - Train the Trainer","T"]
["Housing","HO",{"$nulls":5},"Healthcare",{"$nulls":4},"V - Webinar","V"]
["Infrastructure Systems","IS",{"$nulls":5},"Information Technology",{"$nulls":4},"W - Online"]
["Intelligence and Information Sharing","IN",{"$nulls":5},"Law Enforcement"]
["Interdiction and Disruption","ID",{"$nulls":5},"Law Enforcement & Fire Service"]
["Logistics and Supply Chain Management","LS",{"$nulls":5},"Law Enforcement & Security and Safety"]
["Long-term Vulnerability Reduction","VR",{"$nulls":5},"Public Health"]
["Mass Care Services","MC",{"$nulls":5},"Public Safety Communication"]
["Mass Search and Rescue Operations","MO",{"$nulls":5},"Public Works"]
["Natural and Cultural Resources","NC",{"$nulls":5},"Search and Rescue"]
["On-scene Security, Protection, and Law Enforcement","OS",{"$nulls":5},"Security and Safety"]
["Operational Communications","OC",{"$nulls":5},"Transportation"]
["Operational Coordination","OP",{"$nulls":5},"Whole Community"]
["Physical Protective Measures","PM",{"$nulls":5},"Other"]
["Planning","PL"]
["Public Health, Healthcare, and Emergency Medical Services","PH"]
["Public Information and Warning","PW"]
["Risk and Disaster Resilience Assessment","RD"]
["Risk Management for Protection Programs and Activities","RA"]
["Screening, Search, and Detection","SD"]
["Situational Assessment","SA"]
["Supply Chain Integrity and Security","SC"]
["Threats and Hazards Identification","TH"]

{"sheet":"About the Tool","index":32,"n_rows":26,"n_cols":2,"rows_kept":26,"merged":[[7,1,23,16],[25,1,29,16]]}
{"$rows_empty":7}
[null,"The purpose of this tool is provide a systematic and consistent process to map training and education courses to the National Preparedness Goal core capabilities and to better integrate homeland security training and education within the National Preparedness System.  By aligning courses to core capabilities, the Federal Emergency Management Agency (FEMA) and whole community partners can more effectively target their programming and investments to better meet the capability-specific requirements of the homeland security enterprise. If you have any questions on the tool, please contact Dr. Gerald White at Gerald.White@fema.dhs.gov or Mr. John Bartleson III at John.Bartlesoniii@fema.dhs.gov."]
{"$rows_empty":17}
[null,"This work is considered to be part of the public domain and without copyright as it was produced under the provisions of 17 U.S. Code Section 105."]